Back
From: metabase:user:313dc9fe-2aae-11df-837a-5e0a49663a4f
Subject: PASS POE-Loop-Glib-0.038 v5.8.9 GNU/Linux
Date: 2010-11-07T03:53:43Z
This distribution has been tested as part of the CPAN Testers
project, supporting the Perl programming language. See
http://wiki.cpantesters.org/ for more information or email
questions to cpan-testers-discuss@perl.org
--
Dear Apocalypse,
This is a computer-generated report for POE-Loop-Glib-0.038
on perl 5.8.9, created by CPAN-Reporter-1.1805.
Thank you for uploading your work to CPAN. Congratulations!
All tests were successful.
Sections of this report:
* Tester comments
* Program output
* Prerequisites
* Environment and other context
------------------------------
TESTER COMMENTS
------------------------------
Additional comments from tester:
this report is from an automated smoke testing program
and was not reviewed by a human for accuracy
------------------------------
PROGRAM OUTPUT
------------------------------
Output from './Build test':
t/1_load.t ............................. ok
t/apocalypse.t ......................... skipped: Test::Apocalypse required for validating the distribution
# Testing POE 1.293, POE::Test::Loops 1.035, Using Loop(POE::Loop::Glib), Perl 5.008009, /home/perl589/perl/bin/perl on linux
t/glib/00_info.t ....................... ok
t/glib/all_errors.t .................... skipped: most of these should move into other test files
t/glib/comp_tcp.t ...................... ok
# You might see a 'disconnect' error during this test.
# It may be ignored.
t/glib/comp_tcp_concurrent.t ........... ok
t/glib/connect_errors.t ................ ok
t/glib/k_alarms.t ...................... ok
t/glib/k_aliases.t ..................... ok
t/glib/k_detach.t ...................... ok
t/glib/k_run_returns.t ................. ok
t/glib/k_selects.t ..................... ok
# Waiting 2 seconds for child processes to settle.
t/glib/k_sig_child.t ................... ok
# Waiting 2 seconds for child processes to settle.
t/glib/k_signals.t ..................... ok
t/glib/k_signals_rerun.t ............... ok
t/glib/sbk_signal_init.t ............... ok
t/glib/ses_nfa.t ....................... ok
# This test generates some STDERR during trace testing.
3547: 24 -> _start (from /home/perl589/.cpan/build/POE-1.293-YWRNso/blib/lib/POE/Kernel.pm at 1499)
3547: 24 -> woot (from /home/perl589/.cpan/build/POE-Test-Loops-1.035-0H2YRe/blib/lib/POE/Test/Loops/ses_session.pm at 682)
3547: 24 -> narf (from /home/perl589/.cpan/build/POE-1.293-YWRNso/blib/lib/POE/Kernel.pm at 1906)
3547: 24 -> _stop (from /home/perl589/.cpan/build/POE-1.293-YWRNso/blib/lib/POE/Resource/Sessions.pm at 528)
t/glib/ses_session.t ................... ok
t/glib/wheel_accept.t .................. ok
t/glib/wheel_curses.t .................. skipped: Curses not available
t/glib/wheel_readline.t ................ skipped: This test requires Term::ReadKey
t/glib/wheel_readwrite.t ............... ok
t/glib/wheel_run.t ..................... ok
t/glib/wheel_sf_ipv6.t ................. skipped: Socket6 is needed for IPv6 tests
t/glib/wheel_sf_tcp.t .................. ok
t/glib/wheel_sf_udp.t .................. ok
t/glib/wheel_sf_unix.t ................. ok
t/glib/wheel_tail.t .................... ok
t/glib/z_kogman_sig_order.t ............ ok
t/glib/z_leolo_wheel_run.t ............. ok
# Using '/bin/true' as our thing to run under system()
t/glib/z_merijn_sigchld_system.t ....... ok
t/glib/z_rt39872_sigchld.t ............. ok
# Wait 3
# sending sigusr1
# sent sigusr1
t/glib/z_rt39872_sigchld_stop.t ........ ok
t/glib/z_rt53302_fh_watchers.t ......... ok
t/glib/z_rt54319_bazerka_followtail.t .. ok
t/glib/z_steinert_signal_integrity.t ... ok
All tests successful.
Files=36, Tests=479, 82 wallclock secs ( 0.25 usr 0.08 sys + 6.24 cusr 1.13 csys = 7.70 CPU)
Result: PASS
------------------------------
PREREQUISITES
------------------------------
Prerequisite modules loaded:
requires:
Module Need Have
---------------- ----- --------
Glib 1.222 1.223
perl 5.006 5.008009
POE 1.288 1.293
configure_requires:
Module Need Have
---------------- ----- --------
Module::Build 0.36 0.3607
POE::Test::Loops 1.034 1.035
------------------------------
ENVIRONMENT AND OTHER CONTEXT
------------------------------
Environment variables:
AUTOMATED_TESTING = 1
LANG = en_US.UTF-8
PATH = /usr/local/sbin:/usr/local/bin:/usr/sbin:/usr/bin:/sbin:/bin:/usr/games
PERL5LIB = /home/perl589/.cpan/build/POE-1.293-YWRNso/blib/arch:/home/perl589/.cpan/build/POE-1.293-YWRNso/blib/lib:/home/perl589/.cpan/build/IO-Tty-1.10-gRRkfT/blib/arch:/home/perl589/.cpan/build/IO-Tty-1.10-gRRkfT/blib/lib:/home/perl589/.cpan/build/POE-Test-Loops-1.035-0H2YRe/blib/arch:/home/perl589/.cpan/build/POE-Test-Loops-1.035-0H2YRe/blib/lib
PERL5OPT =
PERL5_CPANPLUS_IS_RUNNING = 1492
PERL5_CPAN_IS_RUNNING = 1492
PERL5_CPAN_IS_RUNNING_IN_RECURSION = 22811,1492
PERL_CR_SMOKER_CURRENT = POE-Loop-Glib-0.038
PERL_EXTUTILS_AUTOINSTALL = --defaultdeps
PERL_MM_USE_DEFAULT = 1
SHELL = /bin/bash
TERM = xterm
Perl special variables (and OS-specific diagnostics, for MSWin32):
$^X = /home/perl589/perl/bin/perl
$UID/$EUID = 1001 / 1001
$GID = 1001 1001
$EGID = 1001 1001
Perl module toolchain versions installed:
Module Have
------------------- ------
CPAN 1.9402
Cwd 3.31
ExtUtils::CBuilder 0.2703
ExtUtils::Command 1.16
ExtUtils::Install 1.54
ExtUtils::MakeMaker 6.56
ExtUtils::Manifest 1.58
ExtUtils::ParseXS 2.2205
File::Spec 3.31
Module::Build 0.3607
Module::Signature n/a
Test::Harness 3.21
Test::More 0.94
YAML 0.71
YAML::Syck 1.09
version 0.82
--
Summary of my perl5 (revision 5 version 8 subversion 9) configuration:
Platform:
osname=linux, osvers=2.6.31-20-generic, archname=i686-linux-thread-multi
uname='linux st47-laptop 2.6.31-20-generic #57-ubuntu smp mon feb 8 09:05:19 utc 2010 i686 gnulinux '
config_args=''
hint=recommended, useposix=true, d_sigaction=define
usethreads=define use5005threads=undef useithreads=define usemultiplicity=define
useperlio=define d_sfio=undef uselargefiles=define usesocks=undef
use64bitint=undef use64bitall=undef uselongdouble=undef
usemymalloc=n, bincompat5005=undef
Compiler:
cc='cc', ccflags ='-D_REENTRANT -D_GNU_SOURCE -DTHREADS_HAVE_PIDS -fno-strict-aliasing -pipe -I/usr/local/include -D_LARGEFILE_SOURCE -D_FILE_OFFSET_BITS=64',
optimize='-O2',
cppflags='-D_REENTRANT -D_GNU_SOURCE -DTHREADS_HAVE_PIDS -fno-strict-aliasing -pipe -I/usr/local/include'
ccversion='', gccversion='4.4.1', gccosandvers=''
intsize=4, longsize=4, ptrsize=4, doublesize=8, byteorder=1234
d_longlong=define, longlongsize=8, d_longdbl=define, longdblsize=12
ivtype='long', ivsize=4, nvtype='double', nvsize=8, Off_t='off_t', lseeksize=8
alignbytes=4, prototype=define
Linker and Libraries:
ld='cc', ldflags =' -L/usr/local/lib'
libpth=/usr/local/lib /lib /usr/lib
libs=-lnsl -ldl -lm -lcrypt -lutil -lpthread -lc
perllibs=-lnsl -ldl -lm -lcrypt -lutil -lpthread -lc
libc=/lib/libc-2.10.1.so, so=so, useshrplib=false, libperl=libperl.a
gnulibc_version='2.10.1'
Dynamic Linking:
dlsrc=dl_dlopen.xs, dlext=so, d_dlsymun=undef, ccdlflags='-Wl,-E'
cccdlflags='-fPIC', lddlflags='-shared -O2 -L/usr/local/lib'
Characteristics of this binary (from libperl):
Compile-time options: MULTIPLICITY PERL_IMPLICIT_CONTEXT PERL_MALLOC_WRAP
THREADS_HAVE_PIDS USE_FAST_STDIO USE_ITHREADS
USE_LARGE_FILES USE_PERLIO USE_REENTRANT_API
Built under linux
Compiled at Mar 11 2010 22:22:38
%ENV:
PERL5LIB="/home/perl589/.cpan/build/POE-1.293-YWRNso/blib/arch:/home/perl589/.cpan/build/POE-1.293-YWRNso/blib/lib:/home/perl589/.cpan/build/IO-Tty-1.10-gRRkfT/blib/arch:/home/perl589/.cpan/build/IO-Tty-1.10-gRRkfT/blib/lib:/home/perl589/.cpan/build/POE-Test-Loops-1.035-0H2YRe/blib/arch:/home/perl589/.cpan/build/POE-Test-Loops-1.035-0H2YRe/blib/lib"
PERL5OPT=""
PERL5_CPANPLUS_IS_RUNNING="1492"
PERL5_CPAN_IS_RUNNING="1492"
PERL5_CPAN_IS_RUNNING_IN_RECURSION="22811,1492"
PERL_CR_SMOKER_CURRENT="POE-Loop-Glib-0.038"
PERL_EXTUTILS_AUTOINSTALL="--defaultdeps"
PERL_MM_USE_DEFAULT="1"
@INC:
/home/perl589/.cpan/build/POE-1.293-YWRNso/blib/arch
/home/perl589/.cpan/build/POE-1.293-YWRNso/blib/lib
/home/perl589/.cpan/build/IO-Tty-1.10-gRRkfT/blib/arch
/home/perl589/.cpan/build/IO-Tty-1.10-gRRkfT/blib/lib
/home/perl589/.cpan/build/POE-Test-Loops-1.035-0H2YRe/blib/arch
/home/perl589/.cpan/build/POE-Test-Loops-1.035-0H2YRe/blib/lib
/home/perl589/perl/lib/5.8.9/i686-linux-thread-multi
/home/perl589/perl/lib/5.8.9
/home/perl589/perl/lib/site_perl/5.8.9/i686-linux-thread-multi
/home/perl589/perl/lib/site_perl/5.8.9
.