Report for Dist-Util-0.06

Back
From: metabase:user:6bead1fd-6c19-1014-b7ca-2288dd1034f3
Subject: PASS Dist-Util-0.06 v5.14.4 Windows (Cygwin)
Date: 2015-06-08T18:41:45Z

This distribution has been tested as part of the CPAN Testers
project, supporting the Perl programming language.  See
http://wiki.cpantesters.org/ for more information or email
questions to cpan-testers-discuss@perl.org


--
Dear perlancar,

This is a computer-generated report for Dist-Util-0.06
on perl 5.14.4, created by CPAN-Reporter-1.2014.

Thank you for uploading your work to CPAN.  Congratulations!
All tests were successful.

Sections of this report:

    * Tester comments
    * Program output
    * Prerequisites
    * Environment and other context

------------------------------
TESTER COMMENTS
------------------------------

Additional comments from tester:

none provided

------------------------------
PROGRAM OUTPUT
------------------------------

Output from '/usr/bin/make test':

PERL_DL_NONLAZY=1 "/usr/bin/perl.exe" "-MExtUtils::Command::MM" "-MTest::Harness" "-e" "undef *Test::Harness::Switches; test_harness(0, 'blib/lib', 'blib/arch')" t/*.t
t/00-compile.t ............ ok
t/release-pod-coverage.t .. skipped: these tests are for release candidate testing
t/release-pod-syntax.t .... skipped: these tests are for release candidate testing
t/release-rinci.t ......... skipped: these tests are for release candidate testing
All tests successful.
Files=4, Tests=1,  0 wallclock secs ( 0.02 usr  0.03 sys +  0.09 cusr  0.18 csys =  0.32 CPU)
Result: PASS

------------------------------
PREREQUISITES
------------------------------

Prerequisite modules loaded:

requires:

    Module              Need     Have    
    ------------------- -------- --------
    perl                5.010001 5.014004

build_requires:

    Module              Need     Have    
    ------------------- -------- --------
    ExtUtils::MakeMaker 0        7.04    
    File::Spec          0        3.33    
    IO::Handle          0        1.31    
    IPC::Open3          0        1.0901  
    Test::More          0        1.001009

configure_requires:

    Module              Need     Have    
    ------------------- -------- --------
    ExtUtils::MakeMaker 0        7.04    
    Perl::osnames       0.09     0.11    


------------------------------
ENVIRONMENT AND OTHER CONTEXT
------------------------------

Environment variables:

    COMSPEC = C:\Windows\system32\cmd.exe
    LANG = C.UTF-8
    NUMBER_OF_PROCESSORS = 8
    PATH = /home/chwagner/bin:/usr/local/bin:/usr/bin:/c/ProgramData/Oracle/Java/javapath:/c/Program Files (x86)/NVIDIA Corporation/PhysX/Common:/c/Perl64/site/bin:/c/Perl64/bin:/c/Program Files (x86)/Intel/iCLS Client:/c/Program Files/Intel/iCLS Client:/c/Windows/system32:/c/Windows:/c/Windows/System32/Wbem:/c/Windows/System32/WindowsPowerShell/v1.0:/c/Program Files (x86)/Intel/OpenCL SDK/2.0/bin/x86:/c/Program Files (x86)/Intel/OpenCL SDK/2.0/bin/x64:/c/Program Files/Intel/Intel(R) Management Engine Components/DAL:/c/Program Files/Intel/Intel(R) Management Engine Components/IPT:/c/Program Files (x86)/Intel/Intel(R) Management Engine Components/DAL:/c/Program Files (x86)/Intel/Intel(R) Management Engine Components/IPT:/c/Program Files/Intel/WiFi/bin:/c/Program Files/Common Files/Intel/WirelessCommon:/c/Program Files (x86)/Intel/OpenCL SDK/2.0/bin/x86:/c/Program Files (x86)/Intel/OpenCL SDK/2.0/bin/x64:/c/Program Files/TortoiseSVN/bin:/c/Program Files (x86)/Microsoft SQL Server/100/Tools/Binn:/c/Program Files/Microsoft SQL Server/100/Tools/Binn:/c/Program Files/Microsoft SQL Server/100/DTS/Binn:/c/Program Files (x86)/Microsoft SQL Server/100/Tools/Binn/VSShell/Common7/IDE:/c/Program Files (x86)/Microsoft SQL Server/100/DTS/Binn:/c/Program Files (x86)/QuickTime/QTSystem:/c/Cygwin64/bin:/c/Cygwin64/usr/sbin:.
    PERL5LIB = 
    PERL5OPT = 
    PERL5_CPANPLUS_IS_RUNNING = 4440
    PERL5_CPAN_IS_RUNNING = 4440
    PROCESSOR_IDENTIFIER = Intel64 Family 6 Model 58 Stepping 9, GenuineIntel
    SHELL = /bin/bash
    TEMP = /tmp
    TERM = xterm

Perl special variables (and OS-specific diagnostics, for MSWin32):

    $^X = /usr/bin/perl
    $UID/$EUID = 4823026 / 4823026
    $GID = 1049089 1049089 573 559 558 555 552 545 4 66049 11 15 4095 66048 4660337 1989207 4688144 4619972 1279698 4804278 4734264 4733868 1138686 4887362 4661737 4701110 4651349 1279704 4679794 4887361 4892099 4679836 4734223 4730060 4733872 4734216 4876288 1983714 4613892 4665058 4733859 1279710 2147488762 70145 1265365 401408
    $EGID = 1049089 1049089 573 559 558 555 552 545 4 66049 11 15 4095 66048 4660337 1989207 4688144 4619972 1279698 4804278 4734264 4733868 1138686 4887362 4661737 4701110 4651349 1279704 4679794 4887361 4892099 4679836 4734223 4730060 4733872 4734216 4876288 1983714 4613892 4665058 4733859 1279710 2147488762 70145 1265365 401408

Perl module toolchain versions installed:

    Module              Have     
    ------------------- ---------
    CPAN                1.9600_01
    CPAN::Meta          2.143240 
    Cwd                 3.36     
    ExtUtils::CBuilder  0.280205 
    ExtUtils::Command   1.17     
    ExtUtils::Install   1.56     
    ExtUtils::MakeMaker 7.04     
    ExtUtils::Manifest  1.65     
    ExtUtils::ParseXS   3.24     
    File::Spec          3.33     
    JSON                2.59     
    JSON::PP            2.27203  
    Module::Build       0.4210   
    Module::Signature   0.78     
    Parse::CPAN::Meta   1.4414   
    Test::Harness       3.34     
    Test::More          1.001009 
    YAML                1.13     
    YAML::Syck          n/a      
    version             0.88     


--

Summary of my perl5 (revision 5 version 14 subversion 4) configuration:
   
  Platform:
    osname=cygwin, osvers=1.7.35(0.28653), archname=cygwin-thread-multi
    uname='cygwin_nt-6.3 cygwin 1.7.35(0.28653) 2015-02-16 13:03 x86_64 cygwin '
    config_args='-d -e -Dprefix=/usr -Dmksymlinks -Dusethreads -Darchname=x86_64-cygwin-threads -Dlibperl=cygperl5_14.dll -Dcc=gcc -Dld=g++ -Accflags=-ggdb -O2 -pipe -Wimplicit-function-declaration -fdebug-prefix-map=/mnt/share/maint/perl.x86_64/build=/usr/src/debug/perl-5.14.4-3 -fdebug-prefix-map=/mnt/share/maint/perl.x86_64/src/perl-5.14.4=/usr/src/debug/perl-5.14.4-3 -fwrapv'
    hint=recommended, useposix=true, d_sigaction=define
    useithreads=define, usemultiplicity=define
    useperlio=define, d_sfio=undef, uselargefiles=define, usesocks=undef
    use64bitint=define, use64bitall=define, uselongdouble=undef
    usemymalloc=n, bincompat5005=undef
  Compiler:
    cc='gcc', ccflags ='-DPERL_USE_SAFE_PUTENV -U__STRICT_ANSI__ -ggdb -O2 -pipe -Wimplicit-function-declaration -fdebug-prefix-map=/mnt/share/maint/perl.x86_64/build=/usr/src/debug/perl-5.14.4-3 -fdebug-prefix-map=/mnt/share/maint/perl.x86_64/src/perl-5.14.4=/usr/src/debug/perl-5.14.4-3 -fwrapv -fno-strict-aliasing -fstack-protector',
    optimize='-O3',
    cppflags='-DPERL_USE_SAFE_PUTENV -U__STRICT_ANSI__ -ggdb -O2 -pipe -Wimplicit-function-declaration -fdebug-prefix-map=/mnt/share/maint/perl.x86_64/build=/usr/src/debug/perl-5.14.4-3 -fdebug-prefix-map=/mnt/share/maint/perl.x86_64/src/perl-5.14.4=/usr/src/debug/perl-5.14.4-3 -fwrapv -fno-strict-aliasing -fstack-protector'
    ccversion='', gccversion='4.9.2', gccosandvers=''
    intsize=4, longsize=8, ptrsize=8, doublesize=8, byteorder=12345678
    d_longlong=define, longlongsize=8, d_longdbl=define, longdblsize=16
    ivtype='long', ivsize=8, nvtype='double', nvsize=8, Off_t='off_t', lseeksize=8
    alignbytes=8, prototype=define
  Linker and Libraries:
    ld='g++', ldflags =' -Wl,--enable-auto-import -Wl,--export-all-symbols -Wl,--enable-auto-image-base -fstack-protector -L/usr/local/lib'
    libpth=/usr/local/lib /usr/lib /lib
    libs=-lgdbm -ldb -ldl -lcrypt -lgdbm_compat
    perllibs=-ldl -lcrypt
    libc=/usr/lib/libc.a, so=dll, useshrplib=true, libperl=cygperl5_14.dll
    gnulibc_version=''
  Dynamic Linking:
    dlsrc=dl_dlopen.xs, dlext=dll, d_dlsymun=undef, ccdlflags=' '
    cccdlflags=' ', lddlflags=' --shared  -Wl,--enable-auto-import -Wl,--export-all-symbols -Wl,--enable-auto-image-base -L/usr/local/lib -fstack-protector'


Characteristics of this binary (from libperl): 
  Compile-time options: MULTIPLICITY PERL_DONT_CREATE_GVSV
                        PERL_IMPLICIT_CONTEXT PERL_PRESERVE_IVUV
                        PERL_USE_SAFE_PUTENV USE_64_BIT_ALL USE_64_BIT_INT
                        USE_ITHREADS USE_LARGE_FILES USE_PERLIO USE_PERL_ATOF
                        USE_REENTRANT_API
  Locally applied patches:
	rurban/0c612ce82        Fix building static extensions on cygwin, -UUSEIMPORTLIB
	perl.cygwin_autorebase  Rebase DLL after building (skip for cygport builds)
	v5.14.0-RC2-6-gfc6f691  skip testing cygwin utf8 readdir() with Win32 ANSI API
	v5.14.0-RC2-7-g3877b86  Fix test 50 on cygwin: \WINDOWS
	v5.14.0-RC2-10-gd22b5bd revert +x global.sym from 3691eaa79cc6a
	v5.15.0-579-g8375c93    Export store_cop_label for the perl compiler
	v5.15.3-232-g1bac5ec    sv.c: S_anonymise_cv_maybe UTF8 cleanup.
	v5.15.7-75-g803e389     CYG17 utf8 paths
	v5.15.7-302-g5bc802d    Revise perlcygwin.pod for cygwin-1.7
	v5.15.7-303-g286f819    add Cygwin::sync_winenv [perl #110190]
	v5.19.8-494-g6cc44f6    avoid a "FILE" name conflict with cygwin's wchar.h
	v5.19.8-496-g3383030    [perl #120936] op/taint.t handling of no ipcsysv on cygwin
	v5.19.8-509-g288d0d9    cygwin doesn't implement $^E (except as a read of $!)
	v5.21.4-548-g860874c    wrap the failing call_checker test in an eval and TODO it
  Built under cygwin
  Compiled at Feb 17 2015 21:41:24
  %ENV:
    PERL5LIB=""
    PERL5OPT=""
    PERL5_CPANPLUS_IS_RUNNING="4440"
    PERL5_CPAN_IS_RUNNING="4440"
  @INC:
    /usr/lib/perl5/site_perl/5.14/x86_64-cygwin-threads
    /usr/lib/perl5/site_perl/5.14
    /usr/lib/perl5/vendor_perl/5.14/x86_64-cygwin-threads
    /usr/lib/perl5/vendor_perl/5.14
    /usr/lib/perl5/5.14/x86_64-cygwin-threads
    /usr/lib/perl5/5.14
    .