Back
From: metabase:user:320bfe00-2aae-11df-837a-5e0a49663a4f
Subject: PASS Apache-ASP-2.62 v5.15.3 GNU/Linux
Date: 2011-10-14T19:20:46Z
This distribution has been tested as part of the CPAN Testers
project, supporting the Perl programming language. See
http://wiki.cpantesters.org/ for more information or email
questions to cpan-testers-discuss@perl.org
--
Dear Gregory S. Youngblood,
This is a computer-generated report for Apache-ASP-2.62
on perl 5.15.3, created by CPAN-Reporter-1.1902.
Thank you for uploading your work to CPAN. Congratulations!
All tests were successful.
Sections of this report:
* Tester comments
* Program output
* Prerequisites
* Environment and other context
------------------------------
TESTER COMMENTS
------------------------------
Additional comments from tester:
this report is from an automated smoke testing program
and was not reviewed by a human for accuracy
------------------------------
PROGRAM OUTPUT
------------------------------
Output from '/usr/bin/make test':
PERL_DL_NONLAZY=1 /home/sand/src/perl/repoperls/installed-perls/perl/v5.15.3-305-gc59e8fd/2b65/bin/perl "-MExtUtils::Command::MM" "-e" "test_harness(0, 'blib/lib', 'blib/arch')" t/*.t
Use of uninitialized value $rv in lc at /tmp/loop_over_bdir-MMhmja/Apache-ASP-2.62-yanWBe/blib/lib/Apache/ASP.pm line 2018.
Use of uninitialized value $rv in lc at /tmp/loop_over_bdir-MMhmja/Apache-ASP-2.62-yanWBe/blib/lib/Apache/ASP.pm line 2018.
Use of uninitialized value $rv in lc at /tmp/loop_over_bdir-MMhmja/Apache-ASP-2.62-yanWBe/blib/lib/Apache/ASP.pm line 2018.
Use of uninitialized value $rv in lc at /tmp/loop_over_bdir-MMhmja/Apache-ASP-2.62-yanWBe/blib/lib/Apache/ASP.pm line 2018.
Use of uninitialized value $rv in lc at /tmp/loop_over_bdir-MMhmja/Apache-ASP-2.62-yanWBe/blib/lib/Apache/ASP.pm line 2018.
Use of uninitialized value $rv in lc at /tmp/loop_over_bdir-MMhmja/Apache-ASP-2.62-yanWBe/blib/lib/Apache/ASP.pm line 2018.
Use of uninitialized value $rv in lc at /tmp/loop_over_bdir-MMhmja/Apache-ASP-2.62-yanWBe/blib/lib/Apache/ASP.pm line 2018.
Use of uninitialized value $rv in lc at /tmp/loop_over_bdir-MMhmja/Apache-ASP-2.62-yanWBe/blib/lib/Apache/ASP.pm line 2018.
Use of uninitialized value $rv in lc at /tmp/loop_over_bdir-MMhmja/Apache-ASP-2.62-yanWBe/blib/lib/Apache/ASP.pm line 2018.
Use of uninitialized value $rv in lc at /tmp/loop_over_bdir-MMhmja/Apache-ASP-2.62-yanWBe/blib/lib/Apache/ASP.pm line 2018.
Use of uninitialized value $rv in lc at /tmp/loop_over_bdir-MMhmja/Apache-ASP-2.62-yanWBe/blib/lib/Apache/ASP.pm line 2018.
t/application.t .......... ok
Use of uninitialized value $rv in lc at ../blib/lib/Apache/ASP.pm line 2018.
Use of uninitialized value $rv in lc at ../blib/lib/Apache/ASP.pm line 2018.
Use of uninitialized value $rv in lc at ../blib/lib/Apache/ASP.pm line 2018.
Use of uninitialized value $rv in lc at ../blib/lib/Apache/ASP.pm line 2018.
Use of uninitialized value $rv in lc at ../blib/lib/Apache/ASP.pm line 2018.
Use of uninitialized value $rv in lc at ../blib/lib/Apache/ASP.pm line 2018.
Use of uninitialized value $rv in lc at ../blib/lib/Apache/ASP.pm line 2018.
Use of uninitialized value $rv in lc at ../blib/lib/Apache/ASP.pm line 2018.
Use of uninitialized value $rv in lc at ../blib/lib/Apache/ASP.pm line 2018.
Use of uninitialized value $rv in lc at ../blib/lib/Apache/ASP.pm line 2018.
t/asp-perl1.t ............ ok
Use of uninitialized value $rv in lc at ../../blib/lib/Apache/ASP.pm line 2018.
Use of uninitialized value $rv in lc at ../../blib/lib/Apache/ASP.pm line 2018.
Use of uninitialized value $rv in lc at ../../blib/lib/Apache/ASP.pm line 2018.
Use of uninitialized value $rv in lc at ../../blib/lib/Apache/ASP.pm line 2018.
Use of uninitialized value $rv in lc at ../../blib/lib/Apache/ASP.pm line 2018.
Use of uninitialized value $rv in lc at ../../blib/lib/Apache/ASP.pm line 2018.
Use of uninitialized value $rv in lc at ../../blib/lib/Apache/ASP.pm line 2018.
Use of uninitialized value $rv in lc at ../../blib/lib/Apache/ASP.pm line 2018.
Use of uninitialized value $rv in lc at ../../blib/lib/Apache/ASP.pm line 2018.
Use of uninitialized value $rv in lc at ../../blib/lib/Apache/ASP.pm line 2018.
t/asp-perl2.t ............ ok
Use of uninitialized value $rv in lc at /tmp/loop_over_bdir-MMhmja/Apache-ASP-2.62-yanWBe/blib/lib/Apache/ASP.pm line 2018.
Use of uninitialized value $rv in lc at /tmp/loop_over_bdir-MMhmja/Apache-ASP-2.62-yanWBe/blib/lib/Apache/ASP.pm line 2018.
Use of uninitialized value $rv in lc at /tmp/loop_over_bdir-MMhmja/Apache-ASP-2.62-yanWBe/blib/lib/Apache/ASP.pm line 2018.
Use of uninitialized value $rv in lc at /tmp/loop_over_bdir-MMhmja/Apache-ASP-2.62-yanWBe/blib/lib/Apache/ASP.pm line 2018.
Use of uninitialized value $rv in lc at /tmp/loop_over_bdir-MMhmja/Apache-ASP-2.62-yanWBe/blib/lib/Apache/ASP.pm line 2018.
Use of uninitialized value $rv in lc at /tmp/loop_over_bdir-MMhmja/Apache-ASP-2.62-yanWBe/blib/lib/Apache/ASP.pm line 2018.
Use of uninitialized value $rv in lc at /tmp/loop_over_bdir-MMhmja/Apache-ASP-2.62-yanWBe/blib/lib/Apache/ASP.pm line 2018.
Use of uninitialized value $rv in lc at /tmp/loop_over_bdir-MMhmja/Apache-ASP-2.62-yanWBe/blib/lib/Apache/ASP.pm line 2018.
Use of uninitialized value $rv in lc at /tmp/loop_over_bdir-MMhmja/Apache-ASP-2.62-yanWBe/blib/lib/Apache/ASP.pm line 2018.
Use of uninitialized value $rv in lc at /tmp/loop_over_bdir-MMhmja/Apache-ASP-2.62-yanWBe/blib/lib/Apache/ASP.pm line 2018.
Use of uninitialized value $rv in lc at /tmp/loop_over_bdir-MMhmja/Apache-ASP-2.62-yanWBe/blib/lib/Apache/ASP.pm line 2018.
Use of uninitialized value $rv in lc at /tmp/loop_over_bdir-MMhmja/Apache-ASP-2.62-yanWBe/blib/lib/Apache/ASP.pm line 2018.
Use of uninitialized value $rv in lc at /tmp/loop_over_bdir-MMhmja/Apache-ASP-2.62-yanWBe/blib/lib/Apache/ASP.pm line 2018.
Use of uninitialized value $rv in lc at /tmp/loop_over_bdir-MMhmja/Apache-ASP-2.62-yanWBe/blib/lib/Apache/ASP.pm line 2018.
Use of uninitialized value $rv in lc at /tmp/loop_over_bdir-MMhmja/Apache-ASP-2.62-yanWBe/blib/lib/Apache/ASP.pm line 2018.
Use of uninitialized value $rv in lc at /tmp/loop_over_bdir-MMhmja/Apache-ASP-2.62-yanWBe/blib/lib/Apache/ASP.pm line 2018.
Use of uninitialized value $rv in lc at /tmp/loop_over_bdir-MMhmja/Apache-ASP-2.62-yanWBe/blib/lib/Apache/ASP.pm line 2018.
Use of uninitialized value $rv in lc at /tmp/loop_over_bdir-MMhmja/Apache-ASP-2.62-yanWBe/blib/lib/Apache/ASP.pm line 2018.
Use of uninitialized value $rv in lc at /tmp/loop_over_bdir-MMhmja/Apache-ASP-2.62-yanWBe/blib/lib/Apache/ASP.pm line 2018.
Use of uninitialized value $rv in lc at /tmp/loop_over_bdir-MMhmja/Apache-ASP-2.62-yanWBe/blib/lib/Apache/ASP.pm line 2018.
Use of uninitialized value $rv in lc at /tmp/loop_over_bdir-MMhmja/Apache-ASP-2.62-yanWBe/blib/lib/Apache/ASP.pm line 2018.
Use of uninitialized value $rv in lc at /tmp/loop_over_bdir-MMhmja/Apache-ASP-2.62-yanWBe/blib/lib/Apache/ASP.pm line 2018.
t/asp_object.t ........... ok
Use of uninitialized value $rv in lc at /tmp/loop_over_bdir-MMhmja/Apache-ASP-2.62-yanWBe/blib/lib/Apache/ASP.pm line 2018.
Use of uninitialized value $rv in lc at /tmp/loop_over_bdir-MMhmja/Apache-ASP-2.62-yanWBe/blib/lib/Apache/ASP.pm line 2018.
Use of uninitialized value $rv in lc at /tmp/loop_over_bdir-MMhmja/Apache-ASP-2.62-yanWBe/blib/lib/Apache/ASP.pm line 2018.
Use of uninitialized value $rv in lc at /tmp/loop_over_bdir-MMhmja/Apache-ASP-2.62-yanWBe/blib/lib/Apache/ASP.pm line 2018.
Use of uninitialized value $rv in lc at /tmp/loop_over_bdir-MMhmja/Apache-ASP-2.62-yanWBe/blib/lib/Apache/ASP.pm line 2018.
Use of uninitialized value $rv in lc at /tmp/loop_over_bdir-MMhmja/Apache-ASP-2.62-yanWBe/blib/lib/Apache/ASP.pm line 2018.
Use of uninitialized value $rv in lc at /tmp/loop_over_bdir-MMhmja/Apache-ASP-2.62-yanWBe/blib/lib/Apache/ASP.pm line 2018.
Use of uninitialized value $rv in lc at /tmp/loop_over_bdir-MMhmja/Apache-ASP-2.62-yanWBe/blib/lib/Apache/ASP.pm line 2018.
Use of uninitialized value $rv in lc at /tmp/loop_over_bdir-MMhmja/Apache-ASP-2.62-yanWBe/blib/lib/Apache/ASP.pm line 2018.
Use of uninitialized value $rv in lc at /tmp/loop_over_bdir-MMhmja/Apache-ASP-2.62-yanWBe/blib/lib/Apache/ASP.pm line 2018.
t/cache.t ................ ok
Use of uninitialized value $rv in lc at /tmp/loop_over_bdir-MMhmja/Apache-ASP-2.62-yanWBe/blib/lib/Apache/ASP.pm line 2018.
Use of uninitialized value $rv in lc at /tmp/loop_over_bdir-MMhmja/Apache-ASP-2.62-yanWBe/blib/lib/Apache/ASP.pm line 2018.
Use of uninitialized value $rv in lc at /tmp/loop_over_bdir-MMhmja/Apache-ASP-2.62-yanWBe/blib/lib/Apache/ASP.pm line 2018.
Use of uninitialized value $rv in lc at /tmp/loop_over_bdir-MMhmja/Apache-ASP-2.62-yanWBe/blib/lib/Apache/ASP.pm line 2018.
Use of uninitialized value $rv in lc at /tmp/loop_over_bdir-MMhmja/Apache-ASP-2.62-yanWBe/blib/lib/Apache/ASP.pm line 2018.
Use of uninitialized value $rv in lc at /tmp/loop_over_bdir-MMhmja/Apache-ASP-2.62-yanWBe/blib/lib/Apache/ASP.pm line 2018.
Use of uninitialized value $rv in lc at /tmp/loop_over_bdir-MMhmja/Apache-ASP-2.62-yanWBe/blib/lib/Apache/ASP.pm line 2018.
Use of uninitialized value $rv in lc at /tmp/loop_over_bdir-MMhmja/Apache-ASP-2.62-yanWBe/blib/lib/Apache/ASP.pm line 2018.
Use of uninitialized value $rv in lc at /tmp/loop_over_bdir-MMhmja/Apache-ASP-2.62-yanWBe/blib/lib/Apache/ASP.pm line 2018.
Use of uninitialized value $rv in lc at /tmp/loop_over_bdir-MMhmja/Apache-ASP-2.62-yanWBe/blib/lib/Apache/ASP.pm line 2018.
t/cgi_headers.t .......... ok
Use of uninitialized value $rv in lc at /tmp/loop_over_bdir-MMhmja/Apache-ASP-2.62-yanWBe/blib/lib/Apache/ASP.pm line 2018.
Use of uninitialized value $rv in lc at /tmp/loop_over_bdir-MMhmja/Apache-ASP-2.62-yanWBe/blib/lib/Apache/ASP.pm line 2018.
Use of uninitialized value $rv in lc at /tmp/loop_over_bdir-MMhmja/Apache-ASP-2.62-yanWBe/blib/lib/Apache/ASP.pm line 2018.
Use of uninitialized value $rv in lc at /tmp/loop_over_bdir-MMhmja/Apache-ASP-2.62-yanWBe/blib/lib/Apache/ASP.pm line 2018.
Use of uninitialized value $rv in lc at /tmp/loop_over_bdir-MMhmja/Apache-ASP-2.62-yanWBe/blib/lib/Apache/ASP.pm line 2018.
Use of uninitialized value $rv in lc at /tmp/loop_over_bdir-MMhmja/Apache-ASP-2.62-yanWBe/blib/lib/Apache/ASP.pm line 2018.
Use of uninitialized value $rv in lc at /tmp/loop_over_bdir-MMhmja/Apache-ASP-2.62-yanWBe/blib/lib/Apache/ASP.pm line 2018.
Use of uninitialized value $rv in lc at /tmp/loop_over_bdir-MMhmja/Apache-ASP-2.62-yanWBe/blib/lib/Apache/ASP.pm line 2018.
Use of uninitialized value $rv in lc at /tmp/loop_over_bdir-MMhmja/Apache-ASP-2.62-yanWBe/blib/lib/Apache/ASP.pm line 2018.
t/closure.t .............. ok
Use of uninitialized value $rv in lc at /tmp/loop_over_bdir-MMhmja/Apache-ASP-2.62-yanWBe/blib/lib/Apache/ASP.pm line 2018.
Use of uninitialized value $rv in lc at /tmp/loop_over_bdir-MMhmja/Apache-ASP-2.62-yanWBe/blib/lib/Apache/ASP.pm line 2018.
Use of uninitialized value $rv in lc at /tmp/loop_over_bdir-MMhmja/Apache-ASP-2.62-yanWBe/blib/lib/Apache/ASP.pm line 2018.
Use of uninitialized value $rv in lc at /tmp/loop_over_bdir-MMhmja/Apache-ASP-2.62-yanWBe/blib/lib/Apache/ASP.pm line 2018.
Use of uninitialized value $rv in lc at /tmp/loop_over_bdir-MMhmja/Apache-ASP-2.62-yanWBe/blib/lib/Apache/ASP.pm line 2018.
Use of uninitialized value $rv in lc at /tmp/loop_over_bdir-MMhmja/Apache-ASP-2.62-yanWBe/blib/lib/Apache/ASP.pm line 2018.
Use of uninitialized value $rv in lc at /tmp/loop_over_bdir-MMhmja/Apache-ASP-2.62-yanWBe/blib/lib/Apache/ASP.pm line 2018.
Use of uninitialized value $rv in lc at /tmp/loop_over_bdir-MMhmja/Apache-ASP-2.62-yanWBe/blib/lib/Apache/ASP.pm line 2018.
Use of uninitialized value $rv in lc at /tmp/loop_over_bdir-MMhmja/Apache-ASP-2.62-yanWBe/blib/lib/Apache/ASP.pm line 2018.
Use of uninitialized value $rv in lc at /tmp/loop_over_bdir-MMhmja/Apache-ASP-2.62-yanWBe/blib/lib/Apache/ASP.pm line 2018.
Use of uninitialized value $rv in lc at /tmp/loop_over_bdir-MMhmja/Apache-ASP-2.62-yanWBe/blib/lib/Apache/ASP.pm line 2018.
t/collection.t ........... ok
Use of uninitialized value $rv in lc at /tmp/loop_over_bdir-MMhmja/Apache-ASP-2.62-yanWBe/blib/lib/Apache/ASP.pm line 2018.
Use of uninitialized value $rv in lc at /tmp/loop_over_bdir-MMhmja/Apache-ASP-2.62-yanWBe/blib/lib/Apache/ASP.pm line 2018.
Use of uninitialized value $rv in lc at /tmp/loop_over_bdir-MMhmja/Apache-ASP-2.62-yanWBe/blib/lib/Apache/ASP.pm line 2018.
Use of uninitialized value $rv in lc at /tmp/loop_over_bdir-MMhmja/Apache-ASP-2.62-yanWBe/blib/lib/Apache/ASP.pm line 2018.
Use of uninitialized value $rv in lc at /tmp/loop_over_bdir-MMhmja/Apache-ASP-2.62-yanWBe/blib/lib/Apache/ASP.pm line 2018.
Use of uninitialized value $rv in lc at /tmp/loop_over_bdir-MMhmja/Apache-ASP-2.62-yanWBe/blib/lib/Apache/ASP.pm line 2018.
Use of uninitialized value $rv in lc at /tmp/loop_over_bdir-MMhmja/Apache-ASP-2.62-yanWBe/blib/lib/Apache/ASP.pm line 2018.
Use of uninitialized value $rv in lc at /tmp/loop_over_bdir-MMhmja/Apache-ASP-2.62-yanWBe/blib/lib/Apache/ASP.pm line 2018.
Use of uninitialized value $rv in lc at /tmp/loop_over_bdir-MMhmja/Apache-ASP-2.62-yanWBe/blib/lib/Apache/ASP.pm line 2018.
Use of uninitialized value $rv in lc at /tmp/loop_over_bdir-MMhmja/Apache-ASP-2.62-yanWBe/blib/lib/Apache/ASP.pm line 2018.
Use of uninitialized value $rv in lc at /tmp/loop_over_bdir-MMhmja/Apache-ASP-2.62-yanWBe/blib/lib/Apache/ASP.pm line 2018.
t/collectionitem.t ....... ok
Use of uninitialized value $rv in lc at /tmp/loop_over_bdir-MMhmja/Apache-ASP-2.62-yanWBe/blib/lib/Apache/ASP.pm line 2018.
Use of uninitialized value $rv in lc at /tmp/loop_over_bdir-MMhmja/Apache-ASP-2.62-yanWBe/blib/lib/Apache/ASP.pm line 2018.
Use of uninitialized value $rv in lc at /tmp/loop_over_bdir-MMhmja/Apache-ASP-2.62-yanWBe/blib/lib/Apache/ASP.pm line 2018.
Use of uninitialized value $rv in lc at /tmp/loop_over_bdir-MMhmja/Apache-ASP-2.62-yanWBe/blib/lib/Apache/ASP.pm line 2018.
Use of uninitialized value $rv in lc at /tmp/loop_over_bdir-MMhmja/Apache-ASP-2.62-yanWBe/blib/lib/Apache/ASP.pm line 2018.
Use of uninitialized value $rv in lc at /tmp/loop_over_bdir-MMhmja/Apache-ASP-2.62-yanWBe/blib/lib/Apache/ASP.pm line 2018.
Use of uninitialized value $rv in lc at /tmp/loop_over_bdir-MMhmja/Apache-ASP-2.62-yanWBe/blib/lib/Apache/ASP.pm line 2018.
Use of uninitialized value $rv in lc at /tmp/loop_over_bdir-MMhmja/Apache-ASP-2.62-yanWBe/blib/lib/Apache/ASP.pm line 2018.
Use of uninitialized value $rv in lc at /tmp/loop_over_bdir-MMhmja/Apache-ASP-2.62-yanWBe/blib/lib/Apache/ASP.pm line 2018.
Use of uninitialized value $rv in lc at /tmp/loop_over_bdir-MMhmja/Apache-ASP-2.62-yanWBe/blib/lib/Apache/ASP.pm line 2018.
t/cookies.t .............. ok
Use of uninitialized value $rv in lc at /tmp/loop_over_bdir-MMhmja/Apache-ASP-2.62-yanWBe/blib/lib/Apache/ASP.pm line 2018.
Use of uninitialized value $rv in lc at /tmp/loop_over_bdir-MMhmja/Apache-ASP-2.62-yanWBe/blib/lib/Apache/ASP.pm line 2018.
Use of uninitialized value $rv in lc at /tmp/loop_over_bdir-MMhmja/Apache-ASP-2.62-yanWBe/blib/lib/Apache/ASP.pm line 2018.
Use of uninitialized value $rv in lc at /tmp/loop_over_bdir-MMhmja/Apache-ASP-2.62-yanWBe/blib/lib/Apache/ASP.pm line 2018.
Use of uninitialized value $rv in lc at /tmp/loop_over_bdir-MMhmja/Apache-ASP-2.62-yanWBe/blib/lib/Apache/ASP.pm line 2018.
Use of uninitialized value $rv in lc at /tmp/loop_over_bdir-MMhmja/Apache-ASP-2.62-yanWBe/blib/lib/Apache/ASP.pm line 2018.
Use of uninitialized value $rv in lc at /tmp/loop_over_bdir-MMhmja/Apache-ASP-2.62-yanWBe/blib/lib/Apache/ASP.pm line 2018.
Use of uninitialized value $rv in lc at /tmp/loop_over_bdir-MMhmja/Apache-ASP-2.62-yanWBe/blib/lib/Apache/ASP.pm line 2018.
Use of uninitialized value $rv in lc at /tmp/loop_over_bdir-MMhmja/Apache-ASP-2.62-yanWBe/blib/lib/Apache/ASP.pm line 2018.
Use of uninitialized value $rv in lc at /tmp/loop_over_bdir-MMhmja/Apache-ASP-2.62-yanWBe/blib/lib/Apache/ASP.pm line 2018.
Use of uninitialized value $rv in lc at /tmp/loop_over_bdir-MMhmja/Apache-ASP-2.62-yanWBe/blib/lib/Apache/ASP.pm line 2018.
Use of uninitialized value $rv in lc at /tmp/loop_over_bdir-MMhmja/Apache-ASP-2.62-yanWBe/blib/lib/Apache/ASP.pm line 2018.
Use of uninitialized value $rv in lc at /tmp/loop_over_bdir-MMhmja/Apache-ASP-2.62-yanWBe/blib/lib/Apache/ASP.pm line 2018.
Use of uninitialized value $rv in lc at /tmp/loop_over_bdir-MMhmja/Apache-ASP-2.62-yanWBe/blib/lib/Apache/ASP.pm line 2018.
Use of uninitialized value $rv in lc at /tmp/loop_over_bdir-MMhmja/Apache-ASP-2.62-yanWBe/blib/lib/Apache/ASP.pm line 2018.
Use of uninitialized value $rv in lc at /tmp/loop_over_bdir-MMhmja/Apache-ASP-2.62-yanWBe/blib/lib/Apache/ASP.pm line 2018.
Use of uninitialized value $rv in lc at /tmp/loop_over_bdir-MMhmja/Apache-ASP-2.62-yanWBe/blib/lib/Apache/ASP.pm line 2018.
Use of uninitialized value $rv in lc at /tmp/loop_over_bdir-MMhmja/Apache-ASP-2.62-yanWBe/blib/lib/Apache/ASP.pm line 2018.
Use of uninitialized value $rv in lc at /tmp/loop_over_bdir-MMhmja/Apache-ASP-2.62-yanWBe/blib/lib/Apache/ASP.pm line 2018.
Use of uninitialized value $rv in lc at /tmp/loop_over_bdir-MMhmja/Apache-ASP-2.62-yanWBe/blib/lib/Apache/ASP.pm line 2018.
Use of uninitialized value $rv in lc at /tmp/loop_over_bdir-MMhmja/Apache-ASP-2.62-yanWBe/blib/lib/Apache/ASP.pm line 2018.
Use of uninitialized value $rv in lc at /tmp/loop_over_bdir-MMhmja/Apache-ASP-2.62-yanWBe/blib/lib/Apache/ASP.pm line 2018.
Use of uninitialized value $rv in lc at /tmp/loop_over_bdir-MMhmja/Apache-ASP-2.62-yanWBe/blib/lib/Apache/ASP.pm line 2018.
Use of uninitialized value $rv in lc at /tmp/loop_over_bdir-MMhmja/Apache-ASP-2.62-yanWBe/blib/lib/Apache/ASP.pm line 2018.
Use of uninitialized value $rv in lc at /tmp/loop_over_bdir-MMhmja/Apache-ASP-2.62-yanWBe/blib/lib/Apache/ASP.pm line 2018.
Use of uninitialized value $rv in lc at /tmp/loop_over_bdir-MMhmja/Apache-ASP-2.62-yanWBe/blib/lib/Apache/ASP.pm line 2018.
Use of uninitialized value $rv in lc at /tmp/loop_over_bdir-MMhmja/Apache-ASP-2.62-yanWBe/blib/lib/Apache/ASP.pm line 2018.
Use of uninitialized value $rv in lc at /tmp/loop_over_bdir-MMhmja/Apache-ASP-2.62-yanWBe/blib/lib/Apache/ASP.pm line 2018.
Use of uninitialized value $rv in lc at /tmp/loop_over_bdir-MMhmja/Apache-ASP-2.62-yanWBe/blib/lib/Apache/ASP.pm line 2018.
Use of uninitialized value $rv in lc at /tmp/loop_over_bdir-MMhmja/Apache-ASP-2.62-yanWBe/blib/lib/Apache/ASP.pm line 2018.
Use of uninitialized value $rv in lc at /tmp/loop_over_bdir-MMhmja/Apache-ASP-2.62-yanWBe/blib/lib/Apache/ASP.pm line 2018.
Use of uninitialized value $rv in lc at /tmp/loop_over_bdir-MMhmja/Apache-ASP-2.62-yanWBe/blib/lib/Apache/ASP.pm line 2018.
Use of uninitialized value $rv in lc at /tmp/loop_over_bdir-MMhmja/Apache-ASP-2.62-yanWBe/blib/lib/Apache/ASP.pm line 2018.
Use of uninitialized value $rv in lc at /tmp/loop_over_bdir-MMhmja/Apache-ASP-2.62-yanWBe/blib/lib/Apache/ASP.pm line 2018.
Use of uninitialized value $rv in lc at /tmp/loop_over_bdir-MMhmja/Apache-ASP-2.62-yanWBe/blib/lib/Apache/ASP.pm line 2018.
Use of uninitialized value $rv in lc at /tmp/loop_over_bdir-MMhmja/Apache-ASP-2.62-yanWBe/blib/lib/Apache/ASP.pm line 2018.
Use of uninitialized value $rv in lc at /tmp/loop_over_bdir-MMhmja/Apache-ASP-2.62-yanWBe/blib/lib/Apache/ASP.pm line 2018.
Use of uninitialized value $rv in lc at /tmp/loop_over_bdir-MMhmja/Apache-ASP-2.62-yanWBe/blib/lib/Apache/ASP.pm line 2018.
Use of uninitialized value $rv in lc at /tmp/loop_over_bdir-MMhmja/Apache-ASP-2.62-yanWBe/blib/lib/Apache/ASP.pm line 2018.
Use of uninitialized value $rv in lc at /tmp/loop_over_bdir-MMhmja/Apache-ASP-2.62-yanWBe/blib/lib/Apache/ASP.pm line 2018.
Use of uninitialized value $rv in lc at /tmp/loop_over_bdir-MMhmja/Apache-ASP-2.62-yanWBe/blib/lib/Apache/ASP.pm line 2018.
Use of uninitialized value $rv in lc at /tmp/loop_over_bdir-MMhmja/Apache-ASP-2.62-yanWBe/blib/lib/Apache/ASP.pm line 2018.
Use of uninitialized value $rv in lc at /tmp/loop_over_bdir-MMhmja/Apache-ASP-2.62-yanWBe/blib/lib/Apache/ASP.pm line 2018.
Use of uninitialized value $rv in lc at /tmp/loop_over_bdir-MMhmja/Apache-ASP-2.62-yanWBe/blib/lib/Apache/ASP.pm line 2018.
Use of uninitialized value $rv in lc at /tmp/loop_over_bdir-MMhmja/Apache-ASP-2.62-yanWBe/blib/lib/Apache/ASP.pm line 2018.
Use of uninitialized value $rv in lc at /tmp/loop_over_bdir-MMhmja/Apache-ASP-2.62-yanWBe/blib/lib/Apache/ASP.pm line 2018.
Use of uninitialized value $rv in lc at /tmp/loop_over_bdir-MMhmja/Apache-ASP-2.62-yanWBe/blib/lib/Apache/ASP.pm line 2018.
Use of uninitialized value $rv in lc at /tmp/loop_over_bdir-MMhmja/Apache-ASP-2.62-yanWBe/blib/lib/Apache/ASP.pm line 2018.
Use of uninitialized value $rv in lc at /tmp/loop_over_bdir-MMhmja/Apache-ASP-2.62-yanWBe/blib/lib/Apache/ASP.pm line 2018.
Use of uninitialized value $rv in lc at /tmp/loop_over_bdir-MMhmja/Apache-ASP-2.62-yanWBe/blib/lib/Apache/ASP.pm line 2018.
Use of uninitialized value $rv in lc at /tmp/loop_over_bdir-MMhmja/Apache-ASP-2.62-yanWBe/blib/lib/Apache/ASP.pm line 2018.
Use of uninitialized value $rv in lc at /tmp/loop_over_bdir-MMhmja/Apache-ASP-2.62-yanWBe/blib/lib/Apache/ASP.pm line 2018.
Use of uninitialized value $rv in lc at /tmp/loop_over_bdir-MMhmja/Apache-ASP-2.62-yanWBe/blib/lib/Apache/ASP.pm line 2018.
Use of uninitialized value $rv in lc at /tmp/loop_over_bdir-MMhmja/Apache-ASP-2.62-yanWBe/blib/lib/Apache/ASP.pm line 2018.
t/end.t .................. ok
Use of uninitialized value $rv in lc at /tmp/loop_over_bdir-MMhmja/Apache-ASP-2.62-yanWBe/blib/lib/Apache/ASP.pm line 2018.
Use of uninitialized value $rv in lc at /tmp/loop_over_bdir-MMhmja/Apache-ASP-2.62-yanWBe/blib/lib/Apache/ASP.pm line 2018.
Use of uninitialized value $rv in lc at /tmp/loop_over_bdir-MMhmja/Apache-ASP-2.62-yanWBe/blib/lib/Apache/ASP.pm line 2018.
Use of uninitialized value $rv in lc at /tmp/loop_over_bdir-MMhmja/Apache-ASP-2.62-yanWBe/blib/lib/Apache/ASP.pm line 2018.
Use of uninitialized value $rv in lc at /tmp/loop_over_bdir-MMhmja/Apache-ASP-2.62-yanWBe/blib/lib/Apache/ASP.pm line 2018.
Use of uninitialized value $rv in lc at /tmp/loop_over_bdir-MMhmja/Apache-ASP-2.62-yanWBe/blib/lib/Apache/ASP.pm line 2018.
Use of uninitialized value $rv in lc at /tmp/loop_over_bdir-MMhmja/Apache-ASP-2.62-yanWBe/blib/lib/Apache/ASP.pm line 2018.
Use of uninitialized value $rv in lc at /tmp/loop_over_bdir-MMhmja/Apache-ASP-2.62-yanWBe/blib/lib/Apache/ASP.pm line 2018.
Use of uninitialized value $rv in lc at /tmp/loop_over_bdir-MMhmja/Apache-ASP-2.62-yanWBe/blib/lib/Apache/ASP.pm line 2018.
Use of uninitialized value $rv in lc at /tmp/loop_over_bdir-MMhmja/Apache-ASP-2.62-yanWBe/blib/lib/Apache/ASP.pm line 2018.
Use of uninitialized value $rv in lc at /tmp/loop_over_bdir-MMhmja/Apache-ASP-2.62-yanWBe/blib/lib/Apache/ASP.pm line 2018.
t/general.t .............. ok
Use of uninitialized value $rv in lc at /tmp/loop_over_bdir-MMhmja/Apache-ASP-2.62-yanWBe/blib/lib/Apache/ASP.pm line 2018.
Use of uninitialized value $rv in lc at /tmp/loop_over_bdir-MMhmja/Apache-ASP-2.62-yanWBe/blib/lib/Apache/ASP.pm line 2018.
Use of uninitialized value $rv in lc at /tmp/loop_over_bdir-MMhmja/Apache-ASP-2.62-yanWBe/blib/lib/Apache/ASP.pm line 2018.
Use of uninitialized value $rv in lc at /tmp/loop_over_bdir-MMhmja/Apache-ASP-2.62-yanWBe/blib/lib/Apache/ASP.pm line 2018.
Use of uninitialized value $rv in lc at /tmp/loop_over_bdir-MMhmja/Apache-ASP-2.62-yanWBe/blib/lib/Apache/ASP.pm line 2018.
Use of uninitialized value $rv in lc at /tmp/loop_over_bdir-MMhmja/Apache-ASP-2.62-yanWBe/blib/lib/Apache/ASP.pm line 2018.
Use of uninitialized value $rv in lc at /tmp/loop_over_bdir-MMhmja/Apache-ASP-2.62-yanWBe/blib/lib/Apache/ASP.pm line 2018.
Use of uninitialized value $rv in lc at /tmp/loop_over_bdir-MMhmja/Apache-ASP-2.62-yanWBe/blib/lib/Apache/ASP.pm line 2018.
Use of uninitialized value $rv in lc at /tmp/loop_over_bdir-MMhmja/Apache-ASP-2.62-yanWBe/blib/lib/Apache/ASP.pm line 2018.
Use of uninitialized value $rv in lc at /tmp/loop_over_bdir-MMhmja/Apache-ASP-2.62-yanWBe/blib/lib/Apache/ASP.pm line 2018.
t/global_event_end.t ..... ok
Use of uninitialized value $rv in lc at /tmp/loop_over_bdir-MMhmja/Apache-ASP-2.62-yanWBe/blib/lib/Apache/ASP.pm line 2018.
Use of uninitialized value $rv in lc at /tmp/loop_over_bdir-MMhmja/Apache-ASP-2.62-yanWBe/blib/lib/Apache/ASP.pm line 2018.
Use of uninitialized value $rv in lc at /tmp/loop_over_bdir-MMhmja/Apache-ASP-2.62-yanWBe/blib/lib/Apache/ASP.pm line 2018.
Use of uninitialized value $rv in lc at /tmp/loop_over_bdir-MMhmja/Apache-ASP-2.62-yanWBe/blib/lib/Apache/ASP.pm line 2018.
Use of uninitialized value $rv in lc at /tmp/loop_over_bdir-MMhmja/Apache-ASP-2.62-yanWBe/blib/lib/Apache/ASP.pm line 2018.
Use of uninitialized value $rv in lc at /tmp/loop_over_bdir-MMhmja/Apache-ASP-2.62-yanWBe/blib/lib/Apache/ASP.pm line 2018.
Use of uninitialized value $rv in lc at /tmp/loop_over_bdir-MMhmja/Apache-ASP-2.62-yanWBe/blib/lib/Apache/ASP.pm line 2018.
Use of uninitialized value $rv in lc at /tmp/loop_over_bdir-MMhmja/Apache-ASP-2.62-yanWBe/blib/lib/Apache/ASP.pm line 2018.
Use of uninitialized value $rv in lc at /tmp/loop_over_bdir-MMhmja/Apache-ASP-2.62-yanWBe/blib/lib/Apache/ASP.pm line 2018.
Use of uninitialized value $rv in lc at /tmp/loop_over_bdir-MMhmja/Apache-ASP-2.62-yanWBe/blib/lib/Apache/ASP.pm line 2018.
t/include.t .............. ok
Use of uninitialized value $rv in lc at /tmp/loop_over_bdir-MMhmja/Apache-ASP-2.62-yanWBe/blib/lib/Apache/ASP.pm line 2018.
at /tmp/loop_over_bdir-MMhmja/Apache-ASP-2.62-yanWBe/blib/lib/Apache/ASP.pm line 2018
Apache::ASP::get_dir_config('Apache::ASP::CGI::Table=HASH(0x1c9e9f8)', 'Global') called at /tmp/loop_over_bdir-MMhmja/Apache-ASP-2.62-yanWBe/blib/lib/Apache/ASP.pm line 276
Apache::ASP::new('Apache::ASP', 'Apache::ASP::CGI=HASH(0x1a14fe0)', 't/include_change.t') called at /tmp/loop_over_bdir-MMhmja/Apache-ASP-2.62-yanWBe/blib/lib/Apache/ASP.pm line 184
Apache::ASP::handler('Apache::ASP::CGI=HASH(0x1a14fe0)') called at /tmp/loop_over_bdir-MMhmja/Apache-ASP-2.62-yanWBe/blib/lib/Apache/ASP/CGI.pm line 40
Apache::ASP::CGI::do_self('NoState', 1, 'Debug', 0, 'UseStrict', 0) called at t/include_change.t line 5
Use of uninitialized value $rv in lc at /tmp/loop_over_bdir-MMhmja/Apache-ASP-2.62-yanWBe/blib/lib/Apache/ASP.pm line 2018.
at /tmp/loop_over_bdir-MMhmja/Apache-ASP-2.62-yanWBe/blib/lib/Apache/ASP.pm line 2018
Apache::ASP::get_dir_config('Apache::ASP::CGI::Table=HASH(0x1c9e9f8)', 'GlobalPackage') called at /tmp/loop_over_bdir-MMhmja/Apache-ASP-2.62-yanWBe/blib/lib/Apache/ASP.pm line 280
Apache::ASP::new('Apache::ASP', 'Apache::ASP::CGI=HASH(0x1a14fe0)', 't/include_change.t') called at /tmp/loop_over_bdir-MMhmja/Apache-ASP-2.62-yanWBe/blib/lib/Apache/ASP.pm line 184
Apache::ASP::handler('Apache::ASP::CGI=HASH(0x1a14fe0)') called at /tmp/loop_over_bdir-MMhmja/Apache-ASP-2.62-yanWBe/blib/lib/Apache/ASP/CGI.pm line 40
Apache::ASP::CGI::do_self('NoState', 1, 'Debug', 0, 'UseStrict', 0) called at t/include_change.t line 5
Use of uninitialized value $rv in lc at /tmp/loop_over_bdir-MMhmja/Apache-ASP-2.62-yanWBe/blib/lib/Apache/ASP.pm line 2018.
at /tmp/loop_over_bdir-MMhmja/Apache-ASP-2.62-yanWBe/blib/lib/Apache/ASP.pm line 2018
Apache::ASP::get_dir_config('Apache::ASP::CGI::Table=HASH(0x1c9e9f8)', 'InodeNames') called at /tmp/loop_over_bdir-MMhmja/Apache-ASP-2.62-yanWBe/blib/lib/Apache/ASP.pm line 280
Apache::ASP::new('Apache::ASP', 'Apache::ASP::CGI=HASH(0x1a14fe0)', 't/include_change.t') called at /tmp/loop_over_bdir-MMhmja/Apache-ASP-2.62-yanWBe/blib/lib/Apache/ASP.pm line 184
Apache::ASP::handler('Apache::ASP::CGI=HASH(0x1a14fe0)') called at /tmp/loop_over_bdir-MMhmja/Apache-ASP-2.62-yanWBe/blib/lib/Apache/ASP/CGI.pm line 40
Apache::ASP::CGI::do_self('NoState', 1, 'Debug', 0, 'UseStrict', 0) called at t/include_change.t line 5
Use of uninitialized value $rv in lc at /tmp/loop_over_bdir-MMhmja/Apache-ASP-2.62-yanWBe/blib/lib/Apache/ASP.pm line 2018.
at /tmp/loop_over_bdir-MMhmja/Apache-ASP-2.62-yanWBe/blib/lib/Apache/ASP.pm line 2018
Apache::ASP::get_dir_config('Apache::ASP::CGI::Table=HASH(0x1c9e9f8)', 'NoCache') called at /tmp/loop_over_bdir-MMhmja/Apache-ASP-2.62-yanWBe/blib/lib/Apache/ASP.pm line 280
Apache::ASP::new('Apache::ASP', 'Apache::ASP::CGI=HASH(0x1a14fe0)', 't/include_change.t') called at /tmp/loop_over_bdir-MMhmja/Apache-ASP-2.62-yanWBe/blib/lib/Apache/ASP.pm line 184
Apache::ASP::handler('Apache::ASP::CGI=HASH(0x1a14fe0)') called at /tmp/loop_over_bdir-MMhmja/Apache-ASP-2.62-yanWBe/blib/lib/Apache/ASP/CGI.pm line 40
Apache::ASP::CGI::do_self('NoState', 1, 'Debug', 0, 'UseStrict', 0) called at t/include_change.t line 5
Use of uninitialized value $rv in lc at /tmp/loop_over_bdir-MMhmja/Apache-ASP-2.62-yanWBe/blib/lib/Apache/ASP.pm line 2018.
at /tmp/loop_over_bdir-MMhmja/Apache-ASP-2.62-yanWBe/blib/lib/Apache/ASP.pm line 2018
Apache::ASP::get_dir_config('Apache::ASP::CGI::Table=HASH(0x1c9e9f8)', 'StatINC') called at /tmp/loop_over_bdir-MMhmja/Apache-ASP-2.62-yanWBe/blib/lib/Apache/ASP.pm line 280
Apache::ASP::new('Apache::ASP', 'Apache::ASP::CGI=HASH(0x1a14fe0)', 't/include_change.t') called at /tmp/loop_over_bdir-MMhmja/Apache-ASP-2.62-yanWBe/blib/lib/Apache/ASP.pm line 184
Apache::ASP::handler('Apache::ASP::CGI=HASH(0x1a14fe0)') called at /tmp/loop_over_bdir-MMhmja/Apache-ASP-2.62-yanWBe/blib/lib/Apache/ASP/CGI.pm line 40
Apache::ASP::CGI::do_self('NoState', 1, 'Debug', 0, 'UseStrict', 0) called at t/include_change.t line 5
Use of uninitialized value $rv in lc at /tmp/loop_over_bdir-MMhmja/Apache-ASP-2.62-yanWBe/blib/lib/Apache/ASP.pm line 2018.
at /tmp/loop_over_bdir-MMhmja/Apache-ASP-2.62-yanWBe/blib/lib/Apache/ASP.pm line 2018
Apache::ASP::get_dir_config('Apache::ASP::CGI::Table=HASH(0x1c9e9f8)', 'StatINCMatch') called at /tmp/loop_over_bdir-MMhmja/Apache-ASP-2.62-yanWBe/blib/lib/Apache/ASP.pm line 280
Apache::ASP::new('Apache::ASP', 'Apache::ASP::CGI=HASH(0x1a14fe0)', 't/include_change.t') called at /tmp/loop_over_bdir-MMhmja/Apache-ASP-2.62-yanWBe/blib/lib/Apache/ASP.pm line 184
Apache::ASP::handler('Apache::ASP::CGI=HASH(0x1a14fe0)') called at /tmp/loop_over_bdir-MMhmja/Apache-ASP-2.62-yanWBe/blib/lib/Apache/ASP/CGI.pm line 40
Apache::ASP::CGI::do_self('NoState', 1, 'Debug', 0, 'UseStrict', 0) called at t/include_change.t line 5
Use of uninitialized value $rv in lc at /tmp/loop_over_bdir-MMhmja/Apache-ASP-2.62-yanWBe/blib/lib/Apache/ASP.pm line 2018.
at /tmp/loop_over_bdir-MMhmja/Apache-ASP-2.62-yanWBe/blib/lib/Apache/ASP.pm line 2018
Apache::ASP::get_dir_config('Apache::ASP::CGI::Table=HASH(0x1c9e9f8)', 'XSLT') called at /tmp/loop_over_bdir-MMhmja/Apache-ASP-2.62-yanWBe/blib/lib/Apache/ASP.pm line 280
Apache::ASP::new('Apache::ASP', 'Apache::ASP::CGI=HASH(0x1a14fe0)', 't/include_change.t') called at /tmp/loop_over_bdir-MMhmja/Apache-ASP-2.62-yanWBe/blib/lib/Apache/ASP.pm line 184
Apache::ASP::handler('Apache::ASP::CGI=HASH(0x1a14fe0)') called at /tmp/loop_over_bdir-MMhmja/Apache-ASP-2.62-yanWBe/blib/lib/Apache/ASP/CGI.pm line 40
Apache::ASP::CGI::do_self('NoState', 1, 'Debug', 0, 'UseStrict', 0) called at t/include_change.t line 5
Use of uninitialized value $rv in lc at /tmp/loop_over_bdir-MMhmja/Apache-ASP-2.62-yanWBe/blib/lib/Apache/ASP.pm line 2018.
at /tmp/loop_over_bdir-MMhmja/Apache-ASP-2.62-yanWBe/blib/lib/Apache/ASP.pm line 2018
Apache::ASP::get_dir_config('Apache::ASP::CGI::Table=HASH(0x1c9e9f8)', 'Filter') called at /tmp/loop_over_bdir-MMhmja/Apache-ASP-2.62-yanWBe/blib/lib/Apache/ASP.pm line 326
Apache::ASP::new('Apache::ASP', 'Apache::ASP::CGI=HASH(0x1a14fe0)', 't/include_change.t') called at /tmp/loop_over_bdir-MMhmja/Apache-ASP-2.62-yanWBe/blib/lib/Apache/ASP.pm line 184
Apache::ASP::handler('Apache::ASP::CGI=HASH(0x1a14fe0)') called at /tmp/loop_over_bdir-MMhmja/Apache-ASP-2.62-yanWBe/blib/lib/Apache/ASP/CGI.pm line 40
Apache::ASP::CGI::do_self('NoState', 1, 'Debug', 0, 'UseStrict', 0) called at t/include_change.t line 5
Use of uninitialized value $rv in lc at /tmp/loop_over_bdir-MMhmja/Apache-ASP-2.62-yanWBe/blib/lib/Apache/ASP.pm line 2018.
at /tmp/loop_over_bdir-MMhmja/Apache-ASP-2.62-yanWBe/blib/lib/Apache/ASP.pm line 2018
Apache::ASP::get_dir_config('Apache::ASP::CGI::Table=HASH(0x1c9e9f8)', 'CompressGzip') called at /tmp/loop_over_bdir-MMhmja/Apache-ASP-2.62-yanWBe/blib/lib/Apache/ASP.pm line 353
Apache::ASP::new('Apache::ASP', 'Apache::ASP::CGI=HASH(0x1a14fe0)', 't/include_change.t') called at /tmp/loop_over_bdir-MMhmja/Apache-ASP-2.62-yanWBe/blib/lib/Apache/ASP.pm line 184
Apache::ASP::handler('Apache::ASP::CGI=HASH(0x1a14fe0)') called at /tmp/loop_over_bdir-MMhmja/Apache-ASP-2.62-yanWBe/blib/lib/Apache/ASP/CGI.pm line 40
Apache::ASP::CGI::do_self('NoState', 1, 'Debug', 0, 'UseStrict', 0) called at t/include_change.t line 5
t/include_change.t ....... ok
Use of uninitialized value $rv in lc at /tmp/loop_over_bdir-MMhmja/Apache-ASP-2.62-yanWBe/blib/lib/Apache/ASP.pm line 2018.
Use of uninitialized value $rv in lc at /tmp/loop_over_bdir-MMhmja/Apache-ASP-2.62-yanWBe/blib/lib/Apache/ASP.pm line 2018.
Use of uninitialized value $rv in lc at /tmp/loop_over_bdir-MMhmja/Apache-ASP-2.62-yanWBe/blib/lib/Apache/ASP.pm line 2018.
Use of uninitialized value $rv in lc at /tmp/loop_over_bdir-MMhmja/Apache-ASP-2.62-yanWBe/blib/lib/Apache/ASP.pm line 2018.
Use of uninitialized value $rv in lc at /tmp/loop_over_bdir-MMhmja/Apache-ASP-2.62-yanWBe/blib/lib/Apache/ASP.pm line 2018.
Use of uninitialized value $rv in lc at /tmp/loop_over_bdir-MMhmja/Apache-ASP-2.62-yanWBe/blib/lib/Apache/ASP.pm line 2018.
Use of uninitialized value $rv in lc at /tmp/loop_over_bdir-MMhmja/Apache-ASP-2.62-yanWBe/blib/lib/Apache/ASP.pm line 2018.
Use of uninitialized value $rv in lc at /tmp/loop_over_bdir-MMhmja/Apache-ASP-2.62-yanWBe/blib/lib/Apache/ASP.pm line 2018.
Use of uninitialized value $rv in lc at /tmp/loop_over_bdir-MMhmja/Apache-ASP-2.62-yanWBe/blib/lib/Apache/ASP.pm line 2018.
Use of uninitialized value $rv in lc at /tmp/loop_over_bdir-MMhmja/Apache-ASP-2.62-yanWBe/blib/lib/Apache/ASP.pm line 2018.
Use of uninitialized value $rv in lc at /tmp/loop_over_bdir-MMhmja/Apache-ASP-2.62-yanWBe/blib/lib/Apache/ASP.pm line 2018.
t/include_dir_error.t .... ok
Use of uninitialized value $rv in lc at /tmp/loop_over_bdir-MMhmja/Apache-ASP-2.62-yanWBe/blib/lib/Apache/ASP.pm line 2018.
Use of uninitialized value $rv in lc at /tmp/loop_over_bdir-MMhmja/Apache-ASP-2.62-yanWBe/blib/lib/Apache/ASP.pm line 2018.
Use of uninitialized value $rv in lc at /tmp/loop_over_bdir-MMhmja/Apache-ASP-2.62-yanWBe/blib/lib/Apache/ASP.pm line 2018.
Use of uninitialized value $rv in lc at /tmp/loop_over_bdir-MMhmja/Apache-ASP-2.62-yanWBe/blib/lib/Apache/ASP.pm line 2018.
Use of uninitialized value $rv in lc at /tmp/loop_over_bdir-MMhmja/Apache-ASP-2.62-yanWBe/blib/lib/Apache/ASP.pm line 2018.
Use of uninitialized value $rv in lc at /tmp/loop_over_bdir-MMhmja/Apache-ASP-2.62-yanWBe/blib/lib/Apache/ASP.pm line 2018.
Use of uninitialized value $rv in lc at /tmp/loop_over_bdir-MMhmja/Apache-ASP-2.62-yanWBe/blib/lib/Apache/ASP.pm line 2018.
Use of uninitialized value $rv in lc at /tmp/loop_over_bdir-MMhmja/Apache-ASP-2.62-yanWBe/blib/lib/Apache/ASP.pm line 2018.
Use of uninitialized value $rv in lc at /tmp/loop_over_bdir-MMhmja/Apache-ASP-2.62-yanWBe/blib/lib/Apache/ASP.pm line 2018.
Use of uninitialized value $rv in lc at /tmp/loop_over_bdir-MMhmja/Apache-ASP-2.62-yanWBe/blib/lib/Apache/ASP.pm line 2018.
Use of uninitialized value $rv in lc at /tmp/loop_over_bdir-MMhmja/Apache-ASP-2.62-yanWBe/blib/lib/Apache/ASP.pm line 2018.
t/include_runtime.t ...... ok
Use of uninitialized value $rv in lc at /tmp/loop_over_bdir-MMhmja/Apache-ASP-2.62-yanWBe/blib/lib/Apache/ASP.pm line 2018.
Use of uninitialized value $rv in lc at /tmp/loop_over_bdir-MMhmja/Apache-ASP-2.62-yanWBe/blib/lib/Apache/ASP.pm line 2018.
Use of uninitialized value $rv in lc at /tmp/loop_over_bdir-MMhmja/Apache-ASP-2.62-yanWBe/blib/lib/Apache/ASP.pm line 2018.
Use of uninitialized value $rv in lc at /tmp/loop_over_bdir-MMhmja/Apache-ASP-2.62-yanWBe/blib/lib/Apache/ASP.pm line 2018.
Use of uninitialized value $rv in lc at /tmp/loop_over_bdir-MMhmja/Apache-ASP-2.62-yanWBe/blib/lib/Apache/ASP.pm line 2018.
Use of uninitialized value $rv in lc at /tmp/loop_over_bdir-MMhmja/Apache-ASP-2.62-yanWBe/blib/lib/Apache/ASP.pm line 2018.
Use of uninitialized value $rv in lc at /tmp/loop_over_bdir-MMhmja/Apache-ASP-2.62-yanWBe/blib/lib/Apache/ASP.pm line 2018.
Use of uninitialized value $rv in lc at /tmp/loop_over_bdir-MMhmja/Apache-ASP-2.62-yanWBe/blib/lib/Apache/ASP.pm line 2018.
Use of uninitialized value $rv in lc at /tmp/loop_over_bdir-MMhmja/Apache-ASP-2.62-yanWBe/blib/lib/Apache/ASP.pm line 2018.
t/inode_names.t .......... ok
[ASP WARN] Use of uninitialized value $rv in lc at /tmp/loop_over_bdir-MMhmja/Apache-ASP-2.62-yanWBe/blib/lib/Apache/ASP.pm line 2018.
[ASP WARN] Use of uninitialized value $rv in lc at /tmp/loop_over_bdir-MMhmja/Apache-ASP-2.62-yanWBe/blib/lib/Apache/ASP.pm line 2018.
[ASP WARN] Use of uninitialized value $rv in lc at /tmp/loop_over_bdir-MMhmja/Apache-ASP-2.62-yanWBe/blib/lib/Apache/ASP.pm line 2018.
[ASP WARN] Use of uninitialized value $rv in lc at /tmp/loop_over_bdir-MMhmja/Apache-ASP-2.62-yanWBe/blib/lib/Apache/ASP.pm line 2018.
[ASP WARN] Use of uninitialized value $rv in lc at /tmp/loop_over_bdir-MMhmja/Apache-ASP-2.62-yanWBe/blib/lib/Apache/ASP.pm line 2018.
[ASP WARN] Use of uninitialized value $rv in lc at /tmp/loop_over_bdir-MMhmja/Apache-ASP-2.62-yanWBe/blib/lib/Apache/ASP.pm line 2018.
[ASP WARN] Use of uninitialized value $rv in lc at /tmp/loop_over_bdir-MMhmja/Apache-ASP-2.62-yanWBe/blib/lib/Apache/ASP.pm line 2018.
[ASP WARN] Use of uninitialized value $rv in lc at /tmp/loop_over_bdir-MMhmja/Apache-ASP-2.62-yanWBe/blib/lib/Apache/ASP.pm line 2018.
[ASP WARN] Use of uninitialized value $rv in lc at /tmp/loop_over_bdir-MMhmja/Apache-ASP-2.62-yanWBe/blib/lib/Apache/ASP.pm line 2018.
[ASP WARN] Use of uninitialized value $rv in lc at /tmp/loop_over_bdir-MMhmja/Apache-ASP-2.62-yanWBe/blib/lib/Apache/ASP.pm line 2018.
Use of uninitialized value $rv in lc at /tmp/loop_over_bdir-MMhmja/Apache-ASP-2.62-yanWBe/blib/lib/Apache/ASP.pm line 2018.
Use of uninitialized value $rv in lc at /tmp/loop_over_bdir-MMhmja/Apache-ASP-2.62-yanWBe/blib/lib/Apache/ASP.pm line 2018.
Use of uninitialized value $rv in lc at /tmp/loop_over_bdir-MMhmja/Apache-ASP-2.62-yanWBe/blib/lib/Apache/ASP.pm line 2018.
Use of uninitialized value $rv in lc at /tmp/loop_over_bdir-MMhmja/Apache-ASP-2.62-yanWBe/blib/lib/Apache/ASP.pm line 2018.
Use of uninitialized value $rv in lc at /tmp/loop_over_bdir-MMhmja/Apache-ASP-2.62-yanWBe/blib/lib/Apache/ASP.pm line 2018.
Use of uninitialized value $rv in lc at /tmp/loop_over_bdir-MMhmja/Apache-ASP-2.62-yanWBe/blib/lib/Apache/ASP.pm line 2018.
Use of uninitialized value $rv in lc at /tmp/loop_over_bdir-MMhmja/Apache-ASP-2.62-yanWBe/blib/lib/Apache/ASP.pm line 2018.
Use of uninitialized value $rv in lc at /tmp/loop_over_bdir-MMhmja/Apache-ASP-2.62-yanWBe/blib/lib/Apache/ASP.pm line 2018.
Use of uninitialized value $rv in lc at /tmp/loop_over_bdir-MMhmja/Apache-ASP-2.62-yanWBe/blib/lib/Apache/ASP.pm line 2018.
t/load.t ................. ok
Use of uninitialized value $rv in lc at /tmp/loop_over_bdir-MMhmja/Apache-ASP-2.62-yanWBe/blib/lib/Apache/ASP.pm line 2018.
Use of uninitialized value $rv in lc at /tmp/loop_over_bdir-MMhmja/Apache-ASP-2.62-yanWBe/blib/lib/Apache/ASP.pm line 2018.
Use of uninitialized value $rv in lc at /tmp/loop_over_bdir-MMhmja/Apache-ASP-2.62-yanWBe/blib/lib/Apache/ASP.pm line 2018.
Use of uninitialized value $rv in lc at /tmp/loop_over_bdir-MMhmja/Apache-ASP-2.62-yanWBe/blib/lib/Apache/ASP.pm line 2018.
Use of uninitialized value $rv in lc at /tmp/loop_over_bdir-MMhmja/Apache-ASP-2.62-yanWBe/blib/lib/Apache/ASP.pm line 2018.
Use of uninitialized value $rv in lc at /tmp/loop_over_bdir-MMhmja/Apache-ASP-2.62-yanWBe/blib/lib/Apache/ASP.pm line 2018.
Use of uninitialized value $rv in lc at /tmp/loop_over_bdir-MMhmja/Apache-ASP-2.62-yanWBe/blib/lib/Apache/ASP.pm line 2018.
Use of uninitialized value $rv in lc at /tmp/loop_over_bdir-MMhmja/Apache-ASP-2.62-yanWBe/blib/lib/Apache/ASP.pm line 2018.
Use of uninitialized value $rv in lc at /tmp/loop_over_bdir-MMhmja/Apache-ASP-2.62-yanWBe/blib/lib/Apache/ASP.pm line 2018.
t/long_names.t ........... ok
Use of uninitialized value $rv in lc at /tmp/loop_over_bdir-MMhmja/Apache-ASP-2.62-yanWBe/blib/lib/Apache/ASP.pm line 2018.
Use of uninitialized value $rv in lc at /tmp/loop_over_bdir-MMhmja/Apache-ASP-2.62-yanWBe/blib/lib/Apache/ASP.pm line 2018.
Use of uninitialized value $rv in lc at /tmp/loop_over_bdir-MMhmja/Apache-ASP-2.62-yanWBe/blib/lib/Apache/ASP.pm line 2018.
Use of uninitialized value $rv in lc at /tmp/loop_over_bdir-MMhmja/Apache-ASP-2.62-yanWBe/blib/lib/Apache/ASP.pm line 2018.
Use of uninitialized value $rv in lc at /tmp/loop_over_bdir-MMhmja/Apache-ASP-2.62-yanWBe/blib/lib/Apache/ASP.pm line 2018.
Use of uninitialized value $rv in lc at /tmp/loop_over_bdir-MMhmja/Apache-ASP-2.62-yanWBe/blib/lib/Apache/ASP.pm line 2018.
Use of uninitialized value $rv in lc at /tmp/loop_over_bdir-MMhmja/Apache-ASP-2.62-yanWBe/blib/lib/Apache/ASP.pm line 2018.
Use of uninitialized value $rv in lc at /tmp/loop_over_bdir-MMhmja/Apache-ASP-2.62-yanWBe/blib/lib/Apache/ASP.pm line 2018.
Use of uninitialized value $rv in lc at /tmp/loop_over_bdir-MMhmja/Apache-ASP-2.62-yanWBe/blib/lib/Apache/ASP.pm line 2018.
Use of uninitialized value $rv in lc at /tmp/loop_over_bdir-MMhmja/Apache-ASP-2.62-yanWBe/blib/lib/Apache/ASP.pm line 2018.
Use of uninitialized value $rv in lc at /tmp/loop_over_bdir-MMhmja/Apache-ASP-2.62-yanWBe/blib/lib/Apache/ASP.pm line 2018.
t/loops.t ................ ok
Use of uninitialized value $rv in lc at /tmp/loop_over_bdir-MMhmja/Apache-ASP-2.62-yanWBe/blib/lib/Apache/ASP.pm line 2018.
Use of uninitialized value $rv in lc at /tmp/loop_over_bdir-MMhmja/Apache-ASP-2.62-yanWBe/blib/lib/Apache/ASP.pm line 2018.
Use of uninitialized value $rv in lc at /tmp/loop_over_bdir-MMhmja/Apache-ASP-2.62-yanWBe/blib/lib/Apache/ASP.pm line 2018.
Use of uninitialized value $rv in lc at /tmp/loop_over_bdir-MMhmja/Apache-ASP-2.62-yanWBe/blib/lib/Apache/ASP.pm line 2018.
Use of uninitialized value $rv in lc at /tmp/loop_over_bdir-MMhmja/Apache-ASP-2.62-yanWBe/blib/lib/Apache/ASP.pm line 2018.
Use of uninitialized value $rv in lc at /tmp/loop_over_bdir-MMhmja/Apache-ASP-2.62-yanWBe/blib/lib/Apache/ASP.pm line 2018.
Use of uninitialized value $rv in lc at /tmp/loop_over_bdir-MMhmja/Apache-ASP-2.62-yanWBe/blib/lib/Apache/ASP.pm line 2018.
Use of uninitialized value $rv in lc at /tmp/loop_over_bdir-MMhmja/Apache-ASP-2.62-yanWBe/blib/lib/Apache/ASP.pm line 2018.
Use of uninitialized value $rv in lc at /tmp/loop_over_bdir-MMhmja/Apache-ASP-2.62-yanWBe/blib/lib/Apache/ASP.pm line 2018.
Use of uninitialized value $rv in lc at /tmp/loop_over_bdir-MMhmja/Apache-ASP-2.62-yanWBe/blib/lib/Apache/ASP.pm line 2018.
t/mail_error.t ........... ok
Use of uninitialized value $rv in lc at /tmp/loop_over_bdir-MMhmja/Apache-ASP-2.62-yanWBe/blib/lib/Apache/ASP.pm line 2018.
Use of uninitialized value $rv in lc at /tmp/loop_over_bdir-MMhmja/Apache-ASP-2.62-yanWBe/blib/lib/Apache/ASP.pm line 2018.
Use of uninitialized value $rv in lc at /tmp/loop_over_bdir-MMhmja/Apache-ASP-2.62-yanWBe/blib/lib/Apache/ASP.pm line 2018.
Use of uninitialized value $rv in lc at /tmp/loop_over_bdir-MMhmja/Apache-ASP-2.62-yanWBe/blib/lib/Apache/ASP.pm line 2018.
Use of uninitialized value $rv in lc at /tmp/loop_over_bdir-MMhmja/Apache-ASP-2.62-yanWBe/blib/lib/Apache/ASP.pm line 2018.
Use of uninitialized value $rv in lc at /tmp/loop_over_bdir-MMhmja/Apache-ASP-2.62-yanWBe/blib/lib/Apache/ASP.pm line 2018.
Use of uninitialized value $rv in lc at /tmp/loop_over_bdir-MMhmja/Apache-ASP-2.62-yanWBe/blib/lib/Apache/ASP.pm line 2018.
t/no_cache.t ............. ok
Use of uninitialized value $rv in lc at /tmp/loop_over_bdir-MMhmja/Apache-ASP-2.62-yanWBe/blib/lib/Apache/ASP.pm line 2018.
Use of uninitialized value $rv in lc at /tmp/loop_over_bdir-MMhmja/Apache-ASP-2.62-yanWBe/blib/lib/Apache/ASP.pm line 2018.
Use of uninitialized value $rv in lc at /tmp/loop_over_bdir-MMhmja/Apache-ASP-2.62-yanWBe/blib/lib/Apache/ASP.pm line 2018.
Use of uninitialized value $rv in lc at /tmp/loop_over_bdir-MMhmja/Apache-ASP-2.62-yanWBe/blib/lib/Apache/ASP.pm line 2018.
Use of uninitialized value $rv in lc at /tmp/loop_over_bdir-MMhmja/Apache-ASP-2.62-yanWBe/blib/lib/Apache/ASP.pm line 2018.
Use of uninitialized value $rv in lc at /tmp/loop_over_bdir-MMhmja/Apache-ASP-2.62-yanWBe/blib/lib/Apache/ASP.pm line 2018.
Use of uninitialized value $rv in lc at /tmp/loop_over_bdir-MMhmja/Apache-ASP-2.62-yanWBe/blib/lib/Apache/ASP.pm line 2018.
Use of uninitialized value $rv in lc at /tmp/loop_over_bdir-MMhmja/Apache-ASP-2.62-yanWBe/blib/lib/Apache/ASP.pm line 2018.
Use of uninitialized value $rv in lc at /tmp/loop_over_bdir-MMhmja/Apache-ASP-2.62-yanWBe/blib/lib/Apache/ASP.pm line 2018.
t/raw.t .................. ok
Use of uninitialized value $rv in lc at /tmp/loop_over_bdir-MMhmja/Apache-ASP-2.62-yanWBe/blib/lib/Apache/ASP.pm line 2018.
Use of uninitialized value $rv in lc at /tmp/loop_over_bdir-MMhmja/Apache-ASP-2.62-yanWBe/blib/lib/Apache/ASP.pm line 2018.
Use of uninitialized value $rv in lc at /tmp/loop_over_bdir-MMhmja/Apache-ASP-2.62-yanWBe/blib/lib/Apache/ASP.pm line 2018.
Use of uninitialized value $rv in lc at /tmp/loop_over_bdir-MMhmja/Apache-ASP-2.62-yanWBe/blib/lib/Apache/ASP.pm line 2018.
Use of uninitialized value $rv in lc at /tmp/loop_over_bdir-MMhmja/Apache-ASP-2.62-yanWBe/blib/lib/Apache/ASP.pm line 2018.
Use of uninitialized value $rv in lc at /tmp/loop_over_bdir-MMhmja/Apache-ASP-2.62-yanWBe/blib/lib/Apache/ASP.pm line 2018.
Use of uninitialized value $rv in lc at /tmp/loop_over_bdir-MMhmja/Apache-ASP-2.62-yanWBe/blib/lib/Apache/ASP.pm line 2018.
Use of uninitialized value $rv in lc at /tmp/loop_over_bdir-MMhmja/Apache-ASP-2.62-yanWBe/blib/lib/Apache/ASP.pm line 2018.
Use of uninitialized value $rv in lc at /tmp/loop_over_bdir-MMhmja/Apache-ASP-2.62-yanWBe/blib/lib/Apache/ASP.pm line 2018.
t/raw_include.t .......... ok
Use of uninitialized value $rv in lc at /tmp/loop_over_bdir-MMhmja/Apache-ASP-2.62-yanWBe/blib/lib/Apache/ASP.pm line 2018.
Use of uninitialized value $rv in lc at /tmp/loop_over_bdir-MMhmja/Apache-ASP-2.62-yanWBe/blib/lib/Apache/ASP.pm line 2018.
Use of uninitialized value $rv in lc at /tmp/loop_over_bdir-MMhmja/Apache-ASP-2.62-yanWBe/blib/lib/Apache/ASP.pm line 2018.
Use of uninitialized value $rv in lc at /tmp/loop_over_bdir-MMhmja/Apache-ASP-2.62-yanWBe/blib/lib/Apache/ASP.pm line 2018.
Use of uninitialized value $rv in lc at /tmp/loop_over_bdir-MMhmja/Apache-ASP-2.62-yanWBe/blib/lib/Apache/ASP.pm line 2018.
Use of uninitialized value $rv in lc at /tmp/loop_over_bdir-MMhmja/Apache-ASP-2.62-yanWBe/blib/lib/Apache/ASP.pm line 2018.
Use of uninitialized value $rv in lc at /tmp/loop_over_bdir-MMhmja/Apache-ASP-2.62-yanWBe/blib/lib/Apache/ASP.pm line 2018.
Use of uninitialized value $rv in lc at /tmp/loop_over_bdir-MMhmja/Apache-ASP-2.62-yanWBe/blib/lib/Apache/ASP.pm line 2018.
Use of uninitialized value $rv in lc at /tmp/loop_over_bdir-MMhmja/Apache-ASP-2.62-yanWBe/blib/lib/Apache/ASP.pm line 2018.
Use of uninitialized value $rv in lc at /tmp/loop_over_bdir-MMhmja/Apache-ASP-2.62-yanWBe/blib/lib/Apache/ASP.pm line 2018.
Use of uninitialized value $rv in lc at /tmp/loop_over_bdir-MMhmja/Apache-ASP-2.62-yanWBe/blib/lib/Apache/ASP.pm line 2018.
Use of uninitialized value $rv in lc at /tmp/loop_over_bdir-MMhmja/Apache-ASP-2.62-yanWBe/blib/lib/Apache/ASP.pm line 2018.
Use of uninitialized value $rv in lc at /tmp/loop_over_bdir-MMhmja/Apache-ASP-2.62-yanWBe/blib/lib/Apache/ASP.pm line 2018.
Use of uninitialized value $rv in lc at /tmp/loop_over_bdir-MMhmja/Apache-ASP-2.62-yanWBe/blib/lib/Apache/ASP.pm line 2018.
Use of uninitialized value $rv in lc at /tmp/loop_over_bdir-MMhmja/Apache-ASP-2.62-yanWBe/blib/lib/Apache/ASP.pm line 2018.
Use of uninitialized value $rv in lc at /tmp/loop_over_bdir-MMhmja/Apache-ASP-2.62-yanWBe/blib/lib/Apache/ASP.pm line 2018.
Use of uninitialized value $rv in lc at /tmp/loop_over_bdir-MMhmja/Apache-ASP-2.62-yanWBe/blib/lib/Apache/ASP.pm line 2018.
Use of uninitialized value $rv in lc at /tmp/loop_over_bdir-MMhmja/Apache-ASP-2.62-yanWBe/blib/lib/Apache/ASP.pm line 2018.
Use of uninitialized value $rv in lc at /tmp/loop_over_bdir-MMhmja/Apache-ASP-2.62-yanWBe/blib/lib/Apache/ASP.pm line 2018.
Use of uninitialized value $rv in lc at /tmp/loop_over_bdir-MMhmja/Apache-ASP-2.62-yanWBe/blib/lib/Apache/ASP.pm line 2018.
t/reload_global_asa.t .... ok
Use of uninitialized value $rv in lc at /tmp/loop_over_bdir-MMhmja/Apache-ASP-2.62-yanWBe/blib/lib/Apache/ASP.pm line 2018.
Use of uninitialized value $rv in lc at /tmp/loop_over_bdir-MMhmja/Apache-ASP-2.62-yanWBe/blib/lib/Apache/ASP.pm line 2018.
Use of uninitialized value $rv in lc at /tmp/loop_over_bdir-MMhmja/Apache-ASP-2.62-yanWBe/blib/lib/Apache/ASP.pm line 2018.
Use of uninitialized value $rv in lc at /tmp/loop_over_bdir-MMhmja/Apache-ASP-2.62-yanWBe/blib/lib/Apache/ASP.pm line 2018.
Use of uninitialized value $rv in lc at /tmp/loop_over_bdir-MMhmja/Apache-ASP-2.62-yanWBe/blib/lib/Apache/ASP.pm line 2018.
Use of uninitialized value $rv in lc at /tmp/loop_over_bdir-MMhmja/Apache-ASP-2.62-yanWBe/blib/lib/Apache/ASP.pm line 2018.
Use of uninitialized value $rv in lc at /tmp/loop_over_bdir-MMhmja/Apache-ASP-2.62-yanWBe/blib/lib/Apache/ASP.pm line 2018.
Use of uninitialized value $rv in lc at /tmp/loop_over_bdir-MMhmja/Apache-ASP-2.62-yanWBe/blib/lib/Apache/ASP.pm line 2018.
Use of uninitialized value $rv in lc at /tmp/loop_over_bdir-MMhmja/Apache-ASP-2.62-yanWBe/blib/lib/Apache/ASP.pm line 2018.
Use of uninitialized value $rv in lc at /tmp/loop_over_bdir-MMhmja/Apache-ASP-2.62-yanWBe/blib/lib/Apache/ASP.pm line 2018.
Use of uninitialized value $rv in lc at /tmp/loop_over_bdir-MMhmja/Apache-ASP-2.62-yanWBe/blib/lib/Apache/ASP.pm line 2018.
t/req_params_none.t ...... ok
Use of uninitialized value $rv in lc at /tmp/loop_over_bdir-MMhmja/Apache-ASP-2.62-yanWBe/blib/lib/Apache/ASP.pm line 2018.
Use of uninitialized value $rv in lc at /tmp/loop_over_bdir-MMhmja/Apache-ASP-2.62-yanWBe/blib/lib/Apache/ASP.pm line 2018.
Use of uninitialized value $rv in lc at /tmp/loop_over_bdir-MMhmja/Apache-ASP-2.62-yanWBe/blib/lib/Apache/ASP.pm line 2018.
Use of uninitialized value $rv in lc at /tmp/loop_over_bdir-MMhmja/Apache-ASP-2.62-yanWBe/blib/lib/Apache/ASP.pm line 2018.
Use of uninitialized value $rv in lc at /tmp/loop_over_bdir-MMhmja/Apache-ASP-2.62-yanWBe/blib/lib/Apache/ASP.pm line 2018.
Use of uninitialized value $rv in lc at /tmp/loop_over_bdir-MMhmja/Apache-ASP-2.62-yanWBe/blib/lib/Apache/ASP.pm line 2018.
Use of uninitialized value $rv in lc at /tmp/loop_over_bdir-MMhmja/Apache-ASP-2.62-yanWBe/blib/lib/Apache/ASP.pm line 2018.
Use of uninitialized value $rv in lc at /tmp/loop_over_bdir-MMhmja/Apache-ASP-2.62-yanWBe/blib/lib/Apache/ASP.pm line 2018.
Use of uninitialized value $rv in lc at /tmp/loop_over_bdir-MMhmja/Apache-ASP-2.62-yanWBe/blib/lib/Apache/ASP.pm line 2018.
Use of uninitialized value $rv in lc at /tmp/loop_over_bdir-MMhmja/Apache-ASP-2.62-yanWBe/blib/lib/Apache/ASP.pm line 2018.
Use of uninitialized value $rv in lc at /tmp/loop_over_bdir-MMhmja/Apache-ASP-2.62-yanWBe/blib/lib/Apache/ASP.pm line 2018.
t/request.t .............. ok
Use of uninitialized value $rv in lc at /tmp/loop_over_bdir-MMhmja/Apache-ASP-2.62-yanWBe/blib/lib/Apache/ASP.pm line 2018.
Use of uninitialized value $rv in lc at /tmp/loop_over_bdir-MMhmja/Apache-ASP-2.62-yanWBe/blib/lib/Apache/ASP.pm line 2018.
Use of uninitialized value $rv in lc at /tmp/loop_over_bdir-MMhmja/Apache-ASP-2.62-yanWBe/blib/lib/Apache/ASP.pm line 2018.
Use of uninitialized value $rv in lc at /tmp/loop_over_bdir-MMhmja/Apache-ASP-2.62-yanWBe/blib/lib/Apache/ASP.pm line 2018.
Use of uninitialized value $rv in lc at /tmp/loop_over_bdir-MMhmja/Apache-ASP-2.62-yanWBe/blib/lib/Apache/ASP.pm line 2018.
Use of uninitialized value $rv in lc at /tmp/loop_over_bdir-MMhmja/Apache-ASP-2.62-yanWBe/blib/lib/Apache/ASP.pm line 2018.
Use of uninitialized value $rv in lc at /tmp/loop_over_bdir-MMhmja/Apache-ASP-2.62-yanWBe/blib/lib/Apache/ASP.pm line 2018.
Use of uninitialized value $rv in lc at /tmp/loop_over_bdir-MMhmja/Apache-ASP-2.62-yanWBe/blib/lib/Apache/ASP.pm line 2018.
Use of uninitialized value $rv in lc at /tmp/loop_over_bdir-MMhmja/Apache-ASP-2.62-yanWBe/blib/lib/Apache/ASP.pm line 2018.
Use of uninitialized value $rv in lc at /tmp/loop_over_bdir-MMhmja/Apache-ASP-2.62-yanWBe/blib/lib/Apache/ASP.pm line 2018.
Use of uninitialized value $rv in lc at /tmp/loop_over_bdir-MMhmja/Apache-ASP-2.62-yanWBe/blib/lib/Apache/ASP.pm line 2018.
t/response.t ............. ok
Use of uninitialized value $rv in lc at /tmp/loop_over_bdir-MMhmja/Apache-ASP-2.62-yanWBe/blib/lib/Apache/ASP.pm line 2018.
Use of uninitialized value $rv in lc at /tmp/loop_over_bdir-MMhmja/Apache-ASP-2.62-yanWBe/blib/lib/Apache/ASP.pm line 2018.
Use of uninitialized value $rv in lc at /tmp/loop_over_bdir-MMhmja/Apache-ASP-2.62-yanWBe/blib/lib/Apache/ASP.pm line 2018.
Use of uninitialized value $rv in lc at /tmp/loop_over_bdir-MMhmja/Apache-ASP-2.62-yanWBe/blib/lib/Apache/ASP.pm line 2018.
Use of uninitialized value $rv in lc at /tmp/loop_over_bdir-MMhmja/Apache-ASP-2.62-yanWBe/blib/lib/Apache/ASP.pm line 2018.
Use of uninitialized value $rv in lc at /tmp/loop_over_bdir-MMhmja/Apache-ASP-2.62-yanWBe/blib/lib/Apache/ASP.pm line 2018.
Use of uninitialized value $rv in lc at /tmp/loop_over_bdir-MMhmja/Apache-ASP-2.62-yanWBe/blib/lib/Apache/ASP.pm line 2018.
Use of uninitialized value $rv in lc at /tmp/loop_over_bdir-MMhmja/Apache-ASP-2.62-yanWBe/blib/lib/Apache/ASP.pm line 2018.
Use of uninitialized value $rv in lc at /tmp/loop_over_bdir-MMhmja/Apache-ASP-2.62-yanWBe/blib/lib/Apache/ASP.pm line 2018.
Use of uninitialized value $rv in lc at /tmp/loop_over_bdir-MMhmja/Apache-ASP-2.62-yanWBe/blib/lib/Apache/ASP.pm line 2018.
Use of uninitialized value $rv in lc at /tmp/loop_over_bdir-MMhmja/Apache-ASP-2.62-yanWBe/blib/lib/Apache/ASP.pm line 2018.
t/response_end.t ......... ok
Use of uninitialized value $rv in lc at /tmp/loop_over_bdir-MMhmja/Apache-ASP-2.62-yanWBe/blib/lib/Apache/ASP.pm line 2018.
Use of uninitialized value $rv in lc at /tmp/loop_over_bdir-MMhmja/Apache-ASP-2.62-yanWBe/blib/lib/Apache/ASP.pm line 2018.
Use of uninitialized value $rv in lc at /tmp/loop_over_bdir-MMhmja/Apache-ASP-2.62-yanWBe/blib/lib/Apache/ASP.pm line 2018.
Use of uninitialized value $rv in lc at /tmp/loop_over_bdir-MMhmja/Apache-ASP-2.62-yanWBe/blib/lib/Apache/ASP.pm line 2018.
Use of uninitialized value $rv in lc at /tmp/loop_over_bdir-MMhmja/Apache-ASP-2.62-yanWBe/blib/lib/Apache/ASP.pm line 2018.
Use of uninitialized value $rv in lc at /tmp/loop_over_bdir-MMhmja/Apache-ASP-2.62-yanWBe/blib/lib/Apache/ASP.pm line 2018.
Use of uninitialized value $rv in lc at /tmp/loop_over_bdir-MMhmja/Apache-ASP-2.62-yanWBe/blib/lib/Apache/ASP.pm line 2018.
Use of uninitialized value $rv in lc at /tmp/loop_over_bdir-MMhmja/Apache-ASP-2.62-yanWBe/blib/lib/Apache/ASP.pm line 2018.
Use of uninitialized value $rv in lc at /tmp/loop_over_bdir-MMhmja/Apache-ASP-2.62-yanWBe/blib/lib/Apache/ASP.pm line 2018.
Use of uninitialized value $rv in lc at /tmp/loop_over_bdir-MMhmja/Apache-ASP-2.62-yanWBe/blib/lib/Apache/ASP.pm line 2018.
Use of uninitialized value $rv in lc at /tmp/loop_over_bdir-MMhmja/Apache-ASP-2.62-yanWBe/blib/lib/Apache/ASP.pm line 2018.
Use of uninitialized value $rv in lc at /tmp/loop_over_bdir-MMhmja/Apache-ASP-2.62-yanWBe/blib/lib/Apache/ASP.pm line 2018.
Use of uninitialized value $rv in lc at /tmp/loop_over_bdir-MMhmja/Apache-ASP-2.62-yanWBe/blib/lib/Apache/ASP.pm line 2018.
Use of uninitialized value $rv in lc at /tmp/loop_over_bdir-MMhmja/Apache-ASP-2.62-yanWBe/blib/lib/Apache/ASP.pm line 2018.
Use of uninitialized value $rv in lc at /tmp/loop_over_bdir-MMhmja/Apache-ASP-2.62-yanWBe/blib/lib/Apache/ASP.pm line 2018.
Use of uninitialized value $rv in lc at /tmp/loop_over_bdir-MMhmja/Apache-ASP-2.62-yanWBe/blib/lib/Apache/ASP.pm line 2018.
Use of uninitialized value $rv in lc at /tmp/loop_over_bdir-MMhmja/Apache-ASP-2.62-yanWBe/blib/lib/Apache/ASP.pm line 2018.
Use of uninitialized value $rv in lc at /tmp/loop_over_bdir-MMhmja/Apache-ASP-2.62-yanWBe/blib/lib/Apache/ASP.pm line 2018.
Use of uninitialized value $rv in lc at /tmp/loop_over_bdir-MMhmja/Apache-ASP-2.62-yanWBe/blib/lib/Apache/ASP.pm line 2018.
Use of uninitialized value $rv in lc at /tmp/loop_over_bdir-MMhmja/Apache-ASP-2.62-yanWBe/blib/lib/Apache/ASP.pm line 2018.
t/same_name.t ............ ok
Use of uninitialized value $rv in lc at /tmp/loop_over_bdir-MMhmja/Apache-ASP-2.62-yanWBe/blib/lib/Apache/ASP.pm line 2018.
Use of uninitialized value $rv in lc at /tmp/loop_over_bdir-MMhmja/Apache-ASP-2.62-yanWBe/blib/lib/Apache/ASP.pm line 2018.
Use of uninitialized value $rv in lc at /tmp/loop_over_bdir-MMhmja/Apache-ASP-2.62-yanWBe/blib/lib/Apache/ASP.pm line 2018.
Use of uninitialized value $rv in lc at /tmp/loop_over_bdir-MMhmja/Apache-ASP-2.62-yanWBe/blib/lib/Apache/ASP.pm line 2018.
Use of uninitialized value $rv in lc at /tmp/loop_over_bdir-MMhmja/Apache-ASP-2.62-yanWBe/blib/lib/Apache/ASP.pm line 2018.
Use of uninitialized value $rv in lc at /tmp/loop_over_bdir-MMhmja/Apache-ASP-2.62-yanWBe/blib/lib/Apache/ASP.pm line 2018.
Use of uninitialized value $rv in lc at /tmp/loop_over_bdir-MMhmja/Apache-ASP-2.62-yanWBe/blib/lib/Apache/ASP.pm line 2018.
Use of uninitialized value $rv in lc at /tmp/loop_over_bdir-MMhmja/Apache-ASP-2.62-yanWBe/blib/lib/Apache/ASP.pm line 2018.
Use of uninitialized value $rv in lc at /tmp/loop_over_bdir-MMhmja/Apache-ASP-2.62-yanWBe/blib/lib/Apache/ASP.pm line 2018.
Use of uninitialized value $rv in lc at /tmp/loop_over_bdir-MMhmja/Apache-ASP-2.62-yanWBe/blib/lib/Apache/ASP.pm line 2018.
t/server.t ............... ok
Use of uninitialized value $rv in lc at /tmp/loop_over_bdir-MMhmja/Apache-ASP-2.62-yanWBe/blib/lib/Apache/ASP.pm line 2018.
Use of uninitialized value $rv in lc at /tmp/loop_over_bdir-MMhmja/Apache-ASP-2.62-yanWBe/blib/lib/Apache/ASP.pm line 2018.
Use of uninitialized value $rv in lc at /tmp/loop_over_bdir-MMhmja/Apache-ASP-2.62-yanWBe/blib/lib/Apache/ASP.pm line 2018.
Use of uninitialized value $rv in lc at /tmp/loop_over_bdir-MMhmja/Apache-ASP-2.62-yanWBe/blib/lib/Apache/ASP.pm line 2018.
Use of uninitialized value $rv in lc at /tmp/loop_over_bdir-MMhmja/Apache-ASP-2.62-yanWBe/blib/lib/Apache/ASP.pm line 2018.
Use of uninitialized value $rv in lc at /tmp/loop_over_bdir-MMhmja/Apache-ASP-2.62-yanWBe/blib/lib/Apache/ASP.pm line 2018.
Use of uninitialized value $rv in lc at /tmp/loop_over_bdir-MMhmja/Apache-ASP-2.62-yanWBe/blib/lib/Apache/ASP.pm line 2018.
Use of uninitialized value $rv in lc at /tmp/loop_over_bdir-MMhmja/Apache-ASP-2.62-yanWBe/blib/lib/Apache/ASP.pm line 2018.
Use of uninitialized value $rv in lc at /tmp/loop_over_bdir-MMhmja/Apache-ASP-2.62-yanWBe/blib/lib/Apache/ASP.pm line 2018.
Use of uninitialized value $rv in lc at /tmp/loop_over_bdir-MMhmja/Apache-ASP-2.62-yanWBe/blib/lib/Apache/ASP.pm line 2018.
t/server_mail.t .......... ok
Use of uninitialized value $rv in lc at /tmp/loop_over_bdir-MMhmja/Apache-ASP-2.62-yanWBe/blib/lib/Apache/ASP.pm line 2018.
Use of uninitialized value $rv in lc at /tmp/loop_over_bdir-MMhmja/Apache-ASP-2.62-yanWBe/blib/lib/Apache/ASP.pm line 2018.
Use of uninitialized value $rv in lc at /tmp/loop_over_bdir-MMhmja/Apache-ASP-2.62-yanWBe/blib/lib/Apache/ASP.pm line 2018.
Use of uninitialized value $rv in lc at /tmp/loop_over_bdir-MMhmja/Apache-ASP-2.62-yanWBe/blib/lib/Apache/ASP.pm line 2018.
Use of uninitialized value $rv in lc at /tmp/loop_over_bdir-MMhmja/Apache-ASP-2.62-yanWBe/blib/lib/Apache/ASP.pm line 2018.
Use of uninitialized value $rv in lc at /tmp/loop_over_bdir-MMhmja/Apache-ASP-2.62-yanWBe/blib/lib/Apache/ASP.pm line 2018.
Use of uninitialized value $rv in lc at /tmp/loop_over_bdir-MMhmja/Apache-ASP-2.62-yanWBe/blib/lib/Apache/ASP.pm line 2018.
Use of uninitialized value $rv in lc at /tmp/loop_over_bdir-MMhmja/Apache-ASP-2.62-yanWBe/blib/lib/Apache/ASP.pm line 2018.
Use of uninitialized value $rv in lc at /tmp/loop_over_bdir-MMhmja/Apache-ASP-2.62-yanWBe/blib/lib/Apache/ASP.pm line 2018.
t/server_transfer.t ...... ok
Use of uninitialized value $rv in lc at /tmp/loop_over_bdir-MMhmja/Apache-ASP-2.62-yanWBe/blib/lib/Apache/ASP.pm line 2018.
Use of uninitialized value $rv in lc at /tmp/loop_over_bdir-MMhmja/Apache-ASP-2.62-yanWBe/blib/lib/Apache/ASP.pm line 2018.
Use of uninitialized value $rv in lc at /tmp/loop_over_bdir-MMhmja/Apache-ASP-2.62-yanWBe/blib/lib/Apache/ASP.pm line 2018.
Use of uninitialized value $rv in lc at /tmp/loop_over_bdir-MMhmja/Apache-ASP-2.62-yanWBe/blib/lib/Apache/ASP.pm line 2018.
Use of uninitialized value $rv in lc at /tmp/loop_over_bdir-MMhmja/Apache-ASP-2.62-yanWBe/blib/lib/Apache/ASP.pm line 2018.
Use of uninitialized value $rv in lc at /tmp/loop_over_bdir-MMhmja/Apache-ASP-2.62-yanWBe/blib/lib/Apache/ASP.pm line 2018.
Use of uninitialized value $rv in lc at /tmp/loop_over_bdir-MMhmja/Apache-ASP-2.62-yanWBe/blib/lib/Apache/ASP.pm line 2018.
Use of uninitialized value $rv in lc at /tmp/loop_over_bdir-MMhmja/Apache-ASP-2.62-yanWBe/blib/lib/Apache/ASP.pm line 2018.
Use of uninitialized value $rv in lc at /tmp/loop_over_bdir-MMhmja/Apache-ASP-2.62-yanWBe/blib/lib/Apache/ASP.pm line 2018.
Use of uninitialized value $rv in lc at /tmp/loop_over_bdir-MMhmja/Apache-ASP-2.62-yanWBe/blib/lib/Apache/ASP.pm line 2018.
Use of uninitialized value $rv in lc at /tmp/loop_over_bdir-MMhmja/Apache-ASP-2.62-yanWBe/blib/lib/Apache/ASP.pm line 2018.
t/session.t .............. ok
t/session_events.t ....... ok
Use of uninitialized value $rv in lc at /tmp/loop_over_bdir-MMhmja/Apache-ASP-2.62-yanWBe/blib/lib/Apache/ASP.pm line 2018.
Use of uninitialized value $rv in lc at /tmp/loop_over_bdir-MMhmja/Apache-ASP-2.62-yanWBe/blib/lib/Apache/ASP.pm line 2018.
Use of uninitialized value $rv in lc at /tmp/loop_over_bdir-MMhmja/Apache-ASP-2.62-yanWBe/blib/lib/Apache/ASP.pm line 2018.
Use of uninitialized value $rv in lc at /tmp/loop_over_bdir-MMhmja/Apache-ASP-2.62-yanWBe/blib/lib/Apache/ASP.pm line 2018.
Use of uninitialized value $rv in lc at /tmp/loop_over_bdir-MMhmja/Apache-ASP-2.62-yanWBe/blib/lib/Apache/ASP.pm line 2018.
Use of uninitialized value $rv in lc at /tmp/loop_over_bdir-MMhmja/Apache-ASP-2.62-yanWBe/blib/lib/Apache/ASP.pm line 2018.
Use of uninitialized value $rv in lc at /tmp/loop_over_bdir-MMhmja/Apache-ASP-2.62-yanWBe/blib/lib/Apache/ASP.pm line 2018.
Use of uninitialized value $rv in lc at /tmp/loop_over_bdir-MMhmja/Apache-ASP-2.62-yanWBe/blib/lib/Apache/ASP.pm line 2018.
Use of uninitialized value $rv in lc at /tmp/loop_over_bdir-MMhmja/Apache-ASP-2.62-yanWBe/blib/lib/Apache/ASP.pm line 2018.
t/session_query_parse.t .. ok
Use of uninitialized value $rv in lc at /tmp/loop_over_bdir-MMhmja/Apache-ASP-2.62-yanWBe/blib/lib/Apache/ASP.pm line 2018.
Use of uninitialized value $rv in lc at /tmp/loop_over_bdir-MMhmja/Apache-ASP-2.62-yanWBe/blib/lib/Apache/ASP.pm line 2018.
Use of uninitialized value $rv in lc at /tmp/loop_over_bdir-MMhmja/Apache-ASP-2.62-yanWBe/blib/lib/Apache/ASP.pm line 2018.
Use of uninitialized value $rv in lc at /tmp/loop_over_bdir-MMhmja/Apache-ASP-2.62-yanWBe/blib/lib/Apache/ASP.pm line 2018.
Use of uninitialized value $rv in lc at /tmp/loop_over_bdir-MMhmja/Apache-ASP-2.62-yanWBe/blib/lib/Apache/ASP.pm line 2018.
Use of uninitialized value $rv in lc at /tmp/loop_over_bdir-MMhmja/Apache-ASP-2.62-yanWBe/blib/lib/Apache/ASP.pm line 2018.
Use of uninitialized value $rv in lc at /tmp/loop_over_bdir-MMhmja/Apache-ASP-2.62-yanWBe/blib/lib/Apache/ASP.pm line 2018.
Use of uninitialized value $rv in lc at /tmp/loop_over_bdir-MMhmja/Apache-ASP-2.62-yanWBe/blib/lib/Apache/ASP.pm line 2018.
Use of uninitialized value $rv in lc at /tmp/loop_over_bdir-MMhmja/Apache-ASP-2.62-yanWBe/blib/lib/Apache/ASP.pm line 2018.
Use of uninitialized value $rv in lc at /tmp/loop_over_bdir-MMhmja/Apache-ASP-2.62-yanWBe/blib/lib/Apache/ASP.pm line 2018.
Use of uninitialized value $rv in lc at /tmp/loop_over_bdir-MMhmja/Apache-ASP-2.62-yanWBe/blib/lib/Apache/ASP.pm line 2018.
t/session_serialize.t .... ok
Use of uninitialized value $rv in lc at /tmp/loop_over_bdir-MMhmja/Apache-ASP-2.62-yanWBe/blib/lib/Apache/ASP.pm line 2018.
Use of uninitialized value $rv in lc at /tmp/loop_over_bdir-MMhmja/Apache-ASP-2.62-yanWBe/blib/lib/Apache/ASP.pm line 2018.
Use of uninitialized value $rv in lc at /tmp/loop_over_bdir-MMhmja/Apache-ASP-2.62-yanWBe/blib/lib/Apache/ASP.pm line 2018.
Use of uninitialized value $rv in lc at /tmp/loop_over_bdir-MMhmja/Apache-ASP-2.62-yanWBe/blib/lib/Apache/ASP.pm line 2018.
Use of uninitialized value $rv in lc at /tmp/loop_over_bdir-MMhmja/Apache-ASP-2.62-yanWBe/blib/lib/Apache/ASP.pm line 2018.
Use of uninitialized value $rv in lc at /tmp/loop_over_bdir-MMhmja/Apache-ASP-2.62-yanWBe/blib/lib/Apache/ASP.pm line 2018.
Use of uninitialized value $rv in lc at /tmp/loop_over_bdir-MMhmja/Apache-ASP-2.62-yanWBe/blib/lib/Apache/ASP.pm line 2018.
Use of uninitialized value $rv in lc at /tmp/loop_over_bdir-MMhmja/Apache-ASP-2.62-yanWBe/blib/lib/Apache/ASP.pm line 2018.
Use of uninitialized value $rv in lc at /tmp/loop_over_bdir-MMhmja/Apache-ASP-2.62-yanWBe/blib/lib/Apache/ASP.pm line 2018.
Use of uninitialized value $rv in lc at /tmp/loop_over_bdir-MMhmja/Apache-ASP-2.62-yanWBe/blib/lib/Apache/ASP.pm line 2018.
Use of uninitialized value $rv in lc at /tmp/loop_over_bdir-MMhmja/Apache-ASP-2.62-yanWBe/blib/lib/Apache/ASP.pm line 2018.
t/share.t ................ ok
Use of uninitialized value $rv in lc at /tmp/loop_over_bdir-MMhmja/Apache-ASP-2.62-yanWBe/blib/lib/Apache/ASP.pm line 2018.
Use of uninitialized value $rv in lc at /tmp/loop_over_bdir-MMhmja/Apache-ASP-2.62-yanWBe/blib/lib/Apache/ASP.pm line 2018.
Use of uninitialized value $rv in lc at /tmp/loop_over_bdir-MMhmja/Apache-ASP-2.62-yanWBe/blib/lib/Apache/ASP.pm line 2018.
Use of uninitialized value $rv in lc at /tmp/loop_over_bdir-MMhmja/Apache-ASP-2.62-yanWBe/blib/lib/Apache/ASP.pm line 2018.
Use of uninitialized value $rv in lc at /tmp/loop_over_bdir-MMhmja/Apache-ASP-2.62-yanWBe/blib/lib/Apache/ASP.pm line 2018.
Use of uninitialized value $rv in lc at /tmp/loop_over_bdir-MMhmja/Apache-ASP-2.62-yanWBe/blib/lib/Apache/ASP.pm line 2018.
Use of uninitialized value $rv in lc at /tmp/loop_over_bdir-MMhmja/Apache-ASP-2.62-yanWBe/blib/lib/Apache/ASP.pm line 2018.
Use of uninitialized value $rv in lc at /tmp/loop_over_bdir-MMhmja/Apache-ASP-2.62-yanWBe/blib/lib/Apache/ASP.pm line 2018.
Use of uninitialized value $rv in lc at /tmp/loop_over_bdir-MMhmja/Apache-ASP-2.62-yanWBe/blib/lib/Apache/ASP.pm line 2018.
Use of uninitialized value $rv in lc at /tmp/loop_over_bdir-MMhmja/Apache-ASP-2.62-yanWBe/blib/lib/Apache/ASP.pm line 2018.
t/stat_inc.t ............. ok
Use of uninitialized value $rv in lc at /tmp/loop_over_bdir-MMhmja/Apache-ASP-2.62-yanWBe/blib/lib/Apache/ASP.pm line 2018.
Use of uninitialized value $rv in lc at /tmp/loop_over_bdir-MMhmja/Apache-ASP-2.62-yanWBe/blib/lib/Apache/ASP.pm line 2018.
Use of uninitialized value $rv in lc at /tmp/loop_over_bdir-MMhmja/Apache-ASP-2.62-yanWBe/blib/lib/Apache/ASP.pm line 2018.
Use of uninitialized value $rv in lc at /tmp/loop_over_bdir-MMhmja/Apache-ASP-2.62-yanWBe/blib/lib/Apache/ASP.pm line 2018.
Use of uninitialized value $rv in lc at /tmp/loop_over_bdir-MMhmja/Apache-ASP-2.62-yanWBe/blib/lib/Apache/ASP.pm line 2018.
Use of uninitialized value $rv in lc at /tmp/loop_over_bdir-MMhmja/Apache-ASP-2.62-yanWBe/blib/lib/Apache/ASP.pm line 2018.
Use of uninitialized value $rv in lc at /tmp/loop_over_bdir-MMhmja/Apache-ASP-2.62-yanWBe/blib/lib/Apache/ASP.pm line 2018.
Use of uninitialized value $rv in lc at /tmp/loop_over_bdir-MMhmja/Apache-ASP-2.62-yanWBe/blib/lib/Apache/ASP.pm line 2018.
Use of uninitialized value $rv in lc at /tmp/loop_over_bdir-MMhmja/Apache-ASP-2.62-yanWBe/blib/lib/Apache/ASP.pm line 2018.
t/strict_error.t ......... ok
Use of uninitialized value $rv in lc at blib/lib/Apache/ASP.pm line 2018.
Use of uninitialized value $rv in lc at blib/lib/Apache/ASP.pm line 2018.
Use of uninitialized value $rv in lc at blib/lib/Apache/ASP.pm line 2018.
Use of uninitialized value $rv in lc at blib/lib/Apache/ASP.pm line 2018.
Use of uninitialized value $rv in lc at blib/lib/Apache/ASP.pm line 2018.
Use of uninitialized value $rv in lc at blib/lib/Apache/ASP.pm line 2018.
Use of uninitialized value $rv in lc at blib/lib/Apache/ASP.pm line 2018.
Use of uninitialized value $rv in lc at blib/lib/Apache/ASP.pm line 2018.
Use of uninitialized value $rv in lc at blib/lib/Apache/ASP.pm line 2018.
Use of uninitialized value $rv in lc at blib/lib/Apache/ASP.pm line 2018.
Use of uninitialized value $rv in lc at blib/lib/Apache/ASP.pm line 2018.
t/taint_check.t .......... ok
Use of uninitialized value $rv in lc at /tmp/loop_over_bdir-MMhmja/Apache-ASP-2.62-yanWBe/blib/lib/Apache/ASP.pm line 2018.
Use of uninitialized value $rv in lc at /tmp/loop_over_bdir-MMhmja/Apache-ASP-2.62-yanWBe/blib/lib/Apache/ASP.pm line 2018.
Use of uninitialized value $rv in lc at /tmp/loop_over_bdir-MMhmja/Apache-ASP-2.62-yanWBe/blib/lib/Apache/ASP.pm line 2018.
Use of uninitialized value $rv in lc at /tmp/loop_over_bdir-MMhmja/Apache-ASP-2.62-yanWBe/blib/lib/Apache/ASP.pm line 2018.
Use of uninitialized value $rv in lc at /tmp/loop_over_bdir-MMhmja/Apache-ASP-2.62-yanWBe/blib/lib/Apache/ASP.pm line 2018.
Use of uninitialized value $rv in lc at /tmp/loop_over_bdir-MMhmja/Apache-ASP-2.62-yanWBe/blib/lib/Apache/ASP.pm line 2018.
Use of uninitialized value $rv in lc at /tmp/loop_over_bdir-MMhmja/Apache-ASP-2.62-yanWBe/blib/lib/Apache/ASP.pm line 2018.
Use of uninitialized value $rv in lc at /tmp/loop_over_bdir-MMhmja/Apache-ASP-2.62-yanWBe/blib/lib/Apache/ASP.pm line 2018.
t/unique_packages.t ...... ok
Use of uninitialized value $rv in lc at /tmp/loop_over_bdir-MMhmja/Apache-ASP-2.62-yanWBe/blib/lib/Apache/ASP.pm line 2018.
Use of uninitialized value $rv in lc at /tmp/loop_over_bdir-MMhmja/Apache-ASP-2.62-yanWBe/blib/lib/Apache/ASP.pm line 2018.
Use of uninitialized value $rv in lc at /tmp/loop_over_bdir-MMhmja/Apache-ASP-2.62-yanWBe/blib/lib/Apache/ASP.pm line 2018.
Use of uninitialized value $rv in lc at /tmp/loop_over_bdir-MMhmja/Apache-ASP-2.62-yanWBe/blib/lib/Apache/ASP.pm line 2018.
Use of uninitialized value $rv in lc at /tmp/loop_over_bdir-MMhmja/Apache-ASP-2.62-yanWBe/blib/lib/Apache/ASP.pm line 2018.
Use of uninitialized value $rv in lc at /tmp/loop_over_bdir-MMhmja/Apache-ASP-2.62-yanWBe/blib/lib/Apache/ASP.pm line 2018.
Use of uninitialized value $rv in lc at /tmp/loop_over_bdir-MMhmja/Apache-ASP-2.62-yanWBe/blib/lib/Apache/ASP.pm line 2018.
Use of uninitialized value $rv in lc at /tmp/loop_over_bdir-MMhmja/Apache-ASP-2.62-yanWBe/blib/lib/Apache/ASP.pm line 2018.
Use of uninitialized value $rv in lc at /tmp/loop_over_bdir-MMhmja/Apache-ASP-2.62-yanWBe/blib/lib/Apache/ASP.pm line 2018.
t/xmlsubs.t .............. ok
Use of uninitialized value $rv in lc at /tmp/loop_over_bdir-MMhmja/Apache-ASP-2.62-yanWBe/blib/lib/Apache/ASP.pm line 2018.
Use of uninitialized value $rv in lc at /tmp/loop_over_bdir-MMhmja/Apache-ASP-2.62-yanWBe/blib/lib/Apache/ASP.pm line 2018.
Use of uninitialized value $rv in lc at /tmp/loop_over_bdir-MMhmja/Apache-ASP-2.62-yanWBe/blib/lib/Apache/ASP.pm line 2018.
Use of uninitialized value $rv in lc at /tmp/loop_over_bdir-MMhmja/Apache-ASP-2.62-yanWBe/blib/lib/Apache/ASP.pm line 2018.
Use of uninitialized value $rv in lc at /tmp/loop_over_bdir-MMhmja/Apache-ASP-2.62-yanWBe/blib/lib/Apache/ASP.pm line 2018.
Use of uninitialized value $rv in lc at /tmp/loop_over_bdir-MMhmja/Apache-ASP-2.62-yanWBe/blib/lib/Apache/ASP.pm line 2018.
Use of uninitialized value $rv in lc at /tmp/loop_over_bdir-MMhmja/Apache-ASP-2.62-yanWBe/blib/lib/Apache/ASP.pm line 2018.
Use of uninitialized value $rv in lc at /tmp/loop_over_bdir-MMhmja/Apache-ASP-2.62-yanWBe/blib/lib/Apache/ASP.pm line 2018.
Use of uninitialized value $rv in lc at /tmp/loop_over_bdir-MMhmja/Apache-ASP-2.62-yanWBe/blib/lib/Apache/ASP.pm line 2018.
t/xmlsubs_aspargs.t ...... ok
Use of uninitialized value $rv in lc at /tmp/loop_over_bdir-MMhmja/Apache-ASP-2.62-yanWBe/blib/lib/Apache/ASP.pm line 2018.
Use of uninitialized value $rv in lc at /tmp/loop_over_bdir-MMhmja/Apache-ASP-2.62-yanWBe/blib/lib/Apache/ASP.pm line 2018.
Use of uninitialized value $rv in lc at /tmp/loop_over_bdir-MMhmja/Apache-ASP-2.62-yanWBe/blib/lib/Apache/ASP.pm line 2018.
Use of uninitialized value $rv in lc at /tmp/loop_over_bdir-MMhmja/Apache-ASP-2.62-yanWBe/blib/lib/Apache/ASP.pm line 2018.
Use of uninitialized value $rv in lc at /tmp/loop_over_bdir-MMhmja/Apache-ASP-2.62-yanWBe/blib/lib/Apache/ASP.pm line 2018.
Use of uninitialized value $rv in lc at /tmp/loop_over_bdir-MMhmja/Apache-ASP-2.62-yanWBe/blib/lib/Apache/ASP.pm line 2018.
Use of uninitialized value $rv in lc at /tmp/loop_over_bdir-MMhmja/Apache-ASP-2.62-yanWBe/blib/lib/Apache/ASP.pm line 2018.
Use of uninitialized value $rv in lc at /tmp/loop_over_bdir-MMhmja/Apache-ASP-2.62-yanWBe/blib/lib/Apache/ASP.pm line 2018.
Use of uninitialized value $rv in lc at /tmp/loop_over_bdir-MMhmja/Apache-ASP-2.62-yanWBe/blib/lib/Apache/ASP.pm line 2018.
t/xmlsubs_perlargs.t ..... ok
Use of uninitialized value $rv in lc at /tmp/loop_over_bdir-MMhmja/Apache-ASP-2.62-yanWBe/blib/lib/Apache/ASP.pm line 2018.
Use of uninitialized value $rv in lc at /tmp/loop_over_bdir-MMhmja/Apache-ASP-2.62-yanWBe/blib/lib/Apache/ASP.pm line 2018.
Use of uninitialized value $rv in lc at /tmp/loop_over_bdir-MMhmja/Apache-ASP-2.62-yanWBe/blib/lib/Apache/ASP.pm line 2018.
Use of uninitialized value $rv in lc at /tmp/loop_over_bdir-MMhmja/Apache-ASP-2.62-yanWBe/blib/lib/Apache/ASP.pm line 2018.
Use of uninitialized value $rv in lc at /tmp/loop_over_bdir-MMhmja/Apache-ASP-2.62-yanWBe/blib/lib/Apache/ASP.pm line 2018.
Use of uninitialized value $rv in lc at /tmp/loop_over_bdir-MMhmja/Apache-ASP-2.62-yanWBe/blib/lib/Apache/ASP.pm line 2018.
Use of uninitialized value $rv in lc at /tmp/loop_over_bdir-MMhmja/Apache-ASP-2.62-yanWBe/blib/lib/Apache/ASP.pm line 2018.
Use of uninitialized value $rv in lc at /tmp/loop_over_bdir-MMhmja/Apache-ASP-2.62-yanWBe/blib/lib/Apache/ASP.pm line 2018.
Use of uninitialized value $rv in lc at /tmp/loop_over_bdir-MMhmja/Apache-ASP-2.62-yanWBe/blib/lib/Apache/ASP.pm line 2018.
Use of uninitialized value $rv in lc at /tmp/loop_over_bdir-MMhmja/Apache-ASP-2.62-yanWBe/blib/lib/Apache/ASP.pm line 2018.
t/xmlsubsmatch.t ......... ok
All tests successful.
Files=47, Tests=341, 8 wallclock secs ( 0.14 usr 0.04 sys + 3.30 cusr 0.42 csys = 3.90 CPU)
Result: PASS
------------------------------
PREREQUISITES
------------------------------
Prerequisite modules loaded:
requires:
Module Need Have
------------------- ---- -------
Carp 0 1.23
Class::Struct 0 0.63
Data::Dumper 0 2.134
Digest::MD5 0 2.51
Fcntl 0 1.11
File::Basename 0 2.83
MLDBM 0 2.04
MLDBM::Sync 0 0.30
SDBM_File 0 1.09
build_requires:
Module Need Have
------------------- ---- -------
ExtUtils::MakeMaker 0 6.61_01
------------------------------
ENVIRONMENT AND OTHER CONTEXT
------------------------------
Environment variables:
AUTOMATED_TESTING = 1
LANG = en_US.UTF-8
LANGUAGE = en_US:en
PATH = /home/sand/bin:/usr/local/bin:/usr/bin:/bin:/usr/bin/X11:/usr/games:/usr/local/perl/bin:/usr/X11/bin:/sbin:/usr/sbin
PERL5LIB =
PERL5OPT =
PERL5_CPANPLUS_IS_RUNNING = 8959
PERL5_CPAN_IS_RUNNING = 8959
PERL_MM_USE_DEFAULT = 1
SHELL = /usr/bin/zsh
TERM = screen
Perl special variables (and OS-specific diagnostics, for MSWin32):
$^X = /home/sand/src/perl/repoperls/installed-perls/perl/v5.15.3-305-gc59e8fd/2b65/bin/perl
$UID/$EUID = 1005 / 1005
$GID = 1005 1005
$EGID = 1005 1005
Perl module toolchain versions installed:
Module Have
------------------- --------
CPAN 1.9800
Cwd 3.37
ExtUtils::CBuilder 0.280204
ExtUtils::Command 1.17
ExtUtils::Install 1.57
ExtUtils::MakeMaker 6.61_01
ExtUtils::Manifest 1.60
ExtUtils::ParseXS 3.05
File::Spec 3.34
Module::Build 0.39_01
Module::Signature 0.68
Test::Harness 3.23
Test::More 0.98
YAML 0.77
YAML::Syck n/a
version 0.94
--
Summary of my perl5 (revision 5 version 15 subversion 3) configuration:
Commit id: c59e8fd6cb9af2505341139f9db1a5cc579b9c0f
Platform:
osname=linux, osvers=2.6.32-5-amd64, archname=x86_64-linux-ld
uname='linux k83 2.6.32-5-amd64 #1 smp tue jun 14 09:42:28 utc 2011 x86_64 gnulinux '
config_args='-Dprefix=/home/src/perl/repoperls/installed-perls/perl/v5.15.3-305-gc59e8fd/2b65 -Dinstallusrbinperl=n -Uversiononly -Dusedevel -des -Ui_db -Uuseithreads -Duselongdouble -DDEBUGGING=-g'
hint=recommended, useposix=true, d_sigaction=define
useithreads=undef, usemultiplicity=undef
useperlio=define, d_sfio=undef, uselargefiles=define, usesocks=undef
use64bitint=define, use64bitall=define, uselongdouble=define
usemymalloc=n, bincompat5005=undef
Compiler:
cc='cc', ccflags ='-fno-strict-aliasing -pipe -fstack-protector -I/usr/local/include -D_LARGEFILE_SOURCE -D_FILE_OFFSET_BITS=64',
optimize='-O2 -g',
cppflags='-fno-strict-aliasing -pipe -fstack-protector -I/usr/local/include'
ccversion='', gccversion='4.4.5', gccosandvers=''
intsize=4, longsize=8, ptrsize=8, doublesize=8, byteorder=12345678
d_longlong=define, longlongsize=8, d_longdbl=define, longdblsize=16
ivtype='long', ivsize=8, nvtype='long double', nvsize=16, Off_t='off_t', lseeksize=8
alignbytes=16, prototype=define
Linker and Libraries:
ld='cc', ldflags =' -fstack-protector -L/usr/local/lib'
libpth=/usr/local/lib /lib/../lib /usr/lib/../lib /lib /usr/lib /lib64 /usr/lib64
libs=-lnsl -ldl -lm -lcrypt -lutil -lc
perllibs=-lnsl -ldl -lm -lcrypt -lutil -lc
libc=/lib/libc-2.11.2.so, so=so, useshrplib=false, libperl=libperl.a
gnulibc_version='2.11.2'
Dynamic Linking:
dlsrc=dl_dlopen.xs, dlext=so, d_dlsymun=undef, ccdlflags='-Wl,-E'
cccdlflags='-fPIC', lddlflags='-shared -O2 -g -L/usr/local/lib -fstack-protector'
Characteristics of this binary (from libperl):
Compile-time options: HAS_TIMES PERLIO_LAYERS PERL_DONT_CREATE_GVSV
PERL_MALLOC_WRAP PERL_PRESERVE_IVUV PERL_USE_DEVEL
USE_64_BIT_ALL USE_64_BIT_INT USE_LARGE_FILES
USE_LOCALE USE_LOCALE_COLLATE USE_LOCALE_CTYPE
USE_LOCALE_NUMERIC USE_LONG_DOUBLE USE_PERLIO
USE_PERL_ATOF
Built under linux
Compiled at Oct 7 2011 20:43:28
%ENV:
PERL5LIB=""
PERL5OPT=""
PERL5_CPANPLUS_IS_RUNNING="8959"
PERL5_CPAN_IS_RUNNING="8959"
PERL_MM_USE_DEFAULT="1"
@INC:
/home/src/perl/repoperls/installed-perls/perl/v5.15.3-305-gc59e8fd/2b65/lib/site_perl/5.15.3/x86_64-linux-ld
/home/src/perl/repoperls/installed-perls/perl/v5.15.3-305-gc59e8fd/2b65/lib/site_perl/5.15.3
/home/src/perl/repoperls/installed-perls/perl/v5.15.3-305-gc59e8fd/2b65/lib/5.15.3/x86_64-linux-ld
/home/src/perl/repoperls/installed-perls/perl/v5.15.3-305-gc59e8fd/2b65/lib/5.15.3
.