Crypt-OpenSSL-RSA v0.30 Perl 5 v5.24.4 x86_64-dragonfly-thread-multi-ld

Status
Pass
From
Nigel Horne
Dist
Crypt-OpenSSL-RSA v0.30
Platform
Perl 5 v5.24.4 x86_64-dragonfly-thread-multi-ld
Date
2018-05-25 23:01:54
ID
9df4e744-606f-11e8-8fb1-ef5133556b3f
This distribution has been tested as part of the CPAN Testers
project, supporting the Perl programming language.  See
http://wiki.cpantesters.org/ for more information or email
questions to cpan-testers-discuss@perl.org


--
Dear Todd Rinaldo,

This is a computer-generated report for Crypt-OpenSSL-RSA-0.30
on perl 5.24.4, created by CPAN-Reporter-1.2018.

Thank you for uploading your work to CPAN.  Congratulations!
All tests were successful.

Sections of this report:

    * Tester comments
    * Program output
    * Prerequisites
    * Environment and other context

------------------------------
TESTER COMMENTS
------------------------------

Additional comments from tester:

this report is from an automated smoke testing program
and was not reviewed by a human for accuracy

------------------------------
PROGRAM OUTPUT
------------------------------

Output from '/usr/bin/make test':

Running Mkbootstrap for Crypt::OpenSSL::RSA ()
chmod 644 "RSA.bs"
PERL_DL_NONLAZY=1 "/home/njh/perl5/perlbrew/perls/perl-5.24.4-thread-multi-ld/bin/perl5.24.4" "-MExtUtils::Command::MM" "-MTest::Harness" "-e" "undef *Test::Harness::Switches; test_harness(0, 'blib/lib', 'blib/arch')" t/*.t
t/bignum.t .................. skipped: Crypt::OpenSSL::Bignum required for bignum tests
t/format.t .................. ok
t/rsa.t ..................... ok
t/z_kwalitee.t .............. skipped: This test is only run for the module author
t/z_meta.t .................. skipped: This test is only run for the module author
t/z_perl_minimum_version.t .. skipped: Author tests not required for installation
t/z_pod-coverage.t .......... skipped: This test is only run for the module author
t/z_pod.t ................... skipped: This test is only run for the module author
All tests successful.
Files=8, Tests=73,  1 wallclock secs ( 0.08 usr  0.09 sys +  0.49 cusr  0.19 csys =  0.85 CPU)
Result: PASS

------------------------------
PREREQUISITES
------------------------------

Prerequisite modules loaded:

requires:

    Module                 Need  Have    
    ---------------------- ----- --------
    Crypt::OpenSSL::Random 0     0.15    
    perl                   5.006 5.024004
    Test::More             0     1.001014

build_requires:

    Module                 Need  Have    
    ---------------------- ----- --------
    ExtUtils::MakeMaker    0     7.10_02 

configure_requires:

    Module                 Need  Have    
    ---------------------- ----- --------
    Crypt::OpenSSL::Guess  0.11  0.11    
    ExtUtils::MakeMaker    0     7.10_02 


------------------------------
ENVIRONMENT AND OTHER CONTEXT
------------------------------

Environment variables:

    AUTOMATED_TESTING = 1
    PATH = /home/njh/perl5/perlbrew/bin:/home/njh/perl5/perlbrew/perls/perl-5.24.4-thread-multi-ld/bin:src/njh/smoker/bin:/bin:/sbin:/usr/bin:/usr/sbin:/usr/local/bin:/usr/local/sbin:/usr/pkg/bin:/usr/pkg/sbin
    PERL5LIB = /home/njh/.cpan/build/Crypt-OpenSSL-Random-0.15-lKf0bP/blib/arch:/home/njh/.cpan/build/Crypt-OpenSSL-Random-0.15-lKf0bP/blib/lib:/home/njh/.cpan/build/Crypt-OpenSSL-Guess-0.11-DBozF4/blib/arch:/home/njh/.cpan/build/Crypt-OpenSSL-Guess-0.11-DBozF4/blib/lib:/home/njh/.cpan/build/Mail-AuthenticationResults-1.20180518-MjtiGC/blib/arch:/home/njh/.cpan/build/Mail-AuthenticationResults-1.20180518-MjtiGC/blib/lib:/home/njh/.cpan/build/Net-DNS-Resolver-Mock-1.20171219-Cv5wOo/blib/arch:/home/njh/.cpan/build/Net-DNS-Resolver-Mock-1.20171219-Cv5wOo/blib/lib:/home/njh/.cpan/build/Net-DNS-1.15-vW_ohk/blib/arch:/home/njh/.cpan/build/Net-DNS-1.15-vW_ohk/blib/lib:/home/njh/.cpan/build/Digest-HMAC-1.03-PtjPwh/blib/arch:/home/njh/.cpan/build/Digest-HMAC-1.03-PtjPwh/blib/lib:/home/njh/.cpan/build/Email-Simple-2.214-TTrkXW/blib/arch:/home/njh/.cpan/build/Email-Simple-2.214-TTrkXW/blib/lib:/home/njh/.cpan/build/Email-Date-Format-1.005-my6yUZ/blib/arch:/home/njh/.cpan/build/Email-Date-Format-1.005-my6yUZ/blib/lib:/home/njh/.cpan/build/File-ShareDir-Install-0.13-2z61MC/blib/arch:/home/njh/.cpan/build/File-ShareDir-Install-0.13-2z61MC/blib/lib
    PERL5OPT = 
    PERL5_CPANPLUS_IS_RUNNING = 183209
    PERL5_CPAN_IS_RUNNING = 183209
    PERLBREW_HOME = /home/njh/.perlbrew
    PERLBREW_MANPATH = /home/njh/perl5/perlbrew/perls/perl-5.24.4-thread-multi-ld/man
    PERLBREW_PATH = /home/njh/perl5/perlbrew/bin:/home/njh/perl5/perlbrew/perls/perl-5.24.4-thread-multi-ld/bin
    PERLBREW_PERL = perl-5.24.4-thread-multi-ld
    PERLBREW_ROOT = /home/njh/perl5/perlbrew
    PERLBREW_SHELLRC_VERSION = 0.82
    PERLBREW_VERSION = 0.82
    SHELL = /bin/sh
    TMPDIR = /tmp/testwrapper.183199

Perl special variables (and OS-specific diagnostics, for MSWin32):

    $^X = /home/njh/perl5/perlbrew/perls/perl-5.24.4-thread-multi-ld/bin/perl5.24.4
    $UID/$EUID = 1001 / 1001
    $GID = 1001 1001 0
    $EGID = 1001 1001 0

Perl module toolchain versions installed:

    Module              Have      
    ------------------- ----------
    CPAN                2.11_01   
    CPAN::Meta          2.150005  
    Cwd                 3.63_01   
    ExtUtils::CBuilder  0.280225  
    ExtUtils::Command   7.10_02   
    ExtUtils::Install   2.04      
    ExtUtils::MakeMaker 7.10_02   
    ExtUtils::Manifest  1.70      
    ExtUtils::ParseXS   3.31      
    File::Spec          3.63_01   
    JSON                n/a       
    JSON::PP            2.27300_01
    Module::Build       0.4224    
    Module::Signature   n/a       
    Parse::CPAN::Meta   1.4417_001
    Test::Harness       3.36_01   
    Test::More          1.001014  
    YAML                1.24      
    YAML::Syck          n/a       
    version             0.9916    


--

Summary of my perl5 (revision 5 version 24 subversion 4) configuration:
   
  Platform:
    osname=dragonfly, osvers=5.0-release, archname=x86_64-dragonfly-thread-multi-ld
    uname='dragonfly david.bandsman.co.uk 5.0-release dragonfly v5.0.2-release #4: sun dec 3 17:42:25 est 2017 root@www.shiningsilence.com:usrobjhomejustinrelease5_0sysx86_64_generic x86_64 '
    config_args='-de -Dprefix=/home/njh/perl5/perlbrew/perls/perl-5.24.4-thread-multi-ld -Dusedevel -Duselongdouble -Dusemultiplicity -Dusethreads -Accflags= -Aeval:scriptdir=/home/njh/perl5/perlbrew/perls/perl-5.24.4-thread-multi-ld/bin'
    hint=recommended, useposix=true, d_sigaction=define
    useithreads=define, usemultiplicity=define
    use64bitint=define, use64bitall=define, uselongdouble=define
    usemymalloc=n, bincompat5005=undef
  Compiler:
    cc='cc', ccflags ='-DHAS_FPSETMASK -DHAS_FLOATINGPOINT_H -fwrapv -fno-strict-aliasing -pipe -fstack-protector-strong -I/usr/local/include -D_FORTIFY_SOURCE=2',
    optimize='-O',
    cppflags='-DHAS_FPSETMASK -DHAS_FLOATINGPOINT_H -fwrapv -fno-strict-aliasing -pipe -fstack-protector-strong -I/usr/local/include'
    ccversion='', gccversion='5.4.1 [DragonFly] Release/2016-08-27', gccosandvers=''
    intsize=4, longsize=8, ptrsize=8, doublesize=8, byteorder=12345678, doublekind=3
    d_longlong=define, longlongsize=8, d_longdbl=define, longdblsize=16, longdblkind=3
    ivtype='long', ivsize=8, nvtype='long double', nvsize=16, Off_t='off_t', lseeksize=8
    alignbytes=16, prototype=define
  Linker and Libraries:
    ld='cc', ldflags ='-pthread -Wl,-E  -fstack-protector-strong -L/usr/local/lib'
    libpth=/usr/lib /usr/local/lib /usr/lib
    libs=-lpthread -ldl -lm -lcrypt -lutil -lc
    perllibs=-lpthread -ldl -lm -lcrypt -lutil -lc
    libc=, so=so, useshrplib=false, libperl=libperl.a
    gnulibc_version=''
  Dynamic Linking:
    dlsrc=dl_dlopen.xs, dlext=so, d_dlsymun=undef, ccdlflags=' '
    cccdlflags='-DPIC -fPIC', lddlflags='-shared  -L/usr/local/lib -fstack-protector-strong'


Characteristics of this binary (from libperl): 
  Compile-time options: HAS_TIMES MULTIPLICITY PERLIO_LAYERS
                        PERL_COPY_ON_WRITE PERL_DONT_CREATE_GVSV
                        PERL_HASH_FUNC_ONE_AT_A_TIME_HARD
                        PERL_IMPLICIT_CONTEXT PERL_MALLOC_WRAP
                        PERL_PRESERVE_IVUV PERL_USE_DEVEL USE_64_BIT_ALL
                        USE_64_BIT_INT USE_ITHREADS USE_LARGE_FILES
                        USE_LOCALE USE_LOCALE_COLLATE USE_LOCALE_CTYPE
                        USE_LOCALE_NUMERIC USE_LOCALE_TIME USE_LONG_DOUBLE
                        USE_PERLIO USE_PERL_ATOF USE_REENTRANT_API
  Locally applied patches:
	Devel::PatchPerl 1.48
  Built under dragonfly
  Compiled at May  4 2018 01:22:21
  %ENV:
    PERL5LIB="/home/njh/.cpan/build/Crypt-OpenSSL-Random-0.15-lKf0bP/blib/arch:/home/njh/.cpan/build/Crypt-OpenSSL-Random-0.15-lKf0bP/blib/lib:/home/njh/.cpan/build/Crypt-OpenSSL-Guess-0.11-DBozF4/blib/arch:/home/njh/.cpan/build/Crypt-OpenSSL-Guess-0.11-DBozF4/blib/lib:/home/njh/.cpan/build/Mail-AuthenticationResults-1.20180518-MjtiGC/blib/arch:/home/njh/.cpan/build/Mail-AuthenticationResults-1.20180518-MjtiGC/blib/lib:/home/njh/.cpan/build/Net-DNS-Resolver-Mock-1.20171219-Cv5wOo/blib/arch:/home/njh/.cpan/build/Net-DNS-Resolver-Mock-1.20171219-Cv5wOo/blib/lib:/home/njh/.cpan/build/Net-DNS-1.15-vW_ohk/blib/arch:/home/njh/.cpan/build/Net-DNS-1.15-vW_ohk/blib/lib:/home/njh/.cpan/build/Digest-HMAC-1.03-PtjPwh/blib/arch:/home/njh/.cpan/build/Digest-HMAC-1.03-PtjPwh/blib/lib:/home/njh/.cpan/build/Email-Simple-2.214-TTrkXW/blib/arch:/home/njh/.cpan/build/Email-Simple-2.214-TTrkXW/blib/lib:/home/njh/.cpan/build/Email-Date-Format-1.005-my6yUZ/blib/arch:/home/njh/.cpan/build/Email-Date-Format-1.005-my6yUZ/blib/lib:/home/njh/.cpan/build/File-ShareDir-Install-0.13-2z61MC/blib/arch:/home/njh/.cpan/build/File-ShareDir-Install-0.13-2z61MC/blib/lib"
    PERL5OPT=""
    PERL5_CPANPLUS_IS_RUNNING="183209"
    PERL5_CPAN_IS_RUNNING="183209"
    PERLBREW_HOME="/home/njh/.perlbrew"
    PERLBREW_MANPATH="/home/njh/perl5/perlbrew/perls/perl-5.24.4-thread-multi-ld/man"
    PERLBREW_PATH="/home/njh/perl5/perlbrew/bin:/home/njh/perl5/perlbrew/perls/perl-5.24.4-thread-multi-ld/bin"
    PERLBREW_PERL="perl-5.24.4-thread-multi-ld"
    PERLBREW_ROOT="/home/njh/perl5/perlbrew"
    PERLBREW_SHELLRC_VERSION="0.82"
    PERLBREW_VERSION="0.82"
  @INC:
    /home/njh/.cpan/build/Crypt-OpenSSL-Random-0.15-lKf0bP/blib/arch
    /home/njh/.cpan/build/Crypt-OpenSSL-Random-0.15-lKf0bP/blib/lib
    /home/njh/.cpan/build/Crypt-OpenSSL-Guess-0.11-DBozF4/blib/arch
    /home/njh/.cpan/build/Crypt-OpenSSL-Guess-0.11-DBozF4/blib/lib
    /home/njh/.cpan/build/Mail-AuthenticationResults-1.20180518-MjtiGC/blib/arch
    /home/njh/.cpan/build/Mail-AuthenticationResults-1.20180518-MjtiGC/blib/lib
    /home/njh/.cpan/build/Net-DNS-Resolver-Mock-1.20171219-Cv5wOo/blib/arch
    /home/njh/.cpan/build/Net-DNS-Resolver-Mock-1.20171219-Cv5wOo/blib/lib
    /home/njh/.cpan/build/Net-DNS-1.15-vW_ohk/blib/arch
    /home/njh/.cpan/build/Net-DNS-1.15-vW_ohk/blib/lib
    /home/njh/.cpan/build/Digest-HMAC-1.03-PtjPwh/blib/arch
    /home/njh/.cpan/build/Digest-HMAC-1.03-PtjPwh/blib/lib
    /home/njh/.cpan/build/Email-Simple-2.214-TTrkXW/blib/arch
    /home/njh/.cpan/build/Email-Simple-2.214-TTrkXW/blib/lib
    /home/njh/.cpan/build/Email-Date-Format-1.005-my6yUZ/blib/arch
    /home/njh/.cpan/build/Email-Date-Format-1.005-my6yUZ/blib/lib
    /home/njh/.cpan/build/File-ShareDir-Install-0.13-2z61MC/blib/arch
    /home/njh/.cpan/build/File-ShareDir-Install-0.13-2z61MC/blib/lib
    /home/njh/perl5/perlbrew/perls/perl-5.24.4-thread-multi-ld/lib/site_perl/5.24.4/x86_64-dragonfly-thread-multi-ld
    /home/njh/perl5/perlbrew/perls/perl-5.24.4-thread-multi-ld/lib/site_perl/5.24.4
    /home/njh/perl5/perlbrew/perls/perl-5.24.4-thread-multi-ld/lib/5.24.4/x86_64-dragonfly-thread-multi-ld
    /home/njh/perl5/perlbrew/perls/perl-5.24.4-thread-multi-ld/lib/5.24.4
    .