Report for CGI-Session-4.43

Back
From: metabase:user:d2c9f356-b46f-11df-9a90-20a83c0b7757
Subject: PASS CGI-Session-4.43 v5.14.2 SunOS/Solaris
Date: 2011-11-29T20:35:03Z

This distribution has been tested as part of the CPAN Testers
project, supporting the Perl programming language.  See
http://wiki.cpantesters.org/ for more information or email
questions to cpan-testers-discuss@perl.org


--
Dear Mark Stosberg,

This is a computer-generated report for CGI-Session-4.43
on perl 5.14.2, created by CPAN-Reporter-1.2002.

Thank you for uploading your work to CPAN.  Congratulations!
All tests were successful.

Sections of this report:

    * Tester comments
    * Program output
    * Prerequisites
    * Environment and other context

------------------------------
TESTER COMMENTS
------------------------------

Additional comments from tester:

this report is from an automated smoke testing program
and was not reviewed by a human for accuracy

------------------------------
PROGRAM OUTPUT
------------------------------

Output from './Build test':

t/api3_db_file.t ................ skipped: DB_File not available
t/api3_db_file_freezethaw.t ..... skipped: DB_File not available
t/api3_db_file_storable.t ....... skipped: DB_File not available
t/api3_db_file_storable_incr.t .. skipped: DB_File not available
Use of qw(...) as parentheses is deprecated at
	/export/home/cpant2/.cpan/build/CGI-Session-4.43-aaLO4K/blib/lib/CGI/Session.pm line 804 (#1)
    (D deprecated) You have something like foreach $x qw(a b c) {...},
    using a qw(...) list literal where a parenthesised expression is
    expected.  Historically the parser fooled itself into thinking that
    qw(...) literals were always enclosed in parentheses, and as a result
    you could sometimes omit parentheses around them.  (You could never do
    the foreach qw(a b c) {...} that you might have expected, though.)
    The parser no longer lies to itself in this way.  Wrap the list literal
    in parentheses, like foreach $x (qw(a b c)) {...}.
    
t/api3_file.t ................... ok
Use of qw(...) as parentheses is deprecated at
	/export/home/cpant2/.cpan/build/CGI-Session-4.43-aaLO4K/blib/lib/CGI/Session.pm line 804 (#1)
    (D deprecated) You have something like foreach $x qw(a b c) {...},
    using a qw(...) list literal where a parenthesised expression is
    expected.  Historically the parser fooled itself into thinking that
    qw(...) literals were always enclosed in parentheses, and as a result
    you could sometimes omit parentheses around them.  (You could never do
    the foreach qw(a b c) {...} that you might have expected, though.)
    The parser no longer lies to itself in this way.  Wrap the list literal
    in parentheses, like foreach $x (qw(a b c)) {...}.
    
t/api3_file_freezethaw.t ........ ok
Use of qw(...) as parentheses is deprecated at
	/export/home/cpant2/.cpan/build/CGI-Session-4.43-aaLO4K/blib/lib/CGI/Session.pm line 804 (#1)
    (D deprecated) You have something like foreach $x qw(a b c) {...},
    using a qw(...) list literal where a parenthesised expression is
    expected.  Historically the parser fooled itself into thinking that
    qw(...) literals were always enclosed in parentheses, and as a result
    you could sometimes omit parentheses around them.  (You could never do
    the foreach qw(a b c) {...} that you might have expected, though.)
    The parser no longer lies to itself in this way.  Wrap the list literal
    in parentheses, like foreach $x (qw(a b c)) {...}.
    
t/api3_file_freezethaw_incr.t ... ok
Use of qw(...) as parentheses is deprecated at
	/export/home/cpant2/.cpan/build/CGI-Session-4.43-aaLO4K/blib/lib/CGI/Session.pm line 804 (#1)
    (D deprecated) You have something like foreach $x qw(a b c) {...},
    using a qw(...) list literal where a parenthesised expression is
    expected.  Historically the parser fooled itself into thinking that
    qw(...) literals were always enclosed in parentheses, and as a result
    you could sometimes omit parentheses around them.  (You could never do
    the foreach qw(a b c) {...} that you might have expected, though.)
    The parser no longer lies to itself in this way.  Wrap the list literal
    in parentheses, like foreach $x (qw(a b c)) {...}.
    
t/api3_file_storable.t .......... ok
Use of qw(...) as parentheses is deprecated at
	/export/home/cpant2/.cpan/build/CGI-Session-4.43-aaLO4K/blib/lib/CGI/Session.pm line 804 (#1)
    (D deprecated) You have something like foreach $x qw(a b c) {...},
    using a qw(...) list literal where a parenthesised expression is
    expected.  Historically the parser fooled itself into thinking that
    qw(...) literals were always enclosed in parentheses, and as a result
    you could sometimes omit parentheses around them.  (You could never do
    the foreach qw(a b c) {...} that you might have expected, though.)
    The parser no longer lies to itself in this way.  Wrap the list literal
    in parentheses, like foreach $x (qw(a b c)) {...}.
    
t/api3_file_storable_incr.t ..... ok
Use of qw(...) as parentheses is deprecated at
	/export/home/cpant2/.cpan/build/CGI-Session-4.43-aaLO4K/blib/lib/CGI/Session.pm line 804 (#1)
    (D deprecated) You have something like foreach $x qw(a b c) {...},
    using a qw(...) list literal where a parenthesised expression is
    expected.  Historically the parser fooled itself into thinking that
    qw(...) literals were always enclosed in parentheses, and as a result
    you could sometimes omit parentheses around them.  (You could never do
    the foreach qw(a b c) {...} that you might have expected, though.)
    The parser no longer lies to itself in this way.  Wrap the list literal
    in parentheses, like foreach $x (qw(a b c)) {...}.
    
t/api3_incr.t ................... ok
Use of qw(...) as parentheses is deprecated at
	/export/home/cpant2/.cpan/build/CGI-Session-4.43-aaLO4K/blib/lib/CGI/Session.pm line 804 (#1)
    (D deprecated) You have something like foreach $x qw(a b c) {...},
    using a qw(...) list literal where a parenthesised expression is
    expected.  Historically the parser fooled itself into thinking that
    qw(...) literals were always enclosed in parentheses, and as a result
    you could sometimes omit parentheses around them.  (You could never do
    the foreach qw(a b c) {...} that you might have expected, though.)
    The parser no longer lies to itself in this way.  Wrap the list literal
    in parentheses, like foreach $x (qw(a b c)) {...}.
    
#Using FreezeThaw as object serializer
t/api3_obj_store.t .............. ok
Use of qw(...) as parentheses is deprecated at
	/export/home/cpant2/.cpan/build/CGI-Session-4.43-aaLO4K/blib/lib/CGI/Session.pm line 804 (#1)
    (D deprecated) You have something like foreach $x qw(a b c) {...},
    using a qw(...) list literal where a parenthesised expression is
    expected.  Historically the parser fooled itself into thinking that
    qw(...) literals were always enclosed in parentheses, and as a result
    you could sometimes omit parentheses around them.  (You could never do
    the foreach qw(a b c) {...} that you might have expected, though.)
    The parser no longer lies to itself in this way.  Wrap the list literal
    in parentheses, like foreach $x (qw(a b c)) {...}.
    
t/api3_obj_store_db_file.t ...... skipped: DB_File is not available
Use of qw(...) as parentheses is deprecated at /export/home/cpant2/.cpan/build/CGI-Session-4.43-aaLO4K/blib/lib/CGI/Session.pm line 804.
t/bug21952.t .................... ok
Use of qw(...) as parentheses is deprecated at /export/home/cpant2/.cpan/build/CGI-Session-4.43-aaLO4K/blib/lib/CGI/Session.pm line 804.
t/bug24285.t .................... ok
Use of qw(...) as parentheses is deprecated at
	/export/home/cpant2/.cpan/build/CGI-Session-4.43-aaLO4K/blib/lib/CGI/Session.pm line 804 (#1)
    (D deprecated) You have something like foreach $x qw(a b c) {...},
    using a qw(...) list literal where a parenthesised expression is
    expected.  Historically the parser fooled itself into thinking that
    qw(...) literals were always enclosed in parentheses, and as a result
    you could sometimes omit parentheses around them.  (You could never do
    the foreach qw(a b c) {...} that you might have expected, though.)
    The parser no longer lies to itself in this way.  Wrap the list literal
    in parentheses, like foreach $x (qw(a b c)) {...}.
    
t/cgi_simple.t .................. ok
Use of qw(...) as parentheses is deprecated at
	/export/home/cpant2/.cpan/build/CGI-Session-4.43-aaLO4K/blib/lib/CGI/Session.pm line 804 (#1)
    (D deprecated) You have something like foreach $x qw(a b c) {...},
    using a qw(...) list literal where a parenthesised expression is
    expected.  Historically the parser fooled itself into thinking that
    qw(...) literals were always enclosed in parentheses, and as a result
    you could sometimes omit parentheses around them.  (You could never do
    the foreach qw(a b c) {...} that you might have expected, though.)
    The parser no longer lies to itself in this way.  Wrap the list literal
    in parentheses, like foreach $x (qw(a b c)) {...}.
    
t/complex_ds.t .................. ok
t/driver_dbi.t .................. ok
Use of qw(...) as parentheses is deprecated at
	/export/home/cpant2/.cpan/build/CGI-Session-4.43-aaLO4K/blib/lib/CGI/Session.pm line 804 (#1)
    (D deprecated) You have something like foreach $x qw(a b c) {...},
    using a qw(...) list literal where a parenthesised expression is
    expected.  Historically the parser fooled itself into thinking that
    qw(...) literals were always enclosed in parentheses, and as a result
    you could sometimes omit parentheses around them.  (You could never do
    the foreach qw(a b c) {...} that you might have expected, though.)
    The parser no longer lies to itself in this way.  Wrap the list literal
    in parentheses, like foreach $x (qw(a b c)) {...}.
    
t/expire.t ...................... ok
Use of qw(...) as parentheses is deprecated at /export/home/cpant2/.cpan/build/CGI-Session-4.43-aaLO4K/blib/lib/CGI/Session.pm line 804.
# The found session has been deleted and flushed
t/find.t ........................ ok
Use of qw(...) as parentheses is deprecated at /export/home/cpant2/.cpan/build/CGI-Session-4.43-aaLO4K/blib/lib/CGI/Session.pm line 804.
t/flush.t ....................... ok
Use of qw(...) as parentheses is deprecated at
	/export/home/cpant2/.cpan/build/CGI-Session-4.43-aaLO4K/blib/lib/CGI/Session.pm line 804 (#1)
    (D deprecated) You have something like foreach $x qw(a b c) {...},
    using a qw(...) list literal where a parenthesised expression is
    expected.  Historically the parser fooled itself into thinking that
    qw(...) literals were always enclosed in parentheses, and as a result
    you could sometimes omit parentheses around them.  (You could never do
    the foreach qw(a b c) {...} that you might have expected, though.)
    The parser no longer lies to itself in this way.  Wrap the list literal
    in parentheses, like foreach $x (qw(a b c)) {...}.
    
t/g4.t .......................... ok
t/g4_dbfile.t ................... skipped: DB_File is NOT available
t/g4_dbfile_freezethaw.t ........ skipped: DB_File is NOT available
t/g4_dbfile_storable.t .......... skipped: DB_File is NOT available
Use of qw(...) as parentheses is deprecated at
	/export/home/cpant2/.cpan/build/CGI-Session-4.43-aaLO4K/blib/lib/CGI/Session.pm line 804 (#1)
    (D deprecated) You have something like foreach $x qw(a b c) {...},
    using a qw(...) list literal where a parenthesised expression is
    expected.  Historically the parser fooled itself into thinking that
    qw(...) literals were always enclosed in parentheses, and as a result
    you could sometimes omit parentheses around them.  (You could never do
    the foreach qw(a b c) {...} that you might have expected, though.)
    The parser no longer lies to itself in this way.  Wrap the list literal
    in parentheses, like foreach $x (qw(a b c)) {...}.
    
t/g4_freezethaw.t ............... ok
t/g4_mysql.t .................... skipped: DBD::mysql is NOT available
t/g4_mysql_freezethaw.t ......... skipped: DBD::mysql is NOT available
t/g4_mysql_storable.t ........... skipped: DBD::mysql is NOT available
t/g4_postgresql.t ............... skipped: DataSource is not known
t/g4_postgresql_freezethaw.t .... skipped: DataSource is not known
t/g4_postgresql_storable.t ...... skipped: DataSource is not known
Use of qw(...) as parentheses is deprecated at
	/export/home/cpant2/.cpan/build/CGI-Session-4.43-aaLO4K/blib/lib/CGI/Session.pm line 804 (#1)
    (D deprecated) You have something like foreach $x qw(a b c) {...},
    using a qw(...) list literal where a parenthesised expression is
    expected.  Historically the parser fooled itself into thinking that
    qw(...) literals were always enclosed in parentheses, and as a result
    you could sometimes omit parentheses around them.  (You could never do
    the foreach qw(a b c) {...} that you might have expected, though.)
    The parser no longer lies to itself in this way.  Wrap the list literal
    in parentheses, like foreach $x (qw(a b c)) {...}.
    
t/g4_sqlite.t ................... ok
Use of qw(...) as parentheses is deprecated at
	/export/home/cpant2/.cpan/build/CGI-Session-4.43-aaLO4K/blib/lib/CGI/Session.pm line 804 (#1)
    (D deprecated) You have something like foreach $x qw(a b c) {...},
    using a qw(...) list literal where a parenthesised expression is
    expected.  Historically the parser fooled itself into thinking that
    qw(...) literals were always enclosed in parentheses, and as a result
    you could sometimes omit parentheses around them.  (You could never do
    the foreach qw(a b c) {...} that you might have expected, though.)
    The parser no longer lies to itself in this way.  Wrap the list literal
    in parentheses, like foreach $x (qw(a b c)) {...}.
    
t/g4_sqlite_freezethaw.t ........ ok
Use of qw(...) as parentheses is deprecated at
	/export/home/cpant2/.cpan/build/CGI-Session-4.43-aaLO4K/blib/lib/CGI/Session.pm line 804 (#1)
    (D deprecated) You have something like foreach $x qw(a b c) {...},
    using a qw(...) list literal where a parenthesised expression is
    expected.  Historically the parser fooled itself into thinking that
    qw(...) literals were always enclosed in parentheses, and as a result
    you could sometimes omit parentheses around them.  (You could never do
    the foreach qw(a b c) {...} that you might have expected, though.)
    The parser no longer lies to itself in this way.  Wrap the list literal
    in parentheses, like foreach $x (qw(a b c)) {...}.
    
t/g4_sqlite_storable.t .......... ok
Use of qw(...) as parentheses is deprecated at
	/export/home/cpant2/.cpan/build/CGI-Session-4.43-aaLO4K/blib/lib/CGI/Session.pm line 804 (#1)
    (D deprecated) You have something like foreach $x qw(a b c) {...},
    using a qw(...) list literal where a parenthesised expression is
    expected.  Historically the parser fooled itself into thinking that
    qw(...) literals were always enclosed in parentheses, and as a result
    you could sometimes omit parentheses around them.  (You could never do
    the foreach qw(a b c) {...} that you might have expected, though.)
    The parser no longer lies to itself in this way.  Wrap the list literal
    in parentheses, like foreach $x (qw(a b c)) {...}.
    
t/g4_storable.t ................. ok
Use of qw(...) as parentheses is deprecated at
	/export/home/cpant2/.cpan/build/CGI-Session-4.43-aaLO4K/blib/lib/CGI/Session.pm line 804 (#1)
    (D deprecated) You have something like foreach $x qw(a b c) {...},
    using a qw(...) list literal where a parenthesised expression is
    expected.  Historically the parser fooled itself into thinking that
    qw(...) literals were always enclosed in parentheses, and as a result
    you could sometimes omit parentheses around them.  (You could never do
    the foreach qw(a b c) {...} that you might have expected, though.)
    The parser no longer lies to itself in this way.  Wrap the list literal
    in parentheses, like foreach $x (qw(a b c)) {...}.
    
t/header.t ...................... ok
Use of qw(...) as parentheses is deprecated at t/ip_matches.t line 39 (#1)
    (D deprecated) You have something like foreach $x qw(a b c) {...},
    using a qw(...) list literal where a parenthesised expression is
    expected.  Historically the parser fooled itself into thinking that
    qw(...) literals were always enclosed in parentheses, and as a result
    you could sometimes omit parentheses around them.  (You could never do
    the foreach qw(a b c) {...} that you might have expected, though.)
    The parser no longer lies to itself in this way.  Wrap the list literal
    in parentheses, like foreach $x (qw(a b c)) {...}.
    
Use of qw(...) as parentheses is deprecated at
	/export/home/cpant2/.cpan/build/CGI-Session-4.43-aaLO4K/blib/lib/CGI/Session.pm line 804 (#1)
t/ip_matches.t .................. ok
Use of qw(...) as parentheses is deprecated at
	/export/home/cpant2/.cpan/build/CGI-Session-4.43-aaLO4K/blib/lib/CGI/Session.pm line 804 (#1)
    (D deprecated) You have something like foreach $x qw(a b c) {...},
    using a qw(...) list literal where a parenthesised expression is
    expected.  Historically the parser fooled itself into thinking that
    qw(...) literals were always enclosed in parentheses, and as a result
    you could sometimes omit parentheses around them.  (You could never do
    the foreach qw(a b c) {...} that you might have expected, though.)
    The parser no longer lies to itself in this way.  Wrap the list literal
    in parentheses, like foreach $x (qw(a b c)) {...}.
    
t/is_new.t ...................... ok
Use of qw(...) as parentheses is deprecated at
	/export/home/cpant2/.cpan/build/CGI-Session-4.43-aaLO4K/blib/lib/CGI/Session.pm line 804 (#1)
    (D deprecated) You have something like foreach $x qw(a b c) {...},
    using a qw(...) list literal where a parenthesised expression is
    expected.  Historically the parser fooled itself into thinking that
    qw(...) literals were always enclosed in parentheses, and as a result
    you could sometimes omit parentheses around them.  (You could never do
    the foreach qw(a b c) {...} that you might have expected, though.)
    The parser no longer lies to itself in this way.  Wrap the list literal
    in parentheses, like foreach $x (qw(a b c)) {...}.
    
Argument "wrong" isn't numeric in numeric ne (!=) at
	/export/home/cpant2/.cpan/build/CGI-Session-4.43-aaLO4K/blib/lib/CGI/Session.pm line 684 (#2)
    (W numeric) The indicated string was fed as an argument to an operator
    that expected a numeric value instead.  If you're fortunate the message
    will identify which operator was so unfortunate.
    
t/load.t ........................ ok
Use of qw(...) as parentheses is deprecated at /export/home/cpant2/.cpan/build/CGI-Session-4.43-aaLO4K/blib/lib/CGI/Session.pm line 804.
t/load_with_undef.t ............. ok
Use of qw(...) as parentheses is deprecated at
	/export/home/cpant2/.cpan/build/CGI-Session-4.43-aaLO4K/blib/lib/CGI/Session.pm line 804 (#1)
    (D deprecated) You have something like foreach $x qw(a b c) {...},
    using a qw(...) list literal where a parenthesised expression is
    expected.  Historically the parser fooled itself into thinking that
    qw(...) literals were always enclosed in parentheses, and as a result
    you could sometimes omit parentheses around them.  (You could never do
    the foreach qw(a b c) {...} that you might have expected, though.)
    The parser no longer lies to itself in this way.  Wrap the list literal
    in parentheses, like foreach $x (qw(a b c)) {...}.
    
t/name.t ........................ ok
Use of qw(...) as parentheses is deprecated at /export/home/cpant2/.cpan/build/CGI-Session-4.43-aaLO4K/blib/lib/CGI/Session.pm line 804.
t/new_with_undef.t .............. ok
Use of qw(...) as parentheses is deprecated at
	/export/home/cpant2/.cpan/build/CGI-Session-4.43-aaLO4K/blib/lib/CGI/Session.pm line 804 (#1)
    (D deprecated) You have something like foreach $x qw(a b c) {...},
    using a qw(...) list literal where a parenthesised expression is
    expected.  Historically the parser fooled itself into thinking that
    qw(...) literals were always enclosed in parentheses, and as a result
    you could sometimes omit parentheses around them.  (You could never do
    the foreach qw(a b c) {...} that you might have expected, though.)
    The parser no longer lies to itself in this way.  Wrap the list literal
    in parentheses, like foreach $x (qw(a b c)) {...}.
    
t/parse_dsn.t ................... ok
Use of qw(...) as parentheses is deprecated at /export/home/cpant2/.cpan/build/CGI-Session-4.43-aaLO4K/blib/lib/CGI/Session.pm line 804.
t/remote_addr.t ................. ok
Use of qw(...) as parentheses is deprecated at /export/home/cpant2/.cpan/build/CGI-Session-4.43-aaLO4K/blib/lib/CGI/Session.pm line 804.
# Check in STORE of original item
# Check in STORE of stored/retrieved item
# Check in LOAD after loading from session
t/session_param_undef.t ......... ok
Use of qw(...) as parentheses is deprecated at
	/export/home/cpant2/.cpan/build/CGI-Session-4.43-aaLO4K/blib/lib/CGI/Session.pm line 804 (#1)
    (D deprecated) You have something like foreach $x qw(a b c) {...},
    using a qw(...) list literal where a parenthesised expression is
    expected.  Historically the parser fooled itself into thinking that
    qw(...) literals were always enclosed in parentheses, and as a result
    you could sometimes omit parentheses around them.  (You could never do
    the foreach qw(a b c) {...} that you might have expected, though.)
    The parser no longer lies to itself in this way.  Wrap the list literal
    in parentheses, like foreach $x (qw(a b c)) {...}.
    
t/str2seconds.t ................. ok
Use of qw(...) as parentheses is deprecated at /export/home/cpant2/.cpan/build/CGI-Session-4.43-aaLO4K/blib/lib/CGI/Session.pm line 804.
t/symlink_db_file.t ............. skipped: DB_File not available
Use of qw(...) as parentheses is deprecated at /export/home/cpant2/.cpan/build/CGI-Session-4.43-aaLO4K/blib/lib/CGI/Session.pm line 804.
t/symlink_file.t ................ ok
All tests successful.
Files=48, Tests=854, 25 wallclock secs ( 0.23 usr  0.10 sys +  5.78 cusr  0.36 csys =  6.47 CPU)
Result: PASS

------------------------------
PREREQUISITES
------------------------------

Prerequisite modules loaded:

requires:

    Module              Need Have 
    ------------------- ---- -----
    CGI                 3.26 3.58 
    Data::Dumper        0    2.131
    Digest::MD5         0    2.51 
    Scalar::Util        0    1.23 

build_requires:

    Module              Need Have 
    ------------------- ---- -----
    Test::More          0    0.98 

configure_requires:

    Module              Need Have 
    ------------------- ---- -----
    ExtUtils::MakeMaker 0    6.62 


------------------------------
ENVIRONMENT AND OTHER CONTEXT
------------------------------

Environment variables:

    AUTOMATED_TESTING = 1
    LANG = C
    LD_LIBRARY_PATH = /usr/local/lib:
    PATH = /export/home/cpant2/perl5/bin:/usr/local/bin:/usr/bin
    PERL5LIB = 
    PERL5OPT = 
    PERL5_CPANPLUS_IS_RUNNING = 7894
    PERL5_CPAN_IS_RUNNING = 7894
    PERL5_CPAN_IS_RUNNING_IN_RECURSION = 17540,7894
    PERL_CR_SMOKER_CURRENT = CGI-Session-4.43
    PERL_EXTUTILS_AUTOINSTALL = --defaultdeps
    PERL_MM_USE_DEFAULT = 1
    SHELL = /usr/bin/bash
    TERM = xterm

Perl special variables (and OS-specific diagnostics, for MSWin32):

    $^X = /export/home/cpant2/perl5/bin/perl5.14.2
    $UID/$EUID = 101 / 101
    $GID = 1 1
    $EGID = 1 1

Perl module toolchain versions installed:

    Module              Have    
    ------------------- --------
    CPAN                1.9800  
    CPAN::Meta          2.112621
    Cwd                 3.36    
    ExtUtils::CBuilder  0.280203
    ExtUtils::Command   1.17    
    ExtUtils::Install   1.56    
    ExtUtils::MakeMaker 6.62    
    ExtUtils::Manifest  1.60    
    ExtUtils::ParseXS   3.05    
    File::Spec          3.33    
    JSON                2.53    
    JSON::PP            2.27200 
    Module::Build       0.3800  
    Module::Signature   n/a     
    Parse::CPAN::Meta   1.4401  
    Test::Harness       3.23    
    Test::More          0.98    
    YAML                0.77    
    YAML::Syck          1.19    
    version             0.95    


--

Summary of my perl5 (revision 5 version 14 subversion 2) configuration:
   
  Platform:
    osname=solaris, osvers=2.10, archname=i86pc-solaris-64int
    uname='sunos vmrz0046 5.10 generic_141445-09 i86pc i386 i86pc solaris '
    config_args='-Dcc=gcc -Dprefix=~/perl5 -Duse64bitint -Dusedevel -d'
    hint=recommended, useposix=true, d_sigaction=define
    useithreads=undef, usemultiplicity=undef
    useperlio=define, d_sfio=undef, uselargefiles=define, usesocks=undef
    use64bitint=define, use64bitall=undef, uselongdouble=undef
    usemymalloc=n, bincompat5005=undef
  Compiler:
    cc='gcc', ccflags ='-DPTR_IS_LONG -fno-strict-aliasing -pipe -I/usr/local/include -D_LARGEFILE_SOURCE -D_FILE_OFFSET_BITS=64 -DPERL_USE_SAFE_PUTENV',
    optimize='-O',
    cppflags='-DPTR_IS_LONG -fno-strict-aliasing -pipe -I/usr/local/include'
    ccversion='', gccversion='3.4.6', gccosandvers='solaris2.10'
    intsize=4, longsize=4, ptrsize=4, doublesize=8, byteorder=12345678
    d_longlong=define, longlongsize=8, d_longdbl=define, longdblsize=12
    ivtype='long long', ivsize=8, nvtype='double', nvsize=8, Off_t='off_t', lseeksize=8
    alignbytes=4, prototype=define
  Linker and Libraries:
    ld='gcc', ldflags =' -L/usr/local/lib '
    libpth=/usr/local/lib /usr/lib /usr/ccs/lib
    libs=-lsocket -lnsl -lgdbm -ldl -lm -lc
    perllibs=-lsocket -lnsl -ldl -lm -lc
    libc=/lib/libc.so, so=so, useshrplib=false, libperl=libperl.a
    gnulibc_version=''
  Dynamic Linking:
    dlsrc=dl_dlopen.xs, dlext=so, d_dlsymun=undef, ccdlflags=' '
    cccdlflags='-fPIC', lddlflags='-G -L/usr/local/lib'


Characteristics of this binary (from libperl): 
  Compile-time options: PERL_DONT_CREATE_GVSV PERL_MALLOC_WRAP
                        PERL_PRESERVE_IVUV PERL_USE_DEVEL
                        PERL_USE_SAFE_PUTENV USE_64_BIT_INT USE_LARGE_FILES
                        USE_PERLIO USE_PERL_ATOF
  Built under solaris
  Compiled at Sep 30 2011 11:41:59
  %ENV:
    PERL5LIB=""
    PERL5OPT=""
    PERL5_CPANPLUS_IS_RUNNING="7894"
    PERL5_CPAN_IS_RUNNING="7894"
    PERL5_CPAN_IS_RUNNING_IN_RECURSION="17540,7894"
    PERL_CR_SMOKER_CURRENT="CGI-Session-4.43"
    PERL_EXTUTILS_AUTOINSTALL="--defaultdeps"
    PERL_MM_USE_DEFAULT="1"
  @INC:
    /export/home/cpant2/perl5/lib/site_perl/5.14.2/i86pc-solaris-64int
    /export/home/cpant2/perl5/lib/site_perl/5.14.2
    /export/home/cpant2/perl5/lib/5.14.2/i86pc-solaris-64int
    /export/home/cpant2/perl5/lib/5.14.2
    /export/home/cpant2/perl5/lib/site_perl
    .