Storable-AMF v1.23 Perl 5 v5.30.1 RC1 x86_64-linux-thread-multi
- Status
- Pass
- From
- Andreas J. König (ANDK)
- Dist
-
Storable-AMF v1.23
- Platform
- Perl 5 v5.30.1 RC1 x86_64-linux-thread-multi
- Date
- 2019-11-01 02:45:08
- ID
- 9df811e2-fc51-11e9-8b2a-801a6ce1229e
This distribution has been tested as part of the CPAN Testers
project, supporting the Perl programming language. See
http://wiki.cpantesters.org/ for more information or email
questions to cpan-testers-discuss@perl.org
--
Dear Grishayev Anatoliy,
This is a computer-generated report for Storable-AMF-1.23
on perl 5.30.1, created by CPAN-Reporter-1.2018.
Thank you for uploading your work to CPAN. Congratulations!
All tests were successful.
Sections of this report:
* Tester comments
* Program output
* Prerequisites
* Environment and other context
------------------------------
TESTER COMMENTS
------------------------------
Additional comments from tester:
this report is from an automated smoke testing program
and was not reviewed by a human for accuracy
------------------------------
PROGRAM OUTPUT
------------------------------
Output from '/usr/bin/make test':
"/tmp/basesmoker-reloperl-YdN8/bin/perl" -MExtUtils::Command::MM -e 'cp_nonempty' -- AMF.bs blib/arch/auto/Storable/AMF/AMF.bs 644
PERL_DL_NONLAZY=1 "/tmp/basesmoker-reloperl-YdN8/bin/perl" "-MExtUtils::Command::MM" "-MTest::Harness" "-e" "undef *Test::Harness::Switches; test_harness(0, 'blib/lib', 'blib/arch')" t/*.t
78563412 LIT 12345678
t/00-compile.t .............. ok
t/01-parse_amf0.t ........... ok
t/02-parse_amf3.t ........... ok
t/03-format-long-str.t ...... ok
t/04-blessed.t .............. ok
t/05-dclone.t ............... ok
t/06-aux-utility.t .......... skipped: This perl version is too modern( >= 5.020 )
t/06-last-undef.t ........... ok
t/07-pod.t .................. ok
t/08-amf3-integer.t ......... ok
ord(+-)=43 45. -number=256
t/10-dual-var.t ............. ok
t/20-amf-double.t ........... ok
t/21-amf-strings.t .......... ok
t/22-array.t ................ ok
t/23-array-flash0.t ......... ok
t/24-anon-object.t .......... ok
t/30-can-AMF0.t ............. ok
t/31-can-AMF0.t ............. ok
t/32-can-AMF3.t ............. ok
t/40-negative-freeze.t ...... ok
t/41-neg-parse.t ............ ok
t/45-total-sv.t ............. ok
t/46-mem-safe-AMF0.t ........ ok
t/47-mem-safe-AMF3.t ........ ok
t/48-mem-safe-neg-AMF0.t .... ok
t/49-mem-safe-neg-AMF3.t .... ok
t/50-AMF90-exception.t ...... ok
t/51-strict-pragma.t ........ ok
t/52-special-case.t ......... ok
t/53-strict-pragma-amf0.t ... ok
t/54-strict-pragma-amf3.t ... ok
t/55-store-etc-amf0.t ....... ok
t/56-store-etc-amf3.t ....... ok
t/57-deparse-amf0.t ......... ok
t/58-deparse-amf3.t ......... ok
t/60-bug.t .................. ok
t/61-amf-date.t ............. ok
t/62-basic-ext.t ............ ok
t/63-parse-option.t ......... ok
t/64-prefer-number.t ........ ok
t/65-prefer-number3.t ....... ok
t/66-boolean.t .............. ok
t/67-boolean-real.t ......... ok
t/68-boolean-json.t ......... ok
t/69-to_AMF-experimental.t .. ok
t/70-Mapper.t ............... ok
t/71-amf-plus-marker.t ...... ok
t/72-max-array.t ............ ok
t/73-amf-tmp-storage.t ...... ok
t/74-amf-skip-bad.t ......... ok
t/75-devel-api.t ............ ok
All tests successful.
Files=51, Tests=3742, 5 wallclock secs ( 0.25 usr 0.29 sys + 3.41 cusr 1.00 csys = 4.95 CPU)
Result: PASS
------------------------------
PREREQUISITES
------------------------------
Prerequisite modules loaded:
requires:
Module Need Have
------------------- -------- --------
perl 5.007003 5.030001
XSLoader 0.06 0.30
build_requires:
Module Need Have
------------------- -------- --------
ExtUtils::MakeMaker 0 7.38
configure_requires:
Module Need Have
------------------- -------- --------
ExtUtils::MakeMaker 0 7.38
------------------------------
ENVIRONMENT AND OTHER CONTEXT
------------------------------
Environment variables:
AUTOMATED_TESTING = 1
LANG = en_US.UTF-8
PATH = /home/sand/bin:/usr/local/bin:/usr/local/sbin:/usr/sbin:/usr/bin:/sbin:/bin:/usr/games:/usr/local/games:/usr/local/perl/bin:/usr/X11/bin
PERL = /tmp/basesmoker-reloperl-YdN8/bin/perl
PERL5LIB = /tmp/loop_over_bdir-14205-toEwk8/HTML-Menu-TreeView-1.22-0/blib/arch:/tmp/loop_over_bdir-14205-toEwk8/HTML-Menu-TreeView-1.22-0/blib/lib:/tmp/loop_over_bdir-14205-toEwk8/dta-tokwrap-0.90-0/blib/arch:/tmp/loop_over_bdir-14205-toEwk8/dta-tokwrap-0.90-0/blib/lib:/tmp/loop_over_bdir-14205-toEwk8/Dpkg-1.19.7-0/blib/arch:/tmp/loop_over_bdir-14205-toEwk8/Dpkg-1.19.7-0/blib/lib:/tmp/loop_over_bdir-14205-toEwk8/RDF-NLP-SPARQLQuery-0.1-0/blib/arch:/tmp/loop_over_bdir-14205-toEwk8/RDF-NLP-SPARQLQuery-0.1-0/blib/lib:/tmp/loop_over_bdir-14205-toEwk8/CORBA-Python-2.66-0/blib/arch:/tmp/loop_over_bdir-14205-toEwk8/CORBA-Python-2.66-0/blib/lib:/tmp/loop_over_bdir-14205-toEwk8/Debian-Packages-0.03-0/blib/arch:/tmp/loop_over_bdir-14205-toEwk8/Debian-Packages-0.03-0/blib/lib
PERL5OPT =
PERL5_CPANPLUS_IS_RUNNING = 14213
PERL5_CPAN_IS_RUNNING = 14213
PERL_CANARY_STABILITY_NOPROMPT = 1
PERL_MM_USE_DEFAULT = 1
PERL_USE_UNSAFE_INC = 1
SHELL = /usr/bin/zsh
TERM = screen
Perl special variables (and OS-specific diagnostics, for MSWin32):
$^X = /tmp/basesmoker-reloperl-YdN8/bin/perl
$UID/$EUID = 1005 / 1005
$GID = 1005 1005
$EGID = 1005 1005
Perl module toolchain versions installed:
Module Have
------------------- --------
CPAN 2.27
CPAN::Meta 2.150010
Cwd 3.78
ExtUtils::CBuilder 0.280231
ExtUtils::Command 7.38
ExtUtils::Install 2.14
ExtUtils::MakeMaker 7.38
ExtUtils::Manifest 1.72
ExtUtils::ParseXS 3.40
File::Spec 3.78
JSON 4.02
JSON::PP 4.02
Module::Build 0.4229
Module::Signature 0.83
Parse::CPAN::Meta 2.150010
Test::Harness 3.42
Test::More 1.302168
YAML 1.29
YAML::Syck 1.31
version 0.9924
--
Summary of my perl5 (revision 5 version 30 subversion 1) configuration:
Commit id: c7b0f4381d9ba7446b031fd197f0817ead76cc96
Platform:
osname=linux
osvers=4.15.0-65-generic
archname=x86_64-linux-thread-multi
uname='linux k93bionic 4.15.0-65-generic #74-ubuntu smp tue sep 17 17:06:04 utc 2019 x86_64 x86_64 x86_64 gnulinux '
config_args='-Dprefix=/home/sand/src/perl/repoperls/installed-perls/host/k93bionic/v5.30.1-RC1/7ee9 -Dmyhostname=k93bionic -Dinstallusrbinperl=n -Uversiononly -Dusedevel -des -Ui_db -Dlibswanted=cl pthread socket inet nsl gdbm dbm malloc dl ld sun m crypt sec util c cposix posix ucb BSD gdbm_compat -Duseithreads -Uuselongdouble -DEBUGGING=-g'
hint=recommended
useposix=true
d_sigaction=define
useithreads=define
usemultiplicity=define
use64bitint=define
use64bitall=define
uselongdouble=undef
usemymalloc=n
default_inc_excludes_dot=define
bincompat5005=undef
Compiler:
cc='cc'
ccflags ='-D_REENTRANT -D_GNU_SOURCE -fwrapv -fno-strict-aliasing -pipe -fstack-protector-strong -I/usr/local/include -D_LARGEFILE_SOURCE -D_FILE_OFFSET_BITS=64'
optimize='-O2 -g'
cppflags='-D_REENTRANT -D_GNU_SOURCE -fwrapv -fno-strict-aliasing -pipe -fstack-protector-strong -I/usr/local/include'
ccversion=''
gccversion='7.4.0'
gccosandvers=''
intsize=4
longsize=8
ptrsize=8
doublesize=8
byteorder=12345678
doublekind=3
d_longlong=define
longlongsize=8
d_longdbl=define
longdblsize=16
longdblkind=3
ivtype='long'
ivsize=8
nvtype='double'
nvsize=8
Off_t='off_t'
lseeksize=8
alignbytes=8
prototype=define
Linker and Libraries:
ld='cc'
ldflags =' -fstack-protector-strong -L/usr/local/lib'
libpth=/usr/local/lib /usr/lib/gcc/x86_64-linux-gnu/7/include-fixed /usr/include/x86_64-linux-gnu /usr/lib /lib/x86_64-linux-gnu /lib/../lib /usr/lib/x86_64-linux-gnu /usr/lib/../lib /lib
libs=-lpthread -lnsl -ldl -lm -lcrypt -lutil -lc
perllibs=-lpthread -lnsl -ldl -lm -lcrypt -lutil -lc
libc=libc-2.27.so
so=so
useshrplib=false
libperl=libperl.a
gnulibc_version='2.27'
Dynamic Linking:
dlsrc=dl_dlopen.xs
dlext=so
d_dlsymun=undef
ccdlflags='-Wl,-E'
cccdlflags='-fPIC'
lddlflags='-shared -O2 -g -L/usr/local/lib -fstack-protector-strong'
Characteristics of this binary (from libperl):
Compile-time options:
HAS_TIMES
MULTIPLICITY
PERLIO_LAYERS
PERL_COPY_ON_WRITE
PERL_DONT_CREATE_GVSV
PERL_IMPLICIT_CONTEXT
PERL_MALLOC_WRAP
PERL_OP_PARENT
PERL_PRESERVE_IVUV
PERL_USE_DEVEL
USE_64_BIT_ALL
USE_64_BIT_INT
USE_ITHREADS
USE_LARGE_FILES
USE_LOCALE
USE_LOCALE_COLLATE
USE_LOCALE_CTYPE
USE_LOCALE_NUMERIC
USE_LOCALE_TIME
USE_PERLIO
USE_PERL_ATOF
USE_REENTRANT_API
USE_THREAD_SAFE_LOCALE
Locally applied patches:
RC1
Built under linux
Compiled at Oct 30 2019 19:21:34
%ENV:
PERL="/tmp/basesmoker-reloperl-YdN8/bin/perl"
PERL5LIB="/tmp/loop_over_bdir-14205-toEwk8/HTML-Menu-TreeView-1.22-0/blib/arch:/tmp/loop_over_bdir-14205-toEwk8/HTML-Menu-TreeView-1.22-0/blib/lib:/tmp/loop_over_bdir-14205-toEwk8/dta-tokwrap-0.90-0/blib/arch:/tmp/loop_over_bdir-14205-toEwk8/dta-tokwrap-0.90-0/blib/lib:/tmp/loop_over_bdir-14205-toEwk8/Dpkg-1.19.7-0/blib/arch:/tmp/loop_over_bdir-14205-toEwk8/Dpkg-1.19.7-0/blib/lib:/tmp/loop_over_bdir-14205-toEwk8/RDF-NLP-SPARQLQuery-0.1-0/blib/arch:/tmp/loop_over_bdir-14205-toEwk8/RDF-NLP-SPARQLQuery-0.1-0/blib/lib:/tmp/loop_over_bdir-14205-toEwk8/CORBA-Python-2.66-0/blib/arch:/tmp/loop_over_bdir-14205-toEwk8/CORBA-Python-2.66-0/blib/lib:/tmp/loop_over_bdir-14205-toEwk8/Debian-Packages-0.03-0/blib/arch:/tmp/loop_over_bdir-14205-toEwk8/Debian-Packages-0.03-0/blib/lib"
PERL5OPT=""
PERL5_CPANPLUS_IS_RUNNING="14213"
PERL5_CPAN_IS_RUNNING="14213"
PERL_CANARY_STABILITY_NOPROMPT="1"
PERL_MM_USE_DEFAULT="1"
PERL_USE_UNSAFE_INC="1"
@INC:
/tmp/loop_over_bdir-14205-toEwk8/HTML-Menu-TreeView-1.22-0/blib/arch
/tmp/loop_over_bdir-14205-toEwk8/HTML-Menu-TreeView-1.22-0/blib/lib
/tmp/loop_over_bdir-14205-toEwk8/dta-tokwrap-0.90-0/blib/arch
/tmp/loop_over_bdir-14205-toEwk8/dta-tokwrap-0.90-0/blib/lib
/tmp/loop_over_bdir-14205-toEwk8/Dpkg-1.19.7-0/blib/arch
/tmp/loop_over_bdir-14205-toEwk8/Dpkg-1.19.7-0/blib/lib
/tmp/loop_over_bdir-14205-toEwk8/RDF-NLP-SPARQLQuery-0.1-0/blib/arch
/tmp/loop_over_bdir-14205-toEwk8/RDF-NLP-SPARQLQuery-0.1-0/blib/lib
/tmp/loop_over_bdir-14205-toEwk8/CORBA-Python-2.66-0/blib/arch
/tmp/loop_over_bdir-14205-toEwk8/CORBA-Python-2.66-0/blib/lib
/tmp/loop_over_bdir-14205-toEwk8/Debian-Packages-0.03-0/blib/arch
/tmp/loop_over_bdir-14205-toEwk8/Debian-Packages-0.03-0/blib/lib
/home/sand/src/perl/repoperls/installed-perls/host/k93bionic/v5.30.1-RC1/7ee9/lib/site_perl/5.30.1/x86_64-linux-thread-multi
/home/sand/src/perl/repoperls/installed-perls/host/k93bionic/v5.30.1-RC1/7ee9/lib/site_perl/5.30.1
/home/sand/src/perl/repoperls/installed-perls/host/k93bionic/v5.30.1-RC1/7ee9/lib/5.30.1/x86_64-linux-thread-multi
/home/sand/src/perl/repoperls/installed-perls/host/k93bionic/v5.30.1-RC1/7ee9/lib/5.30.1
.