Report for Smart-Comments-1.0.4

Back
From: metabase:user:605733f7-6bf4-1014-9fd9-f5c948f79432
Subject: PASS Smart-Comments-1.0.4 v5.16.3 GNU/Linux
Date: 2013-04-18T11:03:36Z

This distribution has been tested as part of the CPAN Testers
project, supporting the Perl programming language.  See
http://wiki.cpantesters.org/ for more information or email
questions to cpan-testers-discuss@perl.org


--
Dear Alexandr Ciornii,

This is a computer-generated report for Smart-Comments-1.0.4
on perl 5.16.3, created by CPAN-Reporter-1.2009.

Thank you for uploading your work to CPAN.  Congratulations!
All tests were successful.

Sections of this report:

    * Tester comments
    * Program output
    * Prerequisites
    * Environment and other context

------------------------------
TESTER COMMENTS
------------------------------

Additional comments from tester:

this report is from an automated smoke testing program
and was not reviewed by a human for accuracy

------------------------------
PROGRAM OUTPUT
------------------------------

Output from './Build test':

# Testing Smart::Comments 1.0.4
t/00.load.t ................. ok
t/ENV_0.t ................... ok
t/ENV_1.t ................... ok
t/ENV_str.t ................. ok
t/assert.t .................. ok
t/brackets.t ................ ok
t/c_like_for_loop.t ......... ok
t/check.t ................... ok
t/confirm.t ................. ok
t/ensure.t .................. ok
t/insist.t .................. ok
t/labelled_perlish_loop.t ... ok
t/message.t ................. ok
t/perlish_for.t ............. ok
t/perlish_for_percentage.t .. ok
t/pod-coverage.t ............ ok
t/pod.t ..................... ok
t/require.t ................. ok
t/selective.t ............... ok
t/simple_perlish_for.t ...... ok
t/var.t ..................... ok
t/verify.t .................. ok
t/while.t ................... ok
t/while_num.t ............... ok
All tests successful.
Files=24, Tests=121,  2 wallclock secs ( 0.08 usr  0.03 sys +  1.17 cusr  0.21 csys =  1.49 CPU)
Result: PASS

------------------------------
PREREQUISITES
------------------------------

Prerequisite modules loaded:

requires:

    Module         Need  Have    
    -------------- ----- --------
    Data::Dumper   0     2.135_06
    Filter::Simple 0.8   0.88    
    List::Util     0     1.25    
    perl           5.008 5.016003
    Text::Balanced 2     2.02    
    version        0     0.9901  

build_requires:

    Module         Need  Have    
    -------------- ----- --------
    Test::More     0     0.98    


------------------------------
ENVIRONMENT AND OTHER CONTEXT
------------------------------

Environment variables:

    AUTOMATED_TESTING = 1
    LANG = en_US.UTF-8
    PATH = /home/jackal/perl5/perlbrew/bin:/home/jackal/perl5/perlbrew/perls/perl-5.16.3/bin:/usr/lib/qt-3.3/bin:/usr/local/bin:/bin:/usr/bin:/usr/local/sbin:/usr/sbin:/sbin:/home/jackal/bin
    PERL5LIB = /home/jackal/.cpan/build/Time-Format-1.12-i367n0/blib/arch:/home/jackal/.cpan/build/Time-Format-1.12-i367n0/blib/lib:/home/jackal/.cpan/build/Config-Simple-4.58-fgVDqa/blib/arch:/home/jackal/.cpan/build/Config-Simple-4.58-fgVDqa/blib/lib
    PERL5OPT = 
    PERL5_CPANPLUS_IS_RUNNING = 16465
    PERL5_CPAN_IS_RUNNING = 16465
    PERL5_CPAN_IS_RUNNING_IN_RECURSION = 1836,16465
    PERLBREW_BASHRC_VERSION = 0.59
    PERLBREW_HOME = /home/jackal/.perlbrew
    PERLBREW_MANPATH = /home/jackal/perl5/perlbrew/perls/perl-5.16.3/man
    PERLBREW_PATH = /home/jackal/perl5/perlbrew/bin:/home/jackal/perl5/perlbrew/perls/perl-5.16.3/bin
    PERLBREW_PERL = perl-5.16.3
    PERLBREW_ROOT = /home/jackal/perl5/perlbrew
    PERLBREW_VERSION = 0.59
    PERL_CR_SMOKER_CURRENT = Config-Simple-Extended-0.11
    PERL_EXTUTILS_AUTOINSTALL = --defaultdeps
    PERL_MM_USE_DEFAULT = 1
    SHELL = /bin/bash
    TERM = xterm

Perl special variables (and OS-specific diagnostics, for MSWin32):

    $^X = /home/jackal/perl5/perlbrew/perls/perl-5.16.3/bin/perl
    $UID/$EUID = 500 / 500
    $GID = 501 501
    $EGID = 501 501

Perl module toolchain versions installed:

    Module              Have    
    ------------------- --------
    CPAN                1.9800  
    CPAN::Meta          2.120630
    Cwd                 3.39_02 
    ExtUtils::CBuilder  0.280206
    ExtUtils::Command   1.17    
    ExtUtils::Install   1.58    
    ExtUtils::MakeMaker 6.63_02 
    ExtUtils::Manifest  1.61    
    ExtUtils::ParseXS   3.16    
    File::Spec          3.39_02 
    JSON                2.53    
    JSON::PP            2.27200 
    Module::Build       0.4003  
    Module::Signature   n/a     
    Parse::CPAN::Meta   1.4402  
    Test::Harness       3.23    
    Test::More          0.98    
    YAML                0.84    
    YAML::Syck          1.22    
    version             0.9901  


--

Summary of my perl5 (revision 5 version 16 subversion 3) configuration:
   
  Platform:
    osname=linux, osvers=2.6.32-358.2.1.el6.i686, archname=i686-linux
    uname='linux foobar 2.6.32-358.2.1.el6.i686 #1 smp tue mar 12 21:42:46 utc 2013 i686 i686 i386 gnulinux '
    config_args='-de -Dprefix=/home/jackal/perl5/perlbrew/perls/perl-5.16.3 -Aeval:scriptdir=/home/jackal/perl5/perlbrew/perls/perl-5.16.3/bin'
    hint=recommended, useposix=true, d_sigaction=define
    useithreads=undef, usemultiplicity=undef
    useperlio=define, d_sfio=undef, uselargefiles=define, usesocks=undef
    use64bitint=undef, use64bitall=undef, uselongdouble=undef
    usemymalloc=n, bincompat5005=undef
  Compiler:
    cc='cc', ccflags ='-fno-strict-aliasing -pipe -fstack-protector -I/usr/local/include -D_LARGEFILE_SOURCE -D_FILE_OFFSET_BITS=64',
    optimize='-O2',
    cppflags='-fno-strict-aliasing -pipe -fstack-protector -I/usr/local/include'
    ccversion='', gccversion='4.4.7 20120313 (Red Hat 4.4.7-3)', gccosandvers=''
    intsize=4, longsize=4, ptrsize=4, doublesize=8, byteorder=1234
    d_longlong=define, longlongsize=8, d_longdbl=define, longdblsize=12
    ivtype='long', ivsize=4, nvtype='double', nvsize=8, Off_t='off_t', lseeksize=8
    alignbytes=4, prototype=define
  Linker and Libraries:
    ld='cc', ldflags =' -fstack-protector -L/usr/local/lib'
    libpth=/usr/local/lib /lib /usr/lib
    libs=-lnsl -ldl -lm -lcrypt -lutil -lc
    perllibs=-lnsl -ldl -lm -lcrypt -lutil -lc
    libc=/lib/libc-2.12.so, so=so, useshrplib=false, libperl=libperl.a
    gnulibc_version='2.12'
  Dynamic Linking:
    dlsrc=dl_dlopen.xs, dlext=so, d_dlsymun=undef, ccdlflags='-Wl,-E'
    cccdlflags='-fPIC', lddlflags='-shared -O2 -L/usr/local/lib -fstack-protector'


Characteristics of this binary (from libperl): 
  Compile-time options: HAS_TIMES PERLIO_LAYERS PERL_DONT_CREATE_GVSV
                        PERL_MALLOC_WRAP PERL_PRESERVE_IVUV USE_LARGE_FILES
                        USE_LOCALE USE_LOCALE_COLLATE USE_LOCALE_CTYPE
                        USE_LOCALE_NUMERIC USE_PERLIO USE_PERL_ATOF
  Built under linux
  Compiled at Apr 11 2013 21:56:53
  %ENV:
    PERL5LIB="/home/jackal/.cpan/build/Time-Format-1.12-i367n0/blib/arch:/home/jackal/.cpan/build/Time-Format-1.12-i367n0/blib/lib:/home/jackal/.cpan/build/Config-Simple-4.58-fgVDqa/blib/arch:/home/jackal/.cpan/build/Config-Simple-4.58-fgVDqa/blib/lib"
    PERL5OPT=""
    PERL5_CPANPLUS_IS_RUNNING="16465"
    PERL5_CPAN_IS_RUNNING="16465"
    PERL5_CPAN_IS_RUNNING_IN_RECURSION="1836,16465"
    PERLBREW_BASHRC_VERSION="0.59"
    PERLBREW_HOME="/home/jackal/.perlbrew"
    PERLBREW_MANPATH="/home/jackal/perl5/perlbrew/perls/perl-5.16.3/man"
    PERLBREW_PATH="/home/jackal/perl5/perlbrew/bin:/home/jackal/perl5/perlbrew/perls/perl-5.16.3/bin"
    PERLBREW_PERL="perl-5.16.3"
    PERLBREW_ROOT="/home/jackal/perl5/perlbrew"
    PERLBREW_VERSION="0.59"
    PERL_CR_SMOKER_CURRENT="Config-Simple-Extended-0.11"
    PERL_EXTUTILS_AUTOINSTALL="--defaultdeps"
    PERL_MM_USE_DEFAULT="1"
  @INC:
    /home/jackal/.cpan/build/Time-Format-1.12-i367n0/blib/arch
    /home/jackal/.cpan/build/Time-Format-1.12-i367n0/blib/lib
    /home/jackal/.cpan/build/Config-Simple-4.58-fgVDqa/blib/arch
    /home/jackal/.cpan/build/Config-Simple-4.58-fgVDqa/blib/lib
    /home/jackal/perl5/perlbrew/perls/perl-5.16.3/lib/site_perl/5.16.3/i686-linux
    /home/jackal/perl5/perlbrew/perls/perl-5.16.3/lib/site_perl/5.16.3
    /home/jackal/perl5/perlbrew/perls/perl-5.16.3/lib/5.16.3/i686-linux
    /home/jackal/perl5/perlbrew/perls/perl-5.16.3/lib/5.16.3
    .