Data-Printer v1.002001 Perl 5 v5.26.3 x86_64-linux-multi
- Status
- Pass
- From
- Nigel Horne
- Dist
-
Data-Printer v1.002001
- Platform
- Perl 5 v5.26.3 x86_64-linux-multi
- Date
- 2025-06-03 20:23:32
- ID
- 9e63782c-40b8-11f0-adfe-d83bacd65ec8
This distribution has been tested as part of the CPAN Testers
project, supporting the Perl programming language. See
http://wiki.cpantesters.org/ for more information or email
questions to cpan-testers-discuss@perl.org
--
Dear Breno G. de Oliveira,
This is a computer-generated report for Data-Printer-1.002001
on perl 5.26.3, created by CPAN-Reporter-1.2018.
Thank you for uploading your work to CPAN. Congratulations!
All tests were successful.
Sections of this report:
* Tester comments
* Program output
* Prerequisites
* Environment and other context
------------------------------
TESTER COMMENTS
------------------------------
Additional comments from tester:
this report is from an automated smoke testing program
and was not reviewed by a human for accuracy
------------------------------
PROGRAM OUTPUT
------------------------------
Output from '/usr/bin/make test':
PERL_DL_NONLAZY=1 "/home/smoker/perl5/perlbrew/perls/perl-5.26.3-multi/bin/perl5.26.3" "-MExtUtils::Command::MM" "-MTest::Harness" "-e" "undef *Test::Harness::Switches; test_harness(0, 'blib/lib', 'blib/arch')" t/*.t
# available sort module: core
t/000.0-nsort.t ............. ok
t/000-load.t ................ ok
# $^O is linux
t/000.1-home.t .............. ok
t/000.2-warn.t .............. ok
t/001-object.t .............. ok
t/002-scalar.t .............. ok
t/003-ref.t ................. ok
t/004-vstring.t ............. ok
t/005-lvalue.t .............. ok
t/007.format.t .............. ok
t/006-glob.t ................ ok
t/008-regex.t ............... ok
t/009-array.t ............... ok
t/010-hashes.t .............. ok
t/011-class.t ............... ok
t/011.1-attributes.t ........ ok
t/011.2-roles.t ............. ok
t/011.3-object_pad.t ........ ok
t/012-code.t ................ ok
t/013-refcount.t ............ ok
t/014-memsize.t ............. ok
t/015-multiline.t ........... ok
t/016-merge_options.t ....... ok
t/017-rc_file.t ............. ok
t/018-alias.t ............... ok
t/019-output.t .............. ok
t/020-return_value.t ........ ok
t/022-no_prototypes.t ....... ok
t/021-p_vs_object.t ......... ok
t/024-tied.t ................ ok
t/023-filters.t ............. ok
t/026-caller_message.t ...... ok
t/025-profiles.t ............ ok
t/027-nativeperlclass.t ..... skipped: perl native classes only available after 5.38
t/100-filter_datetime.t ..... ok
# filter tests for DBI 1.643
t/101-filter_db.t ........... ok
t/102-filter_digest.t ....... ok
t/103-filter_contenttype.t .. ok
# filter tests for 2.27400_02
# filter tests for JSON::XS 4.02
# filter tests for JSON 4.02
# filter tests for JSON::MaybeXS 1.004002 with JSON::XS 4.02
# filter for Cpanel::JSON::XS 4.19
t/998-color.t ............... skipped: color level 1 < 3
t/104-filter_web.t .......... ok
t/999-themes.t .............. ok
All tests successful.
Files=41, Tests=693, 11 wallclock secs ( 0.55 usr 0.17 sys + 16.20 cusr 4.30 csys = 21.22 CPU)
Result: PASS
------------------------------
PREREQUISITES
------------------------------
Prerequisite modules loaded:
requires:
Module Need Have
------------------- ---- --------
Fcntl 0 1.13
File::Spec 0 3.75
File::Temp 0 0.2309
Scalar::Util 0 1.46_02
Test::More 0 1.302175
version 0.77 0.9917
build_requires:
Module Need Have
------------------- ---- --------
ExtUtils::MakeMaker 0 7.44
configure_requires:
Module Need Have
------------------- ---- --------
ExtUtils::MakeMaker 0 7.44
------------------------------
ENVIRONMENT AND OTHER CONTEXT
------------------------------
Environment variables:
AUTOMATED_TESTING = 1
HARNESS_OPTIONS = c:j2
PATH = /home/smoker/perl5/perlbrew/bin:/home/smoker/perl5/perlbrew/perls/perl-5.26.3-multi/bin:/usr/local/sbin:/usr/local/bin:/usr/sbin:/usr/bin:/sbin:/bin:
PERL5LIB = /home/smoker/.cpan/build/Module-CoreList-5.20250528-0/blib/arch:/home/smoker/.cpan/build/Module-CoreList-5.20250528-0/blib/lib:/home/smoker/.cpan/build/CPAN-Perl-Releases-5.20250528-0/blib/arch:/home/smoker/.cpan/build/CPAN-Perl-Releases-5.20250528-0/blib/lib:/home/smoker/.cpan/build/Text-Textile2MarkdownStandalone-0.11-0/blib/arch:/home/smoker/.cpan/build/Text-Textile2MarkdownStandalone-0.11-0/blib/lib:/home/smoker/.cpan/build/Debug-Helper-Flag-0.03-0/blib/arch:/home/smoker/.cpan/build/Debug-Helper-Flag-0.03-0/blib/lib:/home/smoker/.cpan/build/Test-Lib-0.003-0/blib/arch:/home/smoker/.cpan/build/Test-Lib-0.003-0/blib/lib:/home/smoker/.cpan/build/Config-INI-RefVars-0.21-0/blib/arch:/home/smoker/.cpan/build/Config-INI-RefVars-0.21-0/blib/lib:/home/smoker/.cpan/build/Test-Warn-0.37-0/blib/arch:/home/smoker/.cpan/build/Test-Warn-0.37-0/blib/lib:/home/smoker/.cpan/build/Algorithm-Graphs-Reachable-Tiny-0.11-0/blib/arch:/home/smoker/.cpan/build/Algorithm-Graphs-Reachable-Tiny-0.11-0/blib/lib
PERL5OPT =
PERL5_CPANPLUS_IS_RUNNING = 30
PERL5_CPAN_IS_RUNNING = 30
PERL5_CPAN_IS_RUNNING_IN_RECURSION = 1,30
PERLBREW_HOME = /home/smoker/.perlbrew
PERLBREW_MANPATH = /home/smoker/perl5/perlbrew/perls/perl-5.26.3-multi/man
PERLBREW_PATH = /home/smoker/perl5/perlbrew/bin:/home/smoker/perl5/perlbrew/perls/perl-5.26.3-multi/bin
PERLBREW_PERL = perl-5.26.3-multi
PERLBREW_ROOT = /home/smoker/perl5/perlbrew
PERLBREW_SHELLRC_VERSION = 0.88
PERLBREW_VERSION = 0.88
PERL_USE_UNSAFE_INC = 1
SHELL = /bin/bash
TERM = xterm
TMPDIR = /tmp/testwrapper.17
Perl special variables (and OS-specific diagnostics, for MSWin32):
$^X = /home/smoker/perl5/perlbrew/perls/perl-5.26.3-multi/bin/perl5.26.3
$UID/$EUID = 1000 / 1000
$GID = 1000 1000
$EGID = 1000 1000
Perl module toolchain versions installed:
Module Have
------------------- ----------
CPAN 2.18
CPAN::Meta 2.150010
Cwd 3.75
ExtUtils::CBuilder 0.280225
ExtUtils::Command 7.44
ExtUtils::Install 2.06
ExtUtils::MakeMaker 7.44
ExtUtils::Manifest 1.70
ExtUtils::ParseXS 3.34
File::Spec 3.75
JSON 4.02
JSON::PP 2.27400_02
Module::Build 0.4231
Module::Signature n/a
Parse::CPAN::Meta 2.150010
Test::Harness 3.38
Test::More 1.302175
YAML 1.30
YAML::Syck 1.32
version 0.9917
--
Summary of my perl5 (revision 5 version 26 subversion 3) configuration:
Platform:
osname=linux
osvers=5.3.0-1018-oracle
archname=x86_64-linux-multi
uname='linux a5c78c39564b 5.3.0-1018-oracle #20~18.04.1-ubuntu smp mon may 11 12:47:44 utc 2020 x86_64 gnulinux '
config_args='-de -Dprefix=/home/smoker/perl5/perlbrew/perls/perl-5.26.3-multi -Dusedevel -Dusemultiplicity -Accflags=-O2 -pipe -Wall -Wextra -mtune=native -march=native -Aeval:scriptdir=/home/smoker/perl5/perlbrew/perls/perl-5.26.3-multi/bin'
hint=recommended
useposix=true
d_sigaction=define
useithreads=undef
usemultiplicity=define
use64bitint=define
use64bitall=define
uselongdouble=undef
usemymalloc=n
default_inc_excludes_dot=define
bincompat5005=undef
Compiler:
cc='cc'
ccflags ='-O2 -pipe -Wall -Wextra -mtune=native -march=native -fwrapv -fno-strict-aliasing -fstack-protector-strong -I/usr/local/include -D_LARGEFILE_SOURCE -D_FILE_OFFSET_BITS=64 -D_FORTIFY_SOURCE=2'
optimize='-O2'
cppflags='-O2 -pipe -Wall -Wextra -mtune=native -march=native -fwrapv -fno-strict-aliasing -fstack-protector-strong -I/usr/local/include'
ccversion=''
gccversion='8.3.0'
gccosandvers=''
intsize=4
longsize=8
ptrsize=8
doublesize=8
byteorder=12345678
doublekind=3
d_longlong=define
longlongsize=8
d_longdbl=define
longdblsize=16
longdblkind=3
ivtype='long'
ivsize=8
nvtype='double'
nvsize=8
Off_t='off_t'
lseeksize=8
alignbytes=8
prototype=define
Linker and Libraries:
ld='cc'
ldflags =' -fstack-protector-strong -L/usr/local/lib'
libpth=/usr/local/lib /usr/lib/gcc/x86_64-linux-gnu/8/include-fixed /usr/include/x86_64-linux-gnu /usr/lib /lib/x86_64-linux-gnu /lib/../lib /usr/lib/x86_64-linux-gnu /usr/lib/../lib /lib
libs=-lpthread -lnsl -ldl -lm -lcrypt -lutil -lc
perllibs=-lpthread -lnsl -ldl -lm -lcrypt -lutil -lc
libc=libc-2.28.so
so=so
useshrplib=false
libperl=libperl.a
gnulibc_version='2.28'
Dynamic Linking:
dlsrc=dl_dlopen.xs
dlext=so
d_dlsymun=undef
ccdlflags='-Wl,-E'
cccdlflags='-fPIC'
lddlflags='-shared -O2 -L/usr/local/lib -fstack-protector-strong'
Characteristics of this binary (from libperl):
Compile-time options:
HAS_TIMES
MULTIPLICITY
PERLIO_LAYERS
PERL_COPY_ON_WRITE
PERL_DONT_CREATE_GVSV
PERL_IMPLICIT_CONTEXT
PERL_MALLOC_WRAP
PERL_OP_PARENT
PERL_PRESERVE_IVUV
PERL_USE_DEVEL
USE_64_BIT_ALL
USE_64_BIT_INT
USE_LARGE_FILES
USE_LOCALE
USE_LOCALE_COLLATE
USE_LOCALE_CTYPE
USE_LOCALE_NUMERIC
USE_LOCALE_TIME
USE_PERLIO
USE_PERL_ATOF
Locally applied patches:
Devel::PatchPerl 2.00
Built under linux
Compiled at Jun 9 2020 22:28:58
%ENV:
PERL5LIB="/home/smoker/.cpan/build/Module-CoreList-5.20250528-0/blib/arch:/home/smoker/.cpan/build/Module-CoreList-5.20250528-0/blib/lib:/home/smoker/.cpan/build/CPAN-Perl-Releases-5.20250528-0/blib/arch:/home/smoker/.cpan/build/CPAN-Perl-Releases-5.20250528-0/blib/lib:/home/smoker/.cpan/build/Text-Textile2MarkdownStandalone-0.11-0/blib/arch:/home/smoker/.cpan/build/Text-Textile2MarkdownStandalone-0.11-0/blib/lib:/home/smoker/.cpan/build/Debug-Helper-Flag-0.03-0/blib/arch:/home/smoker/.cpan/build/Debug-Helper-Flag-0.03-0/blib/lib:/home/smoker/.cpan/build/Test-Lib-0.003-0/blib/arch:/home/smoker/.cpan/build/Test-Lib-0.003-0/blib/lib:/home/smoker/.cpan/build/Config-INI-RefVars-0.21-0/blib/arch:/home/smoker/.cpan/build/Config-INI-RefVars-0.21-0/blib/lib:/home/smoker/.cpan/build/Test-Warn-0.37-0/blib/arch:/home/smoker/.cpan/build/Test-Warn-0.37-0/blib/lib:/home/smoker/.cpan/build/Algorithm-Graphs-Reachable-Tiny-0.11-0/blib/arch:/home/smoker/.cpan/build/Algorithm-Graphs-Reachable-Tiny-0.11-0/blib/lib"
PERL5OPT=""
PERL5_CPANPLUS_IS_RUNNING="30"
PERL5_CPAN_IS_RUNNING="30"
PERL5_CPAN_IS_RUNNING_IN_RECURSION="1,30"
PERLBREW_HOME="/home/smoker/.perlbrew"
PERLBREW_MANPATH="/home/smoker/perl5/perlbrew/perls/perl-5.26.3-multi/man"
PERLBREW_PATH="/home/smoker/perl5/perlbrew/bin:/home/smoker/perl5/perlbrew/perls/perl-5.26.3-multi/bin"
PERLBREW_PERL="perl-5.26.3-multi"
PERLBREW_ROOT="/home/smoker/perl5/perlbrew"
PERLBREW_SHELLRC_VERSION="0.88"
PERLBREW_VERSION="0.88"
PERL_USE_UNSAFE_INC="1"
@INC:
/home/smoker/.cpan/build/Module-CoreList-5.20250528-0/blib/arch
/home/smoker/.cpan/build/Module-CoreList-5.20250528-0/blib/lib
/home/smoker/.cpan/build/CPAN-Perl-Releases-5.20250528-0/blib/arch
/home/smoker/.cpan/build/CPAN-Perl-Releases-5.20250528-0/blib/lib
/home/smoker/.cpan/build/Text-Textile2MarkdownStandalone-0.11-0/blib/arch
/home/smoker/.cpan/build/Text-Textile2MarkdownStandalone-0.11-0/blib/lib
/home/smoker/.cpan/build/Debug-Helper-Flag-0.03-0/blib/arch
/home/smoker/.cpan/build/Debug-Helper-Flag-0.03-0/blib/lib
/home/smoker/.cpan/build/Test-Lib-0.003-0/blib/arch
/home/smoker/.cpan/build/Test-Lib-0.003-0/blib/lib
/home/smoker/.cpan/build/Config-INI-RefVars-0.21-0/blib/arch
/home/smoker/.cpan/build/Config-INI-RefVars-0.21-0/blib/lib
/home/smoker/.cpan/build/Test-Warn-0.37-0/blib/arch
/home/smoker/.cpan/build/Test-Warn-0.37-0/blib/lib
/home/smoker/.cpan/build/Algorithm-Graphs-Reachable-Tiny-0.11-0/blib/arch
/home/smoker/.cpan/build/Algorithm-Graphs-Reachable-Tiny-0.11-0/blib/lib
/home/smoker/perl5/perlbrew/perls/perl-5.26.3-multi/lib/site_perl/5.26.3/x86_64-linux-multi
/home/smoker/perl5/perlbrew/perls/perl-5.26.3-multi/lib/site_perl/5.26.3
/home/smoker/perl5/perlbrew/perls/perl-5.26.3-multi/lib/5.26.3/x86_64-linux-multi
/home/smoker/perl5/perlbrew/perls/perl-5.26.3-multi/lib/5.26.3
.