Hash-Merge v0.302 Perl 5 v5.41.10 darwin-2level
- Status
- Pass
- From
- David Cantrell (DCANTRELL)
- Dist
-
Hash-Merge v0.302
- Platform
- Perl 5 v5.41.10 darwin-2level
- Date
- 2025-03-02 22:35:18
- ID
- 9e6ace9c-f7b6-11ef-81c7-af3bbd5ca0f5
This distribution has been tested as part of the CPAN Testers
project, supporting the Perl programming language. See
http://wiki.cpantesters.org/ for more information or email
questions to cpan-testers-discuss@perl.org
--
Dear Stefan Hermes,
This is a computer-generated report for Hash-Merge-0.302
on perl 5.41.10, created by CPAN-Reporter-1.2020.
Thank you for uploading your work to CPAN. Congratulations!
All tests were successful.
Sections of this report:
* Tester comments
* Program output
* Prerequisites
* Environment and other context
------------------------------
TESTER COMMENTS
------------------------------
Additional comments from tester:
this report is from an automated smoke testing program
and was not reviewed by a human for accuracy
------------------------------
PROGRAM OUTPUT
------------------------------
Output from '/usr/bin/make test':
PERL_DL_NONLAZY=1 "/Users/cpantesting/cpantesting/perl-blead/bin/perl5.41.10" "-MExtUtils::Command::MM" "-MTest::Harness" "-e" "undef *Test::Harness::Switches; test_harness(0, 'blib/lib', 'blib/arch')" t/*.t xt/*.t t/Auto/*.t t/Clone/*.t t/Storable/*.t t/ClonePP/*.t
# Testing Hash::Merge version 0.302, Perl 5.041010, /Users/cpantesting/cpantesting/perl-blead/bin/perl5.41.10
# Using backend Clone version 0.47
t/Auto/00-load.t ....... ok
t/Auto/01-merge.t ...... ok
t/Auto/02-oo.t ......... ok
# Testing Hash::Merge version 0.302, Perl 5.041010, /Users/cpantesting/cpantesting/perl-blead/bin/perl5.41.10
# Using backend Clone version 0.47
t/Clone/00-load.t ...... ok
t/Clone/01-merge.t ..... ok
t/Clone/02-oo.t ........ ok
t/ClonePP/00-load.t .... skipped: No Clone::PP found.
t/ClonePP/01-merge.t ... skipped: No Clone::PP found.
t/ClonePP/02-oo.t ...... skipped: No Clone::PP found.
# Testing Hash::Merge version 0.302, Perl 5.041010, /Users/cpantesting/cpantesting/perl-blead/bin/perl5.41.10
# Using backend Storable version 3.35
t/Storable/00-load.t ... ok
t/Storable/01-merge.t .. ok
t/Storable/02-oo.t ..... ok
All tests successful.
Files=12, Tests=510, 5 wallclock secs ( 0.14 usr 0.05 sys + 1.52 cusr 0.32 csys = 2.03 CPU)
Result: PASS
------------------------------
PREREQUISITES
------------------------------
Prerequisite modules loaded:
requires:
Module Need Have
------------------- -------- --------
Clone::Choose 0.008 0.010
perl 5.008001 5.041010
Scalar::Util 0 1.68_01
build_requires:
Module Need Have
------------------- -------- --------
Test::More 0.9 1.302209
configure_requires:
Module Need Have
------------------- -------- --------
ExtUtils::MakeMaker 6.64 7.70
------------------------------
ENVIRONMENT AND OTHER CONTEXT
------------------------------
Environment variables:
AUTOMATED_TESTING = 1
NONINTERACTIVE_TESTING = 1
PATH = /Users/cpantesting/perl5/perlbrew/bin:/Users/cpantesting/perl5/perlbrew/perls/perl-5.32.0/bin:/usr/local/bin:/System/Cryptexes/App/usr/bin:/usr/bin:/bin:/usr/sbin:/sbin:/var/run/com.apple.security.cryptexd/codex.system/bootstrap/usr/local/bin:/var/run/com.apple.security.cryptexd/codex.system/bootstrap/usr/bin:/var/run/com.apple.security.cryptexd/codex.system/bootstrap/usr/appleinternal/bin:/Library/Apple/usr/bin:/Applications/VMware Fusion.app/Contents/Public:/usr/local/zfs/bin:/Users/cpantesting/.cargo/bin
PERL = blead
PERL5LIB =
PERL5OPT =
PERL5_CPANPLUS_IS_RUNNING = 16088
PERL5_CPAN_IS_RUNNING = 16088
PERLBREW_HOME = /Users/cpantesting/.perlbrew
PERLBREW_MANPATH = /Users/cpantesting/perl5/perlbrew/perls/perl-5.32.0/man
PERLBREW_PATH = /Users/cpantesting/perl5/perlbrew/bin:/Users/cpantesting/perl5/perlbrew/perls/perl-5.32.0/bin
PERLBREW_PERL = perl-5.32.0
PERLBREW_ROOT = /Users/cpantesting/perl5/perlbrew
PERLBREW_SHELLRC_VERSION = 0.94
PERLBREW_VERSION = 0.94
PERLVER = blead
PERL_INLINE_DIRECTORY = /Users/cpantesting/.Inline-blead
PERL_MM_USE_DEFAULT = 1
PERL_USE_UNSAFE_INC = 0
SHELL = /bin/bash
TERM = screen
Perl special variables (and OS-specific diagnostics, for MSWin32):
$^X = /Users/cpantesting/cpantesting/perl-blead/bin/perl5.41.10
$UID/$EUID = 503 / 503
$GID = 20 20 12 61 703 702 701 100
$EGID = 20 20 12 61 703 702 701 100
Perl module toolchain versions installed:
Module Have
------------------- --------
CPAN 2.38
CPAN::Meta 2.150010
Cwd 3.92
ExtUtils::CBuilder 0.280240
ExtUtils::Command 7.70
ExtUtils::Install 2.22
ExtUtils::MakeMaker 7.70
ExtUtils::Manifest 1.75
ExtUtils::ParseXS 3.57
File::Spec 3.93
JSON n/a
JSON::PP 4.16
Module::Build 0.4234
Module::Signature n/a
Parse::CPAN::Meta 2.150010
Test2 1.302209
Test::Harness 3.50
Test::More 1.302209
YAML n/a
YAML::Syck n/a
version 0.9933
--
Summary of my perl5 (revision 5 version 41 subversion 10) configuration:
Commit id: 8456d3de187c40b9e2185b17650c4213865b4ce6
Platform:
osname=darwin
osvers=24.2.0
archname=darwin-2level
uname='darwin harrow.home 24.2.0 darwin kernel version 24.2.0: fri dec 6 18:41:43 pst 2024; root:xnu-11215.61.5~2release_x86_64 x86_64 '
config_args='-de -Dprefix=/Users/cpantesting/cpantesting/perl-blead -Dusedevel'
hint=recommended
useposix=true
d_sigaction=define
useithreads=undef
usemultiplicity=undef
use64bitint=define
use64bitall=define
uselongdouble=undef
usemymalloc=n
default_inc_excludes_dot=define
Compiler:
cc='cc'
ccflags ='-fno-common -DPERL_DARWIN -mmacosx-version-min=15.2 -DNO_THREAD_SAFE_QUERYLOCALE -DNO_POSIX_2008_LOCALE -DHAS_BROKEN_LANGINFO_CODESET -fno-strict-aliasing -pipe -fstack-protector-strong -I/usr/local/include'
optimize='-O3'
cppflags='-fno-common -DPERL_DARWIN -mmacosx-version-min=15.2 -DNO_THREAD_SAFE_QUERYLOCALE -DNO_POSIX_2008_LOCALE -DHAS_BROKEN_LANGINFO_CODESET -fno-strict-aliasing -pipe -fstack-protector-strong -I/usr/local/include'
ccversion=''
gccversion='Apple LLVM 16.0.0 (clang-1600.0.26.6)'
gccosandvers=''
intsize=4
longsize=8
ptrsize=8
doublesize=8
byteorder=12345678
doublekind=3
d_longlong=define
longlongsize=8
d_longdbl=define
longdblsize=16
longdblkind=3
ivtype='long'
ivsize=8
nvtype='double'
nvsize=8
Off_t='off_t'
lseeksize=8
alignbytes=8
prototype=define
Linker and Libraries:
ld='cc'
ldflags =' -mmacosx-version-min=15.2 -fstack-protector-strong -L/usr/local/lib'
libpth=/usr/local/lib /Applications/Xcode.app/Contents/Developer/Toolchains/XcodeDefault.xctoolchain/usr/lib/clang/16/lib /Applications/Xcode.app/Contents/Developer/Platforms/MacOSX.platform/Developer/SDKs/MacOSX.sdk/usr/lib /Applications/Xcode.app/Contents/Developer/Toolchains/XcodeDefault.xctoolchain/usr/lib /usr/lib
libs=-lgdbm
perllibs=
libc=
so=dylib
useshrplib=false
libperl=libperl.a
gnulibc_version=''
Dynamic Linking:
dlsrc=dl_dlopen.xs
dlext=bundle
d_dlsymun=undef
ccdlflags=' '
cccdlflags=' '
lddlflags=' -mmacosx-version-min=15.2 -bundle -undefined dynamic_lookup -L/usr/local/lib -fstack-protector-strong'
Characteristics of this binary (from libperl):
Compile-time options:
HAS_LONG_DOUBLE
HAS_STRTOLD
HAS_TIMES
PERLIO_LAYERS
PERL_COPY_ON_WRITE
PERL_DONT_CREATE_GVSV
PERL_HASH_FUNC_SIPHASH13
PERL_HASH_USE_SBOX32
PERL_MALLOC_WRAP
PERL_OP_PARENT
PERL_PRESERVE_IVUV
PERL_USE_DEVEL
PERL_USE_SAFE_PUTENV
USE_64_BIT_ALL
USE_64_BIT_INT
USE_LARGE_FILES
USE_LOCALE
USE_LOCALE_COLLATE
USE_LOCALE_CTYPE
USE_LOCALE_NUMERIC
USE_LOCALE_TIME
USE_PERLIO
USE_PERL_ATOF
Built under darwin
Compiled at Feb 28 2025 17:41:28
%ENV:
PERL="blead"
PERL5LIB=""
PERL5OPT=""
PERL5_CPANPLUS_IS_RUNNING="16088"
PERL5_CPAN_IS_RUNNING="16088"
PERLBREW_HOME="/Users/cpantesting/.perlbrew"
PERLBREW_MANPATH="/Users/cpantesting/perl5/perlbrew/perls/perl-5.32.0/man"
PERLBREW_PATH="/Users/cpantesting/perl5/perlbrew/bin:/Users/cpantesting/perl5/perlbrew/perls/perl-5.32.0/bin"
PERLBREW_PERL="perl-5.32.0"
PERLBREW_ROOT="/Users/cpantesting/perl5/perlbrew"
PERLBREW_SHELLRC_VERSION="0.94"
PERLBREW_VERSION="0.94"
PERLVER="blead"
PERL_INLINE_DIRECTORY="/Users/cpantesting/.Inline-blead"
PERL_MM_USE_DEFAULT="1"
PERL_USE_UNSAFE_INC="0"
@INC:
/Users/cpantesting/cpantesting/perl-blead/lib/site_perl/5.41.10/darwin-2level
/Users/cpantesting/cpantesting/perl-blead/lib/site_perl/5.41.10
/Users/cpantesting/cpantesting/perl-blead/lib/5.41.10/darwin-2level
/Users/cpantesting/cpantesting/perl-blead/lib/5.41.10