Report for Text-Table-1.130

Back
From: metabase:user:00e8548a-0e72-11e3-8ee3-df0a9c418065
Subject: PASS Text-Table-1.130 v5.16.3 GNU/Linux
Date: 2016-07-25T17:38:37Z

This distribution has been tested as part of the CPAN Testers
project, supporting the Perl programming language.  See
http://wiki.cpantesters.org/ for more information or email
questions to cpan-testers-discuss@perl.org


--
Dear Shlomi Fish,

This is a computer-generated report for Text-Table-1.130
on perl 5.16.3, created by CPAN-Reporter-1.2018.

Thank you for uploading your work to CPAN.  Congratulations!
All tests were successful.

Sections of this report:

    * Tester comments
    * Program output
    * Prerequisites
    * Environment and other context

------------------------------
TESTER COMMENTS
------------------------------

Additional comments from tester:

this report is from an automated smoke testing program
and was not reviewed by a human for accuracy

------------------------------
PROGRAM OUTPUT
------------------------------

Output from './Build test':

t/01_ini.t ............................. ok
# Version: 1.130
t/10_Table.t ........................... ok
t/11_Variable_Rule.t ................... ok
t/12_column_seps_as_hashes.t ........... ok
t/13_callback_rules_with_whitespace.t .. ok
t/cpan-changes.t ....................... ok
t/pod-coverage.t ....................... ok
t/pod.t ................................ ok
t/style-trailing-space.t ............... skipped: Test::TrailingSpace required for trailing space test.
All tests successful.
Files=9, Tests=176,  0 wallclock secs ( 0.05 usr  0.02 sys +  0.72 cusr  0.10 csys =  0.89 CPU)
Result: PASS

------------------------------
PREREQUISITES
------------------------------

Prerequisite modules loaded:

requires:

    Module        Need  Have    
    ------------- ----- --------
    perl          5.008 5.016003
    strict        0     1.07    
    Text::Aligner 0.05  0.13    
    warnings      0     1.13    

build_requires:

    Module        Need  Have    
    ------------- ----- --------
    List::Util    0     1.45    
    Test::More    0     1.302040

configure_requires:

    Module        Need  Have    
    ------------- ----- --------
    Module::Build 0.36  0.4218  


------------------------------
ENVIRONMENT AND OTHER CONTEXT
------------------------------

Environment variables:

    AUTOMATED_TESTING = 1
    LANG = en_US.UTF-8
    PATH = /root/perl5/bin:/root/perl5/bin:/usr/local/sbin:/usr/local/bin:/sbin:/bin:/usr/sbin:/usr/bin:/root/bin
    PERL5LIB = /root/.cpan/build/Text-Aligner-0.13-0/blib/arch:/root/.cpan/build/Text-Aligner-0.13-0/blib/lib:/root/.cpan/build/List-AllUtils-0.11-4/blib/arch:/root/.cpan/build/List-AllUtils-0.11-4/blib/lib:/root/.cpan/build/List-SomeUtils-0.52-6/blib/arch:/root/.cpan/build/List-SomeUtils-0.52-6/blib/lib:/root/.cpan/build/List-SomeUtils-XS-0.52-6/blib/arch:/root/.cpan/build/List-SomeUtils-XS-0.52-6/blib/lib:/root/.cpan/build/Graph-Easy-0.76-0/blib/arch:/root/.cpan/build/Graph-Easy-0.76-0/blib/lib:/root/.cpan/build/Class-MethodMaker-2.24-0/blib/arch:/root/.cpan/build/Class-MethodMaker-2.24-0/blib/lib:/root/.cpan/build/Cache-Cache-1.08-0/blib/arch:/root/.cpan/build/Cache-Cache-1.08-0/blib/lib:/root/.cpan/build/ack-2.14-0/blib/arch:/root/.cpan/build/ack-2.14-0/blib/lib:/root/.cpan/build/File-Next-1.16-0/blib/arch:/root/.cpan/build/File-Next-1.16-0/blib/lib:/root/perl5/lib/perl5:/root/perl5/lib/perl5
    PERL5OPT = 
    PERL5_CPANPLUS_IS_RUNNING = 2104
    PERL5_CPAN_IS_RUNNING = 2104
    PERL5_CPAN_IS_RUNNING_IN_RECURSION = 26923,2104
    PERL_CR_SMOKER_CURRENT = Devel-PerlySense-0.0217
    PERL_EXTUTILS_AUTOINSTALL = --defaultdeps
    PERL_LOCAL_LIB_ROOT = /root/perl5::/root/perl5
    PERL_MB_OPT = --install_base "/root/perl5"
    PERL_MM_OPT = INSTALL_BASE=/root/perl5
    PERL_MM_USE_DEFAULT = 1
    SHELL = /bin/bash
    TERM = linux

Perl special variables (and OS-specific diagnostics, for MSWin32):

    $^X = /usr/bin/perl
    $UID/$EUID = 0 / 0
    $GID = 0
    $EGID = 0

Perl module toolchain versions installed:

    Module              Have    
    ------------------- --------
    CPAN                2.14    
    CPAN::Meta          2.150005
    Cwd                 3.62    
    ExtUtils::CBuilder  0.280224
    ExtUtils::Command   7.18    
    ExtUtils::Install   2.04    
    ExtUtils::MakeMaker 7.18    
    ExtUtils::Manifest  1.70    
    ExtUtils::ParseXS   3.30    
    File::Spec          3.62    
    JSON                2.90    
    JSON::PP            2.27400 
    Module::Build       0.4218  
    Module::Signature   0.80    
    Parse::CPAN::Meta   1.4414  
    Test::Harness       3.36    
    Test::More          1.302040
    YAML                1.18    
    YAML::Syck          1.29    
    version             0.9917  


--

Summary of my perl5 (revision 5 version 16 subversion 3) configuration:
   
  Platform:
    osname=linux, osvers=2.6.32-220.17.1.el6.x86_64, archname=x86_64-linux-thread-multi
    uname='linux worker1.bsys.centos.org 2.6.32-220.17.1.el6.x86_64 #1 smp wed may 16 00:01:37 bst 2012 x86_64 x86_64 x86_64 gnulinux '
    config_args='-des -Doptimize=-O2 -g -pipe -Wall -Wp,-D_FORTIFY_SOURCE=2 -fexceptions -fstack-protector-strong --param=ssp-buffer-size=4 -grecord-gcc-switches   -m64 -mtune=generic -Dccdlflags=-Wl,--enable-new-dtags -Dlddlflags=-shared -O2 -g -pipe -Wall -Wp,-D_FORTIFY_SOURCE=2 -fexceptions -fstack-protector-strong --param=ssp-buffer-size=4 -grecord-gcc-switches   -m64 -mtune=generic -Wl,-z,relro  -DDEBUGGING=-g -Dversion=5.16.3 -Dmyhostname=localhost -Dperladmin=root@localhost -Dcc=gcc -Dcf_by=Red Hat, Inc. -Dprefix=/usr -Dvendorprefix=/usr -Dsiteprefix=/usr/local -Dsitelib=/usr/local/share/perl5 -Dsitearch=/usr/local/lib64/perl5 -Dprivlib=/usr/share/perl5 -Dvendorlib=/usr/share/perl5/vendor_perl -Darchlib=/usr/lib64/perl5 -Dvendorarch=/usr/lib64/perl5/vendor_perl -Darchname=x86_64-linux-thread-multi -Dlibpth=/usr/local/lib64 /lib64 /usr/lib64 -Duseshrplib -Dusethreads -Duseithreads -Dusedtrace=/usr/bin/dtrace -Duselargefiles -Dd_semctl_semun -Di_db -Ui_ndbm -Di_gdbm -Di_shadow -Di_syslog -Dman3ext=3pm -Duseperlio -Dinstallusrbinperl=n -Ubincompat5005 -Uversiononly -Dpager=/usr/bin/less -isr -Dd_gethostent_r_proto -Ud_endhostent_r_proto -Ud_sethostent_r_proto -Ud_endprotoent_r_proto -Ud_setprotoent_r_proto -Ud_endservent_r_proto -Ud_setservent_r_proto -Dscriptdir=/usr/bin -Dusesitecustomize'
    hint=recommended, useposix=true, d_sigaction=define
    useithreads=define, usemultiplicity=define
    useperlio=define, d_sfio=undef, uselargefiles=define, usesocks=undef
    use64bitint=define, use64bitall=define, uselongdouble=undef
    usemymalloc=n, bincompat5005=undef
  Compiler:
    cc='gcc', ccflags ='-D_REENTRANT -D_GNU_SOURCE -fno-strict-aliasing -pipe -fstack-protector -I/usr/local/include -D_LARGEFILE_SOURCE -D_FILE_OFFSET_BITS=64',
    optimize='-O2 -g -pipe -Wall -Wp,-D_FORTIFY_SOURCE=2 -fexceptions -fstack-protector-strong --param=ssp-buffer-size=4 -grecord-gcc-switches -m64 -mtune=generic',
    cppflags='-D_REENTRANT -D_GNU_SOURCE -fno-strict-aliasing -pipe -fstack-protector -I/usr/local/include'
    ccversion='', gccversion='4.8.5 20150623 (Red Hat 4.8.5-4)', gccosandvers=''
    intsize=4, longsize=8, ptrsize=8, doublesize=8, byteorder=12345678
    d_longlong=define, longlongsize=8, d_longdbl=define, longdblsize=16
    ivtype='long', ivsize=8, nvtype='double', nvsize=8, Off_t='off_t', lseeksize=8
    alignbytes=8, prototype=define
  Linker and Libraries:
    ld='gcc', ldflags =' -fstack-protector'
    libpth=/usr/local/lib64 /lib64 /usr/lib64
    libs=-lresolv -lnsl -lgdbm -ldb -ldl -lm -lcrypt -lutil -lpthread -lc -lgdbm_compat
    perllibs=-lresolv -lnsl -ldl -lm -lcrypt -lutil -lpthread -lc
    libc=, so=so, useshrplib=true, libperl=libperl.so
    gnulibc_version='2.17'
  Dynamic Linking:
    dlsrc=dl_dlopen.xs, dlext=so, d_dlsymun=undef, ccdlflags='-Wl,--enable-new-dtags -Wl,-rpath,/usr/lib64/perl5/CORE'
    cccdlflags='-fPIC', lddlflags='-shared -O2 -g -pipe -Wall -Wp,-D_FORTIFY_SOURCE=2 -fexceptions -fstack-protector-strong --param=ssp-buffer-size=4 -grecord-gcc-switches -m64 -mtune=generic -Wl,-z,relro '


Characteristics of this binary (from libperl): 
  Compile-time options: HAS_TIMES MULTIPLICITY PERLIO_LAYERS
                        PERL_DONT_CREATE_GVSV PERL_IMPLICIT_CONTEXT
                        PERL_MALLOC_WRAP PERL_PRESERVE_IVUV USE_64_BIT_ALL
                        USE_64_BIT_INT USE_ITHREADS USE_LARGE_FILES
                        USE_LOCALE USE_LOCALE_COLLATE USE_LOCALE_CTYPE
                        USE_LOCALE_NUMERIC USE_PERLIO USE_PERL_ATOF
                        USE_REENTRANT_API USE_SITECUSTOMIZE
  Locally applied patches:
	Fedora Patch1: Removes date check, Fedora/RHEL specific
	Fedora Patch3: support for libdir64
	Fedora Patch4: use libresolv instead of libbind
	Fedora Patch5: USE_MM_LD_RUN_PATH
	Fedora Patch6: Skip hostname tests, due to builders not being network capable
	Fedora Patch7: Dont run one io test due to random builder failures
	Fedora Patch9: Fix find2perl to translate ? glob properly (RT#113054)
	Fedora Patch10: Fix broken atof (RT#109318)
	Fedora Patch13: Clear $@ before "do" I/O error (RT#113730)
	Fedora Patch14: Do not truncate syscall() return value to 32 bits (RT#113980)
	Fedora Patch15: Override the Pod::Simple::parse_file (CPANRT#77530)
	Fedora Patch16: Do not leak with attribute on my variable (RT#114764)
	Fedora Patch17: Allow operator after numeric keyword argument (RT#105924)
	Fedora Patch18: Extend stack in File::Glob::glob, (RT#114984)
	Fedora Patch19: Do not crash when vivifying $|
	Fedora Patch20: Fix misparsing of maketext strings (CVE-2012-6329)
	Fedora Patch21: Add NAME headings to CPAN modules (CPANRT#73396)
	Fedora Patch22: Fix leaking tied hashes (RT#107000) [1]
	Fedora Patch23: Fix leaking tied hashes (RT#107000) [2]
	Fedora Patch24: Fix leaking tied hashes (RT#107000) [3]
	Fedora Patch25: Fix dead lock in PerlIO after fork from thread (RT#106212)
	Fedora Patch26: Make regexp safe in a signal handler (RT#114878)
	Fedora Patch27: Update h2ph(1) documentation (RT#117647)
	Fedora Patch28: Update pod2html(1) documentation (RT#117623)
	Fedora Patch29: Document Math::BigInt::CalcEmu requires Math::BigInt (CPAN RT#85015)
	RHEL Patch30: Use stronger algorithm needed for FIPS in t/op/crypt.t (RT#121591)
	RHEL Patch31: Make *DBM_File desctructors thread-safe (RT#61912)
	RHEL Patch32: Use stronger algorithm needed for FIPS in t/op/taint.t (RT#123338)
	RHEL Patch33: Remove CPU-speed-sensitive test in Benchmark test
  Built under linux
  Compiled at Nov 20 2015 03:29:53
  %ENV:
    PERL5LIB="/root/.cpan/build/Text-Aligner-0.13-0/blib/arch:/root/.cpan/build/Text-Aligner-0.13-0/blib/lib:/root/.cpan/build/List-AllUtils-0.11-4/blib/arch:/root/.cpan/build/List-AllUtils-0.11-4/blib/lib:/root/.cpan/build/List-SomeUtils-0.52-6/blib/arch:/root/.cpan/build/List-SomeUtils-0.52-6/blib/lib:/root/.cpan/build/List-SomeUtils-XS-0.52-6/blib/arch:/root/.cpan/build/List-SomeUtils-XS-0.52-6/blib/lib:/root/.cpan/build/Graph-Easy-0.76-0/blib/arch:/root/.cpan/build/Graph-Easy-0.76-0/blib/lib:/root/.cpan/build/Class-MethodMaker-2.24-0/blib/arch:/root/.cpan/build/Class-MethodMaker-2.24-0/blib/lib:/root/.cpan/build/Cache-Cache-1.08-0/blib/arch:/root/.cpan/build/Cache-Cache-1.08-0/blib/lib:/root/.cpan/build/ack-2.14-0/blib/arch:/root/.cpan/build/ack-2.14-0/blib/lib:/root/.cpan/build/File-Next-1.16-0/blib/arch:/root/.cpan/build/File-Next-1.16-0/blib/lib:/root/perl5/lib/perl5:/root/perl5/lib/perl5"
    PERL5OPT=""
    PERL5_CPANPLUS_IS_RUNNING="2104"
    PERL5_CPAN_IS_RUNNING="2104"
    PERL5_CPAN_IS_RUNNING_IN_RECURSION="26923,2104"
    PERL_CR_SMOKER_CURRENT="Devel-PerlySense-0.0217"
    PERL_EXTUTILS_AUTOINSTALL="--defaultdeps"
    PERL_LOCAL_LIB_ROOT="/root/perl5::/root/perl5"
    PERL_MB_OPT="--install_base "/root/perl5""
    PERL_MM_OPT="INSTALL_BASE=/root/perl5"
    PERL_MM_USE_DEFAULT="1"
  @INC:
    /root/.cpan/build/Text-Aligner-0.13-0/blib/arch
    /root/.cpan/build/Text-Aligner-0.13-0/blib/lib
    /root/.cpan/build/List-AllUtils-0.11-4/blib/arch
    /root/.cpan/build/List-AllUtils-0.11-4/blib/lib
    /root/.cpan/build/List-SomeUtils-0.52-6/blib/arch
    /root/.cpan/build/List-SomeUtils-0.52-6/blib/lib
    /root/.cpan/build/List-SomeUtils-XS-0.52-6/blib/arch
    /root/.cpan/build/List-SomeUtils-XS-0.52-6/blib/lib
    /root/.cpan/build/Graph-Easy-0.76-0/blib/arch
    /root/.cpan/build/Graph-Easy-0.76-0/blib/lib
    /root/.cpan/build/Class-MethodMaker-2.24-0/blib/arch
    /root/.cpan/build/Class-MethodMaker-2.24-0/blib/lib
    /root/.cpan/build/Cache-Cache-1.08-0/blib/arch
    /root/.cpan/build/Cache-Cache-1.08-0/blib/lib
    /root/.cpan/build/ack-2.14-0/blib/arch
    /root/.cpan/build/ack-2.14-0/blib/lib
    /root/.cpan/build/File-Next-1.16-0/blib/arch
    /root/.cpan/build/File-Next-1.16-0/blib/lib
    /root/perl5/lib/perl5/5.16.3/x86_64-linux-thread-multi
    /root/perl5/lib/perl5/5.16.3
    /root/perl5/lib/perl5/x86_64-linux-thread-multi
    /root/perl5/lib/perl5
    /root/perl5/lib/perl5/5.16.3/x86_64-linux-thread-multi
    /root/perl5/lib/perl5/5.16.3
    /root/perl5/lib/perl5/x86_64-linux-thread-multi
    /root/perl5/lib/perl5
    /usr/local/lib64/perl5
    /usr/local/share/perl5
    /usr/lib64/perl5/vendor_perl
    /usr/share/perl5/vendor_perl
    /usr/lib64/perl5
    /usr/share/perl5
    .