Report for POE-Component-Server-SimpleHTTP-2.12

Back
From: metabase:user:d2c9f356-b46f-11df-9a90-20a83c0b7757
Subject: PASS POE-Component-Server-SimpleHTTP-2.12 v5.14.2 SunOS/Solaris
Date: 2011-11-08T05:15:05Z

This distribution has been tested as part of the CPAN Testers
project, supporting the Perl programming language.  See
http://wiki.cpantesters.org/ for more information or email
questions to cpan-testers-discuss@perl.org


--
Dear Chris Williams,

This is a computer-generated report for POE-Component-Server-SimpleHTTP-2.12
on perl 5.14.2, created by CPAN-Reporter-1.2002.

Thank you for uploading your work to CPAN.  Congratulations!
All tests were successful.

Sections of this report:

    * Tester comments
    * Program output
    * Prerequisites
    * Environment and other context

------------------------------
TESTER COMMENTS
------------------------------

Additional comments from tester:

this report is from an automated smoke testing program
and was not reviewed by a human for accuracy

------------------------------
PROGRAM OUTPUT
------------------------------

Output from '/usr/local/bin/make test':

PERL_DL_NONLAZY=1 /export/home/cpant2/perl5/bin/perl5.14.2 "-MExtUtils::Command::MM" "-e" "test_harness(0, 'inc', 'blib/lib', 'blib/arch')" t/*.t
# Testing POE::Component::Server::SimpleHTTP-2.12, POE-1.312, Perl 5.014002, /export/home/cpant2/perl5/bin/perl5.14.2
t/01_load.t ........... ok
# GET http://pocosimpletest.com:33988/ HTTP/1.1
# Host: 127.0.0.1:33988
# 
# HTTP/1.1 200 (OK)
# Date: Tue, 08 Nov 2011 05:15:00 GMT
# Content-Length: 3
# Content-Type: text/plain
# 
# Moo
t/02_simple.t ......... ok
# HTTP/1.1 404 (Not Found)
# Date: Tue, 08 Nov 2011 05:15:01 GMT
# Content-Length: 13
# Content-Type: text/plain
# 
# 404 Not Found
t/03_bad_handler.t .... ok
# GEt http://pocosimpletest.com:33992/ HTTP/1.1
# Host: 127.0.0.1:33992
# 
# HTTP/1.1 200 (OK)
# Date: Tue, 08 Nov 2011 05:15:01 GMT
# Content-Length: 3
# Content-Type: text/plain
# 
# Moo
t/03_bad_request.t .... ok
# 200 (OK)
# Date: Tue, 08 Nov 2011 05:15:02 GMT
# Content-Length: 11
# Content-Type: text/plain
# X-HTTP-Version: 1.1
# 
# this is top
# 200 (OK)
# Date: Tue, 08 Nov 2011 05:15:02 GMT
# Content-Length: 12
# Content-Type: text/plain
# X-HTTP-Version: 1.1
# 
# this is honk
# 200 (OK)
# Date: Tue, 08 Nov 2011 05:15:02 GMT
# Content-Length: 123
# Content-Type: text/html
# X-HTTP-Version: 1.1
# 
# <html>
# <head><title>YEAH!</title></head>
# <body><p>This, my friend, is the page you've been looking for.</p></body>
# </html>
# 404 (Not Found)
# Date: Tue, 08 Nov 2011 05:15:02 GMT
# Content-Length: 13
# Content-Type: text/plain
# X-HTTP-Version: 1.1
# 
# 404 Not Found
t/04_run_close.t ...... ok
Use of uninitialized value in lc at /export/home/cpant2/.cpan/build/POE-Component-Server-SimpleHTTP-2.12-9kUrls/blib/lib/POE/Component/Server/SimpleHTTP.pm line 796.
Use of uninitialized value in lc at /export/home/cpant2/.cpan/build/POE-Component-Server-SimpleHTTP-2.12-9kUrls/blib/lib/POE/Component/Server/SimpleHTTP.pm line 798.
# 200 (OK)
# Date: Tue, 08 Nov 2011 05:15:02 GMT
# Content-Length: 11
# Content-Type: text/plain
# X-HTTP-Version: 1.1
# 
# this is top
Use of uninitialized value in lc at /export/home/cpant2/.cpan/build/POE-Component-Server-SimpleHTTP-2.12-9kUrls/blib/lib/POE/Component/Server/SimpleHTTP.pm line 796.
Use of uninitialized value in lc at /export/home/cpant2/.cpan/build/POE-Component-Server-SimpleHTTP-2.12-9kUrls/blib/lib/POE/Component/Server/SimpleHTTP.pm line 798.
# 200 (OK)
# Date: Tue, 08 Nov 2011 05:15:02 GMT
# Content-Length: 12
# Content-Type: text/plain
# X-HTTP-Version: 1.1
# 
# this is honk
Use of uninitialized value in lc at /export/home/cpant2/.cpan/build/POE-Component-Server-SimpleHTTP-2.12-9kUrls/blib/lib/POE/Component/Server/SimpleHTTP.pm line 796.
Use of uninitialized value in lc at /export/home/cpant2/.cpan/build/POE-Component-Server-SimpleHTTP-2.12-9kUrls/blib/lib/POE/Component/Server/SimpleHTTP.pm line 798.
# 200 (OK)
# Date: Tue, 08 Nov 2011 05:15:02 GMT
# Content-Length: 123
# Content-Type: text/html
# X-HTTP-Version: 1.1
# 
# <html>
# <head><title>YEAH!</title></head>
# <body><p>This, my friend, is the page you've been looking for.</p></body>
# </html>
# 404 (Not Found)
# Date: Tue, 08 Nov 2011 05:15:02 GMT
# Content-Length: 13
# Content-Type: text/plain
# X-HTTP-Version: 1.1
# 
# 404 Not Found
t/04_run_keepalive.t .. ok
# POST http://pocosimpletest.com:34001/ HTTP/1.1
# Host: 127.0.0.1:34001
# Content-Length: 40
# 
# brother !~we need to get off this island
# 200 (OK)
# Date: Tue, 08 Nov 2011 05:15:03 GMT
# Content-Length: 40
# Content-Type: text/plain
# X-HTTP-Version: 1.1
# 
# we need to get off this island brother !
t/05_post.t ........... ok
t/06_stream.t ......... skipped: POE::Component::Client::HTTP is required for this test
t/99_pod.t ............ ok
t/99_pod_coverage.t ... skipped: Test::Pod::Coverage 1.00 required for testing POD coverage
All tests successful.
Files=10, Tests=49,  5 wallclock secs ( 0.05 usr  0.02 sys +  4.56 cusr  0.52 csys =  5.15 CPU)
Result: PASS

------------------------------
PREREQUISITES
------------------------------

Prerequisite modules loaded:

requires:

    Module                    Need   Have    
    ------------------------- ------ --------
    Carp                      0      1.23    
    HTTP::Date                0      6.00    
    HTTP::Request             0      6.00    
    HTTP::Response            0      6.01    
    Moose                     0.81   2.0205  
    MooseX::AttributeHelpers  0      0.23    
    MooseX::POE               0.205  0.214   
    perl                      5.006  5.014002
    POE                       1.0000 1.312   
    Socket                    0      1.94    
    Storable                  0      2.30    
    Sys::Hostname             0      1.16    

build_requires:

    Module                    Need   Have    
    ------------------------- ------ --------
    ExtUtils::MakeMaker       6.42   6.62    
    POE::Filter::HTTP::Parser 1.06   1.06    
    Test::More                0.47   0.98    
    Test::POE::Client::TCP    0.1    1.10    

configure_requires:

    Module                    Need   Have    
    ------------------------- ------ --------
    ExtUtils::MakeMaker       6.42   6.62    


------------------------------
ENVIRONMENT AND OTHER CONTEXT
------------------------------

Environment variables:

    AUTOMATED_TESTING = 1
    LANG = C
    LD_LIBRARY_PATH = /usr/local/lib:
    PATH = /export/home/cpant2/perl5/bin:/usr/local/bin:/usr/bin
    PERL5LIB = /export/home/cpant2/.cpan/build/POE-Filter-HTTP-Parser-1.06-IYSKQs/blib/arch:/export/home/cpant2/.cpan/build/POE-Filter-HTTP-Parser-1.06-IYSKQs/blib/lib:/export/home/cpant2/.cpan/build/HTTP-Parser-0.06-nGz5Zv/blib/arch:/export/home/cpant2/.cpan/build/HTTP-Parser-0.06-nGz5Zv/blib/lib:/export/home/cpant2/.cpan/build/Test-POE-Server-TCP-1.16-ACKyIc/blib/arch:/export/home/cpant2/.cpan/build/Test-POE-Server-TCP-1.16-ACKyIc/blib/lib:/export/home/cpant2/.cpan/build/MooseX-POE-0.214-gdjrei/blib/arch:/export/home/cpant2/.cpan/build/MooseX-POE-0.214-gdjrei/blib/lib:/export/home/cpant2/.cpan/build/Test-POE-Client-TCP-1.10-GDpjNy/blib/arch:/export/home/cpant2/.cpan/build/Test-POE-Client-TCP-1.10-GDpjNy/blib/lib:/export/home/cpant2/.cpan/build/Process-0.30-ZYPc30/blib/arch:/export/home/cpant2/.cpan/build/Process-0.30-ZYPc30/blib/lib
    PERL5OPT = 
    PERL5_CPANPLUS_IS_RUNNING = 18570
    PERL5_CPAN_IS_RUNNING = 18570
    PERL5_CPAN_IS_RUNNING_IN_RECURSION = 8387,18570
    PERL_CR_SMOKER_CURRENT = PITA-POE-SupportServer-0.41
    PERL_EXTUTILS_AUTOINSTALL = --defaultdeps
    PERL_MM_USE_DEFAULT = 1
    SHELL = /usr/bin/bash
    TERM = xterm

Perl special variables (and OS-specific diagnostics, for MSWin32):

    $^X = /export/home/cpant2/perl5/bin/perl5.14.2
    $UID/$EUID = 101 / 101
    $GID = 1 1
    $EGID = 1 1

Perl module toolchain versions installed:

    Module              Have    
    ------------------- --------
    CPAN                1.9800  
    CPAN::Meta          2.112621
    Cwd                 3.36    
    ExtUtils::CBuilder  0.280203
    ExtUtils::Command   1.17    
    ExtUtils::Install   1.56    
    ExtUtils::MakeMaker 6.62    
    ExtUtils::Manifest  1.60    
    ExtUtils::ParseXS   3.05    
    File::Spec          3.33    
    JSON                2.53    
    JSON::PP            2.27200 
    Module::Build       0.3800  
    Module::Signature   n/a     
    Parse::CPAN::Meta   1.4401  
    Test::Harness       3.23    
    Test::More          0.98    
    YAML                0.77    
    YAML::Syck          1.17    
    version             0.94    


--

Summary of my perl5 (revision 5 version 14 subversion 2) configuration:
   
  Platform:
    osname=solaris, osvers=2.10, archname=i86pc-solaris-64int
    uname='sunos vmrz0046 5.10 generic_141445-09 i86pc i386 i86pc solaris '
    config_args='-Dcc=gcc -Dprefix=~/perl5 -Duse64bitint -Dusedevel -d'
    hint=recommended, useposix=true, d_sigaction=define
    useithreads=undef, usemultiplicity=undef
    useperlio=define, d_sfio=undef, uselargefiles=define, usesocks=undef
    use64bitint=define, use64bitall=undef, uselongdouble=undef
    usemymalloc=n, bincompat5005=undef
  Compiler:
    cc='gcc', ccflags ='-DPTR_IS_LONG -fno-strict-aliasing -pipe -I/usr/local/include -D_LARGEFILE_SOURCE -D_FILE_OFFSET_BITS=64 -DPERL_USE_SAFE_PUTENV',
    optimize='-O',
    cppflags='-DPTR_IS_LONG -fno-strict-aliasing -pipe -I/usr/local/include'
    ccversion='', gccversion='3.4.6', gccosandvers='solaris2.10'
    intsize=4, longsize=4, ptrsize=4, doublesize=8, byteorder=12345678
    d_longlong=define, longlongsize=8, d_longdbl=define, longdblsize=12
    ivtype='long long', ivsize=8, nvtype='double', nvsize=8, Off_t='off_t', lseeksize=8
    alignbytes=4, prototype=define
  Linker and Libraries:
    ld='gcc', ldflags =' -L/usr/local/lib '
    libpth=/usr/local/lib /usr/lib /usr/ccs/lib
    libs=-lsocket -lnsl -lgdbm -ldl -lm -lc
    perllibs=-lsocket -lnsl -ldl -lm -lc
    libc=/lib/libc.so, so=so, useshrplib=false, libperl=libperl.a
    gnulibc_version=''
  Dynamic Linking:
    dlsrc=dl_dlopen.xs, dlext=so, d_dlsymun=undef, ccdlflags=' '
    cccdlflags='-fPIC', lddlflags='-G -L/usr/local/lib'


Characteristics of this binary (from libperl): 
  Compile-time options: PERL_DONT_CREATE_GVSV PERL_MALLOC_WRAP
                        PERL_PRESERVE_IVUV PERL_USE_DEVEL
                        PERL_USE_SAFE_PUTENV USE_64_BIT_INT USE_LARGE_FILES
                        USE_PERLIO USE_PERL_ATOF
  Built under solaris
  Compiled at Sep 30 2011 11:41:59
  %ENV:
    PERL5LIB="/export/home/cpant2/.cpan/build/POE-Filter-HTTP-Parser-1.06-IYSKQs/blib/arch:/export/home/cpant2/.cpan/build/POE-Filter-HTTP-Parser-1.06-IYSKQs/blib/lib:/export/home/cpant2/.cpan/build/HTTP-Parser-0.06-nGz5Zv/blib/arch:/export/home/cpant2/.cpan/build/HTTP-Parser-0.06-nGz5Zv/blib/lib:/export/home/cpant2/.cpan/build/Test-POE-Server-TCP-1.16-ACKyIc/blib/arch:/export/home/cpant2/.cpan/build/Test-POE-Server-TCP-1.16-ACKyIc/blib/lib:/export/home/cpant2/.cpan/build/MooseX-POE-0.214-gdjrei/blib/arch:/export/home/cpant2/.cpan/build/MooseX-POE-0.214-gdjrei/blib/lib:/export/home/cpant2/.cpan/build/Test-POE-Client-TCP-1.10-GDpjNy/blib/arch:/export/home/cpant2/.cpan/build/Test-POE-Client-TCP-1.10-GDpjNy/blib/lib:/export/home/cpant2/.cpan/build/Process-0.30-ZYPc30/blib/arch:/export/home/cpant2/.cpan/build/Process-0.30-ZYPc30/blib/lib"
    PERL5OPT=""
    PERL5_CPANPLUS_IS_RUNNING="18570"
    PERL5_CPAN_IS_RUNNING="18570"
    PERL5_CPAN_IS_RUNNING_IN_RECURSION="8387,18570"
    PERL_CR_SMOKER_CURRENT="PITA-POE-SupportServer-0.41"
    PERL_EXTUTILS_AUTOINSTALL="--defaultdeps"
    PERL_MM_USE_DEFAULT="1"
  @INC:
    /export/home/cpant2/.cpan/build/POE-Filter-HTTP-Parser-1.06-IYSKQs/blib/arch
    /export/home/cpant2/.cpan/build/POE-Filter-HTTP-Parser-1.06-IYSKQs/blib/lib
    /export/home/cpant2/.cpan/build/HTTP-Parser-0.06-nGz5Zv/blib/arch
    /export/home/cpant2/.cpan/build/HTTP-Parser-0.06-nGz5Zv/blib/lib
    /export/home/cpant2/.cpan/build/Test-POE-Server-TCP-1.16-ACKyIc/blib/arch
    /export/home/cpant2/.cpan/build/Test-POE-Server-TCP-1.16-ACKyIc/blib/lib
    /export/home/cpant2/.cpan/build/MooseX-POE-0.214-gdjrei/blib/arch
    /export/home/cpant2/.cpan/build/MooseX-POE-0.214-gdjrei/blib/lib
    /export/home/cpant2/.cpan/build/Test-POE-Client-TCP-1.10-GDpjNy/blib/arch
    /export/home/cpant2/.cpan/build/Test-POE-Client-TCP-1.10-GDpjNy/blib/lib
    /export/home/cpant2/.cpan/build/Process-0.30-ZYPc30/blib/arch
    /export/home/cpant2/.cpan/build/Process-0.30-ZYPc30/blib/lib
    /export/home/cpant2/perl5/lib/site_perl/5.14.2/i86pc-solaris-64int
    /export/home/cpant2/perl5/lib/site_perl/5.14.2
    /export/home/cpant2/perl5/lib/5.14.2/i86pc-solaris-64int
    /export/home/cpant2/perl5/lib/5.14.2
    /export/home/cpant2/perl5/lib/site_perl
    .