MooseX-MethodAttributes v0.32 Perl 5 v5.33.7 OpenBSD.amd64-openbsd

Status
Pass
From
Carlos Guevara
Dist
MooseX-MethodAttributes v0.32
Platform
Perl 5 v5.33.7 OpenBSD.amd64-openbsd
Date
2021-02-13 02:17:28
ID
9ead6a48-6da1-11eb-800e-dbc3e3cf3e1e
This distribution has been tested as part of the CPAN Testers
project, supporting the Perl programming language.  See
http://wiki.cpantesters.org/ for more information or email
questions to cpan-testers-discuss@perl.org


--
Dear Karen Etheridge,

This is a computer-generated report for MooseX-MethodAttributes-0.32
on perl 5.33.7, created by CPAN-Reporter-1.2018.

Thank you for uploading your work to CPAN.  Congratulations!
All tests were successful.

Sections of this report:

    * Tester comments
    * Program output
    * Prerequisites
    * Environment and other context

------------------------------
TESTER COMMENTS
------------------------------

Additional comments from tester:

this report is from an automated smoke testing program
and was not reviewed by a human for accuracy

------------------------------
PROGRAM OUTPUT
------------------------------

Output from '/usr/bin/make test':

PERL_DL_NONLAZY=1 "/home/cpan/bin/perl-blead/bin/perl5.33.7" "-MExtUtils::Command::MM" "-MTest::Harness" "-e" "undef *Test::Harness::Switches; test_harness(0, 'blib/lib', 'blib/arch')" t/*.t
# 
# Versions for all modules listed in MYMETA.json (including optional ones):
# 
# === Configure Requires ===
# 
#     Module              Want Have
#     ------------------- ---- ----
#     ExtUtils::MakeMaker  any 7.58
# 
# === Build Requires ===
# 
#     Module              Want Have
#     ------------------- ---- ----
#     ExtUtils::MakeMaker  any 7.58
# 
# === Test Requires ===
# 
#     Module                      Want     Have
#     --------------------------- ---- --------
#     ExtUtils::MakeMaker          any     7.58
#     File::Spec                   any     3.80
#     Moose::Meta::Class           any   2.2014
#     MooseX::Role::Parameterized  any     1.11
#     Test::Fatal                  any    0.016
#     Test::More                  0.88 1.302183
#     Test::Needs                  any 0.002006
#     base                         any     2.27
#     lib                          any     0.65
#     strict                       any     1.12
#     warnings                     any     1.51
# 
# === Test Recommends ===
# 
#     Module         Want     Have
#     ---------- -------- --------
#     CPAN::Meta 2.120900 2.150010
# 
# === Runtime Requires ===
# 
#     Module                Want   Have
#     --------------------- ---- ------
#     Carp                   any   1.52
#     Moose                  any 2.2014
#     Moose::Exporter        any 2.2014
#     Moose::Role            any 2.2014
#     Moose::Util            any 2.2014
#     Moose::Util::MetaRole  any 2.2014
#     namespace::autoclean  0.08   0.29
# 
# === Other Modules ===
# 
#     Module               Have
#     ----------------- -------
#     Catalyst::Runtime missing
#     Encode               3.08
#     File::Temp         0.2311
#     JSON::PP             4.05
#     Module::Runtime     0.016
#     Pod::Coverage     missing
#     Sub::Name            0.26
#     YAML              missing
#     autodie              2.32
# 
t/00-report-prereqs.t .................. ok
t/basic.t .............................. ok
t/calling.t ............................ ok
t/catalyst.t ........................... ok
t/catalyst_role.t ...................... ok
t/catalyst_role_method_exclusion.t ..... ok
t/catalyst_role_preexist_methods.t ..... ok
t/inherited.t .......................... ok
t/inherited_non_moose_multilevel.t ..... ok
t/late_reinitialize.t .................. ok
t/multiple_roles.t ..................... ok
t/multiple_roles_astrait.t ............. ok
t/override_method_with_no_attribute.t .. ok
t/param_role.t ......................... ok
t/role.t ............................... ok
t/role_applied.t ....................... ok
t/role_comp.t .......................... ok
t/role_in_role.t ....................... ok
t/role_in_role_more.t .................. ok
t/role_method_conflict_detection.t ..... ok
t/role_with_anon_class.t ............... ok
t/zzz-check-breaks.t ................... ok
All tests successful.

Test Summary Report
-------------------
t/late_reinitialize.t                (Wstat: 0 Tests: 10 Failed: 0)
  TODO passed:   1-10
Files=22, Tests=144, 19 wallclock secs ( 0.17 usr  0.14 sys + 13.89 cusr  3.53 csys = 17.73 CPU)
Result: PASS

------------------------------
PREREQUISITES
------------------------------

Prerequisite modules loaded:

requires:

    Module                      Need  Have    
    --------------------------- ----- --------
    Carp                        0     1.52    
    Moose                       0     2.2014  
    Moose::Exporter             0     2.2014  
    Moose::Role                 0     2.2014  
    Moose::Util                 0     2.2014  
    Moose::Util::MetaRole       0     2.2014  
    namespace::autoclean        0.08  0.29    
    perl                        5.006 5.033007

build_requires:

    Module                      Need  Have    
    --------------------------- ----- --------
    base                        0     2.27    
    ExtUtils::MakeMaker         0     7.58    
    File::Spec                  0     3.80    
    lib                         0     0.65    
    Moose::Meta::Class          0     2.2014  
    MooseX::Role::Parameterized 0     1.11    
    strict                      0     1.12    
    Test::Fatal                 0     0.016   
    Test::More                  0.88  1.302183
    Test::Needs                 0     0.002006
    warnings                    0     1.51    

configure_requires:

    Module                      Need  Have    
    --------------------------- ----- --------
    ExtUtils::MakeMaker         0     7.58    
    perl                        5.006 5.033007


------------------------------
ENVIRONMENT AND OTHER CONTEXT
------------------------------

Environment variables:

    AUTOMATED_TESTING = 1
    DATE_MANIP_TEST_DM5 = 1
    LC_ALL = C
    NONINTERACTIVE_TESTING = 1
    PATH = /home/cpan/bin/perl-blead/bin:/home/cpan/bin:/home/cpan/bin:/bin:/sbin:/usr/bin:/usr/sbin:/usr/X11R6/bin:/usr/local/bin:/usr/local/sbin:/usr/games
    PERL5LIB = 
    PERL5OPT = 
    PERL5_CPANPLUS_IS_RUNNING = 55263
    PERL5_CPAN_IS_RUNNING = 55263
    PERL_MM_USE_DEFAULT = 1
    PERL_USE_UNSAFE_INC = 1
    PERL_VERSION = blead
    SHELL = /usr/local/bin/bash
    TERM = screen.xterm-256color
    TMPDIR = /home/cpan/tmp

Perl special variables (and OS-specific diagnostics, for MSWin32):

    $^X = /home/cpan/bin/perl-blead/bin/perl5.33.7
    $UID/$EUID = 1001 / 1001
    $GID = 1001 1001
    $EGID = 1001 1001

Perl module toolchain versions installed:

    Module              Have    
    ------------------- --------
    CPAN                2.28    
    CPAN::Meta          2.150010
    Cwd                 3.80    
    ExtUtils::CBuilder  0.280236
    ExtUtils::Command   7.58    
    ExtUtils::Install   2.20    
    ExtUtils::MakeMaker 7.58    
    ExtUtils::Manifest  1.73    
    ExtUtils::ParseXS   3.42    
    File::Spec          3.80    
    JSON                4.03    
    JSON::PP            4.05    
    Module::Build       0.4231  
    Module::Signature   n/a     
    Parse::CPAN::Meta   2.150010
    Test::Harness       3.43    
    Test::More          1.302183
    YAML                n/a     
    YAML::Syck          n/a     
    version             0.9928  


--

Summary of my perl5 (revision 5 version 33 subversion 7) configuration:
  Commit id: 64901762e5e760756c8a2f3d72e81a16d2213c53
  Platform:
    osname=openbsd
    osvers=6.8
    archname=OpenBSD.amd64-openbsd
    uname='openbsd cjg-openbsd6 6.8 generic#4 amd64 '
    config_args='-des -Dprefix=~/bin/perl-blead -Dscriptdir=~/bin/perl-blead/bin -Dusedevel -Duse64bitall'
    hint=recommended
    useposix=true
    d_sigaction=define
    useithreads=undef
    usemultiplicity=undef
    use64bitint=define
    use64bitall=define
    uselongdouble=undef
    usemymalloc=n
    default_inc_excludes_dot=define
  Compiler:
    cc='cc'
    ccflags ='-fno-strict-aliasing -pipe -fstack-protector-strong -I/usr/local/include'
    optimize='-O2'
    cppflags='-fno-strict-aliasing -pipe -fstack-protector-strong -I/usr/local/include'
    ccversion=''
    gccversion='OpenBSD Clang 10.0.1 '
    gccosandvers=''
    intsize=4
    longsize=8
    ptrsize=8
    doublesize=8
    byteorder=12345678
    doublekind=3
    d_longlong=define
    longlongsize=8
    d_longdbl=define
    longdblsize=16
    longdblkind=3
    ivtype='long'
    ivsize=8
    nvtype='double'
    nvsize=8
    Off_t='off_t'
    lseeksize=8
    alignbytes=8
    prototype=define
  Linker and Libraries:
    ld='cc'
    ldflags ='-Wl,-E  -fstack-protector-strong -L/usr/local/lib'
    libpth=/usr/lib /usr/local/lib
    libs=-lpthread -lm -lutil -lc
    perllibs=-lpthread -lm -lutil -lc
    libc=/usr/lib/libc.so.96.0
    so=so
    useshrplib=false
    libperl=libperl.a
    gnulibc_version=''
  Dynamic Linking:
    dlsrc=dl_dlopen.xs
    dlext=so
    d_dlsymun=undef
    ccdlflags=' '
    cccdlflags='-DPIC -fPIC '
    lddlflags='-shared -fPIC  -L/usr/local/lib -fstack-protector-strong'


Characteristics of this binary (from libperl): 
  Compile-time options:
    HAS_TIMES
    PERLIO_LAYERS
    PERL_COPY_ON_WRITE
    PERL_DONT_CREATE_GVSV
    PERL_MALLOC_WRAP
    PERL_OP_PARENT
    PERL_PRESERVE_IVUV
    PERL_USE_DEVEL
    USE_64_BIT_ALL
    USE_64_BIT_INT
    USE_LARGE_FILES
    USE_LOCALE
    USE_LOCALE_COLLATE
    USE_LOCALE_CTYPE
    USE_LOCALE_NUMERIC
    USE_LOCALE_TIME
    USE_PERLIO
    USE_PERL_ATOF
  Built under openbsd
  Compiled at Feb 12 2021 18:17:09
  %ENV:
    PERL5LIB=""
    PERL5OPT=""
    PERL5_CPANPLUS_IS_RUNNING="55263"
    PERL5_CPAN_IS_RUNNING="55263"
    PERL_MM_USE_DEFAULT="1"
    PERL_USE_UNSAFE_INC="1"
    PERL_VERSION="blead"
  @INC:
    /home/cpan/bin/perl-blead/lib/site_perl/5.33.7/OpenBSD.amd64-openbsd
    /home/cpan/bin/perl-blead/lib/site_perl/5.33.7
    /home/cpan/bin/perl-blead/lib/5.33.7/OpenBSD.amd64-openbsd
    /home/cpan/bin/perl-blead/lib/5.33.7
    .