Back
From: metabase:user:320bfe00-2aae-11df-837a-5e0a49663a4f
Subject: PASS Text-WideChar-Util-0.14 v5.21.8 GNU/Linux
Date: 2015-03-15T20:26:54Z
This distribution has been tested as part of the CPAN Testers
project, supporting the Perl programming language. See
http://wiki.cpantesters.org/ for more information or email
questions to cpan-testers-discuss@perl.org
--
Dear perlancar,
This is a computer-generated report for Text-WideChar-Util-0.14
on perl 5.21.8, created by CPAN-Reporter-1.2011.
Thank you for uploading your work to CPAN. Congratulations!
All tests were successful.
Sections of this report:
* Tester comments
* Program output
* Prerequisites
* Environment and other context
------------------------------
TESTER COMMENTS
------------------------------
Additional comments from tester:
this report is from an automated smoke testing program
and was not reviewed by a human for accuracy
------------------------------
PROGRAM OUTPUT
------------------------------
Output from '/usr/bin/make test':
PERL_DL_NONLAZY=1 "/home/sand/src/perl/repoperls/installed-perls/perl/v5.21.8/a2da/bin/perl" "-MExtUtils::Command::MM" "-MTest::Harness" "-e" "undef *Test::Harness::Switches; test_harness(0, 'blib/lib', 'blib/arch')" t/*.t
t/00-compile.t ............ ok
t/01-basics.t ............. skipped: Chinese locale not supported on this system
t/release-pod-coverage.t .. skipped: these tests are for release candidate testing
t/release-pod-syntax.t .... skipped: these tests are for release candidate testing
t/release-rinci.t ......... skipped: these tests are for release candidate testing
Wide character (U+5B58) in pattern match (m//) at /tmp/loop_over_bdir-12250-tVTLK1/Text-WideChar-Util-0.14-m1vKza/blib/lib/Text/WideChar/Util.pm line 156.
Wide character (U+5B58) in pattern match (m//) at /tmp/loop_over_bdir-12250-tVTLK1/Text-WideChar-Util-0.14-m1vKza/blib/lib/Text/WideChar/Util.pm line 156.
Wide character (U+5B58) in pattern match (m//) at /tmp/loop_over_bdir-12250-tVTLK1/Text-WideChar-Util-0.14-m1vKza/blib/lib/Text/WideChar/Util.pm line 188.
Wide character (U+5B58) in pattern match (m//) at /tmp/loop_over_bdir-12250-tVTLK1/Text-WideChar-Util-0.14-m1vKza/blib/lib/Text/WideChar/Util.pm line 188.
Wide character (U+5B58) in pattern match (m//) at /tmp/loop_over_bdir-12250-tVTLK1/Text-WideChar-Util-0.14-m1vKza/blib/lib/Text/WideChar/Util.pm line 188.
Wide character (U+5B58) in pattern match (m//) at /tmp/loop_over_bdir-12250-tVTLK1/Text-WideChar-Util-0.14-m1vKza/blib/lib/Text/WideChar/Util.pm line 188.
Wide character (U+5B58) in pattern match (m//) at /tmp/loop_over_bdir-12250-tVTLK1/Text-WideChar-Util-0.14-m1vKza/blib/lib/Text/WideChar/Util.pm line 188.
Wide character (U+5B58) in pattern match (m//) at /tmp/loop_over_bdir-12250-tVTLK1/Text-WideChar-Util-0.14-m1vKza/blib/lib/Text/WideChar/Util.pm line 188.
Wide character (U+5B58) in pattern match (m//) at /tmp/loop_over_bdir-12250-tVTLK1/Text-WideChar-Util-0.14-m1vKza/blib/lib/Text/WideChar/Util.pm line 188.
Wide character (U+5B58) in pattern match (m//) at /tmp/loop_over_bdir-12250-tVTLK1/Text-WideChar-Util-0.14-m1vKza/blib/lib/Text/WideChar/Util.pm line 188.
Wide character (U+50A8) in pattern match (m//) at /tmp/loop_over_bdir-12250-tVTLK1/Text-WideChar-Util-0.14-m1vKza/blib/lib/Text/WideChar/Util.pm line 188.
Wide character (U+50A8) in pattern match (m//) at /tmp/loop_over_bdir-12250-tVTLK1/Text-WideChar-Util-0.14-m1vKza/blib/lib/Text/WideChar/Util.pm line 188.
Wide character (U+50A8) in pattern match (m//) at /tmp/loop_over_bdir-12250-tVTLK1/Text-WideChar-Util-0.14-m1vKza/blib/lib/Text/WideChar/Util.pm line 188.
Wide character (U+50A8) in pattern match (m//) at /tmp/loop_over_bdir-12250-tVTLK1/Text-WideChar-Util-0.14-m1vKza/blib/lib/Text/WideChar/Util.pm line 188.
Wide character (U+50A8) in pattern match (m//) at /tmp/loop_over_bdir-12250-tVTLK1/Text-WideChar-Util-0.14-m1vKza/blib/lib/Text/WideChar/Util.pm line 188.
Wide character (U+50A8) in pattern match (m//) at /tmp/loop_over_bdir-12250-tVTLK1/Text-WideChar-Util-0.14-m1vKza/blib/lib/Text/WideChar/Util.pm line 188.
Wide character (U+50A8) in pattern match (m//) at /tmp/loop_over_bdir-12250-tVTLK1/Text-WideChar-Util-0.14-m1vKza/blib/lib/Text/WideChar/Util.pm line 188.
Wide character (U+50A8) in pattern match (m//) at /tmp/loop_over_bdir-12250-tVTLK1/Text-WideChar-Util-0.14-m1vKza/blib/lib/Text/WideChar/Util.pm line 188.
Wide character (U+548C) in pattern match (m//) at /tmp/loop_over_bdir-12250-tVTLK1/Text-WideChar-Util-0.14-m1vKza/blib/lib/Text/WideChar/Util.pm line 188.
Wide character (U+548C) in pattern match (m//) at /tmp/loop_over_bdir-12250-tVTLK1/Text-WideChar-Util-0.14-m1vKza/blib/lib/Text/WideChar/Util.pm line 188.
Wide character (U+548C) in pattern match (m//) at /tmp/loop_over_bdir-12250-tVTLK1/Text-WideChar-Util-0.14-m1vKza/blib/lib/Text/WideChar/Util.pm line 188.
Wide character (U+548C) in pattern match (m//) at /tmp/loop_over_bdir-12250-tVTLK1/Text-WideChar-Util-0.14-m1vKza/blib/lib/Text/WideChar/Util.pm line 188.
Wide character (U+548C) in pattern match (m//) at /tmp/loop_over_bdir-12250-tVTLK1/Text-WideChar-Util-0.14-m1vKza/blib/lib/Text/WideChar/Util.pm line 188.
Wide character (U+548C) in pattern match (m//) at /tmp/loop_over_bdir-12250-tVTLK1/Text-WideChar-Util-0.14-m1vKza/blib/lib/Text/WideChar/Util.pm line 188.
Wide character (U+548C) in pattern match (m//) at /tmp/loop_over_bdir-12250-tVTLK1/Text-WideChar-Util-0.14-m1vKza/blib/lib/Text/WideChar/Util.pm line 188.
Wide character (U+548C) in pattern match (m//) at /tmp/loop_over_bdir-12250-tVTLK1/Text-WideChar-Util-0.14-m1vKza/blib/lib/Text/WideChar/Util.pm line 188.
Wide character (U+4FE1) in pattern match (m//) at /tmp/loop_over_bdir-12250-tVTLK1/Text-WideChar-Util-0.14-m1vKza/blib/lib/Text/WideChar/Util.pm line 188.
Wide character (U+4FE1) in pattern match (m//) at /tmp/loop_over_bdir-12250-tVTLK1/Text-WideChar-Util-0.14-m1vKza/blib/lib/Text/WideChar/Util.pm line 188.
Wide character (U+4FE1) in pattern match (m//) at /tmp/loop_over_bdir-12250-tVTLK1/Text-WideChar-Util-0.14-m1vKza/blib/lib/Text/WideChar/Util.pm line 188.
Wide character (U+4FE1) in pattern match (m//) at /tmp/loop_over_bdir-12250-tVTLK1/Text-WideChar-Util-0.14-m1vKza/blib/lib/Text/WideChar/Util.pm line 188.
Wide character (U+4FE1) in pattern match (m//) at /tmp/loop_over_bdir-12250-tVTLK1/Text-WideChar-Util-0.14-m1vKza/blib/lib/Text/WideChar/Util.pm line 188.
Wide character (U+4FE1) in pattern match (m//) at /tmp/loop_over_bdir-12250-tVTLK1/Text-WideChar-Util-0.14-m1vKza/blib/lib/Text/WideChar/Util.pm line 188.
Wide character (U+4FE1) in pattern match (m//) at /tmp/loop_over_bdir-12250-tVTLK1/Text-WideChar-Util-0.14-m1vKza/blib/lib/Text/WideChar/Util.pm line 188.
Wide character (U+4FE1) in pattern match (m//) at /tmp/loop_over_bdir-12250-tVTLK1/Text-WideChar-Util-0.14-m1vKza/blib/lib/Text/WideChar/Util.pm line 188.
Wide character (U+606F) in pattern match (m//) at /tmp/loop_over_bdir-12250-tVTLK1/Text-WideChar-Util-0.14-m1vKza/blib/lib/Text/WideChar/Util.pm line 188.
Wide character (U+606F) in pattern match (m//) at /tmp/loop_over_bdir-12250-tVTLK1/Text-WideChar-Util-0.14-m1vKza/blib/lib/Text/WideChar/Util.pm line 188.
Wide character (U+606F) in pattern match (m//) at /tmp/loop_over_bdir-12250-tVTLK1/Text-WideChar-Util-0.14-m1vKza/blib/lib/Text/WideChar/Util.pm line 188.
Wide character (U+606F) in pattern match (m//) at /tmp/loop_over_bdir-12250-tVTLK1/Text-WideChar-Util-0.14-m1vKza/blib/lib/Text/WideChar/Util.pm line 188.
Wide character (U+606F) in pattern match (m//) at /tmp/loop_over_bdir-12250-tVTLK1/Text-WideChar-Util-0.14-m1vKza/blib/lib/Text/WideChar/Util.pm line 188.
Wide character (U+606F) in pattern match (m//) at /tmp/loop_over_bdir-12250-tVTLK1/Text-WideChar-Util-0.14-m1vKza/blib/lib/Text/WideChar/Util.pm line 188.
Wide character (U+606F) in pattern match (m//) at /tmp/loop_over_bdir-12250-tVTLK1/Text-WideChar-Util-0.14-m1vKza/blib/lib/Text/WideChar/Util.pm line 188.
Wide character (U+606F) in pattern match (m//) at /tmp/loop_over_bdir-12250-tVTLK1/Text-WideChar-Util-0.14-m1vKza/blib/lib/Text/WideChar/Util.pm line 188.
Wide character (U+7BA1) in pattern match (m//) at /tmp/loop_over_bdir-12250-tVTLK1/Text-WideChar-Util-0.14-m1vKza/blib/lib/Text/WideChar/Util.pm line 188.
Wide character (U+7BA1) in pattern match (m//) at /tmp/loop_over_bdir-12250-tVTLK1/Text-WideChar-Util-0.14-m1vKza/blib/lib/Text/WideChar/Util.pm line 188.
Wide character (U+7BA1) in pattern match (m//) at /tmp/loop_over_bdir-12250-tVTLK1/Text-WideChar-Util-0.14-m1vKza/blib/lib/Text/WideChar/Util.pm line 188.
Wide character (U+7BA1) in pattern match (m//) at /tmp/loop_over_bdir-12250-tVTLK1/Text-WideChar-Util-0.14-m1vKza/blib/lib/Text/WideChar/Util.pm line 188.
Wide character (U+7BA1) in pattern match (m//) at /tmp/loop_over_bdir-12250-tVTLK1/Text-WideChar-Util-0.14-m1vKza/blib/lib/Text/WideChar/Util.pm line 188.
Wide character (U+7BA1) in pattern match (m//) at /tmp/loop_over_bdir-12250-tVTLK1/Text-WideChar-Util-0.14-m1vKza/blib/lib/Text/WideChar/Util.pm line 188.
Wide character (U+7BA1) in pattern match (m//) at /tmp/loop_over_bdir-12250-tVTLK1/Text-WideChar-Util-0.14-m1vKza/blib/lib/Text/WideChar/Util.pm line 188.
Wide character (U+7BA1) in pattern match (m//) at /tmp/loop_over_bdir-12250-tVTLK1/Text-WideChar-Util-0.14-m1vKza/blib/lib/Text/WideChar/Util.pm line 188.
Wide character (U+7406) in pattern match (m//) at /tmp/loop_over_bdir-12250-tVTLK1/Text-WideChar-Util-0.14-m1vKza/blib/lib/Text/WideChar/Util.pm line 188.
Wide character (U+7406) in pattern match (m//) at /tmp/loop_over_bdir-12250-tVTLK1/Text-WideChar-Util-0.14-m1vKza/blib/lib/Text/WideChar/Util.pm line 188.
Wide character (U+7406) in pattern match (m//) at /tmp/loop_over_bdir-12250-tVTLK1/Text-WideChar-Util-0.14-m1vKza/blib/lib/Text/WideChar/Util.pm line 188.
Wide character (U+7406) in pattern match (m//) at /tmp/loop_over_bdir-12250-tVTLK1/Text-WideChar-Util-0.14-m1vKza/blib/lib/Text/WideChar/Util.pm line 188.
Wide character (U+7406) in pattern match (m//) at /tmp/loop_over_bdir-12250-tVTLK1/Text-WideChar-Util-0.14-m1vKza/blib/lib/Text/WideChar/Util.pm line 188.
Wide character (U+7406) in pattern match (m//) at /tmp/loop_over_bdir-12250-tVTLK1/Text-WideChar-Util-0.14-m1vKza/blib/lib/Text/WideChar/Util.pm line 188.
Wide character (U+7406) in pattern match (m//) at /tmp/loop_over_bdir-12250-tVTLK1/Text-WideChar-Util-0.14-m1vKza/blib/lib/Text/WideChar/Util.pm line 188.
Wide character (U+7406) in pattern match (m//) at /tmp/loop_over_bdir-12250-tVTLK1/Text-WideChar-Util-0.14-m1vKza/blib/lib/Text/WideChar/Util.pm line 188.
Wide character (U+516C) in pattern match (m//) at /tmp/loop_over_bdir-12250-tVTLK1/Text-WideChar-Util-0.14-m1vKza/blib/lib/Text/WideChar/Util.pm line 188.
Wide character (U+516C) in pattern match (m//) at /tmp/loop_over_bdir-12250-tVTLK1/Text-WideChar-Util-0.14-m1vKza/blib/lib/Text/WideChar/Util.pm line 188.
Wide character (U+516C) in pattern match (m//) at /tmp/loop_over_bdir-12250-tVTLK1/Text-WideChar-Util-0.14-m1vKza/blib/lib/Text/WideChar/Util.pm line 188.
Wide character (U+516C) in pattern match (m//) at /tmp/loop_over_bdir-12250-tVTLK1/Text-WideChar-Util-0.14-m1vKza/blib/lib/Text/WideChar/Util.pm line 188.
Wide character (U+516C) in pattern match (m//) at /tmp/loop_over_bdir-12250-tVTLK1/Text-WideChar-Util-0.14-m1vKza/blib/lib/Text/WideChar/Util.pm line 188.
Wide character (U+516C) in pattern match (m//) at /tmp/loop_over_bdir-12250-tVTLK1/Text-WideChar-Util-0.14-m1vKza/blib/lib/Text/WideChar/Util.pm line 188.
Wide character (U+516C) in pattern match (m//) at /tmp/loop_over_bdir-12250-tVTLK1/Text-WideChar-Util-0.14-m1vKza/blib/lib/Text/WideChar/Util.pm line 188.
Wide character (U+516C) in pattern match (m//) at /tmp/loop_over_bdir-12250-tVTLK1/Text-WideChar-Util-0.14-m1vKza/blib/lib/Text/WideChar/Util.pm line 188.
Wide character (U+53F8) in pattern match (m//) at /tmp/loop_over_bdir-12250-tVTLK1/Text-WideChar-Util-0.14-m1vKza/blib/lib/Text/WideChar/Util.pm line 188.
Wide character (U+53F8) in pattern match (m//) at /tmp/loop_over_bdir-12250-tVTLK1/Text-WideChar-Util-0.14-m1vKza/blib/lib/Text/WideChar/Util.pm line 188.
Wide character (U+53F8) in pattern match (m//) at /tmp/loop_over_bdir-12250-tVTLK1/Text-WideChar-Util-0.14-m1vKza/blib/lib/Text/WideChar/Util.pm line 188.
Wide character (U+53F8) in pattern match (m//) at /tmp/loop_over_bdir-12250-tVTLK1/Text-WideChar-Util-0.14-m1vKza/blib/lib/Text/WideChar/Util.pm line 188.
Wide character (U+53F8) in pattern match (m//) at /tmp/loop_over_bdir-12250-tVTLK1/Text-WideChar-Util-0.14-m1vKza/blib/lib/Text/WideChar/Util.pm line 188.
Wide character (U+53F8) in pattern match (m//) at /tmp/loop_over_bdir-12250-tVTLK1/Text-WideChar-Util-0.14-m1vKza/blib/lib/Text/WideChar/Util.pm line 188.
Wide character (U+53F8) in pattern match (m//) at /tmp/loop_over_bdir-12250-tVTLK1/Text-WideChar-Util-0.14-m1vKza/blib/lib/Text/WideChar/Util.pm line 188.
Wide character (U+53F8) in pattern match (m//) at /tmp/loop_over_bdir-12250-tVTLK1/Text-WideChar-Util-0.14-m1vKza/blib/lib/Text/WideChar/Util.pm line 188.
Wide character (U+4F4D) in pattern match (m//) at /tmp/loop_over_bdir-12250-tVTLK1/Text-WideChar-Util-0.14-m1vKza/blib/lib/Text/WideChar/Util.pm line 190.
Wide character (U+4E8E) in pattern match (m//) at /tmp/loop_over_bdir-12250-tVTLK1/Text-WideChar-Util-0.14-m1vKza/blib/lib/Text/WideChar/Util.pm line 190.
Wide character (U+963F) in pattern match (m//) at /tmp/loop_over_bdir-12250-tVTLK1/Text-WideChar-Util-0.14-m1vKza/blib/lib/Text/WideChar/Util.pm line 190.
Wide character (U+6839) in pattern match (m//) at /tmp/loop_over_bdir-12250-tVTLK1/Text-WideChar-Util-0.14-m1vKza/blib/lib/Text/WideChar/Util.pm line 190.
Wide character (U+5EF7) in pattern match (m//) at /tmp/loop_over_bdir-12250-tVTLK1/Text-WideChar-Util-0.14-m1vKza/blib/lib/Text/WideChar/Util.pm line 190.
Wide character (U+9996) in pattern match (m//) at /tmp/loop_over_bdir-12250-tVTLK1/Text-WideChar-Util-0.14-m1vKza/blib/lib/Text/WideChar/Util.pm line 190.
Wide character (U+90FD) in pattern match (m//) at /tmp/loop_over_bdir-12250-tVTLK1/Text-WideChar-Util-0.14-m1vKza/blib/lib/Text/WideChar/Util.pm line 190.
Wide character (U+5E03) in pattern match (m//) at /tmp/loop_over_bdir-12250-tVTLK1/Text-WideChar-Util-0.14-m1vKza/blib/lib/Text/WideChar/Util.pm line 190.
Wide character (U+5B9C) in pattern match (m//) at /tmp/loop_over_bdir-12250-tVTLK1/Text-WideChar-Util-0.14-m1vKza/blib/lib/Text/WideChar/Util.pm line 190.
Wide character (U+8BFA) in pattern match (m//) at /tmp/loop_over_bdir-12250-tVTLK1/Text-WideChar-Util-0.14-m1vKza/blib/lib/Text/WideChar/Util.pm line 190.
Wide character (U+65AF) in pattern match (m//) at /tmp/loop_over_bdir-12250-tVTLK1/Text-WideChar-Util-0.14-m1vKza/blib/lib/Text/WideChar/Util.pm line 190.
Wide character (U+827E) in pattern match (m//) at /tmp/loop_over_bdir-12250-tVTLK1/Text-WideChar-Util-0.14-m1vKza/blib/lib/Text/WideChar/Util.pm line 190.
Wide character (U+5229) in pattern match (m//) at /tmp/loop_over_bdir-12250-tVTLK1/Text-WideChar-Util-0.14-m1vKza/blib/lib/Text/WideChar/Util.pm line 190.
Wide character (U+65AF) in pattern match (m//) at /tmp/loop_over_bdir-12250-tVTLK1/Text-WideChar-Util-0.14-m1vKza/blib/lib/Text/WideChar/Util.pm line 190.
Wide character (U+7684) in pattern match (m//) at /tmp/loop_over_bdir-12250-tVTLK1/Text-WideChar-Util-0.14-m1vKza/blib/lib/Text/WideChar/Util.pm line 190.
Wide character (U+4E00) in pattern match (m//) at /tmp/loop_over_bdir-12250-tVTLK1/Text-WideChar-Util-0.14-m1vKza/blib/lib/Text/WideChar/Util.pm line 190.
Wide character (U+4E2A) in pattern match (m//) at /tmp/loop_over_bdir-12250-tVTLK1/Text-WideChar-Util-0.14-m1vKza/blib/lib/Text/WideChar/Util.pm line 190.
Wide character (U+5927) in pattern match (m//) at /tmp/loop_over_bdir-12250-tVTLK1/Text-WideChar-Util-0.14-m1vKza/blib/lib/Text/WideChar/Util.pm line 190.
Wide character (U+6570) in pattern match (m//) at /tmp/loop_over_bdir-12250-tVTLK1/Text-WideChar-Util-0.14-m1vKza/blib/lib/Text/WideChar/Util.pm line 190.
Wide character (U+636E) in pattern match (m//) at /tmp/loop_over_bdir-12250-tVTLK1/Text-WideChar-Util-0.14-m1vKza/blib/lib/Text/WideChar/Util.pm line 190.
Wide character (U+4E2D) in pattern match (m//) at /tmp/loop_over_bdir-12250-tVTLK1/Text-WideChar-Util-0.14-m1vKza/blib/lib/Text/WideChar/Util.pm line 190.
Wide character (U+5FC3) in pattern match (m//) at /tmp/loop_over_bdir-12250-tVTLK1/Text-WideChar-Util-0.14-m1vKza/blib/lib/Text/WideChar/Util.pm line 190.
Wide character (U+5468) in pattern match (m//) at /tmp/loop_over_bdir-12250-tVTLK1/Text-WideChar-Util-0.14-m1vKza/blib/lib/Text/WideChar/Util.pm line 190.
Wide character (U+4E09) in pattern match (m//) at /tmp/loop_over_bdir-12250-tVTLK1/Text-WideChar-Util-0.14-m1vKza/blib/lib/Text/WideChar/Util.pm line 190.
Wide character (U+906D) in pattern match (m//) at /tmp/loop_over_bdir-12250-tVTLK1/Text-WideChar-Util-0.14-m1vKza/blib/lib/Text/WideChar/Util.pm line 190.
Wide character (U+5927) in pattern match (m//) at /tmp/loop_over_bdir-12250-tVTLK1/Text-WideChar-Util-0.14-m1vKza/blib/lib/Text/WideChar/Util.pm line 190.
Wide character (U+706B) in pattern match (m//) at /tmp/loop_over_bdir-12250-tVTLK1/Text-WideChar-Util-0.14-m1vKza/blib/lib/Text/WideChar/Util.pm line 190.
Wide character (U+70E7) in pattern match (m//) at /tmp/loop_over_bdir-12250-tVTLK1/Text-WideChar-Util-0.14-m1vKza/blib/lib/Text/WideChar/Util.pm line 190.
Wide character (U+6BC1) in pattern match (m//) at /tmp/loop_over_bdir-12250-tVTLK1/Text-WideChar-Util-0.14-m1vKza/blib/lib/Text/WideChar/Util.pm line 190.
Wide character (U+FF0C) in pattern match (m//) at /tmp/loop_over_bdir-12250-tVTLK1/Text-WideChar-Util-0.14-m1vKza/blib/lib/Text/WideChar/Util.pm line 190.
Wide character (U+4E5D) in pattern match (m//) at /tmp/loop_over_bdir-12250-tVTLK1/Text-WideChar-Util-0.14-m1vKza/blib/lib/Text/WideChar/Util.pm line 190.
Wide character (U+540D) in pattern match (m//) at /tmp/loop_over_bdir-12250-tVTLK1/Text-WideChar-Util-0.14-m1vKza/blib/lib/Text/WideChar/Util.pm line 190.
Wide character (U+6D88) in pattern match (m//) at /tmp/loop_over_bdir-12250-tVTLK1/Text-WideChar-Util-0.14-m1vKza/blib/lib/Text/WideChar/Util.pm line 190.
Wide character (U+9632) in pattern match (m//) at /tmp/loop_over_bdir-12250-tVTLK1/Text-WideChar-Util-0.14-m1vKza/blib/lib/Text/WideChar/Util.pm line 190.
Wide character (U+5458) in pattern match (m//) at /tmp/loop_over_bdir-12250-tVTLK1/Text-WideChar-Util-0.14-m1vKza/blib/lib/Text/WideChar/Util.pm line 190.
Wide character (U+5728) in pattern match (m//) at /tmp/loop_over_bdir-12250-tVTLK1/Text-WideChar-Util-0.14-m1vKza/blib/lib/Text/WideChar/Util.pm line 190.
Wide character (U+6551) in pattern match (m//) at /tmp/loop_over_bdir-12250-tVTLK1/Text-WideChar-Util-0.14-m1vKza/blib/lib/Text/WideChar/Util.pm line 190.
Wide character (U+706B) in pattern match (m//) at /tmp/loop_over_bdir-12250-tVTLK1/Text-WideChar-Util-0.14-m1vKza/blib/lib/Text/WideChar/Util.pm line 190.
Wide character (U+4E2D) in pattern match (m//) at /tmp/loop_over_bdir-12250-tVTLK1/Text-WideChar-Util-0.14-m1vKza/blib/lib/Text/WideChar/Util.pm line 190.
Wide character (U+4E27) in pattern match (m//) at /tmp/loop_over_bdir-12250-tVTLK1/Text-WideChar-Util-0.14-m1vKza/blib/lib/Text/WideChar/Util.pm line 190.
Wide character (U+751F) in pattern match (m//) at /tmp/loop_over_bdir-12250-tVTLK1/Text-WideChar-Util-0.14-m1vKza/blib/lib/Text/WideChar/Util.pm line 190.
Wide character (U+FF0C) in pattern match (m//) at /tmp/loop_over_bdir-12250-tVTLK1/Text-WideChar-Util-0.14-m1vKza/blib/lib/Text/WideChar/Util.pm line 190.
Wide character (U+4EBA) in pattern match (m//) at /tmp/loop_over_bdir-12250-tVTLK1/Text-WideChar-Util-0.14-m1vKza/blib/lib/Text/WideChar/Util.pm line 190.
Wide character (U+5931) in pattern match (m//) at /tmp/loop_over_bdir-12250-tVTLK1/Text-WideChar-Util-0.14-m1vKza/blib/lib/Text/WideChar/Util.pm line 190.
Wide character (U+8E2A) in pattern match (m//) at /tmp/loop_over_bdir-12250-tVTLK1/Text-WideChar-Util-0.14-m1vKza/blib/lib/Text/WideChar/Util.pm line 190.
Wide character (U+FF0C) in pattern match (m//) at /tmp/loop_over_bdir-12250-tVTLK1/Text-WideChar-Util-0.14-m1vKza/blib/lib/Text/WideChar/Util.pm line 190.
Wide character (U+4EBA) in pattern match (m//) at /tmp/loop_over_bdir-12250-tVTLK1/Text-WideChar-Util-0.14-m1vKza/blib/lib/Text/WideChar/Util.pm line 190.
Wide character (U+53D7) in pattern match (m//) at /tmp/loop_over_bdir-12250-tVTLK1/Text-WideChar-Util-0.14-m1vKza/blib/lib/Text/WideChar/Util.pm line 190.
Wide character (U+4F24) in pattern match (m//) at /tmp/loop_over_bdir-12250-tVTLK1/Text-WideChar-Util-0.14-m1vKza/blib/lib/Text/WideChar/Util.pm line 190.
Wide character (U+3002) in pattern match (m//) at /tmp/loop_over_bdir-12250-tVTLK1/Text-WideChar-Util-0.14-m1vKza/blib/lib/Text/WideChar/Util.pm line 190.
Wide character (U+6570) in pattern match (m//) at /tmp/loop_over_bdir-12250-tVTLK1/Text-WideChar-Util-0.14-m1vKza/blib/lib/Text/WideChar/Util.pm line 190.
Wide character (U+636E) in pattern match (m//) at /tmp/loop_over_bdir-12250-tVTLK1/Text-WideChar-Util-0.14-m1vKza/blib/lib/Text/WideChar/Util.pm line 190.
Wide character (U+4E2D) in pattern match (m//) at /tmp/loop_over_bdir-12250-tVTLK1/Text-WideChar-Util-0.14-m1vKza/blib/lib/Text/WideChar/Util.pm line 190.
Wide character (U+5FC3) in pattern match (m//) at /tmp/loop_over_bdir-12250-tVTLK1/Text-WideChar-Util-0.14-m1vKza/blib/lib/Text/WideChar/Util.pm line 190.
Wide character (U+50A8) in pattern match (m//) at /tmp/loop_over_bdir-12250-tVTLK1/Text-WideChar-Util-0.14-m1vKza/blib/lib/Text/WideChar/Util.pm line 190.
Wide character (U+5B58) in pattern match (m//) at /tmp/loop_over_bdir-12250-tVTLK1/Text-WideChar-Util-0.14-m1vKza/blib/lib/Text/WideChar/Util.pm line 190.
Wide character (U+4E86) in pattern match (m//) at /tmp/loop_over_bdir-12250-tVTLK1/Text-WideChar-Util-0.14-m1vKza/blib/lib/Text/WideChar/Util.pm line 190.
Wide character (U+963F) in pattern match (m//) at /tmp/loop_over_bdir-12250-tVTLK1/Text-WideChar-Util-0.14-m1vKza/blib/lib/Text/WideChar/Util.pm line 190.
Wide character (U+6839) in pattern match (m//) at /tmp/loop_over_bdir-12250-tVTLK1/Text-WideChar-Util-0.14-m1vKza/blib/lib/Text/WideChar/Util.pm line 190.
Wide character (U+5EF7) in pattern match (m//) at /tmp/loop_over_bdir-12250-tVTLK1/Text-WideChar-Util-0.14-m1vKza/blib/lib/Text/WideChar/Util.pm line 190.
Wide character (U+592E) in pattern match (m//) at /tmp/loop_over_bdir-12250-tVTLK1/Text-WideChar-Util-0.14-m1vKza/blib/lib/Text/WideChar/Util.pm line 190.
Wide character (U+884C) in pattern match (m//) at /tmp/loop_over_bdir-12250-tVTLK1/Text-WideChar-Util-0.14-m1vKza/blib/lib/Text/WideChar/Util.pm line 190.
Wide character (U+548C) in pattern match (m//) at /tmp/loop_over_bdir-12250-tVTLK1/Text-WideChar-Util-0.14-m1vKza/blib/lib/Text/WideChar/Util.pm line 190.
Wide character (U+4F01) in pattern match (m//) at /tmp/loop_over_bdir-12250-tVTLK1/Text-WideChar-Util-0.14-m1vKza/blib/lib/Text/WideChar/Util.pm line 190.
Wide character (U+4E1A) in pattern match (m//) at /tmp/loop_over_bdir-12250-tVTLK1/Text-WideChar-Util-0.14-m1vKza/blib/lib/Text/WideChar/Util.pm line 190.
Wide character (U+6863) in pattern match (m//) at /tmp/loop_over_bdir-12250-tVTLK1/Text-WideChar-Util-0.14-m1vKza/blib/lib/Text/WideChar/Util.pm line 190.
Wide character (U+6848) in pattern match (m//) at /tmp/loop_over_bdir-12250-tVTLK1/Text-WideChar-Util-0.14-m1vKza/blib/lib/Text/WideChar/Util.pm line 190.
Wide character (U+FF0C) in pattern match (m//) at /tmp/loop_over_bdir-12250-tVTLK1/Text-WideChar-Util-0.14-m1vKza/blib/lib/Text/WideChar/Util.pm line 190.
Wide character (U+56E0) in pattern match (m//) at /tmp/loop_over_bdir-12250-tVTLK1/Text-WideChar-Util-0.14-m1vKza/blib/lib/Text/WideChar/Util.pm line 190.
Wide character (U+6B64) in pattern match (m//) at /tmp/loop_over_bdir-12250-tVTLK1/Text-WideChar-Util-0.14-m1vKza/blib/lib/Text/WideChar/Util.pm line 190.
Wide character (U+635F) in pattern match (m//) at /tmp/loop_over_bdir-12250-tVTLK1/Text-WideChar-Util-0.14-m1vKza/blib/lib/Text/WideChar/Util.pm line 190.
Wide character (U+5931) in pattern match (m//) at /tmp/loop_over_bdir-12250-tVTLK1/Text-WideChar-Util-0.14-m1vKza/blib/lib/Text/WideChar/Util.pm line 190.
Wide character (U+53EF) in pattern match (m//) at /tmp/loop_over_bdir-12250-tVTLK1/Text-WideChar-Util-0.14-m1vKza/blib/lib/Text/WideChar/Util.pm line 190.
Wide character (U+80FD) in pattern match (m//) at /tmp/loop_over_bdir-12250-tVTLK1/Text-WideChar-Util-0.14-m1vKza/blib/lib/Text/WideChar/Util.pm line 190.
Wide character (U+975E) in pattern match (m//) at /tmp/loop_over_bdir-12250-tVTLK1/Text-WideChar-Util-0.14-m1vKza/blib/lib/Text/WideChar/Util.pm line 190.
Wide character (U+5E38) in pattern match (m//) at /tmp/loop_over_bdir-12250-tVTLK1/Text-WideChar-Util-0.14-m1vKza/blib/lib/Text/WideChar/Util.pm line 190.
Wide character (U+5DE8) in pattern match (m//) at /tmp/loop_over_bdir-12250-tVTLK1/Text-WideChar-Util-0.14-m1vKza/blib/lib/Text/WideChar/Util.pm line 190.
Wide character (U+5927) in pattern match (m//) at /tmp/loop_over_bdir-12250-tVTLK1/Text-WideChar-Util-0.14-m1vKza/blib/lib/Text/WideChar/Util.pm line 190.
Wide character (U+3002) in pattern match (m//) at /tmp/loop_over_bdir-12250-tVTLK1/Text-WideChar-Util-0.14-m1vKza/blib/lib/Text/WideChar/Util.pm line 190.
Wide character (U+8FD9) in pattern match (m//) at /tmp/loop_over_bdir-12250-tVTLK1/Text-WideChar-Util-0.14-m1vKza/blib/lib/Text/WideChar/Util.pm line 190.
Wide character (U+4E2A) in pattern match (m//) at /tmp/loop_over_bdir-12250-tVTLK1/Text-WideChar-Util-0.14-m1vKza/blib/lib/Text/WideChar/Util.pm line 190.
Wide character (U+6570) in pattern match (m//) at /tmp/loop_over_bdir-12250-tVTLK1/Text-WideChar-Util-0.14-m1vKza/blib/lib/Text/WideChar/Util.pm line 190.
Wide character (U+636E) in pattern match (m//) at /tmp/loop_over_bdir-12250-tVTLK1/Text-WideChar-Util-0.14-m1vKza/blib/lib/Text/WideChar/Util.pm line 190.
Wide character (U+4E2D) in pattern match (m//) at /tmp/loop_over_bdir-12250-tVTLK1/Text-WideChar-Util-0.14-m1vKza/blib/lib/Text/WideChar/Util.pm line 190.
Wide character (U+5FC3) in pattern match (m//) at /tmp/loop_over_bdir-12250-tVTLK1/Text-WideChar-Util-0.14-m1vKza/blib/lib/Text/WideChar/Util.pm line 190.
Wide character (U+914D) in pattern match (m//) at /tmp/loop_over_bdir-12250-tVTLK1/Text-WideChar-Util-0.14-m1vKza/blib/lib/Text/WideChar/Util.pm line 190.
Wide character (U+5907) in pattern match (m//) at /tmp/loop_over_bdir-12250-tVTLK1/Text-WideChar-Util-0.14-m1vKza/blib/lib/Text/WideChar/Util.pm line 190.
Wide character (U+4E86) in pattern match (m//) at /tmp/loop_over_bdir-12250-tVTLK1/Text-WideChar-Util-0.14-m1vKza/blib/lib/Text/WideChar/Util.pm line 190.
Wide character (U+79C1) in pattern match (m//) at /tmp/loop_over_bdir-12250-tVTLK1/Text-WideChar-Util-0.14-m1vKza/blib/lib/Text/WideChar/Util.pm line 190.
Wide character (U+4EBA) in pattern match (m//) at /tmp/loop_over_bdir-12250-tVTLK1/Text-WideChar-Util-0.14-m1vKza/blib/lib/Text/WideChar/Util.pm line 190.
Wide character (U+7684) in pattern match (m//) at /tmp/loop_over_bdir-12250-tVTLK1/Text-WideChar-Util-0.14-m1vKza/blib/lib/Text/WideChar/Util.pm line 190.
Wide character (U+6551) in pattern match (m//) at /tmp/loop_over_bdir-12250-tVTLK1/Text-WideChar-Util-0.14-m1vKza/blib/lib/Text/WideChar/Util.pm line 190.
Wide character (U+706B) in pattern match (m//) at /tmp/loop_over_bdir-12250-tVTLK1/Text-WideChar-Util-0.14-m1vKza/blib/lib/Text/WideChar/Util.pm line 190.
Wide character (U+961F) in pattern match (m//) at /tmp/loop_over_bdir-12250-tVTLK1/Text-WideChar-Util-0.14-m1vKza/blib/lib/Text/WideChar/Util.pm line 190.
Wide character (U+FF0C) in pattern match (m//) at /tmp/loop_over_bdir-12250-tVTLK1/Text-WideChar-Util-0.14-m1vKza/blib/lib/Text/WideChar/Util.pm line 190.
Wide character (U+81EA) in pattern match (m//) at /tmp/loop_over_bdir-12250-tVTLK1/Text-WideChar-Util-0.14-m1vKza/blib/lib/Text/WideChar/Util.pm line 190.
Wide character (U+52A8) in pattern match (m//) at /tmp/loop_over_bdir-12250-tVTLK1/Text-WideChar-Util-0.14-m1vKza/blib/lib/Text/WideChar/Util.pm line 190.
Wide character (U+55B7) in pattern match (m//) at /tmp/loop_over_bdir-12250-tVTLK1/Text-WideChar-Util-0.14-m1vKza/blib/lib/Text/WideChar/Util.pm line 190.
Wide character (U+6C34) in pattern match (m//) at /tmp/loop_over_bdir-12250-tVTLK1/Text-WideChar-Util-0.14-m1vKza/blib/lib/Text/WideChar/Util.pm line 190.
Wide character (U+706D) in pattern match (m//) at /tmp/loop_over_bdir-12250-tVTLK1/Text-WideChar-Util-0.14-m1vKza/blib/lib/Text/WideChar/Util.pm line 190.
Wide character (U+706B) in pattern match (m//) at /tmp/loop_over_bdir-12250-tVTLK1/Text-WideChar-Util-0.14-m1vKza/blib/lib/Text/WideChar/Util.pm line 190.
Wide character (U+7CFB) in pattern match (m//) at /tmp/loop_over_bdir-12250-tVTLK1/Text-WideChar-Util-0.14-m1vKza/blib/lib/Text/WideChar/Util.pm line 190.
Wide character (U+7EDF) in pattern match (m//) at /tmp/loop_over_bdir-12250-tVTLK1/Text-WideChar-Util-0.14-m1vKza/blib/lib/Text/WideChar/Util.pm line 190.
Wide character (U+FF0C) in pattern match (m//) at /tmp/loop_over_bdir-12250-tVTLK1/Text-WideChar-Util-0.14-m1vKza/blib/lib/Text/WideChar/Util.pm line 190.
Wide character (U+706B) in pattern match (m//) at /tmp/loop_over_bdir-12250-tVTLK1/Text-WideChar-Util-0.14-m1vKza/blib/lib/Text/WideChar/Util.pm line 190.
Wide character (U+707E) in pattern match (m//) at /tmp/loop_over_bdir-12250-tVTLK1/Text-WideChar-Util-0.14-m1vKza/blib/lib/Text/WideChar/Util.pm line 190.
Wide character (U+63A7) in pattern match (m//) at /tmp/loop_over_bdir-12250-tVTLK1/Text-WideChar-Util-0.14-m1vKza/blib/lib/Text/WideChar/Util.pm line 190.
Wide character (U+5236) in pattern match (m//) at /tmp/loop_over_bdir-12250-tVTLK1/Text-WideChar-Util-0.14-m1vKza/blib/lib/Text/WideChar/Util.pm line 190.
Wide character (U+7CFB) in pattern match (m//) at /tmp/loop_over_bdir-12250-tVTLK1/Text-WideChar-Util-0.14-m1vKza/blib/lib/Text/WideChar/Util.pm line 190.
Wide character (U+7EDF) in pattern match (m//) at /tmp/loop_over_bdir-12250-tVTLK1/Text-WideChar-Util-0.14-m1vKza/blib/lib/Text/WideChar/Util.pm line 190.
Wide character (U+4EE5) in pattern match (m//) at /tmp/loop_over_bdir-12250-tVTLK1/Text-WideChar-Util-0.14-m1vKza/blib/lib/Text/WideChar/Util.pm line 190.
Wide character (U+53CA) in pattern match (m//) at /tmp/loop_over_bdir-12250-tVTLK1/Text-WideChar-Util-0.14-m1vKza/blib/lib/Text/WideChar/Util.pm line 190.
Wide character (U+5176) in pattern match (m//) at /tmp/loop_over_bdir-12250-tVTLK1/Text-WideChar-Util-0.14-m1vKza/blib/lib/Text/WideChar/Util.pm line 190.
Wide character (U+5B83) in pattern match (m//) at /tmp/loop_over_bdir-12250-tVTLK1/Text-WideChar-Util-0.14-m1vKza/blib/lib/Text/WideChar/Util.pm line 190.
Wide character (U+706B) in pattern match (m//) at /tmp/loop_over_bdir-12250-tVTLK1/Text-WideChar-Util-0.14-m1vKza/blib/lib/Text/WideChar/Util.pm line 190.
Wide character (U+707E) in pattern match (m//) at /tmp/loop_over_bdir-12250-tVTLK1/Text-WideChar-Util-0.14-m1vKza/blib/lib/Text/WideChar/Util.pm line 190.
Wide character (U+9884) in pattern match (m//) at /tmp/loop_over_bdir-12250-tVTLK1/Text-WideChar-Util-0.14-m1vKza/blib/lib/Text/WideChar/Util.pm line 190.
Wide character (U+9632) in pattern match (m//) at /tmp/loop_over_bdir-12250-tVTLK1/Text-WideChar-Util-0.14-m1vKza/blib/lib/Text/WideChar/Util.pm line 190.
Wide character (U+7684) in pattern match (m//) at /tmp/loop_over_bdir-12250-tVTLK1/Text-WideChar-Util-0.14-m1vKza/blib/lib/Text/WideChar/Util.pm line 190.
Wide character (U+63AA) in pattern match (m//) at /tmp/loop_over_bdir-12250-tVTLK1/Text-WideChar-Util-0.14-m1vKza/blib/lib/Text/WideChar/Util.pm line 190.
Wide character (U+65BD) in pattern match (m//) at /tmp/loop_over_bdir-12250-tVTLK1/Text-WideChar-Util-0.14-m1vKza/blib/lib/Text/WideChar/Util.pm line 190.
Wide character (U+3002) in pattern match (m//) at /tmp/loop_over_bdir-12250-tVTLK1/Text-WideChar-Util-0.14-m1vKza/blib/lib/Text/WideChar/Util.pm line 190.
Wide character (U+4F46) in pattern match (m//) at /tmp/loop_over_bdir-12250-tVTLK1/Text-WideChar-Util-0.14-m1vKza/blib/lib/Text/WideChar/Util.pm line 190.
Wide character (U+5373) in pattern match (m//) at /tmp/loop_over_bdir-12250-tVTLK1/Text-WideChar-Util-0.14-m1vKza/blib/lib/Text/WideChar/Util.pm line 190.
Wide character (U+4FBF) in pattern match (m//) at /tmp/loop_over_bdir-12250-tVTLK1/Text-WideChar-Util-0.14-m1vKza/blib/lib/Text/WideChar/Util.pm line 190.
Wide character (U+5982) in pattern match (m//) at /tmp/loop_over_bdir-12250-tVTLK1/Text-WideChar-Util-0.14-m1vKza/blib/lib/Text/WideChar/Util.pm line 190.
Wide character (U+6B64) in pattern match (m//) at /tmp/loop_over_bdir-12250-tVTLK1/Text-WideChar-Util-0.14-m1vKza/blib/lib/Text/WideChar/Util.pm line 190.
Wide character (U+FF0C) in pattern match (m//) at /tmp/loop_over_bdir-12250-tVTLK1/Text-WideChar-Util-0.14-m1vKza/blib/lib/Text/WideChar/Util.pm line 190.
Wide character (U+4ECD) in pattern match (m//) at /tmp/loop_over_bdir-12250-tVTLK1/Text-WideChar-Util-0.14-m1vKza/blib/lib/Text/WideChar/Util.pm line 190.
Wide character (U+7136) in pattern match (m//) at /tmp/loop_over_bdir-12250-tVTLK1/Text-WideChar-Util-0.14-m1vKza/blib/lib/Text/WideChar/Util.pm line 190.
Wide character (U+6CA1) in pattern match (m//) at /tmp/loop_over_bdir-12250-tVTLK1/Text-WideChar-Util-0.14-m1vKza/blib/lib/Text/WideChar/Util.pm line 190.
Wide character (U+6709) in pattern match (m//) at /tmp/loop_over_bdir-12250-tVTLK1/Text-WideChar-Util-0.14-m1vKza/blib/lib/Text/WideChar/Util.pm line 190.
Wide character (U+9884) in pattern match (m//) at /tmp/loop_over_bdir-12250-tVTLK1/Text-WideChar-Util-0.14-m1vKza/blib/lib/Text/WideChar/Util.pm line 190.
Wide character (U+9632) in pattern match (m//) at /tmp/loop_over_bdir-12250-tVTLK1/Text-WideChar-Util-0.14-m1vKza/blib/lib/Text/WideChar/Util.pm line 190.
Wide character (U+707E) in pattern match (m//) at /tmp/loop_over_bdir-12250-tVTLK1/Text-WideChar-Util-0.14-m1vKza/blib/lib/Text/WideChar/Util.pm line 190.
Wide character (U+96BE) in pattern match (m//) at /tmp/loop_over_bdir-12250-tVTLK1/Text-WideChar-Util-0.14-m1vKza/blib/lib/Text/WideChar/Util.pm line 190.
Wide character (U+7684) in pattern match (m//) at /tmp/loop_over_bdir-12250-tVTLK1/Text-WideChar-Util-0.14-m1vKza/blib/lib/Text/WideChar/Util.pm line 190.
Wide character (U+53D1) in pattern match (m//) at /tmp/loop_over_bdir-12250-tVTLK1/Text-WideChar-Util-0.14-m1vKza/blib/lib/Text/WideChar/Util.pm line 190.
Wide character (U+751F) in pattern match (m//) at /tmp/loop_over_bdir-12250-tVTLK1/Text-WideChar-Util-0.14-m1vKza/blib/lib/Text/WideChar/Util.pm line 190.
Wide character (U+3002) in pattern match (m//) at /tmp/loop_over_bdir-12250-tVTLK1/Text-WideChar-Util-0.14-m1vKza/blib/lib/Text/WideChar/Util.pm line 190.
Wide character (U+76EE) in pattern match (m//) at /tmp/loop_over_bdir-12250-tVTLK1/Text-WideChar-Util-0.14-m1vKza/blib/lib/Text/WideChar/Util.pm line 190.
Wide character (U+524D) in pattern match (m//) at /tmp/loop_over_bdir-12250-tVTLK1/Text-WideChar-Util-0.14-m1vKza/blib/lib/Text/WideChar/Util.pm line 190.
Wide character (U+8FD8) in pattern match (m//) at /tmp/loop_over_bdir-12250-tVTLK1/Text-WideChar-Util-0.14-m1vKza/blib/lib/Text/WideChar/Util.pm line 190.
Wide character (U+4E0D) in pattern match (m//) at /tmp/loop_over_bdir-12250-tVTLK1/Text-WideChar-Util-0.14-m1vKza/blib/lib/Text/WideChar/Util.pm line 190.
Wide character (U+6E05) in pattern match (m//) at /tmp/loop_over_bdir-12250-tVTLK1/Text-WideChar-Util-0.14-m1vKza/blib/lib/Text/WideChar/Util.pm line 190.
Wide character (U+695A) in pattern match (m//) at /tmp/loop_over_bdir-12250-tVTLK1/Text-WideChar-Util-0.14-m1vKza/blib/lib/Text/WideChar/Util.pm line 190.
Wide character (U+6570) in pattern match (m//) at /tmp/loop_over_bdir-12250-tVTLK1/Text-WideChar-Util-0.14-m1vKza/blib/lib/Text/WideChar/Util.pm line 190.
Wide character (U+636E) in pattern match (m//) at /tmp/loop_over_bdir-12250-tVTLK1/Text-WideChar-Util-0.14-m1vKza/blib/lib/Text/WideChar/Util.pm line 190.
Wide character (U+4E2D) in pattern match (m//) at /tmp/loop_over_bdir-12250-tVTLK1/Text-WideChar-Util-0.14-m1vKza/blib/lib/Text/WideChar/Util.pm line 190.
Wide character (U+5FC3) in pattern match (m//) at /tmp/loop_over_bdir-12250-tVTLK1/Text-WideChar-Util-0.14-m1vKza/blib/lib/Text/WideChar/Util.pm line 190.
Wide character (U+8D77) in pattern match (m//) at /tmp/loop_over_bdir-12250-tVTLK1/Text-WideChar-Util-0.14-m1vKza/blib/lib/Text/WideChar/Util.pm line 190.
Wide character (U+706B) in pattern match (m//) at /tmp/loop_over_bdir-12250-tVTLK1/Text-WideChar-Util-0.14-m1vKza/blib/lib/Text/WideChar/Util.pm line 190.
Wide character (U+7684) in pattern match (m//) at /tmp/loop_over_bdir-12250-tVTLK1/Text-WideChar-Util-0.14-m1vKza/blib/lib/Text/WideChar/Util.pm line 190.
Wide character (U+539F) in pattern match (m//) at /tmp/loop_over_bdir-12250-tVTLK1/Text-WideChar-Util-0.14-m1vKza/blib/lib/Text/WideChar/Util.pm line 190.
Wide character (U+56E0) in pattern match (m//) at /tmp/loop_over_bdir-12250-tVTLK1/Text-WideChar-Util-0.14-m1vKza/blib/lib/Text/WideChar/Util.pm line 190.
Wide character (U+3002) in pattern match (m//) at /tmp/loop_over_bdir-12250-tVTLK1/Text-WideChar-Util-0.14-m1vKza/blib/lib/Text/WideChar/Util.pm line 190.
Wide character (U+4F4D) in pattern match (m//) at /tmp/loop_over_bdir-12250-tVTLK1/Text-WideChar-Util-0.14-m1vKza/blib/lib/Text/WideChar/Util.pm line 194.
Wide character (U+4F4D) in pattern match (m//) at /tmp/loop_over_bdir-12250-tVTLK1/Text-WideChar-Util-0.14-m1vKza/blib/lib/Text/WideChar/Util.pm line 196.
Wide character (U+4E8E) in pattern match (m//) at /tmp/loop_over_bdir-12250-tVTLK1/Text-WideChar-Util-0.14-m1vKza/blib/lib/Text/WideChar/Util.pm line 196.
Wide character (U+963F) in pattern match (m//) at /tmp/loop_over_bdir-12250-tVTLK1/Text-WideChar-Util-0.14-m1vKza/blib/lib/Text/WideChar/Util.pm line 196.
Wide character (U+6839) in pattern match (m//) at /tmp/loop_over_bdir-12250-tVTLK1/Text-WideChar-Util-0.14-m1vKza/blib/lib/Text/WideChar/Util.pm line 196.
Wide character (U+5EF7) in pattern match (m//) at /tmp/loop_over_bdir-12250-tVTLK1/Text-WideChar-Util-0.14-m1vKza/blib/lib/Text/WideChar/Util.pm line 196.
Wide character (U+9996) in pattern match (m//) at /tmp/loop_over_bdir-12250-tVTLK1/Text-WideChar-Util-0.14-m1vKza/blib/lib/Text/WideChar/Util.pm line 196.
Wide character (U+90FD) in pattern match (m//) at /tmp/loop_over_bdir-12250-tVTLK1/Text-WideChar-Util-0.14-m1vKza/blib/lib/Text/WideChar/Util.pm line 196.
Wide character (U+5E03) in pattern match (m//) at /tmp/loop_over_bdir-12250-tVTLK1/Text-WideChar-Util-0.14-m1vKza/blib/lib/Text/WideChar/Util.pm line 196.
Wide character (U+5B9C) in pattern match (m//) at /tmp/loop_over_bdir-12250-tVTLK1/Text-WideChar-Util-0.14-m1vKza/blib/lib/Text/WideChar/Util.pm line 196.
Wide character (U+8BFA) in pattern match (m//) at /tmp/loop_over_bdir-12250-tVTLK1/Text-WideChar-Util-0.14-m1vKza/blib/lib/Text/WideChar/Util.pm line 196.
Wide character (U+65AF) in pattern match (m//) at /tmp/loop_over_bdir-12250-tVTLK1/Text-WideChar-Util-0.14-m1vKza/blib/lib/Text/WideChar/Util.pm line 196.
Wide character (U+827E) in pattern match (m//) at /tmp/loop_over_bdir-12250-tVTLK1/Text-WideChar-Util-0.14-m1vKza/blib/lib/Text/WideChar/Util.pm line 196.
Wide character (U+5229) in pattern match (m//) at /tmp/loop_over_bdir-12250-tVTLK1/Text-WideChar-Util-0.14-m1vKza/blib/lib/Text/WideChar/Util.pm line 196.
Wide character (U+65AF) in pattern match (m//) at /tmp/loop_over_bdir-12250-tVTLK1/Text-WideChar-Util-0.14-m1vKza/blib/lib/Text/WideChar/Util.pm line 196.
Wide character (U+7684) in pattern match (m//) at /tmp/loop_over_bdir-12250-tVTLK1/Text-WideChar-Util-0.14-m1vKza/blib/lib/Text/WideChar/Util.pm line 196.
Wide character (U+4E00) in pattern match (m//) at /tmp/loop_over_bdir-12250-tVTLK1/Text-WideChar-Util-0.14-m1vKza/blib/lib/Text/WideChar/Util.pm line 196.
Wide character (U+4E2A) in pattern match (m//) at /tmp/loop_over_bdir-12250-tVTLK1/Text-WideChar-Util-0.14-m1vKza/blib/lib/Text/WideChar/Util.pm line 196.
Wide character (U+5927) in pattern match (m//) at /tmp/loop_over_bdir-12250-tVTLK1/Text-WideChar-Util-0.14-m1vKza/blib/lib/Text/WideChar/Util.pm line 196.
Wide character (U+6570) in pattern match (m//) at /tmp/loop_over_bdir-12250-tVTLK1/Text-WideChar-Util-0.14-m1vKza/blib/lib/Text/WideChar/Util.pm line 196.
Wide character (U+636E) in pattern match (m//) at /tmp/loop_over_bdir-12250-tVTLK1/Text-WideChar-Util-0.14-m1vKza/blib/lib/Text/WideChar/Util.pm line 196.
Wide character (U+4E2D) in pattern match (m//) at /tmp/loop_over_bdir-12250-tVTLK1/Text-WideChar-Util-0.14-m1vKza/blib/lib/Text/WideChar/Util.pm line 196.
Wide character (U+5FC3) in pattern match (m//) at /tmp/loop_over_bdir-12250-tVTLK1/Text-WideChar-Util-0.14-m1vKza/blib/lib/Text/WideChar/Util.pm line 196.
Wide character (U+5468) in pattern match (m//) at /tmp/loop_over_bdir-12250-tVTLK1/Text-WideChar-Util-0.14-m1vKza/blib/lib/Text/WideChar/Util.pm line 196.
Wide character (U+4E09) in pattern match (m//) at /tmp/loop_over_bdir-12250-tVTLK1/Text-WideChar-Util-0.14-m1vKza/blib/lib/Text/WideChar/Util.pm line 196.
Wide character (U+906D) in pattern match (m//) at /tmp/loop_over_bdir-12250-tVTLK1/Text-WideChar-Util-0.14-m1vKza/blib/lib/Text/WideChar/Util.pm line 196.
Wide character (U+5927) in pattern match (m//) at /tmp/loop_over_bdir-12250-tVTLK1/Text-WideChar-Util-0.14-m1vKza/blib/lib/Text/WideChar/Util.pm line 196.
Wide character (U+706B) in pattern match (m//) at /tmp/loop_over_bdir-12250-tVTLK1/Text-WideChar-Util-0.14-m1vKza/blib/lib/Text/WideChar/Util.pm line 196.
Wide character (U+70E7) in pattern match (m//) at /tmp/loop_over_bdir-12250-tVTLK1/Text-WideChar-Util-0.14-m1vKza/blib/lib/Text/WideChar/Util.pm line 196.
Wide character (U+6BC1) in pattern match (m//) at /tmp/loop_over_bdir-12250-tVTLK1/Text-WideChar-Util-0.14-m1vKza/blib/lib/Text/WideChar/Util.pm line 196.
Wide character (U+FF0C) in pattern match (m//) at /tmp/loop_over_bdir-12250-tVTLK1/Text-WideChar-Util-0.14-m1vKza/blib/lib/Text/WideChar/Util.pm line 196.
Wide character (U+4E5D) in pattern match (m//) at /tmp/loop_over_bdir-12250-tVTLK1/Text-WideChar-Util-0.14-m1vKza/blib/lib/Text/WideChar/Util.pm line 196.
Wide character (U+540D) in pattern match (m//) at /tmp/loop_over_bdir-12250-tVTLK1/Text-WideChar-Util-0.14-m1vKza/blib/lib/Text/WideChar/Util.pm line 196.
Wide character (U+6D88) in pattern match (m//) at /tmp/loop_over_bdir-12250-tVTLK1/Text-WideChar-Util-0.14-m1vKza/blib/lib/Text/WideChar/Util.pm line 196.
Wide character (U+9632) in pattern match (m//) at /tmp/loop_over_bdir-12250-tVTLK1/Text-WideChar-Util-0.14-m1vKza/blib/lib/Text/WideChar/Util.pm line 196.
Wide character (U+5458) in pattern match (m//) at /tmp/loop_over_bdir-12250-tVTLK1/Text-WideChar-Util-0.14-m1vKza/blib/lib/Text/WideChar/Util.pm line 196.
Wide character (U+5728) in pattern match (m//) at /tmp/loop_over_bdir-12250-tVTLK1/Text-WideChar-Util-0.14-m1vKza/blib/lib/Text/WideChar/Util.pm line 196.
Wide character (U+6551) in pattern match (m//) at /tmp/loop_over_bdir-12250-tVTLK1/Text-WideChar-Util-0.14-m1vKza/blib/lib/Text/WideChar/Util.pm line 196.
Wide character (U+706B) in pattern match (m//) at /tmp/loop_over_bdir-12250-tVTLK1/Text-WideChar-Util-0.14-m1vKza/blib/lib/Text/WideChar/Util.pm line 196.
Wide character (U+4E2D) in pattern match (m//) at /tmp/loop_over_bdir-12250-tVTLK1/Text-WideChar-Util-0.14-m1vKza/blib/lib/Text/WideChar/Util.pm line 196.
Wide character (U+4E27) in pattern match (m//) at /tmp/loop_over_bdir-12250-tVTLK1/Text-WideChar-Util-0.14-m1vKza/blib/lib/Text/WideChar/Util.pm line 196.
Wide character (U+751F) in pattern match (m//) at /tmp/loop_over_bdir-12250-tVTLK1/Text-WideChar-Util-0.14-m1vKza/blib/lib/Text/WideChar/Util.pm line 196.
Wide character (U+FF0C) in pattern match (m//) at /tmp/loop_over_bdir-12250-tVTLK1/Text-WideChar-Util-0.14-m1vKza/blib/lib/Text/WideChar/Util.pm line 196.
Wide character (U+4EBA) in pattern match (m//) at /tmp/loop_over_bdir-12250-tVTLK1/Text-WideChar-Util-0.14-m1vKza/blib/lib/Text/WideChar/Util.pm line 196.
Wide character (U+4EBA) in pattern match (m//) at /tmp/loop_over_bdir-12250-tVTLK1/Text-WideChar-Util-0.14-m1vKza/blib/lib/Text/WideChar/Util.pm line 196.
Wide character (U+5931) in pattern match (m//) at /tmp/loop_over_bdir-12250-tVTLK1/Text-WideChar-Util-0.14-m1vKza/blib/lib/Text/WideChar/Util.pm line 196.
Wide character (U+8E2A) in pattern match (m//) at /tmp/loop_over_bdir-12250-tVTLK1/Text-WideChar-Util-0.14-m1vKza/blib/lib/Text/WideChar/Util.pm line 196.
Wide character (U+FF0C) in pattern match (m//) at /tmp/loop_over_bdir-12250-tVTLK1/Text-WideChar-Util-0.14-m1vKza/blib/lib/Text/WideChar/Util.pm line 196.
Wide character (U+4EBA) in pattern match (m//) at /tmp/loop_over_bdir-12250-tVTLK1/Text-WideChar-Util-0.14-m1vKza/blib/lib/Text/WideChar/Util.pm line 196.
Wide character (U+4EBA) in pattern match (m//) at /tmp/loop_over_bdir-12250-tVTLK1/Text-WideChar-Util-0.14-m1vKza/blib/lib/Text/WideChar/Util.pm line 196.
Wide character (U+53D7) in pattern match (m//) at /tmp/loop_over_bdir-12250-tVTLK1/Text-WideChar-Util-0.14-m1vKza/blib/lib/Text/WideChar/Util.pm line 196.
Wide character (U+4F24) in pattern match (m//) at /tmp/loop_over_bdir-12250-tVTLK1/Text-WideChar-Util-0.14-m1vKza/blib/lib/Text/WideChar/Util.pm line 196.
Wide character (U+3002) in pattern match (m//) at /tmp/loop_over_bdir-12250-tVTLK1/Text-WideChar-Util-0.14-m1vKza/blib/lib/Text/WideChar/Util.pm line 196.
Wide character (U+6570) in pattern match (m//) at /tmp/loop_over_bdir-12250-tVTLK1/Text-WideChar-Util-0.14-m1vKza/blib/lib/Text/WideChar/Util.pm line 196.
Wide character (U+636E) in pattern match (m//) at /tmp/loop_over_bdir-12250-tVTLK1/Text-WideChar-Util-0.14-m1vKza/blib/lib/Text/WideChar/Util.pm line 196.
Wide character (U+4E2D) in pattern match (m//) at /tmp/loop_over_bdir-12250-tVTLK1/Text-WideChar-Util-0.14-m1vKza/blib/lib/Text/WideChar/Util.pm line 196.
Wide character (U+5FC3) in pattern match (m//) at /tmp/loop_over_bdir-12250-tVTLK1/Text-WideChar-Util-0.14-m1vKza/blib/lib/Text/WideChar/Util.pm line 196.
Wide character (U+50A8) in pattern match (m//) at /tmp/loop_over_bdir-12250-tVTLK1/Text-WideChar-Util-0.14-m1vKza/blib/lib/Text/WideChar/Util.pm line 196.
Wide character (U+5B58) in pattern match (m//) at /tmp/loop_over_bdir-12250-tVTLK1/Text-WideChar-Util-0.14-m1vKza/blib/lib/Text/WideChar/Util.pm line 196.
Wide character (U+4E86) in pattern match (m//) at /tmp/loop_over_bdir-12250-tVTLK1/Text-WideChar-Util-0.14-m1vKza/blib/lib/Text/WideChar/Util.pm line 196.
Wide character (U+963F) in pattern match (m//) at /tmp/loop_over_bdir-12250-tVTLK1/Text-WideChar-Util-0.14-m1vKza/blib/lib/Text/WideChar/Util.pm line 196.
Wide character (U+6839) in pattern match (m//) at /tmp/loop_over_bdir-12250-tVTLK1/Text-WideChar-Util-0.14-m1vKza/blib/lib/Text/WideChar/Util.pm line 196.
Wide character (U+5EF7) in pattern match (m//) at /tmp/loop_over_bdir-12250-tVTLK1/Text-WideChar-Util-0.14-m1vKza/blib/lib/Text/WideChar/Util.pm line 196.
Wide character (U+592E) in pattern match (m//) at /tmp/loop_over_bdir-12250-tVTLK1/Text-WideChar-Util-0.14-m1vKza/blib/lib/Text/WideChar/Util.pm line 196.
Wide character (U+884C) in pattern match (m//) at /tmp/loop_over_bdir-12250-tVTLK1/Text-WideChar-Util-0.14-m1vKza/blib/lib/Text/WideChar/Util.pm line 196.
Wide character (U+548C) in pattern match (m//) at /tmp/loop_over_bdir-12250-tVTLK1/Text-WideChar-Util-0.14-m1vKza/blib/lib/Text/WideChar/Util.pm line 196.
Wide character (U+4F01) in pattern match (m//) at /tmp/loop_over_bdir-12250-tVTLK1/Text-WideChar-Util-0.14-m1vKza/blib/lib/Text/WideChar/Util.pm line 196.
Wide character (U+4E1A) in pattern match (m//) at /tmp/loop_over_bdir-12250-tVTLK1/Text-WideChar-Util-0.14-m1vKza/blib/lib/Text/WideChar/Util.pm line 196.
Wide character (U+6863) in pattern match (m//) at /tmp/loop_over_bdir-12250-tVTLK1/Text-WideChar-Util-0.14-m1vKza/blib/lib/Text/WideChar/Util.pm line 196.
Wide character (U+6848) in pattern match (m//) at /tmp/loop_over_bdir-12250-tVTLK1/Text-WideChar-Util-0.14-m1vKza/blib/lib/Text/WideChar/Util.pm line 196.
Wide character (U+FF0C) in pattern match (m//) at /tmp/loop_over_bdir-12250-tVTLK1/Text-WideChar-Util-0.14-m1vKza/blib/lib/Text/WideChar/Util.pm line 196.
Wide character (U+56E0) in pattern match (m//) at /tmp/loop_over_bdir-12250-tVTLK1/Text-WideChar-Util-0.14-m1vKza/blib/lib/Text/WideChar/Util.pm line 196.
Wide character (U+6B64) in pattern match (m//) at /tmp/loop_over_bdir-12250-tVTLK1/Text-WideChar-Util-0.14-m1vKza/blib/lib/Text/WideChar/Util.pm line 196.
Wide character (U+635F) in pattern match (m//) at /tmp/loop_over_bdir-12250-tVTLK1/Text-WideChar-Util-0.14-m1vKza/blib/lib/Text/WideChar/Util.pm line 196.
Wide character (U+5931) in pattern match (m//) at /tmp/loop_over_bdir-12250-tVTLK1/Text-WideChar-Util-0.14-m1vKza/blib/lib/Text/WideChar/Util.pm line 196.
Wide character (U+53EF) in pattern match (m//) at /tmp/loop_over_bdir-12250-tVTLK1/Text-WideChar-Util-0.14-m1vKza/blib/lib/Text/WideChar/Util.pm line 196.
Wide character (U+80FD) in pattern match (m//) at /tmp/loop_over_bdir-12250-tVTLK1/Text-WideChar-Util-0.14-m1vKza/blib/lib/Text/WideChar/Util.pm line 196.
Wide character (U+975E) in pattern match (m//) at /tmp/loop_over_bdir-12250-tVTLK1/Text-WideChar-Util-0.14-m1vKza/blib/lib/Text/WideChar/Util.pm line 196.
Wide character (U+5E38) in pattern match (m//) at /tmp/loop_over_bdir-12250-tVTLK1/Text-WideChar-Util-0.14-m1vKza/blib/lib/Text/WideChar/Util.pm line 196.
Wide character (U+5DE8) in pattern match (m//) at /tmp/loop_over_bdir-12250-tVTLK1/Text-WideChar-Util-0.14-m1vKza/blib/lib/Text/WideChar/Util.pm line 196.
Wide character (U+5927) in pattern match (m//) at /tmp/loop_over_bdir-12250-tVTLK1/Text-WideChar-Util-0.14-m1vKza/blib/lib/Text/WideChar/Util.pm line 196.
Wide character (U+3002) in pattern match (m//) at /tmp/loop_over_bdir-12250-tVTLK1/Text-WideChar-Util-0.14-m1vKza/blib/lib/Text/WideChar/Util.pm line 196.
Wide character (U+8FD9) in pattern match (m//) at /tmp/loop_over_bdir-12250-tVTLK1/Text-WideChar-Util-0.14-m1vKza/blib/lib/Text/WideChar/Util.pm line 196.
Wide character (U+4E2A) in pattern match (m//) at /tmp/loop_over_bdir-12250-tVTLK1/Text-WideChar-Util-0.14-m1vKza/blib/lib/Text/WideChar/Util.pm line 196.
Wide character (U+6570) in pattern match (m//) at /tmp/loop_over_bdir-12250-tVTLK1/Text-WideChar-Util-0.14-m1vKza/blib/lib/Text/WideChar/Util.pm line 196.
Wide character (U+636E) in pattern match (m//) at /tmp/loop_over_bdir-12250-tVTLK1/Text-WideChar-Util-0.14-m1vKza/blib/lib/Text/WideChar/Util.pm line 196.
Wide character (U+4E2D) in pattern match (m//) at /tmp/loop_over_bdir-12250-tVTLK1/Text-WideChar-Util-0.14-m1vKza/blib/lib/Text/WideChar/Util.pm line 196.
Wide character (U+5FC3) in pattern match (m//) at /tmp/loop_over_bdir-12250-tVTLK1/Text-WideChar-Util-0.14-m1vKza/blib/lib/Text/WideChar/Util.pm line 196.
Wide character (U+914D) in pattern match (m//) at /tmp/loop_over_bdir-12250-tVTLK1/Text-WideChar-Util-0.14-m1vKza/blib/lib/Text/WideChar/Util.pm line 196.
Wide character (U+5907) in pattern match (m//) at /tmp/loop_over_bdir-12250-tVTLK1/Text-WideChar-Util-0.14-m1vKza/blib/lib/Text/WideChar/Util.pm line 196.
Wide character (U+4E86) in pattern match (m//) at /tmp/loop_over_bdir-12250-tVTLK1/Text-WideChar-Util-0.14-m1vKza/blib/lib/Text/WideChar/Util.pm line 196.
Wide character (U+79C1) in pattern match (m//) at /tmp/loop_over_bdir-12250-tVTLK1/Text-WideChar-Util-0.14-m1vKza/blib/lib/Text/WideChar/Util.pm line 196.
Wide character (U+4EBA) in pattern match (m//) at /tmp/loop_over_bdir-12250-tVTLK1/Text-WideChar-Util-0.14-m1vKza/blib/lib/Text/WideChar/Util.pm line 196.
Wide character (U+7684) in pattern match (m//) at /tmp/loop_over_bdir-12250-tVTLK1/Text-WideChar-Util-0.14-m1vKza/blib/lib/Text/WideChar/Util.pm line 196.
Wide character (U+6551) in pattern match (m//) at /tmp/loop_over_bdir-12250-tVTLK1/Text-WideChar-Util-0.14-m1vKza/blib/lib/Text/WideChar/Util.pm line 196.
Wide character (U+706B) in pattern match (m//) at /tmp/loop_over_bdir-12250-tVTLK1/Text-WideChar-Util-0.14-m1vKza/blib/lib/Text/WideChar/Util.pm line 196.
Wide character (U+961F) in pattern match (m//) at /tmp/loop_over_bdir-12250-tVTLK1/Text-WideChar-Util-0.14-m1vKza/blib/lib/Text/WideChar/Util.pm line 196.
Wide character (U+FF0C) in pattern match (m//) at /tmp/loop_over_bdir-12250-tVTLK1/Text-WideChar-Util-0.14-m1vKza/blib/lib/Text/WideChar/Util.pm line 196.
Wide character (U+81EA) in pattern match (m//) at /tmp/loop_over_bdir-12250-tVTLK1/Text-WideChar-Util-0.14-m1vKza/blib/lib/Text/WideChar/Util.pm line 196.
Wide character (U+52A8) in pattern match (m//) at /tmp/loop_over_bdir-12250-tVTLK1/Text-WideChar-Util-0.14-m1vKza/blib/lib/Text/WideChar/Util.pm line 196.
Wide character (U+55B7) in pattern match (m//) at /tmp/loop_over_bdir-12250-tVTLK1/Text-WideChar-Util-0.14-m1vKza/blib/lib/Text/WideChar/Util.pm line 196.
Wide character (U+6C34) in pattern match (m//) at /tmp/loop_over_bdir-12250-tVTLK1/Text-WideChar-Util-0.14-m1vKza/blib/lib/Text/WideChar/Util.pm line 196.
Wide character (U+706D) in pattern match (m//) at /tmp/loop_over_bdir-12250-tVTLK1/Text-WideChar-Util-0.14-m1vKza/blib/lib/Text/WideChar/Util.pm line 196.
Wide character (U+706B) in pattern match (m//) at /tmp/loop_over_bdir-12250-tVTLK1/Text-WideChar-Util-0.14-m1vKza/blib/lib/Text/WideChar/Util.pm line 196.
Wide character (U+7CFB) in pattern match (m//) at /tmp/loop_over_bdir-12250-tVTLK1/Text-WideChar-Util-0.14-m1vKza/blib/lib/Text/WideChar/Util.pm line 196.
Wide character (U+7EDF) in pattern match (m//) at /tmp/loop_over_bdir-12250-tVTLK1/Text-WideChar-Util-0.14-m1vKza/blib/lib/Text/WideChar/Util.pm line 196.
Wide character (U+FF0C) in pattern match (m//) at /tmp/loop_over_bdir-12250-tVTLK1/Text-WideChar-Util-0.14-m1vKza/blib/lib/Text/WideChar/Util.pm line 196.
Wide character (U+706B) in pattern match (m//) at /tmp/loop_over_bdir-12250-tVTLK1/Text-WideChar-Util-0.14-m1vKza/blib/lib/Text/WideChar/Util.pm line 196.
Wide character (U+707E) in pattern match (m//) at /tmp/loop_over_bdir-12250-tVTLK1/Text-WideChar-Util-0.14-m1vKza/blib/lib/Text/WideChar/Util.pm line 196.
Wide character (U+63A7) in pattern match (m//) at /tmp/loop_over_bdir-12250-tVTLK1/Text-WideChar-Util-0.14-m1vKza/blib/lib/Text/WideChar/Util.pm line 196.
Wide character (U+5236) in pattern match (m//) at /tmp/loop_over_bdir-12250-tVTLK1/Text-WideChar-Util-0.14-m1vKza/blib/lib/Text/WideChar/Util.pm line 196.
Wide character (U+7CFB) in pattern match (m//) at /tmp/loop_over_bdir-12250-tVTLK1/Text-WideChar-Util-0.14-m1vKza/blib/lib/Text/WideChar/Util.pm line 196.
Wide character (U+7EDF) in pattern match (m//) at /tmp/loop_over_bdir-12250-tVTLK1/Text-WideChar-Util-0.14-m1vKza/blib/lib/Text/WideChar/Util.pm line 196.
Wide character (U+4EE5) in pattern match (m//) at /tmp/loop_over_bdir-12250-tVTLK1/Text-WideChar-Util-0.14-m1vKza/blib/lib/Text/WideChar/Util.pm line 196.
Wide character (U+53CA) in pattern match (m//) at /tmp/loop_over_bdir-12250-tVTLK1/Text-WideChar-Util-0.14-m1vKza/blib/lib/Text/WideChar/Util.pm line 196.
Wide character (U+5176) in pattern match (m//) at /tmp/loop_over_bdir-12250-tVTLK1/Text-WideChar-Util-0.14-m1vKza/blib/lib/Text/WideChar/Util.pm line 196.
Wide character (U+5B83) in pattern match (m//) at /tmp/loop_over_bdir-12250-tVTLK1/Text-WideChar-Util-0.14-m1vKza/blib/lib/Text/WideChar/Util.pm line 196.
Wide character (U+706B) in pattern match (m//) at /tmp/loop_over_bdir-12250-tVTLK1/Text-WideChar-Util-0.14-m1vKza/blib/lib/Text/WideChar/Util.pm line 196.
Wide character (U+707E) in pattern match (m//) at /tmp/loop_over_bdir-12250-tVTLK1/Text-WideChar-Util-0.14-m1vKza/blib/lib/Text/WideChar/Util.pm line 196.
Wide character (U+9884) in pattern match (m//) at /tmp/loop_over_bdir-12250-tVTLK1/Text-WideChar-Util-0.14-m1vKza/blib/lib/Text/WideChar/Util.pm line 196.
Wide character (U+9632) in pattern match (m//) at /tmp/loop_over_bdir-12250-tVTLK1/Text-WideChar-Util-0.14-m1vKza/blib/lib/Text/WideChar/Util.pm line 196.
Wide character (U+7684) in pattern match (m//) at /tmp/loop_over_bdir-12250-tVTLK1/Text-WideChar-Util-0.14-m1vKza/blib/lib/Text/WideChar/Util.pm line 196.
Wide character (U+63AA) in pattern match (m//) at /tmp/loop_over_bdir-12250-tVTLK1/Text-WideChar-Util-0.14-m1vKza/blib/lib/Text/WideChar/Util.pm line 196.
Wide character (U+65BD) in pattern match (m//) at /tmp/loop_over_bdir-12250-tVTLK1/Text-WideChar-Util-0.14-m1vKza/blib/lib/Text/WideChar/Util.pm line 196.
Wide character (U+3002) in pattern match (m//) at /tmp/loop_over_bdir-12250-tVTLK1/Text-WideChar-Util-0.14-m1vKza/blib/lib/Text/WideChar/Util.pm line 196.
Wide character (U+4F46) in pattern match (m//) at /tmp/loop_over_bdir-12250-tVTLK1/Text-WideChar-Util-0.14-m1vKza/blib/lib/Text/WideChar/Util.pm line 196.
Wide character (U+5373) in pattern match (m//) at /tmp/loop_over_bdir-12250-tVTLK1/Text-WideChar-Util-0.14-m1vKza/blib/lib/Text/WideChar/Util.pm line 196.
Wide character (U+4FBF) in pattern match (m//) at /tmp/loop_over_bdir-12250-tVTLK1/Text-WideChar-Util-0.14-m1vKza/blib/lib/Text/WideChar/Util.pm line 196.
Wide character (U+5982) in pattern match (m//) at /tmp/loop_over_bdir-12250-tVTLK1/Text-WideChar-Util-0.14-m1vKza/blib/lib/Text/WideChar/Util.pm line 196.
Wide character (U+6B64) in pattern match (m//) at /tmp/loop_over_bdir-12250-tVTLK1/Text-WideChar-Util-0.14-m1vKza/blib/lib/Text/WideChar/Util.pm line 196.
Wide character (U+FF0C) in pattern match (m//) at /tmp/loop_over_bdir-12250-tVTLK1/Text-WideChar-Util-0.14-m1vKza/blib/lib/Text/WideChar/Util.pm line 196.
Wide character (U+4ECD) in pattern match (m//) at /tmp/loop_over_bdir-12250-tVTLK1/Text-WideChar-Util-0.14-m1vKza/blib/lib/Text/WideChar/Util.pm line 196.
Wide character (U+7136) in pattern match (m//) at /tmp/loop_over_bdir-12250-tVTLK1/Text-WideChar-Util-0.14-m1vKza/blib/lib/Text/WideChar/Util.pm line 196.
Wide character (U+6CA1) in pattern match (m//) at /tmp/loop_over_bdir-12250-tVTLK1/Text-WideChar-Util-0.14-m1vKza/blib/lib/Text/WideChar/Util.pm line 196.
Wide character (U+6709) in pattern match (m//) at /tmp/loop_over_bdir-12250-tVTLK1/Text-WideChar-Util-0.14-m1vKza/blib/lib/Text/WideChar/Util.pm line 196.
Wide character (U+9884) in pattern match (m//) at /tmp/loop_over_bdir-12250-tVTLK1/Text-WideChar-Util-0.14-m1vKza/blib/lib/Text/WideChar/Util.pm line 196.
Wide character (U+9632) in pattern match (m//) at /tmp/loop_over_bdir-12250-tVTLK1/Text-WideChar-Util-0.14-m1vKza/blib/lib/Text/WideChar/Util.pm line 196.
Wide character (U+707E) in pattern match (m//) at /tmp/loop_over_bdir-12250-tVTLK1/Text-WideChar-Util-0.14-m1vKza/blib/lib/Text/WideChar/Util.pm line 196.
Wide character (U+96BE) in pattern match (m//) at /tmp/loop_over_bdir-12250-tVTLK1/Text-WideChar-Util-0.14-m1vKza/blib/lib/Text/WideChar/Util.pm line 196.
Wide character (U+7684) in pattern match (m//) at /tmp/loop_over_bdir-12250-tVTLK1/Text-WideChar-Util-0.14-m1vKza/blib/lib/Text/WideChar/Util.pm line 196.
Wide character (U+53D1) in pattern match (m//) at /tmp/loop_over_bdir-12250-tVTLK1/Text-WideChar-Util-0.14-m1vKza/blib/lib/Text/WideChar/Util.pm line 196.
Wide character (U+751F) in pattern match (m//) at /tmp/loop_over_bdir-12250-tVTLK1/Text-WideChar-Util-0.14-m1vKza/blib/lib/Text/WideChar/Util.pm line 196.
Wide character (U+3002) in pattern match (m//) at /tmp/loop_over_bdir-12250-tVTLK1/Text-WideChar-Util-0.14-m1vKza/blib/lib/Text/WideChar/Util.pm line 196.
Wide character (U+76EE) in pattern match (m//) at /tmp/loop_over_bdir-12250-tVTLK1/Text-WideChar-Util-0.14-m1vKza/blib/lib/Text/WideChar/Util.pm line 196.
Wide character (U+524D) in pattern match (m//) at /tmp/loop_over_bdir-12250-tVTLK1/Text-WideChar-Util-0.14-m1vKza/blib/lib/Text/WideChar/Util.pm line 196.
Wide character (U+8FD8) in pattern match (m//) at /tmp/loop_over_bdir-12250-tVTLK1/Text-WideChar-Util-0.14-m1vKza/blib/lib/Text/WideChar/Util.pm line 196.
Wide character (U+4E0D) in pattern match (m//) at /tmp/loop_over_bdir-12250-tVTLK1/Text-WideChar-Util-0.14-m1vKza/blib/lib/Text/WideChar/Util.pm line 196.
Wide character (U+6E05) in pattern match (m//) at /tmp/loop_over_bdir-12250-tVTLK1/Text-WideChar-Util-0.14-m1vKza/blib/lib/Text/WideChar/Util.pm line 196.
Wide character (U+695A) in pattern match (m//) at /tmp/loop_over_bdir-12250-tVTLK1/Text-WideChar-Util-0.14-m1vKza/blib/lib/Text/WideChar/Util.pm line 196.
Wide character (U+6570) in pattern match (m//) at /tmp/loop_over_bdir-12250-tVTLK1/Text-WideChar-Util-0.14-m1vKza/blib/lib/Text/WideChar/Util.pm line 196.
Wide character (U+636E) in pattern match (m//) at /tmp/loop_over_bdir-12250-tVTLK1/Text-WideChar-Util-0.14-m1vKza/blib/lib/Text/WideChar/Util.pm line 196.
Wide character (U+4E2D) in pattern match (m//) at /tmp/loop_over_bdir-12250-tVTLK1/Text-WideChar-Util-0.14-m1vKza/blib/lib/Text/WideChar/Util.pm line 196.
Wide character (U+5FC3) in pattern match (m//) at /tmp/loop_over_bdir-12250-tVTLK1/Text-WideChar-Util-0.14-m1vKza/blib/lib/Text/WideChar/Util.pm line 196.
Wide character (U+8D77) in pattern match (m//) at /tmp/loop_over_bdir-12250-tVTLK1/Text-WideChar-Util-0.14-m1vKza/blib/lib/Text/WideChar/Util.pm line 196.
Wide character (U+706B) in pattern match (m//) at /tmp/loop_over_bdir-12250-tVTLK1/Text-WideChar-Util-0.14-m1vKza/blib/lib/Text/WideChar/Util.pm line 196.
Wide character (U+7684) in pattern match (m//) at /tmp/loop_over_bdir-12250-tVTLK1/Text-WideChar-Util-0.14-m1vKza/blib/lib/Text/WideChar/Util.pm line 196.
Wide character (U+539F) in pattern match (m//) at /tmp/loop_over_bdir-12250-tVTLK1/Text-WideChar-Util-0.14-m1vKza/blib/lib/Text/WideChar/Util.pm line 196.
Wide character (U+56E0) in pattern match (m//) at /tmp/loop_over_bdir-12250-tVTLK1/Text-WideChar-Util-0.14-m1vKza/blib/lib/Text/WideChar/Util.pm line 196.
Wide character (U+3002) in pattern match (m//) at /tmp/loop_over_bdir-12250-tVTLK1/Text-WideChar-Util-0.14-m1vKza/blib/lib/Text/WideChar/Util.pm line 196.
Wide character (U+5403) in pattern match (m//) at /tmp/loop_over_bdir-12250-tVTLK1/Text-WideChar-Util-0.14-m1vKza/blib/lib/Text/WideChar/Util.pm line 190.
Wide character (U+5403) in pattern match (m//) at /tmp/loop_over_bdir-12250-tVTLK1/Text-WideChar-Util-0.14-m1vKza/blib/lib/Text/WideChar/Util.pm line 190.
Wide character (U+5403) in pattern match (m//) at /tmp/loop_over_bdir-12250-tVTLK1/Text-WideChar-Util-0.14-m1vKza/blib/lib/Text/WideChar/Util.pm line 190.
Wide character (U+5403) in pattern match (m//) at /tmp/loop_over_bdir-12250-tVTLK1/Text-WideChar-Util-0.14-m1vKza/blib/lib/Text/WideChar/Util.pm line 190.
Wide character (U+5403) in pattern match (m//) at /tmp/loop_over_bdir-12250-tVTLK1/Text-WideChar-Util-0.14-m1vKza/blib/lib/Text/WideChar/Util.pm line 190.
Wide character (U+5403) in pattern match (m//) at /tmp/loop_over_bdir-12250-tVTLK1/Text-WideChar-Util-0.14-m1vKza/blib/lib/Text/WideChar/Util.pm line 190.
Wide character (U+5403) in pattern match (m//) at /tmp/loop_over_bdir-12250-tVTLK1/Text-WideChar-Util-0.14-m1vKza/blib/lib/Text/WideChar/Util.pm line 190.
Wide character (U+5403) in pattern match (m//) at /tmp/loop_over_bdir-12250-tVTLK1/Text-WideChar-Util-0.14-m1vKza/blib/lib/Text/WideChar/Util.pm line 190.
Wide character (U+5403) in pattern match (m//) at /tmp/loop_over_bdir-12250-tVTLK1/Text-WideChar-Util-0.14-m1vKza/blib/lib/Text/WideChar/Util.pm line 190.
Wide character (U+996D) in pattern match (m//) at /tmp/loop_over_bdir-12250-tVTLK1/Text-WideChar-Util-0.14-m1vKza/blib/lib/Text/WideChar/Util.pm line 190.
Wide character (U+996D) in pattern match (m//) at /tmp/loop_over_bdir-12250-tVTLK1/Text-WideChar-Util-0.14-m1vKza/blib/lib/Text/WideChar/Util.pm line 190.
Wide character (U+996D) in pattern match (m//) at /tmp/loop_over_bdir-12250-tVTLK1/Text-WideChar-Util-0.14-m1vKza/blib/lib/Text/WideChar/Util.pm line 190.
Wide character (U+996D) in pattern match (m//) at /tmp/loop_over_bdir-12250-tVTLK1/Text-WideChar-Util-0.14-m1vKza/blib/lib/Text/WideChar/Util.pm line 190.
Wide character (U+996D) in pattern match (m//) at /tmp/loop_over_bdir-12250-tVTLK1/Text-WideChar-Util-0.14-m1vKza/blib/lib/Text/WideChar/Util.pm line 190.
Wide character (U+996D) in pattern match (m//) at /tmp/loop_over_bdir-12250-tVTLK1/Text-WideChar-Util-0.14-m1vKza/blib/lib/Text/WideChar/Util.pm line 190.
Wide character (U+996D) in pattern match (m//) at /tmp/loop_over_bdir-12250-tVTLK1/Text-WideChar-Util-0.14-m1vKza/blib/lib/Text/WideChar/Util.pm line 190.
Wide character (U+996D) in pattern match (m//) at /tmp/loop_over_bdir-12250-tVTLK1/Text-WideChar-Util-0.14-m1vKza/blib/lib/Text/WideChar/Util.pm line 190.
Wide character (U+5403) in pattern match (m//) at /tmp/loop_over_bdir-12250-tVTLK1/Text-WideChar-Util-0.14-m1vKza/blib/lib/Text/WideChar/Util.pm line 190.
Wide character (U+5403) in pattern match (m//) at /tmp/loop_over_bdir-12250-tVTLK1/Text-WideChar-Util-0.14-m1vKza/blib/lib/Text/WideChar/Util.pm line 190.
Wide character (U+5403) in pattern match (m//) at /tmp/loop_over_bdir-12250-tVTLK1/Text-WideChar-Util-0.14-m1vKza/blib/lib/Text/WideChar/Util.pm line 190.
Wide character (U+5403) in pattern match (m//) at /tmp/loop_over_bdir-12250-tVTLK1/Text-WideChar-Util-0.14-m1vKza/blib/lib/Text/WideChar/Util.pm line 190.
Wide character (U+5403) in pattern match (m//) at /tmp/loop_over_bdir-12250-tVTLK1/Text-WideChar-Util-0.14-m1vKza/blib/lib/Text/WideChar/Util.pm line 190.
Wide character (U+5403) in pattern match (m//) at /tmp/loop_over_bdir-12250-tVTLK1/Text-WideChar-Util-0.14-m1vKza/blib/lib/Text/WideChar/Util.pm line 190.
Wide character (U+5403) in pattern match (m//) at /tmp/loop_over_bdir-12250-tVTLK1/Text-WideChar-Util-0.14-m1vKza/blib/lib/Text/WideChar/Util.pm line 190.
Wide character (U+5403) in pattern match (m//) at /tmp/loop_over_bdir-12250-tVTLK1/Text-WideChar-Util-0.14-m1vKza/blib/lib/Text/WideChar/Util.pm line 190.
Wide character (U+996D) in pattern match (m//) at /tmp/loop_over_bdir-12250-tVTLK1/Text-WideChar-Util-0.14-m1vKza/blib/lib/Text/WideChar/Util.pm line 190.
Wide character (U+996D) in pattern match (m//) at /tmp/loop_over_bdir-12250-tVTLK1/Text-WideChar-Util-0.14-m1vKza/blib/lib/Text/WideChar/Util.pm line 190.
Wide character (U+996D) in pattern match (m//) at /tmp/loop_over_bdir-12250-tVTLK1/Text-WideChar-Util-0.14-m1vKza/blib/lib/Text/WideChar/Util.pm line 190.
Wide character (U+996D) in pattern match (m//) at /tmp/loop_over_bdir-12250-tVTLK1/Text-WideChar-Util-0.14-m1vKza/blib/lib/Text/WideChar/Util.pm line 190.
Wide character (U+996D) in pattern match (m//) at /tmp/loop_over_bdir-12250-tVTLK1/Text-WideChar-Util-0.14-m1vKza/blib/lib/Text/WideChar/Util.pm line 190.
Wide character (U+996D) in pattern match (m//) at /tmp/loop_over_bdir-12250-tVTLK1/Text-WideChar-Util-0.14-m1vKza/blib/lib/Text/WideChar/Util.pm line 190.
Wide character (U+996D) in pattern match (m//) at /tmp/loop_over_bdir-12250-tVTLK1/Text-WideChar-Util-0.14-m1vKza/blib/lib/Text/WideChar/Util.pm line 190.
Wide character (U+996D) in pattern match (m//) at /tmp/loop_over_bdir-12250-tVTLK1/Text-WideChar-Util-0.14-m1vKza/blib/lib/Text/WideChar/Util.pm line 190.
Wide character (U+5403) in pattern match (m//) at /tmp/loop_over_bdir-12250-tVTLK1/Text-WideChar-Util-0.14-m1vKza/blib/lib/Text/WideChar/Util.pm line 190.
Wide character (U+5403) in pattern match (m//) at /tmp/loop_over_bdir-12250-tVTLK1/Text-WideChar-Util-0.14-m1vKza/blib/lib/Text/WideChar/Util.pm line 190.
Wide character (U+5403) in pattern match (m//) at /tmp/loop_over_bdir-12250-tVTLK1/Text-WideChar-Util-0.14-m1vKza/blib/lib/Text/WideChar/Util.pm line 190.
Wide character (U+5403) in pattern match (m//) at /tmp/loop_over_bdir-12250-tVTLK1/Text-WideChar-Util-0.14-m1vKza/blib/lib/Text/WideChar/Util.pm line 190.
Wide character (U+5403) in pattern match (m//) at /tmp/loop_over_bdir-12250-tVTLK1/Text-WideChar-Util-0.14-m1vKza/blib/lib/Text/WideChar/Util.pm line 190.
Wide character (U+5403) in pattern match (m//) at /tmp/loop_over_bdir-12250-tVTLK1/Text-WideChar-Util-0.14-m1vKza/blib/lib/Text/WideChar/Util.pm line 190.
Wide character (U+5403) in pattern match (m//) at /tmp/loop_over_bdir-12250-tVTLK1/Text-WideChar-Util-0.14-m1vKza/blib/lib/Text/WideChar/Util.pm line 190.
Wide character (U+5403) in pattern match (m//) at /tmp/loop_over_bdir-12250-tVTLK1/Text-WideChar-Util-0.14-m1vKza/blib/lib/Text/WideChar/Util.pm line 190.
Wide character (U+996D) in pattern match (m//) at /tmp/loop_over_bdir-12250-tVTLK1/Text-WideChar-Util-0.14-m1vKza/blib/lib/Text/WideChar/Util.pm line 190.
Wide character (U+996D) in pattern match (m//) at /tmp/loop_over_bdir-12250-tVTLK1/Text-WideChar-Util-0.14-m1vKza/blib/lib/Text/WideChar/Util.pm line 190.
Wide character (U+996D) in pattern match (m//) at /tmp/loop_over_bdir-12250-tVTLK1/Text-WideChar-Util-0.14-m1vKza/blib/lib/Text/WideChar/Util.pm line 190.
Wide character (U+996D) in pattern match (m//) at /tmp/loop_over_bdir-12250-tVTLK1/Text-WideChar-Util-0.14-m1vKza/blib/lib/Text/WideChar/Util.pm line 190.
Wide character (U+996D) in pattern match (m//) at /tmp/loop_over_bdir-12250-tVTLK1/Text-WideChar-Util-0.14-m1vKza/blib/lib/Text/WideChar/Util.pm line 190.
Wide character (U+996D) in pattern match (m//) at /tmp/loop_over_bdir-12250-tVTLK1/Text-WideChar-Util-0.14-m1vKza/blib/lib/Text/WideChar/Util.pm line 190.
Wide character (U+996D) in pattern match (m//) at /tmp/loop_over_bdir-12250-tVTLK1/Text-WideChar-Util-0.14-m1vKza/blib/lib/Text/WideChar/Util.pm line 190.
Wide character (U+996D) in pattern match (m//) at /tmp/loop_over_bdir-12250-tVTLK1/Text-WideChar-Util-0.14-m1vKza/blib/lib/Text/WideChar/Util.pm line 190.
Wide character (U+5403) in pattern match (m//) at /tmp/loop_over_bdir-12250-tVTLK1/Text-WideChar-Util-0.14-m1vKza/blib/lib/Text/WideChar/Util.pm line 190.
Wide character (U+5403) in pattern match (m//) at /tmp/loop_over_bdir-12250-tVTLK1/Text-WideChar-Util-0.14-m1vKza/blib/lib/Text/WideChar/Util.pm line 190.
Wide character (U+5403) in pattern match (m//) at /tmp/loop_over_bdir-12250-tVTLK1/Text-WideChar-Util-0.14-m1vKza/blib/lib/Text/WideChar/Util.pm line 190.
Wide character (U+5403) in pattern match (m//) at /tmp/loop_over_bdir-12250-tVTLK1/Text-WideChar-Util-0.14-m1vKza/blib/lib/Text/WideChar/Util.pm line 190.
Wide character (U+5403) in pattern match (m//) at /tmp/loop_over_bdir-12250-tVTLK1/Text-WideChar-Util-0.14-m1vKza/blib/lib/Text/WideChar/Util.pm line 190.
Wide character (U+5403) in pattern match (m//) at /tmp/loop_over_bdir-12250-tVTLK1/Text-WideChar-Util-0.14-m1vKza/blib/lib/Text/WideChar/Util.pm line 190.
Wide character (U+5403) in pattern match (m//) at /tmp/loop_over_bdir-12250-tVTLK1/Text-WideChar-Util-0.14-m1vKza/blib/lib/Text/WideChar/Util.pm line 190.
Wide character (U+5403) in pattern match (m//) at /tmp/loop_over_bdir-12250-tVTLK1/Text-WideChar-Util-0.14-m1vKza/blib/lib/Text/WideChar/Util.pm line 190.
Wide character (U+996D) in pattern match (m//) at /tmp/loop_over_bdir-12250-tVTLK1/Text-WideChar-Util-0.14-m1vKza/blib/lib/Text/WideChar/Util.pm line 190.
Wide character (U+996D) in pattern match (m//) at /tmp/loop_over_bdir-12250-tVTLK1/Text-WideChar-Util-0.14-m1vKza/blib/lib/Text/WideChar/Util.pm line 190.
Wide character (U+996D) in pattern match (m//) at /tmp/loop_over_bdir-12250-tVTLK1/Text-WideChar-Util-0.14-m1vKza/blib/lib/Text/WideChar/Util.pm line 190.
Wide character (U+996D) in pattern match (m//) at /tmp/loop_over_bdir-12250-tVTLK1/Text-WideChar-Util-0.14-m1vKza/blib/lib/Text/WideChar/Util.pm line 190.
Wide character (U+996D) in pattern match (m//) at /tmp/loop_over_bdir-12250-tVTLK1/Text-WideChar-Util-0.14-m1vKza/blib/lib/Text/WideChar/Util.pm line 190.
Wide character (U+996D) in pattern match (m//) at /tmp/loop_over_bdir-12250-tVTLK1/Text-WideChar-Util-0.14-m1vKza/blib/lib/Text/WideChar/Util.pm line 190.
Wide character (U+996D) in pattern match (m//) at /tmp/loop_over_bdir-12250-tVTLK1/Text-WideChar-Util-0.14-m1vKza/blib/lib/Text/WideChar/Util.pm line 190.
Wide character (U+996D) in pattern match (m//) at /tmp/loop_over_bdir-12250-tVTLK1/Text-WideChar-Util-0.14-m1vKza/blib/lib/Text/WideChar/Util.pm line 190.
t/wrap.t .................. ok
All tests successful.
Files=6, Tests=13, 1 wallclock secs ( 0.03 usr 0.05 sys + 0.54 cusr 0.10 csys = 0.72 CPU)
Result: PASS
------------------------------
PREREQUISITES
------------------------------
Prerequisite modules loaded:
requires:
Module Need Have
------------------- -------- ------------
perl 5.010001 5.021008
Unicode::GCString 0 2013.10
build_requires:
Module Need Have
------------------- -------- ------------
ExtUtils::MakeMaker 0 7.04
File::Spec 0 3.53
IO::Handle 0 1.35
IPC::Open3 0 1.18
Test::More 0.98 1.301001_097
configure_requires:
Module Need Have
------------------- -------- ------------
ExtUtils::MakeMaker 0 7.04
Perl::osnames 0.09 0.11
------------------------------
ENVIRONMENT AND OTHER CONTEXT
------------------------------
Environment variables:
AUTOMATED_TESTING = 1
LANG = en_US.UTF-8
LANGUAGE = en_US:en
PATH = /home/sand/bin:/usr/local/bin:/usr/bin:/bin:/usr/games:/usr/local/perl/bin:/usr/X11/bin:/sbin:/usr/sbin
PERL5LIB =
PERL5OPT =
PERL5_CPANPLUS_IS_RUNNING = 12252
PERL5_CPAN_IS_RUNNING = 12252
PERL_MM_USE_DEFAULT = 1
SHELL = /usr/bin/zsh
TERM = screen
Perl special variables (and OS-specific diagnostics, for MSWin32):
$^X = /home/sand/src/perl/repoperls/installed-perls/perl/v5.21.8/a2da/bin/perl
$UID/$EUID = 1005 / 1005
$GID = 1005 1005
$EGID = 1005 1005
Perl module toolchain versions installed:
Module Have
------------------- ------------
CPAN 2.10
CPAN::Meta 2.150001
Cwd 3.54
ExtUtils::CBuilder 0.280221
ExtUtils::Command 1.20
ExtUtils::Install 2.04
ExtUtils::MakeMaker 7.04
ExtUtils::Manifest 1.70
ExtUtils::ParseXS 3.27
File::Spec 3.53
JSON 2.90
JSON::PP 2.27300
Module::Build 0.4211
Module::Signature 0.73
Parse::CPAN::Meta 1.4414
Test::Harness 3.35
Test::More 1.301001_097
YAML 1.14
YAML::Syck 1.29
version 0.9909
--
Summary of my perl5 (revision 5 version 21 subversion 8) configuration:
Commit id: eaee347ce4f7d9b8965d022a06b90c4b07bcad4a
Platform:
osname=linux, osvers=3.16.0-4-amd64, archname=x86_64-linux-thread-multi-ld
uname='linux k83 3.16.0-4-amd64 #1 smp debian 3.16.7-ckt7-1 (2015-03-01) x86_64 gnulinux '
config_args='-Dprefix=/home/sand/src/perl/repoperls/installed-perls/perl/v5.21.8/a2da -Dmyhostname=k83 -Dinstallusrbinperl=n -Uversiononly -Dusedevel -des -Ui_db -Duseithreads -Duselongdouble -DDEBUGGING=-g'
hint=recommended, useposix=true, d_sigaction=define
useithreads=define, usemultiplicity=define
use64bitint=define, use64bitall=define, uselongdouble=define
usemymalloc=n, bincompat5005=undef
Compiler:
cc='cc', ccflags ='-D_REENTRANT -D_GNU_SOURCE -fwrapv -fno-strict-aliasing -pipe -fstack-protector-strong -I/usr/local/include -D_LARGEFILE_SOURCE -D_FILE_OFFSET_BITS=64 -D_FORTIFY_SOURCE=2',
optimize='-O2 -g',
cppflags='-D_REENTRANT -D_GNU_SOURCE -fwrapv -fno-strict-aliasing -pipe -fstack-protector-strong -I/usr/local/include'
ccversion='', gccversion='4.9.2', gccosandvers=''
intsize=4, longsize=8, ptrsize=8, doublesize=8, byteorder=12345678, doublekind=3
d_longlong=define, longlongsize=8, d_longdbl=define, longdblsize=16, longdblkind=3
ivtype='long', ivsize=8, nvtype='long double', nvsize=16, Off_t='off_t', lseeksize=8
alignbytes=16, prototype=define
Linker and Libraries:
ld='cc', ldflags =' -fstack-protector-strong -L/usr/local/lib'
libpth=/usr/local/lib /usr/lib/gcc/x86_64-linux-gnu/4.9/include-fixed /usr/include/x86_64-linux-gnu /usr/lib /lib/x86_64-linux-gnu /lib/../lib /usr/lib/x86_64-linux-gnu /usr/lib/../lib /lib
libs=-lpthread -lnsl -lgdbm -ldb -ldl -lm -lcrypt -lutil -lc -lgdbm_compat
perllibs=-lpthread -lnsl -ldl -lm -lcrypt -lutil -lc
libc=libc-2.19.so, so=so, useshrplib=false, libperl=libperl.a
gnulibc_version='2.19'
Dynamic Linking:
dlsrc=dl_dlopen.xs, dlext=so, d_dlsymun=undef, ccdlflags='-Wl,-E'
cccdlflags='-fPIC', lddlflags='-shared -O2 -g -L/usr/local/lib -fstack-protector-strong'
Characteristics of this binary (from libperl):
Compile-time options: HAS_TIMES MULTIPLICITY PERLIO_LAYERS
PERL_DONT_CREATE_GVSV
PERL_HASH_FUNC_ONE_AT_A_TIME_HARD
PERL_IMPLICIT_CONTEXT PERL_MALLOC_WRAP
PERL_NEW_COPY_ON_WRITE PERL_PRESERVE_IVUV
PERL_USE_DEVEL USE_64_BIT_ALL USE_64_BIT_INT
USE_ITHREADS USE_LARGE_FILES USE_LOCALE
USE_LOCALE_COLLATE USE_LOCALE_CTYPE
USE_LOCALE_NUMERIC USE_LOCALE_TIME USE_LONG_DOUBLE
USE_PERLIO USE_PERL_ATOF USE_REENTRANT_API
Built under linux
Compiled at Mar 15 2015 01:19:41
%ENV:
PERL5LIB=""
PERL5OPT=""
PERL5_CPANPLUS_IS_RUNNING="12252"
PERL5_CPAN_IS_RUNNING="12252"
PERL_MM_USE_DEFAULT="1"
@INC:
/home/sand/src/perl/repoperls/installed-perls/perl/v5.21.8/a2da/lib/site_perl/5.21.8/x86_64-linux-thread-multi-ld
/home/sand/src/perl/repoperls/installed-perls/perl/v5.21.8/a2da/lib/site_perl/5.21.8
/home/sand/src/perl/repoperls/installed-perls/perl/v5.21.8/a2da/lib/5.21.8/x86_64-linux-thread-multi-ld
/home/sand/src/perl/repoperls/installed-perls/perl/v5.21.8/a2da/lib/5.21.8
.