CTKlib v2.06 Perl 5 v5.30.3 x86_64-linux-ld

Status
Pass
From
Nigel Horne
Dist
CTKlib v2.06
Platform
Perl 5 v5.30.3 x86_64-linux-ld
Date
2020-09-02 16:23:22
ID
9ee94c8c-ed38-11ea-bf8c-998b93ebd7e8
This distribution has been tested as part of the CPAN Testers
project, supporting the Perl programming language.  See
http://wiki.cpantesters.org/ for more information or email
questions to cpan-testers-discuss@perl.org


--
Dear Sergey Lepenkov,

This is a computer-generated report for CTKlib-2.06
on perl 5.30.3, created by CPAN-Reporter-1.2018.

Thank you for uploading your work to CPAN.  Congratulations!
All tests were successful.

Sections of this report:

    * Tester comments
    * Program output
    * Prerequisites
    * Environment and other context

------------------------------
TESTER COMMENTS
------------------------------

Additional comments from tester:

this report is from an automated smoke testing program
and was not reviewed by a human for accuracy

------------------------------
PROGRAM OUTPUT
------------------------------

Output from '/usr/bin/make test':

"/home/smoker/perl5/perlbrew/perls/perl-5.30.3-ld/bin/perl5.30.3" -MExtUtils::Command::MM -e 'cp_nonempty' -- CTK.bs blib/arch/auto/CTK/CTK.bs 644
PERL_DL_NONLAZY=1 "/home/smoker/perl5/perlbrew/perls/perl-5.30.3-ld/bin/perl5.30.3" "-MExtUtils::Command::MM" "-MTest::Harness" "-e" "undef *Test::Harness::Switches; test_harness(0, 'blib/lib', 'blib/arch')" t/*.t
t/00-distribution.t .... skipped: Currently a developer-only test
t/00-fixme.t ........... skipped: requires Test::Fixme to run
t/00-pod-coverage.t .... skipped: Currently a developer-only test
t/00-pod.t ............. skipped: Currently a developer-only test
t/00-trailingspace.t ... skipped: Test::TrailingSpace required for trailing space test
t/01-use.t ............. ok
t/02-default.t ......... ok
t/03-xsutil.t .......... ok
t/04-ctkx.t ............ ok
t/06-format.t .......... ok
t/07-cgu_void.t ........ ok
t/05-helper.t .......... ok
t/08-tfvals.t .......... ok
t/10-log.t ............. ok
t/09-configuration.t ... ok
t/13-void.t ............ ok
t/11-plugins.t ......... ok
t/12-app.t ............. ok
t/14-plugin-file.t ..... skipped: Currently a developer-only test
t/15-flags.t ........... ok
t/17-crypt-tcd04.t ..... ok
t/16-plugin-archive.t .. skipped: Currently a developer-only test
t/18-crypt.t ........... skipped: Currently a developer-only test
t/20-plugin-net.t ...... skipped: Currently a developer-only test
t/19-crypt-gpg.t ....... skipped: Currently a developer-only test
t/21-sendmail.t ........ skipped: Currently a developer-only test
t/22-dbi.t ............. skipped: Currently a developer-only test
t/23-attrs.t ........... ok
t/24-digest.t .......... ok
t/25-plugins-ext.t ..... skipped: Currently a developer-only test
All tests successful.
Files=30, Tests=142,  2 wallclock secs ( 0.10 usr  0.05 sys +  3.67 cusr  1.94 csys =  5.76 CPU)
Result: PASS

------------------------------
PREREQUISITES
------------------------------

Prerequisite modules loaded:

requires:

    Module                 Need     Have    
    ---------------------- -------- --------
    Class::C3::Adopt::NEXT 0.13     0.14    
    Class::Singleton       1.4      1.5     
    Config::General        2        2.63    
    DBI                    1.63     1.643   
    ExtUtils::MakeMaker    6.6      7.44    
    File::Copy             2        2.34    
    File::Copy::Recursive  0.38     0.45    
    File::Find             0        1.36    
    File::Path             2        2.16    
    File::Pid              1        1.01    
    File::Spec             0.82     3.78    
    File::Temp             0        0.2309  
    IO                     0        1.40    
    IO::String             1.08     1.08    
    IPC::Open3             1        1.20    
    JSON                   2.9      4.02    
    List::Util             1.45     1.50    
    MIME::Base64           3        3.15    
    MIME::Lite             3        3.031   
    MRO::Compat            0.12     0.13    
    Net::FTP               2.6      3.11    
    perl                   5.016001 5.030003
    Perl::OSType           1        1.010   
    Symbol                 1.05     1.08    
    Sys::SigAction         0.2      0.23    
    Sys::Syslog            0        0.35    
    Term::ANSIColor        4.03     4.06    
    Text::SimpleTable      2        2.07    
    Time::HiRes            1.97     1.9760  
    Time::Local            1.2      1.28    
    Try::Tiny              0.27     0.30    
    URI                    1.6      1.76    
  ! XML::Simple            2.22     n/a     
    XSLoader               0.01     0.30    
    YAML                   0.73     1.30    
    YAML::XS               0.4      0.82    

build_requires:

    Module                 Need     Have    
    ---------------------- -------- --------
    Test::Simple           1        1.302175

configure_requires:

    Module                 Need     Have    
    ---------------------- -------- --------
    ExtUtils::MakeMaker    0        7.44    

opt_requires:

    Module                 Need     Have    
    ---------------------- -------- --------
    Data::Dumper           0        2.174   


------------------------------
ENVIRONMENT AND OTHER CONTEXT
------------------------------

Environment variables:

    AUTOMATED_TESTING = 1
    HARNESS_OPTIONS = j3
    PATH = /home/smoker/perl5/perlbrew/bin:/home/smoker/perl5/perlbrew/perls/perl-5.30.3-ld/bin:/usr/local/sbin:/usr/local/bin:/usr/sbin:/usr/bin:/sbin:/bin:
    PERL5LIB = /home/smoker/.cpan/build/Text-VisualWidth-PP-0.05-0/blib/arch:/home/smoker/.cpan/build/Text-VisualWidth-PP-0.05-0/blib/lib:/home/smoker/.cpan/build/Unicode-EastAsianWidth-12.0-0/blib/arch:/home/smoker/.cpan/build/Unicode-EastAsianWidth-12.0-0/blib/lib:/home/smoker/.cpan/build/Text-VisualWidth-0.02-0/blib/arch:/home/smoker/.cpan/build/Text-VisualWidth-0.02-0/blib/lib:/home/smoker/.cpan/build/Text-SimpleTable-2.07-0/blib/arch:/home/smoker/.cpan/build/Text-SimpleTable-2.07-0/blib/lib:/home/smoker/.cpan/build/Sys-SigAction-0.23-0/blib/arch:/home/smoker/.cpan/build/Sys-SigAction-0.23-0/blib/lib:/home/smoker/.cpan/build/MIME-Lite-3.031-0/blib/arch:/home/smoker/.cpan/build/MIME-Lite-3.031-0/blib/lib:/home/smoker/.cpan/build/MIME-Types-2.17-0/blib/arch:/home/smoker/.cpan/build/MIME-Types-2.17-0/blib/lib:/home/smoker/.cpan/build/Email-Date-Format-1.005-0/blib/arch:/home/smoker/.cpan/build/Email-Date-Format-1.005-0/blib/lib:/home/smoker/.cpan/build/File-Pid-1.01-0/blib/arch:/home/smoker/.cpan/build/File-Pid-1.01-0/blib/lib:/home/smoker/.cpan/build/Config-General-2.63-0/blib/arch:/home/smoker/.cpan/build/Config-General-2.63-0/blib/lib:/home/smoker/.cpan/build/Class-Singleton-1.5-0/blib/arch:/home/smoker/.cpan/build/Class-Singleton-1.5-0/blib/lib:/home/smoker/.cpan/build/Class-C3-Adopt-NEXT-0.14-0/blib/arch:/home/smoker/.cpan/build/Class-C3-Adopt-NEXT-0.14-0/blib/lib
    PERL5OPT = 
    PERL5_CPANPLUS_IS_RUNNING = 31
    PERL5_CPAN_IS_RUNNING = 31
    PERL5_CPAN_IS_RUNNING_IN_RECURSION = 1,31
    PERLBREW_HOME = /home/smoker/.perlbrew
    PERLBREW_MANPATH = /home/smoker/perl5/perlbrew/perls/perl-5.30.3-ld/man
    PERLBREW_PATH = /home/smoker/perl5/perlbrew/bin:/home/smoker/perl5/perlbrew/perls/perl-5.30.3-ld/bin
    PERLBREW_PERL = perl-5.30.3-ld
    PERLBREW_ROOT = /home/smoker/perl5/perlbrew
    PERLBREW_SHELLRC_VERSION = 0.88
    PERLBREW_VERSION = 0.88
    PERL_USE_UNSAFE_INC = 1
    SHELL = /bin/bash
    TERM = xterm
    TMPDIR = /tmp/testwrapper.18

Perl special variables (and OS-specific diagnostics, for MSWin32):

    $^X = /home/smoker/perl5/perlbrew/perls/perl-5.30.3-ld/bin/perl5.30.3
    $UID/$EUID = 1000 / 1000
    $GID = 1000
    $EGID = 1000

Perl module toolchain versions installed:

    Module              Have    
    ------------------- --------
    CPAN                2.28    
    CPAN::Meta          2.150010
    Cwd                 3.78    
    ExtUtils::CBuilder  0.280231
    ExtUtils::Command   7.44    
    ExtUtils::Install   2.14    
    ExtUtils::MakeMaker 7.44    
    ExtUtils::Manifest  1.72    
    ExtUtils::ParseXS   3.40    
    File::Spec          3.78    
    JSON                4.02    
    JSON::PP            4.02    
    Module::Build       0.4231  
    Module::Signature   n/a     
    Parse::CPAN::Meta   2.150010
    Test::Harness       3.42    
    Test::More          1.302175
    YAML                1.30    
    YAML::Syck          1.32    
    version             0.9924  


--

Summary of my perl5 (revision 5 version 30 subversion 3) configuration:
   
  Platform:
    osname=linux
    osvers=4.18.0-193.6.3.el8_2.x86_64
    archname=x86_64-linux-ld
    uname='linux 6969f5a97f21 4.18.0-193.6.3.el8_2.x86_64 #1 smp wed jun 10 11:09:32 utc 2020 x86_64 gnulinux '
    config_args='-de -Dprefix=/home/smoker/perl5/perlbrew/perls/perl-5.30.3-ld -Dusedevel -Duselongdouble -Accflags=-O2 -pipe -Wall -Wextra -mtune=native -march=native -Aeval:scriptdir=/home/smoker/perl5/perlbrew/perls/perl-5.30.3-ld/bin'
    hint=recommended
    useposix=true
    d_sigaction=define
    useithreads=undef
    usemultiplicity=undef
    use64bitint=define
    use64bitall=define
    uselongdouble=define
    usemymalloc=n
    default_inc_excludes_dot=define
    bincompat5005=undef
  Compiler:
    cc='cc'
    ccflags ='-O2 -pipe -Wall -Wextra -mtune=native -march=native -fwrapv -fno-strict-aliasing -fstack-protector-strong -I/usr/local/include -D_LARGEFILE_SOURCE -D_FILE_OFFSET_BITS=64 -D_FORTIFY_SOURCE=2'
    optimize='-O2'
    cppflags='-O2 -pipe -Wall -Wextra -mtune=native -march=native -fwrapv -fno-strict-aliasing -fstack-protector-strong -I/usr/local/include'
    ccversion=''
    gccversion='8.3.0'
    gccosandvers=''
    intsize=4
    longsize=8
    ptrsize=8
    doublesize=8
    byteorder=12345678
    doublekind=3
    d_longlong=define
    longlongsize=8
    d_longdbl=define
    longdblsize=16
    longdblkind=3
    ivtype='long'
    ivsize=8
    nvtype='long double'
    nvsize=16
    Off_t='off_t'
    lseeksize=8
    alignbytes=16
    prototype=define
  Linker and Libraries:
    ld='cc'
    ldflags =' -fstack-protector-strong -L/usr/local/lib'
    libpth=/usr/local/lib /usr/lib/gcc/x86_64-linux-gnu/8/include-fixed /usr/include/x86_64-linux-gnu /usr/lib /lib/x86_64-linux-gnu /lib/../lib /usr/lib/x86_64-linux-gnu /usr/lib/../lib /lib
    libs=-lpthread -lnsl -ldl -lm -lcrypt -lutil -lc
    perllibs=-lpthread -lnsl -ldl -lm -lcrypt -lutil -lc
    libc=libc-2.28.so
    so=so
    useshrplib=false
    libperl=libperl.a
    gnulibc_version='2.28'
  Dynamic Linking:
    dlsrc=dl_dlopen.xs
    dlext=so
    d_dlsymun=undef
    ccdlflags='-Wl,-E'
    cccdlflags='-fPIC'
    lddlflags='-shared -O2 -L/usr/local/lib -fstack-protector-strong'


Characteristics of this binary (from libperl): 
  Compile-time options:
    HAS_TIMES
    PERLIO_LAYERS
    PERL_COPY_ON_WRITE
    PERL_DONT_CREATE_GVSV
    PERL_MALLOC_WRAP
    PERL_OP_PARENT
    PERL_PRESERVE_IVUV
    PERL_USE_DEVEL
    USE_64_BIT_ALL
    USE_64_BIT_INT
    USE_LARGE_FILES
    USE_LOCALE
    USE_LOCALE_COLLATE
    USE_LOCALE_CTYPE
    USE_LOCALE_NUMERIC
    USE_LOCALE_TIME
    USE_LONG_DOUBLE
    USE_PERLIO
    USE_PERL_ATOF
  Locally applied patches:
    Devel::PatchPerl 2.00
  Built under linux
  Compiled at Jun 19 2020 12:53:29
  %ENV:
    PERL5LIB="/home/smoker/.cpan/build/Text-VisualWidth-PP-0.05-0/blib/arch:/home/smoker/.cpan/build/Text-VisualWidth-PP-0.05-0/blib/lib:/home/smoker/.cpan/build/Unicode-EastAsianWidth-12.0-0/blib/arch:/home/smoker/.cpan/build/Unicode-EastAsianWidth-12.0-0/blib/lib:/home/smoker/.cpan/build/Text-VisualWidth-0.02-0/blib/arch:/home/smoker/.cpan/build/Text-VisualWidth-0.02-0/blib/lib:/home/smoker/.cpan/build/Text-SimpleTable-2.07-0/blib/arch:/home/smoker/.cpan/build/Text-SimpleTable-2.07-0/blib/lib:/home/smoker/.cpan/build/Sys-SigAction-0.23-0/blib/arch:/home/smoker/.cpan/build/Sys-SigAction-0.23-0/blib/lib:/home/smoker/.cpan/build/MIME-Lite-3.031-0/blib/arch:/home/smoker/.cpan/build/MIME-Lite-3.031-0/blib/lib:/home/smoker/.cpan/build/MIME-Types-2.17-0/blib/arch:/home/smoker/.cpan/build/MIME-Types-2.17-0/blib/lib:/home/smoker/.cpan/build/Email-Date-Format-1.005-0/blib/arch:/home/smoker/.cpan/build/Email-Date-Format-1.005-0/blib/lib:/home/smoker/.cpan/build/File-Pid-1.01-0/blib/arch:/home/smoker/.cpan/build/File-Pid-1.01-0/blib/lib:/home/smoker/.cpan/build/Config-General-2.63-0/blib/arch:/home/smoker/.cpan/build/Config-General-2.63-0/blib/lib:/home/smoker/.cpan/build/Class-Singleton-1.5-0/blib/arch:/home/smoker/.cpan/build/Class-Singleton-1.5-0/blib/lib:/home/smoker/.cpan/build/Class-C3-Adopt-NEXT-0.14-0/blib/arch:/home/smoker/.cpan/build/Class-C3-Adopt-NEXT-0.14-0/blib/lib"
    PERL5OPT=""
    PERL5_CPANPLUS_IS_RUNNING="31"
    PERL5_CPAN_IS_RUNNING="31"
    PERL5_CPAN_IS_RUNNING_IN_RECURSION="1,31"
    PERLBREW_HOME="/home/smoker/.perlbrew"
    PERLBREW_MANPATH="/home/smoker/perl5/perlbrew/perls/perl-5.30.3-ld/man"
    PERLBREW_PATH="/home/smoker/perl5/perlbrew/bin:/home/smoker/perl5/perlbrew/perls/perl-5.30.3-ld/bin"
    PERLBREW_PERL="perl-5.30.3-ld"
    PERLBREW_ROOT="/home/smoker/perl5/perlbrew"
    PERLBREW_SHELLRC_VERSION="0.88"
    PERLBREW_VERSION="0.88"
    PERL_USE_UNSAFE_INC="1"
  @INC:
    /home/smoker/.cpan/build/Text-VisualWidth-PP-0.05-0/blib/arch
    /home/smoker/.cpan/build/Text-VisualWidth-PP-0.05-0/blib/lib
    /home/smoker/.cpan/build/Unicode-EastAsianWidth-12.0-0/blib/arch
    /home/smoker/.cpan/build/Unicode-EastAsianWidth-12.0-0/blib/lib
    /home/smoker/.cpan/build/Text-VisualWidth-0.02-0/blib/arch
    /home/smoker/.cpan/build/Text-VisualWidth-0.02-0/blib/lib
    /home/smoker/.cpan/build/Text-SimpleTable-2.07-0/blib/arch
    /home/smoker/.cpan/build/Text-SimpleTable-2.07-0/blib/lib
    /home/smoker/.cpan/build/Sys-SigAction-0.23-0/blib/arch
    /home/smoker/.cpan/build/Sys-SigAction-0.23-0/blib/lib
    /home/smoker/.cpan/build/MIME-Lite-3.031-0/blib/arch
    /home/smoker/.cpan/build/MIME-Lite-3.031-0/blib/lib
    /home/smoker/.cpan/build/MIME-Types-2.17-0/blib/arch
    /home/smoker/.cpan/build/MIME-Types-2.17-0/blib/lib
    /home/smoker/.cpan/build/Email-Date-Format-1.005-0/blib/arch
    /home/smoker/.cpan/build/Email-Date-Format-1.005-0/blib/lib
    /home/smoker/.cpan/build/File-Pid-1.01-0/blib/arch
    /home/smoker/.cpan/build/File-Pid-1.01-0/blib/lib
    /home/smoker/.cpan/build/Config-General-2.63-0/blib/arch
    /home/smoker/.cpan/build/Config-General-2.63-0/blib/lib
    /home/smoker/.cpan/build/Class-Singleton-1.5-0/blib/arch
    /home/smoker/.cpan/build/Class-Singleton-1.5-0/blib/lib
    /home/smoker/.cpan/build/Class-C3-Adopt-NEXT-0.14-0/blib/arch
    /home/smoker/.cpan/build/Class-C3-Adopt-NEXT-0.14-0/blib/lib
    /home/smoker/perl5/perlbrew/perls/perl-5.30.3-ld/lib/site_perl/5.30.3/x86_64-linux-ld
    /home/smoker/perl5/perlbrew/perls/perl-5.30.3-ld/lib/site_perl/5.30.3
    /home/smoker/perl5/perlbrew/perls/perl-5.30.3-ld/lib/5.30.3/x86_64-linux-ld
    /home/smoker/perl5/perlbrew/perls/perl-5.30.3-ld/lib/5.30.3
    .