Report for Gtk2-1.245

Back
From: metabase:user:953d34b4-0349-11e2-904a-b56dc087e8b3
Subject: PASS Gtk2-1.245 v5.14.2 GNU/Linux
Date: 2012-09-20T18:11:38Z

This distribution has been tested as part of the CPAN Testers
project, supporting the Perl programming language.  See
http://wiki.cpantesters.org/ for more information or email
questions to cpan-testers-discuss@perl.org


--
Dear Torsten Schoenfeld,

This is a computer-generated report for Gtk2-1.245
on perl 5.14.2, created by CPAN-Reporter-1.2006.

Thank you for uploading your work to CPAN.  Congratulations!
All tests were successful.

Sections of this report:

    * Tester comments
    * Program output
    * Prerequisites
    * Environment and other context

------------------------------
TESTER COMMENTS
------------------------------

Additional comments from tester:

none provided

------------------------------
PROGRAM OUTPUT
------------------------------

Output from '/usr/bin/make test':

PERL_DL_NONLAZY=1 /usr/bin/perl "-MExtUtils::Command::MM" "-e" "test_harness(0, 'blib/lib', 'blib/arch')" t/*.t
# Testing Gtk2 1.245
#    Running against gtk+ 2.24.7
#   Compiled against gtk+ 2.24.7
#               and pango 1.29.4
t/00.Gtk2.t ........................ ok
t/01.GtkWindow.t ................... ok
t/02.GtkContainer.t ................ ok
t/Gdk.t ............................ ok
t/GdkCairo.t ....................... ok
t/GdkColor.t ....................... ok
t/GdkCursor.t ...................... ok
t/GdkDisplay.t ..................... ok
t/GdkDisplayManager.t .............. ok
t/GdkDnd.t ......................... ok
t/GdkDrawable.t .................... ok
t/GdkEvent.t ....................... ok
t/GdkGC.t .......................... ok
t/GdkImage.t ....................... ok
t/GdkInput.t ....................... ok
t/GdkKeys.t ........................ ok
t/GdkPango.t ....................... ok
Wide character in print at t/GdkPixbuf.t line 121.
t/GdkPixbuf.t ...................... ok
t/GdkPixbufLoader.t ................ ok
t/GdkPixbufSimpleAnim.t ............ ok
Gdk-WARNING **: XID collision, trouble ahead at t/GdkPixmap.t line 16.
Gdk-WARNING **: XID collision, trouble ahead at t/GdkPixmap.t line 25.
Gdk-WARNING **: XID collision, trouble ahead at t/GdkPixmap.t line 40.
t/GdkPixmap.t ...................... ok
t/GdkProperty.t .................... ok
t/GdkRegion.t ...................... ok
t/GdkRgb.t ......................... ok
t/GdkScreen.t ...................... ok
t/GdkSelection.t ................... ok
t/GdkVisual.t ...................... ok
t/GdkWindow.t ...................... ok
t/GdkX11.t ......................... ok
t/GtkAboutDialog.t ................. ok
t/GtkAccelGroup.t .................. ok
t/GtkAccelLabel.t .................. ok
t/GtkAccelMap.t .................... ok
t/GtkAction.t ...................... ok
t/GtkActionGroup.t ................. ok
t/GtkActivatable.t ................. ok
t/GtkAdjustment.t .................. ok
t/GtkAlignment.t ................... ok
t/GtkArrow.t ....................... ok
t/GtkAspectFrame.t ................. ok
t/GtkAssistant.t ................... ok
t/GtkBin.t ......................... ok
t/GtkBindings.t .................... ok
t/GtkBox.t ......................... ok
t/GtkBuildable.t ................... ok
t/GtkBuildableIface.t .............. ok
t/GtkBuilder.t ..................... ok
t/GtkButton.t ...................... ok
t/GtkButtonBox.t ................... ok
t/GtkCalendar.t .................... ok
GLib-GObject-CRITICAL **: Object class EditableTest doesn't implement property 'editing-canceled' from interface 'GtkCellEditable' at /usr/lib/perl5/site_perl/5.14.2/x86_64-linux-thread-multi/Glib/Object/Subclass.pm line 233.
t/GtkCellEditable.t ................ ok
t/GtkCellLayout.t .................. ok
t/GtkCellLayoutIface.t ............. ok
t/GtkCellRenderer.t ................ ok
t/GtkCellRendererAccel.t ........... ok
t/GtkCellRendererCombo.t ........... ok
t/GtkCellRendererIface-Chaining.t .. ok
t/GtkCellRendererPixbuf.t .......... ok
t/GtkCellRendererProgress.t ........ ok
t/GtkCellRendererSpin.t ............ ok
t/GtkCellRendererSpinner.t ......... ok
t/GtkCellRendererText.t ............ ok
t/GtkCellRendererToggle.t .......... ok
t/GtkCellView.t .................... ok
t/GtkCheckButton.t ................. ok
t/GtkCheckMenuItem.t ............... ok
t/GtkClipboard.t ................... ok
t/GtkColorButton.t ................. ok
t/GtkColorSelection.t .............. ok
t/GtkColorSelectionDialog.t ........ ok
t/GtkCombo.t ....................... ok
t/GtkComboBox.t .................... ok
t/GtkComboBoxEntry.t ............... ok
t/GtkCurve.t ....................... ok
Gtk-CRITICAL **: IA__gtk_box_reorder_child: assertion `GTK_IS_WIDGET (child)' failed at t/GtkDialog.t line 91.
Gtk-CRITICAL **: IA__gtk_box_reorder_child: assertion `GTK_IS_WIDGET (child)' failed at t/GtkDialog.t line 91.
Gtk-CRITICAL **: IA__gtk_box_reorder_child: assertion `GTK_IS_WIDGET (child)' failed at t/GtkDialog.t line 92.
Gtk-CRITICAL **: IA__gtk_box_reorder_child: assertion `GTK_IS_WIDGET (child)' failed at t/GtkDialog.t line 92.
Gtk-CRITICAL **: IA__gtk_box_reorder_child: assertion `GTK_IS_WIDGET (child)' failed at t/GtkDialog.t line 92.
Gtk-CRITICAL **: IA__gtk_box_reorder_child: assertion `GTK_IS_WIDGET (child)' failed at t/GtkDialog.t line 92.
t/GtkDialog.t ...................... ok
Gdk-CRITICAL **: IA__gdk_window_get_screen: assertion `GDK_IS_WINDOW (window)' failed at t/GtkDnd.t line 55.
Gtk-CRITICAL **: IA__gtk_drag_set_icon_pixmap: assertion `!mask || gdk_window_get_screen (mask) == screen' failed at t/GtkDnd.t line 55.
t/GtkDnd.t ......................... ok
t/GtkDrawingArea.t ................. ok
t/GtkEditable.t .................... ok
t/GtkEntry.t ....................... ok
t/GtkEntryBuffer.t ................. ok
t/GtkEntryCompletion.t ............. ok
t/GtkEventBox.t .................... ok
t/GtkExpander.t .................... ok
t/GtkFileChooser.t ................. skipped: this test is unreliable

(GtkFileChooserButton.t:11442): GVFS-RemoteVolumeMonitor-WARNING **: cannot connect to the session bus: org.freedesktop.DBus.Error.NoReply: Did not receive a reply. Possible causes include: the remote application did not send a reply, the message bus security policy blocked the reply, the reply timeout expired, or the network connection was broken.

(GtkFileChooserButton.t:11442): GVFS-RemoteVolumeMonitor-WARNING **: cannot connect to the session bus: org.freedesktop.DBus.Error.NoReply: Did not receive a reply. Possible causes include: the remote application did not send a reply, the message bus security policy blocked the reply, the reply timeout expired, or the network connection was broken.

(GtkFileChooserButton.t:11442): GVFS-RemoteVolumeMonitor-WARNING **: cannot connect to the session bus: org.freedesktop.DBus.Error.NoReply: Did not receive a reply. Possible causes include: the remote application did not send a reply, the message bus security policy blocked the reply, the reply timeout expired, or the network connection was broken.
t/GtkFileChooserButton.t ........... ok

(GtkFileChooserDialog.t:11447): GVFS-RemoteVolumeMonitor-WARNING **: cannot connect to the session bus: org.freedesktop.DBus.Error.NoReply: Did not receive a reply. Possible causes include: the remote application did not send a reply, the message bus security policy blocked the reply, the reply timeout expired, or the network connection was broken.

(GtkFileChooserDialog.t:11447): GVFS-RemoteVolumeMonitor-WARNING **: cannot connect to the session bus: org.freedesktop.DBus.Error.NoReply: Did not receive a reply. Possible causes include: the remote application did not send a reply, the message bus security policy blocked the reply, the reply timeout expired, or the network connection was broken.

(GtkFileChooserDialog.t:11447): GVFS-RemoteVolumeMonitor-WARNING **: cannot connect to the session bus: org.freedesktop.DBus.Error.NoReply: Did not receive a reply. Possible causes include: the remote application did not send a reply, the message bus security policy blocked the reply, the reply timeout expired, or the network connection was broken.
t/GtkFileChooserDialog.t ........... ok

(GtkFileChooserWidget.t:11452): GVFS-RemoteVolumeMonitor-WARNING **: cannot connect to the session bus: org.freedesktop.DBus.Error.NoReply: Did not receive a reply. Possible causes include: the remote application did not send a reply, the message bus security policy blocked the reply, the reply timeout expired, or the network connection was broken.

(GtkFileChooserWidget.t:11452): GVFS-RemoteVolumeMonitor-WARNING **: cannot connect to the session bus: org.freedesktop.DBus.Error.NoReply: Did not receive a reply. Possible causes include: the remote application did not send a reply, the message bus security policy blocked the reply, the reply timeout expired, or the network connection was broken.

(GtkFileChooserWidget.t:11452): GVFS-RemoteVolumeMonitor-WARNING **: cannot connect to the session bus: org.freedesktop.DBus.Error.NoReply: Did not receive a reply. Possible causes include: the remote application did not send a reply, the message bus security policy blocked the reply, the reply timeout expired, or the network connection was broken.
t/GtkFileChooserWidget.t ........... ok
t/GtkFileFilter.t .................. ok
Useless use of a constant (3) in void context at (eval 7) line 1.
t/GtkFileSelection.t ............... ok
t/GtkFixed.t ....................... ok
t/GtkFontButton.t .................. ok
t/GtkFontSelection.t ............... ok
t/GtkFrame.t ....................... ok
t/GtkGammaCurve.t .................. ok
t/GtkGC.t .......................... ok
t/GtkHandleBox.t ................... ok
t/GtkHBox.t ........................ ok
t/GtkHButtonBox.t .................. ok
t/GtkHPaned.t ...................... ok
t/GtkHRuler.t ...................... ok
t/GtkHScale.t ...................... ok
t/GtkHScrollbar.t .................. ok
t/GtkHSeparator.t .................. ok
t/GtkHSV.t ......................... ok
t/GtkIconFactory.t ................. ok
t/GtkIconTheme.t ................... ok
t/GtkIconView.t .................... ok
t/GtkImage.t ....................... ok
t/GtkImageMenuItem.t ............... ok
t/GtkIMContext.t ................... ok
t/GtkInfoBar.t ..................... ok
t/GtkInputDialog.t ................. ok
t/GtkInvisible.t ................... ok
t/GtkItemFactory.t ................. ok
t/GtkLabel.t ....................... ok
t/GtkLayout.t ...................... ok
t/GtkLinkButton.t .................. ok
t/GtkListStore.t ................... ok
t/GtkMenu.t ........................ ok
t/GtkMenuBar.t ..................... ok
t/GtkMenuItem.t .................... ok
t/GtkMenuShell.t ................... ok
t/GtkMenuToolButton.t .............. ok
t/GtkMessageDialog.t ............... ok
t/GtkMisc.t ........................ ok
t/GtkNotebook.t .................... ok
t/GtkObject.t ...................... ok
t/GtkOffscreenWindow.t ............. ok
t/GtkOptionMenu.t .................. ok
t/GtkOrientable.t .................. ok
t/GtkPageSetup.t ................... ok
t/GtkPaned.t ....................... ok
t/GtkPaperSize.t ................... ok
t/GtkPrintContext.t ................ ok
t/GtkPrintOperation.t .............. ok
t/GtkPrintOperationPreview.t ....... ok
t/GtkPrintSettings.t ............... ok
t/GtkProgressBar.t ................. ok
t/GtkRadioAction.t ................. ok
t/GtkRadioButton.t ................. ok
t/GtkRadioMenuItem.t ............... ok
t/GtkRadioToolButton.t ............. ok
t/GtkRange.t ....................... ok
t/GtkRc.t .......................... ok
t/GtkRecentAction.t ................ ok
Useless use of a constant (3) in void context at (eval 7) line 1.
t/GtkRecentChooser.t ............... ok
t/GtkRecentChooserDialog.t ......... ok
t/GtkRecentChooserMenu.t ........... ok
t/GtkRecentChooserWidget.t ......... ok
t/GtkRecentFilter.t ................ ok
t/GtkRecentManager.t ............... ok
t/GtkRuler.t ....................... ok
t/GtkScale.t ....................... ok
t/GtkScaleButton.t ................. ok
t/GtkScrolledWindow.t .............. ok
t/GtkSelection.t ................... ok
t/GtkSeparatorMenuItem.t ........... ok
t/GtkSeparatorToolItem.t ........... ok
t/GtkShow.t ........................ skipped: can only test interactively
t/GtkSimpleList.t .................. ok
t/GtkSimpleMenu.t .................. ok
t/GtkSizeGroup.t ................... ok
t/GtkSocket-GtkPlug.t .............. ok
t/GtkSpinButton.t .................. ok
t/GtkSpinner.t ..................... ok
t/GtkStatusbar.t ................... ok
t/GtkStatusIcon.t .................. ok
t/GtkStock.t ....................... ok
t/GtkStyle.t ....................... ok
t/GtkTable.t ....................... ok
t/GtkTearoffMenuItem.t ............. ok
t/GtkTextBuffer.t .................. ok
t/GtkTextBufferRichText.t .......... ok
t/GtkTextChildAnchor.t ............. ok
t/GtkTextIter.t .................... ok
t/GtkTextMark.t .................... ok
t/GtkTextTag.t ..................... ok
t/GtkTextTagTable.t ................ ok
t/GtkTextView.t .................... ok
t/GtkToggleAction.t ................ ok
t/GtkToggleButton.t ................ ok
t/GtkToggleToolButton.t ............ ok
t/GtkToolbar.t ..................... ok
t/GtkToolButton.t .................. ok
t/GtkToolItem.t .................... ok
t/GtkToolItemGroup.t ............... ok
t/GtkToolPalette.t ................. ok
t/GtkToolShell.t ................... ok
t/GtkTooltip.t ..................... ok
t/GtkTooltips.t .................... ok
t/GtkTreeDnd.t ..................... ok
t/GtkTreeModel.t ................... ok
t/GtkTreeModelFilter.t ............. ok
t/GtkTreeModelIface.t .............. ok
t/GtkTreeModelSort.t ............... ok
t/GtkTreeSelection.t ............... ok
t/GtkTreeSortable.t ................ ok
t/GtkTreeStore.t ................... ok
t/GtkTreeView-Dnd.t ................ skipped: this test is interactive
t/GtkTreeView.t .................... ok
t/GtkUIManager.t ................... ok
t/GtkVBox.t ........................ ok
t/GtkVButtonBox.t .................. ok
t/GtkViewport.t .................... ok
t/GtkVolumeButton.t ................ ok
t/GtkVPaned.t ...................... ok
t/GtkVRuler.t ...................... ok
t/GtkVScale.t ...................... ok
t/GtkVScrollbar.t .................. ok
t/GtkVSeparator.t .................. ok
t/GtkWidget.t ...................... ok
t/pango-compat.t ................... ok
t/PangoAttributes.t ................ ok
t/PangoCairo.t ..................... ok
t/PangoContext.t ................... ok
t/PangoFont.t ...................... ok
t/PangoFontMap.t ................... ok
t/PangoFontset.t ................... ok
t/PangoGravity.t ................... ok
t/PangoLayout.t .................... ok
t/PangoMatrix.t .................... ok
t/PangoRenderer.t .................. ok
t/PangoScript.t .................... ok
t/PangoTabs.t ...................... ok
t/PangoTypes.t ..................... ok
t/set-scroll-adjustments-signal.t .. ok
t/signal-chaining.t ................ ok
t/tied-objects.t ................... ok
t/version-checks.t ................. ok
All tests successful.
Files=229, Tests=5082, 57 wallclock secs ( 1.41 usr  0.33 sys + 24.67 cusr  5.63 csys = 32.04 CPU)
Result: PASS

------------------------------
PREREQUISITES
------------------------------

Prerequisite modules loaded:

requires:

    Module              Need  Have 
    ------------------- ----- -----
    Cairo               1.000 1.101
    ExtUtils::Depends   0.300 0.304
    ExtUtils::PkgConfig 1.030 1.13 
    Glib                1.240 1.262
    Pango               1.220 1.223

build_requires:

    Module              Need  Have 
    ------------------- ----- -----
    ExtUtils::MakeMaker 0     6.62 

configure_requires:

    Module              Need  Have 
    ------------------- ----- -----
    Cairo               1.000 1.101
    ExtUtils::Depends   0.300 0.304
    ExtUtils::MakeMaker 0     6.62 
    ExtUtils::PkgConfig 1.030 1.13 
    Glib                1.240 1.262
    Pango               1.220 1.223


------------------------------
ENVIRONMENT AND OTHER CONTEXT
------------------------------

Environment variables:

    LANG = ru_RU.UTF-8
    LANGUAGE = 
    PATH = /usr/lib64/mpi/gcc/openmpi/bin:/home/ru/bin:/usr/local/bin:/usr/bin:/sbin:/usr/sbin:/bin:/usr/bin/X11:/usr/X11R6/bin:/usr/games:/opt/bin:/opt/kde3/bin:/usr/lib/mit/bin:/usr/lib/mit/sbin:/usr/lib/qt3/bin
    PERL5LIB = 
    PERL5OPT = 
    PERL5_CPANPLUS_IS_RUNNING = 20854
    PERL5_CPAN_IS_RUNNING = 20854
    SHELL = /bin/bash
    TERM = xterm

Perl special variables (and OS-specific diagnostics, for MSWin32):

    $^X = /usr/bin/perl
    $UID/$EUID = 0 / 0
    $GID = 0 0
    $EGID = 0 0

Perl module toolchain versions installed:

    Module              Have    
    ------------------- --------
    CPAN                1.9800  
    CPAN::Meta          2.120921
    Cwd                 3.36    
    ExtUtils::CBuilder  0.280205
    ExtUtils::Command   1.17    
    ExtUtils::Install   1.56    
    ExtUtils::MakeMaker 6.62    
    ExtUtils::Manifest  1.61    
    ExtUtils::ParseXS   3.15    
    File::Spec          3.33    
    JSON                2.53    
    JSON::PP            2.27200 
    Module::Build       0.3800  
    Module::Signature   n/a     
    Parse::CPAN::Meta   1.4404  
    Test::Harness       3.23    
    Test::More          0.98    
    YAML                0.81    
    YAML::Syck          1.17    
    version             0.88    


--

Summary of my perl5 (revision 5 version 14 subversion 2) configuration:
   
  Platform:
    osname=linux, osvers=3.1.0-1.2-default, archname=x86_64-linux-thread-multi
    uname='linux build09 3.1.0-1.2-default #1 smp thu nov 3 14:45:45 utc 2011 (187dde0) x86_64 x86_64 x86_64 gnulinux '
    config_args='-ds -e -Dprefix=/usr -Dvendorprefix=/usr -Dinstallusrbinperl -Dusethreads -Di_db -Di_dbm -Di_ndbm -Di_gdbm -Dd_dbm_open -Duseshrplib=true -Doptimize=-fmessage-length=0 -O2 -Wall -D_FORTIFY_SOURCE=2 -fstack-protector -funwind-tables -fasynchronous-unwind-tables -g -Wall -pipe -Accflags=-DPERL_USE_SAFE_PUTENV -Dotherlibdirs=/usr/lib/perl5/site_perl'
    hint=recommended, useposix=true, d_sigaction=define
    useithreads=define, usemultiplicity=define
    useperlio=define, d_sfio=undef, uselargefiles=define, usesocks=undef
    use64bitint=define, use64bitall=define, uselongdouble=undef
    usemymalloc=n, bincompat5005=undef
  Compiler:
    cc='cc', ccflags ='-D_REENTRANT -D_GNU_SOURCE -DPERL_USE_SAFE_PUTENV -fno-strict-aliasing -pipe -fstack-protector -D_LARGEFILE_SOURCE -D_FILE_OFFSET_BITS=64',
    optimize='-fmessage-length=0 -O2 -Wall -D_FORTIFY_SOURCE=2 -fstack-protector -funwind-tables -fasynchronous-unwind-tables -g -Wall -pipe',
    cppflags='-D_REENTRANT -D_GNU_SOURCE -DPERL_USE_SAFE_PUTENV -fno-strict-aliasing -pipe -fstack-protector'
    ccversion='', gccversion='4.6.2', gccosandvers=''
    intsize=4, longsize=8, ptrsize=8, doublesize=8, byteorder=12345678
    d_longlong=define, longlongsize=8, d_longdbl=define, longdblsize=16
    ivtype='long', ivsize=8, nvtype='double', nvsize=8, Off_t='off_t', lseeksize=8
    alignbytes=8, prototype=define
  Linker and Libraries:
    ld='cc', ldflags =' -L/usr/local/lib64 -fstack-protector'
    libpth=/lib64 /usr/lib64 /usr/local/lib64
    libs=-lm -ldl -lcrypt -lpthread
    perllibs=-lm -ldl -lcrypt -lpthread
    libc=/lib64/libc-2.14.1.so, so=so, useshrplib=true, libperl=libperl.so
    gnulibc_version='2.14.1'
  Dynamic Linking:
    dlsrc=dl_dlopen.xs, dlext=so, d_dlsymun=undef, ccdlflags='-Wl,-E -Wl,-rpath,/usr/lib/perl5/5.14.2/x86_64-linux-thread-multi/CORE'
    cccdlflags='-fPIC', lddlflags='-shared -L/usr/local/lib64 -fstack-protector'


Characteristics of this binary (from libperl): 
  Compile-time options: MULTIPLICITY PERL_DONT_CREATE_GVSV
                        PERL_IMPLICIT_CONTEXT PERL_MALLOC_WRAP
                        PERL_PRESERVE_IVUV PERL_USE_SAFE_PUTENV
                        USE_64_BIT_ALL USE_64_BIT_INT USE_ITHREADS
                        USE_LARGE_FILES USE_PERLIO USE_PERL_ATOF
                        USE_REENTRANT_API
  Built under linux
  Compiled at Feb  8 2012 16:01:39
  %ENV:
    PERL5LIB=""
    PERL5OPT=""
    PERL5_CPANPLUS_IS_RUNNING="20854"
    PERL5_CPAN_IS_RUNNING="20854"
  @INC:
    /usr/lib/perl5/site_perl/5.14.2/x86_64-linux-thread-multi
    /usr/lib/perl5/site_perl/5.14.2
    /usr/lib/perl5/vendor_perl/5.14.2/x86_64-linux-thread-multi
    /usr/lib/perl5/vendor_perl/5.14.2
    /usr/lib/perl5/5.14.2/x86_64-linux-thread-multi
    /usr/lib/perl5/5.14.2
    /usr/lib/perl5/site_perl/5.14.2/x86_64-linux-thread-multi
    /usr/lib/perl5/site_perl/5.14.2
    /usr/lib/perl5/site_perl
    .