HTTP-Request-Generator v0.10 Perl 5 v5.12.5 x86_64-linux-thread-multi

Status
Pass
From
David Cantrell (DCANTRELL)
Dist
HTTP-Request-Generator v0.10
Platform
Perl 5 v5.12.5 x86_64-linux-thread-multi
Date
2020-10-09 14:56:33
ID
9f17f64e-0a3f-11eb-93f4-e67da1724e2f
This distribution has been tested as part of the CPAN Testers
project, supporting the Perl programming language.  See
http://wiki.cpantesters.org/ for more information or email
questions to cpan-testers-discuss@perl.org


--
Dear Max Maischein,

This is a computer-generated report for HTTP-Request-Generator-0.10
on perl 5.12.5, created by CPAN-Reporter-1.2018.

Thank you for uploading your work to CPAN.  Congratulations!
All tests were successful.

Sections of this report:

    * Tester comments
    * Program output
    * Prerequisites
    * Environment and other context

------------------------------
TESTER COMMENTS
------------------------------

Additional comments from tester:

this report is from an automated smoke testing program
and was not reviewed by a human for accuracy

------------------------------
PROGRAM OUTPUT
------------------------------

Output from '/usr/bin/make test':

PERL_DL_NONLAZY=1 "/home/david/cpantesting/perl-5.12.5/bin/perl" "-MExtUtils::Command::MM" "-MTest::Harness" "-e" "undef *Test::Harness::Switches; test_harness(0, 'blib/lib', 'blib/arch')" t/00-load.t t/02-http-generator.t t/03-wrap-http-request.t t/03-wrap-plack.t t/03-wrap.t t/04-url-expansion.t
# Testing HTTP::Request::Generator 0.10, Perl 5.012005
# Algorithm::Loops 1.032
# AutoLoader 5.70
# Carp 1.17
# Config <unknown>
# Cwd 3.31
# DynaLoader 1.10
# Encode 2.39_01
# Encode::Alias 2.12
# Encode::Config 2.05
# Encode::Encoding 2.05
# Exporter 5.64_01
# Exporter::Heavy 5.64_01
# Exporter::Tiny 1.002002
# ExtUtils::Liblist 7.4902
# ExtUtils::Liblist::Kid 7.4902
# ExtUtils::MM 7.4902
# ExtUtils::MM_Any 7.4902
# ExtUtils::MM_Unix 7.4902
# ExtUtils::MY 7.4902
# ExtUtils::MakeMaker 7.4902
# ExtUtils::MakeMaker::Config 7.4902
# ExtUtils::MakeMaker::Locale 7.4902
# ExtUtils::MakeMaker::version 7.4902
# Fcntl 1.06
# File::Basename 2.78
# File::Glob 1.07_01
# File::Path 2.08_01
# File::Spec 3.3101
# File::Spec::Unix 3.3
# Filter::Simple 0.94
# Filter::Util::Call 1.08
# Filter::signatures 0.17
# HTTP::Request::Generator 0.10
# I18N::Langinfo 0.03
# List::MoreUtils 0.428
# List::MoreUtils::PP 0.428
# List::MoreUtils::XS 0.428
# List::Util 1.22
# POSIX 1.19
# PerlIO 1.06
# Scalar::Util 1.22
# SelfLoader 1.17
# Test::Builder 1.302162
# Test::Builder::Formatter 1.302162
# Test::Builder::Module 1.302162
# Test::Builder::TodoDiag 1.302162
# Test::More 1.302162
# Test2::API 1.302162
# Test2::API::Context 1.302162
# Test2::API::Instance 1.302162
# Test2::API::Stack 1.302162
# Test2::Event 1.302162
# Test2::Event::Bail 1.302162
# Test2::Event::Diag 1.302162
# Test2::Event::Exception 1.302162
# Test2::Event::Fail 1.302162
# Test2::Event::Note 1.302162
# Test2::Event::Ok 1.302162
# Test2::Event::Pass 1.302162
# Test2::Event::Plan 1.302162
# Test2::Event::Skip 1.302162
# Test2::Event::Subtest 1.302162
# Test2::Event::V2 1.302162
# Test2::Event::Waiting 1.302162
# Test2::EventFacet 1.302162
# Test2::EventFacet::About 1.302162
# Test2::EventFacet::Amnesty 1.302162
# Test2::EventFacet::Assert 1.302162
# Test2::EventFacet::Control 1.302162
# Test2::EventFacet::Error 1.302162
# Test2::EventFacet::Hub 1.302162
# Test2::EventFacet::Info 1.302162
# Test2::EventFacet::Meta 1.302162
# Test2::EventFacet::Parent 1.302162
# Test2::EventFacet::Plan 1.302162
# Test2::EventFacet::Trace 1.302162
# Test2::Formatter 1.302162
# Test2::Formatter::TAP 1.302162
# Test2::Hub 1.302162
# Test2::Hub::Interceptor 1.302162
# Test2::Hub::Interceptor::Terminator 1.302162
# Test2::Hub::Subtest 1.302162
# Test2::Util 1.302162
# Test2::Util::ExternalMeta 1.302162
# Test2::Util::Facets2Legacy 1.302162
# Test2::Util::HashBase 1.302162
# Test2::Util::Trace 1.302162
# Text::Balanced 2.02
# Tie::Hash 1.03
# URI 1.76
# URI::Escape 3.31
# XSLoader 0.24
# base 2.15
# bytes 1.04
# feature 1.16
# mro 1.02
# overload 1.10
# re 0.11
# strict 1.04
# vars 1.01
# version 0.9924
# version::regex 0.9924
# version::vxs 0.9924
# warnings 1.09
# warnings::register 1.01
t/00-load.t ............... ok
t/02-http-generator.t ..... ok
t/03-wrap-http-request.t .. skipped: Couldn't load test prerequiste modules: Can't locate HTTP/Headers.pm in @INC (@INC contains: /home/david/cpantesting/perl-5.12.5/.cpan/build/HTTP-Request-Generator-0.10-bRgPHg/blib/lib /home/david/cpantesting/perl-5.12.5/.cpan/build/HTTP-Request-Generator-0.10-bRgPHg/blib/arch /home/david/cpantesting/perl-5.12.5/lib/site_perl/5.12.5/x86_64-linux-thread-multi /home/david/cpantesting/perl-5.12.5/lib/site_perl/5.12.5 /home/david/cpantesting/perl-5.12.5/lib/5.12.5/x86_64-linux-thread-multi /home/david/cpantesting/perl-5.12.5/lib/5.12.5 .) at t/03-wrap-http-request.t line 8.
t/03-wrap-plack.t ......... skipped: Couldn't load test prerequiste modules: Can't locate Plack/Request.pm in @INC (@INC contains: /home/david/cpantesting/perl-5.12.5/.cpan/build/HTTP-Request-Generator-0.10-bRgPHg/blib/lib /home/david/cpantesting/perl-5.12.5/.cpan/build/HTTP-Request-Generator-0.10-bRgPHg/blib/arch /home/david/cpantesting/perl-5.12.5/lib/site_perl/5.12.5/x86_64-linux-thread-multi /home/david/cpantesting/perl-5.12.5/lib/site_perl/5.12.5 /home/david/cpantesting/perl-5.12.5/lib/5.12.5/x86_64-linux-thread-multi /home/david/cpantesting/perl-5.12.5/lib/5.12.5 .) at t/03-wrap-plack.t line 9.
t/03-wrap.t ............... skipped: Couldn't load test prerequiste modules: Can't locate HTTP/Headers.pm in @INC (@INC contains: /home/david/cpantesting/perl-5.12.5/.cpan/build/HTTP-Request-Generator-0.10-bRgPHg/blib/lib /home/david/cpantesting/perl-5.12.5/.cpan/build/HTTP-Request-Generator-0.10-bRgPHg/blib/arch /home/david/cpantesting/perl-5.12.5/lib/site_perl/5.12.5/x86_64-linux-thread-multi /home/david/cpantesting/perl-5.12.5/lib/site_perl/5.12.5 /home/david/cpantesting/perl-5.12.5/lib/5.12.5/x86_64-linux-thread-multi /home/david/cpantesting/perl-5.12.5/lib/5.12.5 .) at t/03-wrap.t line 8.
t/04-url-expansion.t ...... ok
All tests successful.
Files=6, Tests=43, 24 wallclock secs ( 0.03 usr  0.00 sys +  3.32 cusr  0.04 csys =  3.39 CPU)
Result: PASS

------------------------------
PREREQUISITES
------------------------------

Prerequisite modules loaded:

requires:

    Module              Need  Have    
    ------------------- ----- --------
    Algorithm::Loops    0     1.032   
    Carp                0     1.17    
    Exporter            5     5.64_01 
    Filter::signatures  0     0.17    
    List::MoreUtils     0     0.428   
    perl                5.006 5.012005
    URI                 0     1.76    
    URI::Escape         0     3.31    

build_requires:

    Module              Need  Have    
    ------------------- ----- --------
    Data::Dumper        0     2.125   
    ExtUtils::MakeMaker 0     7.49_02 
    File::Spec          0     3.31_01 
    Test::More          0     1.302162

configure_requires:

    Module              Need  Have    
    ------------------- ----- --------
    ExtUtils::MakeMaker 0     7.49_02 


------------------------------
ENVIRONMENT AND OTHER CONTEXT
------------------------------

Environment variables:

    AUTOMATED_TESTING = 1
    LANG = en_US.UTF-8
    NONINTERACTIVE_TESTING = 1
    PATH = /usr/local/bin:/usr/bin:/bin:/usr/local/games:/usr/games
    PERL = 5.12.5
    PERL5LIB = 
    PERL5OPT = 
    PERL5_CPANPLUS_IS_RUNNING = 6146
    PERL5_CPAN_IS_RUNNING = 6146
    PERLVER = 5.12.5
    PERL_INLINE_DIRECTORY = /home/david/.Inline-5.12.5
    PERL_MM_USE_DEFAULT = 1
    PERL_USE_UNSAFE_INC = 0
    SHELL = /bin/bash
    TERM = screen

Perl special variables (and OS-specific diagnostics, for MSWin32):

    $^X = /home/david/cpantesting/perl-5.12.5/bin/perl
    $UID/$EUID = 1000 / 1000
    $GID = 1000 27 1000
    $EGID = 1000 27 1000

Perl module toolchain versions installed:

    Module              Have    
    ------------------- --------
    CPAN                1.94_56 
    CPAN::Meta          2.143240
    Cwd                 3.31    
    ExtUtils::CBuilder  0.27    
    ExtUtils::Command   7.49_02 
    ExtUtils::Install   2.06    
    ExtUtils::MakeMaker 7.49_02 
    ExtUtils::Manifest  1.70    
    ExtUtils::ParseXS   2.21    
    File::Spec          3.31_01 
    JSON                n/a     
    JSON::PP            4.02    
    Module::Build       0.3603  
    Module::Signature   n/a     
    Parse::CPAN::Meta   1.4414  
    Test::Harness       3.17    
    Test::More          1.302162
    YAML                n/a     
    YAML::Syck          n/a     
    version             0.9924  


--

Summary of my perl5 (revision 5 version 12 subversion 5) configuration:
   
  Platform:
    osname=linux, osvers=4.9.0-8-amd64, archname=x86_64-linux-thread-multi
    uname='linux pigsty 4.9.0-8-amd64 #1 smp debian 4.9.144-3 (2019-02-02) x86_64 gnulinux '
    config_args='-de -Duse64bitall -Dusethreads -Dprefix=/home/david/cpantesting/perl-5.12.5 -A ccflags=-fwrapv'
    hint=previous, useposix=true, d_sigaction=define
    useithreads=define, usemultiplicity=define
    useperlio=define, d_sfio=undef, uselargefiles=define, usesocks=undef
    use64bitint=define, use64bitall=define, uselongdouble=undef
    usemymalloc=n, bincompat5005=undef
  Compiler:
    cc='cc', ccflags ='-D_REENTRANT -D_GNU_SOURCE -fno-strict-aliasing -pipe -fstack-protector -I/usr/local/include -D_LARGEFILE_SOURCE -D_FILE_OFFSET_BITS=64 -fwrapv',
    optimize='-O2',
    cppflags='-D_REENTRANT -D_GNU_SOURCE -fno-strict-aliasing -pipe -fstack-protector -I/usr/local/include -D_REENTRANT -D_GNU_SOURCE -fno-strict-aliasing -pipe -fstack-protector -I/usr/local/include -D_LARGEFILE_SOURCE -D_FILE_OFFSET_BITS=64 -fwrapv'
    ccversion='', gccversion='6.3.0 20170516', gccosandvers=''
    intsize=4, longsize=8, ptrsize=8, doublesize=8, byteorder=12345678
    d_longlong=define, longlongsize=8, d_longdbl=define, longdblsize=16
    ivtype='long', ivsize=8, nvtype='double', nvsize=8, Off_t='off_t', lseeksize=8
    alignbytes=8, prototype=define
  Linker and Libraries:
    ld='cc', ldflags =' -fstack-protector -L/usr/local/lib'
    libpth=/usr/local/lib /lib/x86_64-linux-gnu /lib/../lib /usr/lib/x86_64-linux-gnu /usr/lib/../lib /lib /usr/lib
    libs=-lnsl -ldb -ldl -lm -lcrypt -lutil -lpthread -lc
    perllibs=-lnsl -ldl -lm -lcrypt -lutil -lpthread -lc
    libc=libc-2.24.so, so=so, useshrplib=false, libperl=libperl.a
    gnulibc_version='2.24'
  Dynamic Linking:
    dlsrc=dl_dlopen.xs, dlext=so, d_dlsymun=undef, ccdlflags='-Wl,-E'
    cccdlflags='-fPIC', lddlflags='-shared -O2 -L/usr/local/lib -fstack-protector'


Characteristics of this binary (from libperl): 
  Compile-time options: MULTIPLICITY PERL_DONT_CREATE_GVSV
                        PERL_IMPLICIT_CONTEXT PERL_MALLOC_WRAP USE_64_BIT_ALL
                        USE_64_BIT_INT USE_ITHREADS USE_LARGE_FILES
                        USE_PERLIO USE_PERL_ATOF USE_REENTRANT_API
  Locally applied patches:
	Devel::PatchPerl 1.56
  Built under linux
  Compiled at Apr 25 2019 17:06:45
  %ENV:
    PERL="5.12.5"
    PERL5LIB=""
    PERL5OPT=""
    PERL5_CPANPLUS_IS_RUNNING="6146"
    PERL5_CPAN_IS_RUNNING="6146"
    PERLVER="5.12.5"
    PERL_INLINE_DIRECTORY="/home/david/.Inline-5.12.5"
    PERL_MM_USE_DEFAULT="1"
    PERL_USE_UNSAFE_INC="0"
  @INC:
    /home/david/cpantesting/perl-5.12.5/lib/site_perl/5.12.5/x86_64-linux-thread-multi
    /home/david/cpantesting/perl-5.12.5/lib/site_perl/5.12.5
    /home/david/cpantesting/perl-5.12.5/lib/5.12.5/x86_64-linux-thread-multi
    /home/david/cpantesting/perl-5.12.5/lib/5.12.5
    .