Back
From: metabase:user:20a45eae-6c1a-1014-abaf-4bc2b30e56df
Subject: PASS Math-Complex-1.57 v5.8.9 Windows (Cygwin)
Date: 2013-06-08T20:28:53Z
This distribution has been tested as part of the CPAN Testers
project, supporting the Perl programming language. See
http://wiki.cpantesters.org/ for more information or email
questions to cpan-testers-discuss@perl.org
--
Dear Andrew Main (Zefram),
This is a computer-generated report for Math-Complex-1.57
on perl 5.8.9, created by CPAN-Reporter-1.2010.
Thank you for uploading your work to CPAN. Congratulations!
All tests were successful.
Sections of this report:
* Tester comments
* Program output
* Prerequisites
* Environment and other context
------------------------------
TESTER COMMENTS
------------------------------
Additional comments from tester:
this report is from an automated smoke testing program
and was not reviewed by a human for accuracy
------------------------------
PROGRAM OUTPUT
------------------------------
Output from '/usr/bin/make test':
PERL_DL_NONLAZY=1 /opt/perl/cygwin/1.7.18/perl/5.8.9/cygwin-thread/bin/perl.exe "-MExtUtils::Command::MM" "-e" "test_harness(0, 'blib/lib', 'blib/arch')" t/*.t
t/Complex.........ok
t/pod-coverage....skipped
all skipped: Test::Pod::Coverage 1.00 required for testing POD coverage
t/pod.............skipped
all skipped: Test::Pod 1.00 required for testing POD
t/Trig............ok
t/underbar........ok
All tests successful, 2 tests skipped.
Files=5, Tests=1231, 2 wallclock secs ( 1.09 cusr + 0.29 csys = 1.38 CPU)
------------------------------
PREREQUISITES
------------------------------
Prerequisite modules loaded:
requires:
Module Need Have
------------------- ---- ----
Scalar::Util 1.11 1.19
Test::More 0 0.98
configure_requires:
Module Need Have
------------------- ---- ----
ExtUtils::MakeMaker 0 6.66
------------------------------
ENVIRONMENT AND OTHER CONTEXT
------------------------------
Environment variables:
AUTOMATED_TESTING = 1
COMSPEC = C:\Windows\system32\cmd.exe
NUMBER_OF_PROCESSORS = 4
PATH = /opt/perl/cygwin/1.7.18/bin/5.8.9/cygwin-thread:/opt/perl/cygwin/1.7.18/perl/5.8.9/cygwin-thread/local/bin:/opt/perl/cygwin/1.7.18/perl/5.8.9/cygwin-thread/bin:/usr/local/bin:/usr/bin:/usr/local/lib
PERL5LIB = /opt/perl/cygwin/1.7.18/cpan/5.8.9/cygwin-thread/build/Math-Complex-1.56-auThg8/blib/arch:/opt/perl/cygwin/1.7.18/cpan/5.8.9/cygwin-thread/build/Math-Complex-1.56-auThg8/blib/lib:/opt/perl/cygwin/1.7.18/cpan/5.8.9/cygwin-thread/build/Math-Trig-Units-0.03-hM0CpG/blib/arch:/opt/perl/cygwin/1.7.18/cpan/5.8.9/cygwin-thread/build/Math-Trig-Units-0.03-hM0CpG/blib/lib:/opt/perl/cygwin/1.7.18/cpan/5.8.9/cygwin-thread/build/Math-Trig-0.02-pmTXH2/blib/arch:/opt/perl/cygwin/1.7.18/cpan/5.8.9/cygwin-thread/build/Math-Trig-0.02-pmTXH2/blib/lib:/opt/perl/cygwin/1.7.18/perl/5.8.9/cygwin-thread/local/lib/site_perl/5.8.9:/opt/perl/cygwin/1.7.18/perl/5.8.9/cygwin-thread/local/lib/5.8.9:/opt/perl/cygwin/1.7.18/perl/5.8.9/cygwin-thread/local/lib/perl5
PERL5OPT =
PERL5_CPANPLUS_IS_RUNNING = 7016
PERL5_CPAN_IS_RUNNING = 7016
PERL_CPAN_REPORTER_CONFIG = /cygdrive/c/peter/.cpanreporter/config-cygwin.ini
PERL_EXTUTILS_AUTOINSTALL = 1
PERL_MM_USE_DEFAULT = 1
PERL_TEST_CRITIC = 1
PROCESSOR_IDENTIFIER = Intel64 Family 6 Model 37 Stepping 5, GenuineIntel
SHELL = /bin/bash
TEMP = /tmp
TERM = xterm
Perl special variables (and OS-specific diagnostics, for MSWin32):
$^X = /opt/perl/cygwin/1.7.18/perl/5.8.9/cygwin-thread/bin/perl
$UID/$EUID = 22755 / 22755
$GID = 10513 0 544 545 1001 10513
$EGID = 10513 0 544 545 1001 10513
Perl module toolchain versions installed:
Module Have
------------------- --------
CPAN 1.9301
CPAN::Meta 2.112621
Cwd 3.29
ExtUtils::CBuilder n/a
ExtUtils::Command 1.16
ExtUtils::Install 1.54
ExtUtils::MakeMaker 6.66
ExtUtils::Manifest 1.60
ExtUtils::ParseXS 2.19
File::Spec 3.29
JSON 2.57
JSON::PP 2.27202
Module::Build n/a
Module::Signature n/a
Parse::CPAN::Meta 1.4404
Test::Harness 2.64
Test::More 0.98
YAML 0.84
YAML::Syck n/a
version 0.9902
--
Summary of my perl5 (revision 5 version 8 subversion 9) configuration:
Platform:
osname=cygwin, osvers=1.7.18(0.26353), archname=cygwin-thread
uname='cygwin_nt-6.1-wow64 osl069 1.7.18(0.26353) 2013-04-19 10:39 i686 cygwin '
config_args='-Dmksymlinks -de -Dcc=gcc-4 -Umad -Dprefix=/opt/perl/cygwin/1.7.18/perl/5.8.9/cygwin-thread -Uinc_version_list -Uinstallusrbinperl -Dusethreads -Uusemultiplicity -Uuse64bitint -Dcf_by=pjacklam -Dcf_email=pjacklam@online.no -Dperladmin=pjacklam@online.no'
hint=recommended, useposix=true, d_sigaction=define
usethreads=define use5005threads=undef useithreads=define usemultiplicity=undef
useperlio=define d_sfio=undef uselargefiles=define usesocks=undef
use64bitint=undef use64bitall=undef uselongdouble=undef
usemymalloc=y, bincompat5005=undef
Compiler:
cc='gcc-4', ccflags ='-DPERL_USE_SAFE_PUTENV -U__STRICT_ANSI__ -fno-strict-aliasing -pipe',
optimize='-O3',
cppflags='-DPERL_USE_SAFE_PUTENV -U__STRICT_ANSI__ -fno-strict-aliasing -pipe'
ccversion='', gccversion='4.5.3', gccosandvers=''
intsize=4, longsize=4, ptrsize=4, doublesize=8, byteorder=1234
d_longlong=define, longlongsize=8, d_longdbl=define, longdblsize=12
ivtype='long', ivsize=4, nvtype='double', nvsize=8, Off_t='off_t', lseeksize=8
alignbytes=8, prototype=define
Linker and Libraries:
ld='g++', ldflags =' -Wl,--enable-auto-import -Wl,--export-all-symbols -Wl,--stack,8388608 -Wl,--enable-auto-image-base -L/usr/local/lib'
libpth=/usr/local/lib /usr/lib /lib
libs=-lgdbm -ldb -ldl -lcrypt -lgdbm_compat
perllibs=-ldl -lcrypt -lgdbm_compat
libc=/usr/lib/libc.a, so=dll, useshrplib=true, libperl=libperl.a
gnulibc_version=''
Dynamic Linking:
dlsrc=dl_dlopen.xs, dlext=dll, d_dlsymun=undef, ccdlflags=' '
cccdlflags=' ', lddlflags=' --shared -Wl,--enable-auto-import -Wl,--export-all-symbols -Wl,--stack,8388608 -Wl,--enable-auto-image-base -L/usr/local/lib'
Characteristics of this binary (from libperl):
Compile-time options: MULTIPLICITY MYMALLOC PERL_IMPLICIT_CONTEXT
PERL_USE_SAFE_PUTENV USE_FAST_STDIO USE_ITHREADS
USE_LARGE_FILES USE_PERLIO USE_REENTRANT_API
Built under cygwin
Compiled at Apr 27 2013 07:41:55
%ENV:
PERL5LIB="/opt/perl/cygwin/1.7.18/cpan/5.8.9/cygwin-thread/build/Math-Complex-1.56-auThg8/blib/arch:/opt/perl/cygwin/1.7.18/cpan/5.8.9/cygwin-thread/build/Math-Complex-1.56-auThg8/blib/lib:/opt/perl/cygwin/1.7.18/cpan/5.8.9/cygwin-thread/build/Math-Trig-Units-0.03-hM0CpG/blib/arch:/opt/perl/cygwin/1.7.18/cpan/5.8.9/cygwin-thread/build/Math-Trig-Units-0.03-hM0CpG/blib/lib:/opt/perl/cygwin/1.7.18/cpan/5.8.9/cygwin-thread/build/Math-Trig-0.02-pmTXH2/blib/arch:/opt/perl/cygwin/1.7.18/cpan/5.8.9/cygwin-thread/build/Math-Trig-0.02-pmTXH2/blib/lib:/opt/perl/cygwin/1.7.18/perl/5.8.9/cygwin-thread/local/lib/site_perl/5.8.9:/opt/perl/cygwin/1.7.18/perl/5.8.9/cygwin-thread/local/lib/5.8.9:/opt/perl/cygwin/1.7.18/perl/5.8.9/cygwin-thread/local/lib/perl5"
PERL5OPT=""
PERL5_CPANPLUS_IS_RUNNING="7016"
PERL5_CPAN_IS_RUNNING="7016"
PERL_CPAN_REPORTER_CONFIG="/cygdrive/c/peter/.cpanreporter/config-cygwin.ini"
PERL_EXTUTILS_AUTOINSTALL="1"
PERL_MM_USE_DEFAULT="1"
PERL_TEST_CRITIC="1"
CYGWIN="codepage:utf8 nodosfilewarning"
@INC:
/opt/perl/cygwin/1.7.18/cpan/5.8.9/cygwin-thread/build/Math-Complex-1.56-auThg8/blib/arch
/opt/perl/cygwin/1.7.18/cpan/5.8.9/cygwin-thread/build/Math-Complex-1.56-auThg8/blib/lib
/opt/perl/cygwin/1.7.18/cpan/5.8.9/cygwin-thread/build/Math-Trig-Units-0.03-hM0CpG/blib/arch
/opt/perl/cygwin/1.7.18/cpan/5.8.9/cygwin-thread/build/Math-Trig-Units-0.03-hM0CpG/blib/lib
/opt/perl/cygwin/1.7.18/cpan/5.8.9/cygwin-thread/build/Math-Trig-0.02-pmTXH2/blib/arch
/opt/perl/cygwin/1.7.18/cpan/5.8.9/cygwin-thread/build/Math-Trig-0.02-pmTXH2/blib/lib
/opt/perl/cygwin/1.7.18/perl/5.8.9/cygwin-thread/local/lib/site_perl/5.8.9/cygwin-thread
/opt/perl/cygwin/1.7.18/perl/5.8.9/cygwin-thread/local/lib/site_perl/5.8.9
/opt/perl/cygwin/1.7.18/perl/5.8.9/cygwin-thread/local/lib/5.8.9/cygwin-thread
/opt/perl/cygwin/1.7.18/perl/5.8.9/cygwin-thread/local/lib/5.8.9
/opt/perl/cygwin/1.7.18/perl/5.8.9/cygwin-thread/local/lib/perl5
/opt/perl/cygwin/1.7.18/perl/5.8.9/cygwin-thread/lib/5.8.9/cygwin-thread
/opt/perl/cygwin/1.7.18/perl/5.8.9/cygwin-thread/lib/5.8.9
/opt/perl/cygwin/1.7.18/perl/5.8.9/cygwin-thread/lib/site_perl/5.8.9/cygwin-thread
/opt/perl/cygwin/1.7.18/perl/5.8.9/cygwin-thread/lib/site_perl/5.8.9
.