Command-Template v0.001 Perl 5 v5.32.0 darwin-ld-2level
- Status
- Pass
- From
- Roland van Ipenburg (IPENBURG)
- Dist
-
Command-Template v0.001
- Platform
- Perl 5 v5.32.0 darwin-ld-2level
- Date
- 2021-04-06 21:18:24
- ID
- 9f70be9e-971d-11eb-be0c-3b3bde5e4622
This distribution has been tested as part of the CPAN Testers
project, supporting the Perl programming language. See
http://wiki.cpantesters.org/ for more information or email
questions to cpan-testers-discuss@perl.org
--
Dear Flavio Poletti,
This is a computer-generated report for Command-Template-0.001
on perl 5.32.0, created by CPAN-Reporter-1.2018.
Thank you for uploading your work to CPAN. Congratulations!
All tests were successful.
Sections of this report:
* Tester comments
* Program output
* Prerequisites
* Environment and other context
------------------------------
TESTER COMMENTS
------------------------------
Additional comments from tester:
none provided
------------------------------
PROGRAM OUTPUT
------------------------------
Output from './Build test':
# Testing Command::Template 0.001
t/00-load.t ............... ok
t/10-command-template.t ... ok
t/20-command-runner.t ..... ok
t/author-pod-syntax.t ..... skipped: these tests are for testing by the author
t/author-pod-version.t .... skipped: these tests are for testing by the author
t/release-pod-coverage.t .. skipped: these tests are for release candidate testing
All tests successful.
Files=6, Tests=49, 1 wallclock secs ( 0.04 usr 0.04 sys + 0.31 cusr 0.10 csys = 0.49 CPU)
Result: PASS
------------------------------
PREREQUISITES
------------------------------
Prerequisite modules loaded:
requires:
Module Need Have
------------------- ---------- ----------
IPC::Run 20200505.0 20200505.0
perl 5.024000 5.032000
build_requires:
Module Need Have
------------------- ---------- ----------
Path::Tiny 0.084 0.118
configure_requires:
Module Need Have
------------------- ---------- ----------
Module::Build::Tiny 0.034 0.039
------------------------------
ENVIRONMENT AND OTHER CONTEXT
------------------------------
Environment variables:
LANG = en_US.UTF-8
LC_ALL = en_US.UTF-8
LC_CTYPE = UTF-8
NONINTERACTIVE_TESTING = 1
PATH = /opt/local/bin:/opt/local/sbin:/opt/local/bin:/opt/local/sbin:/opt/local/bin:/opt/local/sbin:/Users/roliep/pebble-dev/PebbleSDK-current/bin:/Users/roliep/.nvm/versions/node/v15.3.0/bin:/usr/local/bin/:/usr/local/bin:/opt/local/sbin:/opt/local/bin:/Users/roliep/.composer/vendor/bin:/usr/local/sbin:/usr/bin:/usr/sbin:/bin:/sbin:/usr/local/bin:/usr/bin:/bin:/usr/sbin:/sbin:/usr/local/MacGPG2/bin:/opt/X11/bin:/Library/Apple/usr/bin:/Users/roliep/bin/FDK/Tools/osx
PERL5LIB =
PERL5OPT =
PERL5_CPANPLUS_IS_RUNNING = 21544
PERL5_CPAN_IS_RUNNING = 21544
PERL_MM_USE_DEFAULT = 1
PERL_USE_UNSAFE_INC = 1
SHELL = /bin/sh
TERM = xterm-256color
Perl special variables (and OS-specific diagnostics, for MSWin32):
$^X = /usr/local/bin/perl
$UID/$EUID = 0 / 0
$GID = 0 0 1 2 3 4 5 8 9 12 20 29 61 80 701 702 703
$EGID = 0 0 1 2 3 4 5 8 9 12 20 29 61 80 701 702 703
Perl module toolchain versions installed:
Module Have
------------------- --------
CPAN 2.28
CPAN::Meta 2.150010
Cwd 3.78
ExtUtils::CBuilder 0.280236
ExtUtils::Command 7.60
ExtUtils::Install 2.20
ExtUtils::MakeMaker 7.60
ExtUtils::Manifest 1.73
ExtUtils::ParseXS 3.40
File::Spec 3.78
JSON 4.03
JSON::PP 4.06
Module::Build 0.4231
Module::Signature 0.87
Parse::CPAN::Meta 2.150010
Test::Harness 3.42
Test::More 1.302183
YAML 1.30
YAML::Syck n/a
version 0.9928
--
Summary of my perl5 (revision 5 version 32 subversion 0) configuration:
Platform:
osname=darwin
osvers=19.6.0
archname=darwin-ld-2level
uname='darwin midtown.fritz.box 19.6.0 darwin kernel version 19.6.0: thu jun 18 20:49:00 pdt 2020; root:xnu-6153.141.1~1release_x86_64 x86_64 '
config_args='-des -Dinc_version_list=none -Duselongdouble'
hint=recommended
useposix=true
d_sigaction=define
useithreads=undef
usemultiplicity=undef
use64bitint=define
use64bitall=define
uselongdouble=define
usemymalloc=n
default_inc_excludes_dot=define
bincompat5005=undef
Compiler:
cc='cc'
ccflags ='-fno-common -DPERL_DARWIN -mmacosx-version-min=10.15 -fno-strict-aliasing -pipe -fstack-protector-strong -I/usr/local/include -I/opt/local/include -DPERL_USE_SAFE_PUTENV'
optimize='-O3'
cppflags='-fno-common -DPERL_DARWIN -mmacosx-version-min=10.15 -fno-strict-aliasing -pipe -fstack-protector-strong -I/usr/local/include -I/opt/local/include'
ccversion=''
gccversion='4.2.1 Compatible Apple LLVM 11.0.3 (clang-1103.0.32.62)'
gccosandvers=''
intsize=4
longsize=8
ptrsize=8
doublesize=8
byteorder=12345678
doublekind=3
d_longlong=define
longlongsize=8
d_longdbl=define
longdblsize=16
longdblkind=3
ivtype='long'
ivsize=8
nvtype='long double'
nvsize=16
Off_t='off_t'
lseeksize=8
alignbytes=16
prototype=define
Linker and Libraries:
ld='cc'
ldflags =' -mmacosx-version-min=10.15 -fstack-protector-strong -L/usr/local/lib -L/opt/local/lib'
libpth=/Volumes/SanDisk/Xcode.app/Contents/Developer/Toolchains/XcodeDefault.xctoolchain/usr/lib/clang/11.0.3/lib /Volumes/SanDisk/Xcode.app/Contents/Developer/Platforms/MacOSX.platform/Developer/SDKs/MacOSX.sdk/usr/lib /Volumes/SanDisk/Xcode.app/Contents/Developer/Toolchains/XcodeDefault.xctoolchain/usr/lib /usr/local/lib /opt/local/lib /usr/lib
libs=-lpthread -lgdbm -ldbm -ldl -lm -lutil -lc
perllibs=-lpthread -ldl -lm -lutil -lc
libc=
so=dylib
useshrplib=false
libperl=libperl.a
gnulibc_version=''
Dynamic Linking:
dlsrc=dl_dlopen.xs
dlext=bundle
d_dlsymun=undef
ccdlflags=' '
cccdlflags=' '
lddlflags=' -mmacosx-version-min=10.15 -bundle -undefined dynamic_lookup -L/usr/local/lib -L/opt/local/lib -fstack-protector-strong'
Characteristics of this binary (from libperl):
Compile-time options:
HAS_TIMES
PERLIO_LAYERS
PERL_COPY_ON_WRITE
PERL_DONT_CREATE_GVSV
PERL_MALLOC_WRAP
PERL_OP_PARENT
PERL_PRESERVE_IVUV
PERL_USE_SAFE_PUTENV
USE_64_BIT_ALL
USE_64_BIT_INT
USE_LARGE_FILES
USE_LOCALE
USE_LOCALE_COLLATE
USE_LOCALE_CTYPE
USE_LOCALE_NUMERIC
USE_LOCALE_TIME
USE_LONG_DOUBLE
USE_PERLIO
USE_PERL_ATOF
Built under darwin
Compiled at Aug 18 2020 21:07:42
%ENV:
PERL5LIB=""
PERL5OPT=""
PERL5_CPANPLUS_IS_RUNNING="21544"
PERL5_CPAN_IS_RUNNING="21544"
PERL_MM_USE_DEFAULT="1"
PERL_USE_UNSAFE_INC="1"
@INC:
/usr/local/lib/perl5/site_perl/5.32.0/darwin-ld-2level
/usr/local/lib/perl5/site_perl/5.32.0
/usr/local/lib/perl5/5.32.0/darwin-ld-2level
/usr/local/lib/perl5/5.32.0
.