Task-Dancer2 v0.07 Perl 5 v5.39.9 x86_64-linux-thread-multi-ld

Status
Pass
From
Andreas J. König (ANDK)
Dist
Task-Dancer2 v0.07
Platform
Perl 5 v5.39.9 x86_64-linux-thread-multi-ld
Date
2024-04-29 00:22:54
ID
9f7e08ca-05be-11ef-ba41-7fe7d493623a
This distribution has been tested as part of the CPAN Testers
project, supporting the Perl programming language.  See
http://wiki.cpantesters.org/ for more information or email
questions to cpan-testers-discuss@perl.org


--
Dear Jason A. Crome,

This is a computer-generated report for Task-Dancer2-0.07
on perl 5.39.9, created by CPAN-Reporter-1.2019.

Thank you for uploading your work to CPAN.  Congratulations!
All tests were successful.

Sections of this report:

    * Tester comments
    * Program output
    * Prerequisites
    * Environment and other context

------------------------------
TESTER COMMENTS
------------------------------

Additional comments from tester:

this report is from an automated smoke testing program
and was not reviewed by a human for accuracy

------------------------------
PROGRAM OUTPUT
------------------------------

Output from '/usr/bin/make test':

PERL_DL_NONLAZY=1 "/tmp/basesmoker-reloperl-8CPa/bin/perl" "-MExtUtils::Command::MM" "-MTest::Harness" "-e" "undef *Test::Harness::Switches; test_harness(0, 'inc', 'blib/lib', 'blib/arch')" t/00-load.t t/manifest.t t/release-pod-coverage.t t/release-pod-syntax.t
# Testing Task::Dancer2 0.07, Perl 5.039009, /tmp/basesmoker-reloperl-8CPa/bin/perl
t/00-load.t ............... ok
t/manifest.t .............. skipped: Author tests not required for installation
t/release-pod-coverage.t .. skipped: these tests are for release candidate testing
t/release-pod-syntax.t .... skipped: these tests are for release candidate testing
All tests successful.
Files=4, Tests=1,  0 wallclock secs ( 0.02 usr  0.01 sys +  0.27 cusr  0.04 csys =  0.34 CPU)
Result: PASS

------------------------------
PREREQUISITES
------------------------------

Prerequisite modules loaded:

requires:

    Module                                                       Need Have    
    ------------------------------------------------------------ ---- --------
    Dancer2                                                      0    1.1.0   
    Dancer2::Logger::Console::Colored                            0    0.008   
    Dancer2::Logger::File::RotateLogs                            0    0.01    
  ! Dancer2::Logger::Fluent                                      0    n/a     
    Dancer2::Logger::Log4perl                                    0    0       
    Dancer2::Logger::LogAny                                      0    0.9912  
    Dancer2::Logger::LogReport                                   0    1.36    
    Dancer2::Logger::Multiplex                                   0    0.02    
    Dancer2::Logger::Radis                                       0    0.002   
    Dancer2::Logger::Syslog                                      0    0.5     
    Dancer2::Plugin::Adapter                                     0    0.007   
    Dancer2::Plugin::Ajax                                        0    0.400000
    Dancer2::Plugin::AppRole::Helper                             0    1.152121
    Dancer2::Plugin::Argon2                                      0    0.01    
    Dancer2::Plugin::Articulate                                  0    0.002   
    Dancer2::Plugin::Auth::ActiveDirectory                       0    0.03    
    Dancer2::Plugin::Auth::CAS                                   0    0       
    Dancer2::Plugin::Auth::Extensible                            0    0.710   
    Dancer2::Plugin::Auth::Extensible::Provider::ActiveDirectory 0    0.04    
    Dancer2::Plugin::Auth::Extensible::Provider::Database        0    0.630   
    Dancer2::Plugin::Auth::Extensible::Provider::DBIC            0    0.624   
  ! Dancer2::Plugin::Auth::Extensible::Provider::DBIx::Class     0    n/a     
    Dancer2::Plugin::Auth::Extensible::Provider::IMAP            0    0.003   
    Dancer2::Plugin::Auth::Extensible::Provider::LDAP            0    0.706   
    Dancer2::Plugin::Auth::Extensible::Provider::Usergroup       0    0.709   
    Dancer2::Plugin::Auth::Extensible::Rights                    0    0.01    
    Dancer2::Plugin::Auth::HTTP::Basic::DWIW                     0    0.0901  
    Dancer2::Plugin::Auth::OAuth                                 0    0.20    
    Dancer2::Plugin::Auth::SAFE                                  0    0.002   
    Dancer2::Plugin::Auth::Tiny                                  0    0.008   
    Dancer2::Plugin::Auth::YARBAC                                0    0.011   
  ! Dancer2::Plugin::BrowserDetect                               0    n/a     
    Dancer2::Plugin::Cache::CHI                                  0    2.0.1   
  ! Dancer2::Plugin::Captcha                                     0    n/a     
    Dancer2::Plugin::Cart                                        0    1.0001  
    Dancer2::Plugin::Chain                                       0    0.11    
  ! Dancer2::Plugin::ConditionalCaching                          0    n/a     
    Dancer2::Plugin::ControllerAutoload                          0    0.01    
    Dancer2::Plugin::CryptPassphrase                             0    0.003   
    Dancer2::Plugin::CSRF                                        0    1.01    
    Dancer2::Plugin::CSRFI                                       0    1.03    
    Dancer2::Plugin::Database                                    0    2.17    
    Dancer2::Plugin::DataTransposeValidator                      0    0.201   
    Dancer2::Plugin::DBIC                                        0    0.0100  
    Dancer2::Plugin::DBIx::Class                                 0    1.1001  
    Dancer2::Plugin::DebugDump                                   0    0.41    
    Dancer2::Plugin::Debugger                                    0    0.008   
    Dancer2::Plugin::Deferred                                    0    0.008000
    Dancer2::Plugin::DoFile                                      0    0.14    
    Dancer2::Plugin::EditFile                                    0    0.005   
    Dancer2::Plugin::ElasticSearch                               0    0.004   
    Dancer2::Plugin::Email                                       0    0.0202  
    Dancer2::Plugin::Emailesque                                  0    0.03    
    Dancer2::Plugin::EncryptID                                   0    0.03    
    Dancer2::Plugin::Etcd                                        0    0.011   
    Dancer2::Plugin::Feed                                        0    1.160550
    Dancer2::Plugin::Flash                                       0    0.03    
  ! Dancer2::Plugin::FlashNote                                   0    n/a     
    Dancer2::Plugin::FontSubset                                  0    0.0.1   
    Dancer2::Plugin::FormValidator                               0    1.04    
    Dancer2::Plugin::FormValidator::Extension::DBIC              0    1.01    
    Dancer2::Plugin::FormValidator::Extension::Password          0    0.82    
    Dancer2::Plugin::Github::Webhook                             0    0.01    
  ! Dancer2::Plugin::GoogleAnalytics                             0    n/a     
    Dancer2::Plugin::GraphQL                                     0    0.09    
    Dancer2::Plugin::Growler                                     0    0.03    
  ! Dancer2::Plugin::HTTP::Auth::Extensible                      0    n/a     
    Dancer2::Plugin::HTTP::Bundle                                0    0.02    
    Dancer2::Plugin::HTTP::Caching                               0    0.01    
    Dancer2::Plugin::HTTP::ConditionalRequest                    0    0.05    
    Dancer2::Plugin::HTTP::ContentNegotiation                    0    0.02    
  ! Dancer2::Plugin::Interchange6                                0    n/a     
    Dancer2::Plugin::JSManager                                   0    0.013   
    Dancer2::Plugin::JWT                                         0    0.021   
  ! Dancer2::Plugin::Locale                                      0    n/a     
    Dancer2::Plugin::Locale::Meta                                0    0.006   
    Dancer2::Plugin::Locale::Wolowitz                            0    0.05    
    Dancer2::Plugin::LogContextual                               0    1.152121
    Dancer2::Plugin::LogReport                                   0    1.36    
    Dancer2::Plugin::Map::Tube                                   0    0.04    
    Dancer2::Plugin::MarkdownFilesToHTML                         0    0.017   
    Dancer2::Plugin::Menu                                        0    0.009   
    Dancer2::Plugin::Minify                                      0    0.002   
    Dancer2::Plugin::Minion                                      0    0.3.3   
    Dancer2::Plugin::MobileDevice                                0    0.000002
    Dancer2::Plugin::Model                                       0    1.152120
    Dancer2::Plugin::Multilang                                   0    1.2.0   
    Dancer2::Plugin::Negotiate                                   0    0.002   
    Dancer2::Plugin::OAuth2::Server                              0    0.11    
    Dancer2::Plugin::OpenAPIRoutes                               0    0.03    
    Dancer2::Plugin::PageHistory                                 0    0.210   
    Dancer2::Plugin::Paginator                                   0    2.11    
    Dancer2::Plugin::ParamTypes                                  0    0.006   
    Dancer2::Plugin::Passphrase                                  0    3.4.1   
  ! Dancer2::Plugin::Path::Class                                 0    n/a     
    Dancer2::Plugin::Pg                                          0    0.07    
  ! Dancer2::Plugin::ProbabilityRoute                            0    n/a     
    Dancer2::Plugin::ProgressStatus                              0    0.018   
  ! Dancer2::Plugin::PrometheusTiny                              0    n/a     
    Dancer2::Plugin::Queue                                       0    0.006   
    Dancer2::Plugin::Queue::IronMQ                               0    0.002   
  ! Dancer2::Plugin::Queue::MongoDB                              0    n/a     
    Dancer2::Plugin::reCAPTCHA                                   0    0.3     
    Dancer2::Plugin::Redis                                       0    0.009   
    Dancer2::Plugin::Res                                         0    0.10    
    Dancer2::Plugin::REST                                        0    1.02    
    Dancer2::Plugin::RootURIFor                                  0    0.03    
    Dancer2::Plugin::RoutePodCoverage                            0    0.071   
    Dancer2::Plugin::Routing                                     0    0.01    
    Dancer2::Plugin::RPC                                         0    2.02    
    Dancer2::Plugin::RPC::RESTISH                                0    2.02    
    Dancer2::Plugin::SessionDatabase                             0    0       
    Dancer2::Plugin::Shutdown                                    0    0.002   
  ! Dancer2::Plugin::Shutdown::Redis                             0    broken  
    Dancer2::Plugin::Sixpack                                     0    0.03    
    Dancer2::Plugin::SPID                                        0    0.11    
    Dancer2::Plugin::Syntax::GetPost                             0    0.003   
    Dancer2::Plugin::Syntax::ParamKeywords                       0    0.2.0   
    Dancer2::Plugin::SyntaxHighlight::Perl                       0    0.0009  
    Dancer2::Plugin::Tail                                        0    0.017   
    Dancer2::Plugin::TemplateFlute                               0    0.202   
    Dancer2::Plugin::UnicodeNormalize                            0    0.04    
    Dancer2::Plugin::ViewCache                                   0    1.0001  
    Dancer2::Plugin::WebService                                  0    4.4.7   
    Dancer2::Plugin::WebSocket                                   0    0.3.1   
    Dancer2::Serializer::CBOR                                    0    0.000002
    Dancer2::Serializer::XML                                     0    0.06    
    Dancer2::Session::CGISession                                 0    0.04    
    Dancer2::Session::CHI                                        0    0       
    Dancer2::Session::Cookie                                     0    0.009   
    Dancer2::Session::DatabasePlugin                             0    1.0014  
  ! Dancer2::Session::DBIC                                       0    n/a     
    Dancer2::Session::JSON                                       0    0.003   
    Dancer2::Session::Memcached                                  0    0.007   
    Dancer2::Session::MongoDB                                    0    0.004   
    Dancer2::Session::PSGI                                       0    0.010   
    Dancer2::Session::Redis                                      0    0.008   
    Dancer2::Session::Sereal                                     0    0.003   
    Dancer2::Template::Caribou                                   0    1.0.1   
  ! Dancer2::Template::Haml                                      0    n/a     
    Dancer2::Template::Handlebars                                0    1.00    
    Dancer2::Template::HTCompiled                                0    0.003   
    Dancer2::Template::Mason2                                    0    0.01    
    Dancer2::Template::MojoTemplate                              0    0       
    Dancer2::Template::Mustache                                  0    0.0.1   
    Dancer2::Template::Obj2HTML                                  0    0.12    
    Dancer2::Template::TemplateFlute                             0    0.203   
    Dancer2::Template::TextTemplate                              0    1.003   
    Dancer2::Template::Xslate                                    0    v0.2.0  

build_requires:

    Module                                                       Need Have    
    ------------------------------------------------------------ ---- --------
    ExtUtils::MakeMaker                                          6.36 7.70    


------------------------------
ENVIRONMENT AND OTHER CONTEXT
------------------------------

Environment variables:

    AUTOMATED_TESTING = 1
    LANG = en_US.UTF-8
    PATH = /home/sand/bin:/usr/local/bin:/usr/local/sbin:/usr/sbin:/usr/bin:/sbin:/bin:/usr/games:/usr/local/games:/snap/bin:/usr/local/perl/bin:/usr/X11/bin
    PERL = /tmp/basesmoker-reloperl-8CPa/bin/perl
    PERL5LIB = /tmp/loop_over_bdir-3561198-4SMXJn/App-rmcd-0.280-0/blib/arch:/tmp/loop_over_bdir-3561198-4SMXJn/App-rmcd-0.280-0/blib/lib:/tmp/loop_over_bdir-3561198-4SMXJn/Net-OpenVPN-DDNS-0.1-0/blib/arch:/tmp/loop_over_bdir-3561198-4SMXJn/Net-OpenVPN-DDNS-0.1-0/blib/lib:/tmp/loop_over_bdir-3561198-4SMXJn/Devel-Required-0.16-0/blib/arch:/tmp/loop_over_bdir-3561198-4SMXJn/Devel-Required-0.16-0/blib/lib:/tmp/loop_over_bdir-3561198-4SMXJn/LCFG-Build-Tools-0.9.30-0/blib/arch:/tmp/loop_over_bdir-3561198-4SMXJn/LCFG-Build-Tools-0.9.30-0/blib/lib:/tmp/loop_over_bdir-3561198-4SMXJn/Lemonldap-NG-Cli-0.2-0/blib/arch:/tmp/loop_over_bdir-3561198-4SMXJn/Lemonldap-NG-Cli-0.2-0/blib/lib:/tmp/loop_over_bdir-3561198-4SMXJn/Net-Async-WebService-lxd-0.03-0/blib/arch:/tmp/loop_over_bdir-3561198-4SMXJn/Net-Async-WebService-lxd-0.03-0/blib/lib:/tmp/loop_over_bdir-3561198-4SMXJn/App-oo_modulino_zsh_completion_helper-0.04-0/blib/arch:/tmp/loop_over_bdir-3561198-4SMXJn/App-oo_modulino_zsh_completion_helper-0.04-0/blib/lib:/tmp/loop_over_bdir-3561198-4SMXJn/RackMan-1.19-0/blib/arch:/tmp/loop_over_bdir-3561198-4SMXJn/RackMan-1.19-0/blib/lib:/tmp/loop_over_bdir-3561198-4SMXJn/LiquidWeb-Storm-CLI-1.03-0/blib/arch:/tmp/loop_over_bdir-3561198-4SMXJn/LiquidWeb-Storm-CLI-1.03-0/blib/lib:/tmp/loop_over_bdir-3561198-4SMXJn/perl-Hardware-UPS-Perl-0.43-0/blib/arch:/tmp/loop_over_bdir-3561198-4SMXJn/perl-Hardware-UPS-Perl-0.43-0/blib/lib:/tmp/loop_over_bdir-3561198-4SMXJn/Dpkg-1.22.6-0/blib/arch:/tmp/loop_over_bdir-3561198-4SMXJn/Dpkg-1.22.6-0/blib/lib
    PERL5OPT = 
    PERL5_CPANPLUS_IS_RUNNING = 3561206
    PERL5_CPAN_IS_RUNNING = 3561206
    PERL_CANARY_STABILITY_NOPROMPT = 1
    PERL_MM_USE_DEFAULT = 1
    PERL_USE_UNSAFE_INC = 1
    SHELL = /usr/bin/zsh
    TERM = screen

Perl special variables (and OS-specific diagnostics, for MSWin32):

    $^X = /tmp/basesmoker-reloperl-8CPa/bin/perl
    $UID/$EUID = 1005 / 1005
    $GID = 1005 1005
    $EGID = 1005 1005

Perl module toolchain versions installed:

    Module              Have    
    ------------------- --------
    CPAN                2.36    
    CPAN::Meta          2.150010
    Cwd                 3.90    
    ExtUtils::CBuilder  0.280240
    ExtUtils::Command   7.70    
    ExtUtils::Install   2.22    
    ExtUtils::MakeMaker 7.70    
    ExtUtils::Manifest  1.75    
    ExtUtils::ParseXS   3.51    
    File::Spec          3.90    
    JSON                4.10    
    JSON::PP            4.16    
    Module::Build       0.4234  
    Module::Signature   0.88    
    Parse::CPAN::Meta   2.150010
    Test2               1.302198
    Test::Harness       3.48    
    Test::More          1.302198
    YAML                1.31    
    YAML::Syck          1.34    
    version             0.9930  


--

Summary of my perl5 (revision 5 version 39 subversion 9) configuration:
  Commit id: 824a7e0bf8052e62e6913c5fb807a6a8331a2d81
  Platform:
    osname=linux
    osvers=5.4.0-173-generic
    archname=x86_64-linux-thread-multi-ld
    uname='linux k93focal 5.4.0-173-generic #191-ubuntu smp fri feb 2 13:55:07 utc 2024 x86_64 x86_64 x86_64 gnulinux '
    config_args='-Dprefix=/home/sand/src/perl/repoperls/installed-perls/host/k93focal/v5.39.9/e463 -Dmyhostname=k93focal -Dinstallusrbinperl=n -Uversiononly -Dusedevel -des -Ui_db -Dlibswanted=cl pthread socket inet nsl gdbm dbm malloc dl ld sun m crypt sec util c cposix posix ucb BSD gdbm_compat -Duseithreads -Duselongdouble -DEBUGGING=both'
    hint=recommended
    useposix=true
    d_sigaction=define
    useithreads=define
    usemultiplicity=define
    use64bitint=define
    use64bitall=define
    uselongdouble=define
    usemymalloc=n
    default_inc_excludes_dot=define
  Compiler:
    cc='cc'
    ccflags ='-D_REENTRANT -D_GNU_SOURCE -fwrapv -DDEBUGGING -fno-strict-aliasing -pipe -fstack-protector-strong -I/usr/local/include -D_LARGEFILE_SOURCE -D_FILE_OFFSET_BITS=64'
    optimize='-O2 -g'
    cppflags='-D_REENTRANT -D_GNU_SOURCE -fwrapv -DDEBUGGING -fno-strict-aliasing -pipe -fstack-protector-strong -I/usr/local/include'
    ccversion=''
    gccversion='9.4.0'
    gccosandvers=''
    intsize=4
    longsize=8
    ptrsize=8
    doublesize=8
    byteorder=12345678
    doublekind=3
    d_longlong=define
    longlongsize=8
    d_longdbl=define
    longdblsize=16
    longdblkind=3
    ivtype='long'
    ivsize=8
    nvtype='long double'
    nvsize=16
    Off_t='off_t'
    lseeksize=8
    alignbytes=16
    prototype=define
  Linker and Libraries:
    ld='cc'
    ldflags =' -fstack-protector-strong -L/usr/local/lib'
    libpth=/usr/local/lib /usr/lib/x86_64-linux-gnu /usr/lib /usr/lib64
    libs=-lpthread -lnsl -ldl -lm -lcrypt -lutil -lc
    perllibs=-lpthread -lnsl -ldl -lm -lcrypt -lutil -lc
    libc=libc-2.31.so
    so=so
    useshrplib=false
    libperl=libperl.a
    gnulibc_version='2.31'
  Dynamic Linking:
    dlsrc=dl_dlopen.xs
    dlext=so
    d_dlsymun=undef
    ccdlflags='-Wl,-E'
    cccdlflags='-fPIC'
    lddlflags='-shared -O2 -g -L/usr/local/lib -fstack-protector-strong'


Characteristics of this binary (from libperl): 
  Compile-time options:
    DEBUGGING
    HAS_LONG_DOUBLE
    HAS_STRTOLD
    HAS_TIMES
    MULTIPLICITY
    PERLIO_LAYERS
    PERL_COPY_ON_WRITE
    PERL_DONT_CREATE_GVSV
    PERL_HASH_FUNC_SIPHASH13
    PERL_HASH_USE_SBOX32
    PERL_MALLOC_WRAP
    PERL_OP_PARENT
    PERL_PRESERVE_IVUV
    PERL_TRACK_MEMPOOL
    PERL_USE_DEVEL
    PERL_USE_SAFE_PUTENV
    USE_64_BIT_ALL
    USE_64_BIT_INT
    USE_ITHREADS
    USE_LARGE_FILES
    USE_LOCALE
    USE_LOCALE_COLLATE
    USE_LOCALE_CTYPE
    USE_LOCALE_NUMERIC
    USE_LOCALE_TIME
    USE_LONG_DOUBLE
    USE_PERLIO
    USE_PERL_ATOF
    USE_REENTRANT_API
    USE_THREAD_SAFE_LOCALE
  Built under linux
  Compiled at Mar 23 2024 16:00:38
  %ENV:
    PERL="/tmp/basesmoker-reloperl-8CPa/bin/perl"
    PERL5LIB="/tmp/loop_over_bdir-3561198-4SMXJn/App-rmcd-0.280-0/blib/arch:/tmp/loop_over_bdir-3561198-4SMXJn/App-rmcd-0.280-0/blib/lib:/tmp/loop_over_bdir-3561198-4SMXJn/Net-OpenVPN-DDNS-0.1-0/blib/arch:/tmp/loop_over_bdir-3561198-4SMXJn/Net-OpenVPN-DDNS-0.1-0/blib/lib:/tmp/loop_over_bdir-3561198-4SMXJn/Devel-Required-0.16-0/blib/arch:/tmp/loop_over_bdir-3561198-4SMXJn/Devel-Required-0.16-0/blib/lib:/tmp/loop_over_bdir-3561198-4SMXJn/LCFG-Build-Tools-0.9.30-0/blib/arch:/tmp/loop_over_bdir-3561198-4SMXJn/LCFG-Build-Tools-0.9.30-0/blib/lib:/tmp/loop_over_bdir-3561198-4SMXJn/Lemonldap-NG-Cli-0.2-0/blib/arch:/tmp/loop_over_bdir-3561198-4SMXJn/Lemonldap-NG-Cli-0.2-0/blib/lib:/tmp/loop_over_bdir-3561198-4SMXJn/Net-Async-WebService-lxd-0.03-0/blib/arch:/tmp/loop_over_bdir-3561198-4SMXJn/Net-Async-WebService-lxd-0.03-0/blib/lib:/tmp/loop_over_bdir-3561198-4SMXJn/App-oo_modulino_zsh_completion_helper-0.04-0/blib/arch:/tmp/loop_over_bdir-3561198-4SMXJn/App-oo_modulino_zsh_completion_helper-0.04-0/blib/lib:/tmp/loop_over_bdir-3561198-4SMXJn/RackMan-1.19-0/blib/arch:/tmp/loop_over_bdir-3561198-4SMXJn/RackMan-1.19-0/blib/lib:/tmp/loop_over_bdir-3561198-4SMXJn/LiquidWeb-Storm-CLI-1.03-0/blib/arch:/tmp/loop_over_bdir-3561198-4SMXJn/LiquidWeb-Storm-CLI-1.03-0/blib/lib:/tmp/loop_over_bdir-3561198-4SMXJn/perl-Hardware-UPS-Perl-0.43-0/blib/arch:/tmp/loop_over_bdir-3561198-4SMXJn/perl-Hardware-UPS-Perl-0.43-0/blib/lib:/tmp/loop_over_bdir-3561198-4SMXJn/Dpkg-1.22.6-0/blib/arch:/tmp/loop_over_bdir-3561198-4SMXJn/Dpkg-1.22.6-0/blib/lib"
    PERL5OPT=""
    PERL5_CPANPLUS_IS_RUNNING="3561206"
    PERL5_CPAN_IS_RUNNING="3561206"
    PERL_CANARY_STABILITY_NOPROMPT="1"
    PERL_MM_USE_DEFAULT="1"
    PERL_USE_UNSAFE_INC="1"
  @INC:
    /tmp/loop_over_bdir-3561198-4SMXJn/App-rmcd-0.280-0/blib/arch
    /tmp/loop_over_bdir-3561198-4SMXJn/App-rmcd-0.280-0/blib/lib
    /tmp/loop_over_bdir-3561198-4SMXJn/Net-OpenVPN-DDNS-0.1-0/blib/arch
    /tmp/loop_over_bdir-3561198-4SMXJn/Net-OpenVPN-DDNS-0.1-0/blib/lib
    /tmp/loop_over_bdir-3561198-4SMXJn/Devel-Required-0.16-0/blib/arch
    /tmp/loop_over_bdir-3561198-4SMXJn/Devel-Required-0.16-0/blib/lib
    /tmp/loop_over_bdir-3561198-4SMXJn/LCFG-Build-Tools-0.9.30-0/blib/arch
    /tmp/loop_over_bdir-3561198-4SMXJn/LCFG-Build-Tools-0.9.30-0/blib/lib
    /tmp/loop_over_bdir-3561198-4SMXJn/Lemonldap-NG-Cli-0.2-0/blib/arch
    /tmp/loop_over_bdir-3561198-4SMXJn/Lemonldap-NG-Cli-0.2-0/blib/lib
    /tmp/loop_over_bdir-3561198-4SMXJn/Net-Async-WebService-lxd-0.03-0/blib/arch
    /tmp/loop_over_bdir-3561198-4SMXJn/Net-Async-WebService-lxd-0.03-0/blib/lib
    /tmp/loop_over_bdir-3561198-4SMXJn/App-oo_modulino_zsh_completion_helper-0.04-0/blib/arch
    /tmp/loop_over_bdir-3561198-4SMXJn/App-oo_modulino_zsh_completion_helper-0.04-0/blib/lib
    /tmp/loop_over_bdir-3561198-4SMXJn/RackMan-1.19-0/blib/arch
    /tmp/loop_over_bdir-3561198-4SMXJn/RackMan-1.19-0/blib/lib
    /tmp/loop_over_bdir-3561198-4SMXJn/LiquidWeb-Storm-CLI-1.03-0/blib/arch
    /tmp/loop_over_bdir-3561198-4SMXJn/LiquidWeb-Storm-CLI-1.03-0/blib/lib
    /tmp/loop_over_bdir-3561198-4SMXJn/perl-Hardware-UPS-Perl-0.43-0/blib/arch
    /tmp/loop_over_bdir-3561198-4SMXJn/perl-Hardware-UPS-Perl-0.43-0/blib/lib
    /tmp/loop_over_bdir-3561198-4SMXJn/Dpkg-1.22.6-0/blib/arch
    /tmp/loop_over_bdir-3561198-4SMXJn/Dpkg-1.22.6-0/blib/lib
    /home/sand/src/perl/repoperls/installed-perls/host/k93focal/v5.39.9/e463/lib/site_perl/5.39.9/x86_64-linux-thread-multi-ld
    /home/sand/src/perl/repoperls/installed-perls/host/k93focal/v5.39.9/e463/lib/site_perl/5.39.9
    /home/sand/src/perl/repoperls/installed-perls/host/k93focal/v5.39.9/e463/lib/5.39.9/x86_64-linux-thread-multi-ld
    /home/sand/src/perl/repoperls/installed-perls/host/k93focal/v5.39.9/e463/lib/5.39.9
    .