Report for Catalyst-Plugin-Session-0.37

Back
From: metabase:user:21427c7c-6c1b-1014-a310-4ed93fdd96d6
Subject: PASS Catalyst-Plugin-Session-0.37 v5.14.4 GNU/Linux
Date: 2013-06-15T17:18:40Z

This distribution has been tested as part of the CPAN Testers
project, supporting the Perl programming language.  See
http://wiki.cpantesters.org/ for more information or email
questions to cpan-testers-discuss@perl.org


--
Dear Tomas Doran,

This is a computer-generated report for Catalyst-Plugin-Session-0.37
on perl 5.14.4, created by CPAN-Reporter-1.2009.

Thank you for uploading your work to CPAN.  Congratulations!
All tests were successful.

Sections of this report:

    * Tester comments
    * Program output
    * Prerequisites
    * Environment and other context

------------------------------
TESTER COMMENTS
------------------------------

Additional comments from tester:

none provided

------------------------------
PROGRAM OUTPUT
------------------------------

Output from '/usr/bin/make test':

PERL_DL_NONLAZY=1 /home/jm/perl5/perlbrew/perls/perl-5.14.4/bin/perl5.14.4 "-MExtUtils::Command::MM" "-e" "test_harness(0, 'inc', 'blib/lib', 'blib/arch')" t/*.t
t/00_basic_sanity.t ........... ok
t/01_setup.t .................. ok
t/03_flash.t .................. ok
t/05_semi_persistent_flash.t .. skipped: Catalyst::Plugin::Session::State::Cookie version 0.03 or higher is required for this test
t/cat_test.t .................. skipped: Need Catalyst::Plugin::Session::State::Cookie
t/live_accessor.t ............. skipped: Catalyst::Plugin::Session::State::Cookie 0.03 or higher is required for this test
t/live_app.t .................. skipped: Catalyst::Plugin::Session::State::Cookie 0.03 or higher is required for this test
t/live_session_fixation.t ..... skipped: Catalyst::Plugin::Session::State::Cookie 0.03 or higher is required for this test
t/live_verify_address.t ....... skipped: Catalyst::Plugin::Session::State::Cookie 0.03 or higher is required for this test
t/live_verify_user_agent.t .... skipped: Catalyst::Plugin::Session::State::Cookie 0.03 or higher is required for this test
t/session_valid.t ............. skipped: Catalyst::Plugin::Session::State::Cookie 0.03 or higher is required for this test
All tests successful.
Files=11, Tests=26,  5 wallclock secs ( 0.10 usr  0.02 sys +  3.21 cusr  0.17 csys =  3.50 CPU)
Result: PASS

------------------------------
PREREQUISITES
------------------------------

Prerequisite modules loaded:

requires:

    Module                                 Need    Have    
    -------------------------------------- ------- --------
    Catalyst::Runtime                      5.71001 5.90020 
    Digest                                 0       1.16_01 
    File::Spec                             0       3.40    
    File::Temp                             0       0.2301  
    Moose                                  0.76    2.0802  
    MooseX::Emulate::Class::Accessor::Fast 0.00801 0.00903 
    MRO::Compat                            0       0.12    
    namespace::clean                       0.10    0.24    
    Object::Signature                      0       1.07    
    perl                                   5.008   5.014004
    Test::More                             0.88    0.98    
    Tie::RefHash                           1.34    1.39    

build_requires:

    Module                                 Need    Have    
    -------------------------------------- ------- --------
    ExtUtils::MakeMaker                    6.59    6.64    
    Test::Deep                             0       0.110   
    Test::Exception                        0       0.31    
    Test::WWW::Mechanize::PSGI             0       0.35    

configure_requires:

    Module                                 Need    Have    
    -------------------------------------- ------- --------
    ExtUtils::MakeMaker                    6.59    6.64    


------------------------------
ENVIRONMENT AND OTHER CONTEXT
------------------------------

Environment variables:

    LANG = pl_PL.UTF-8
    LC_COLLATE = pl_PL.UTF-8
    LC_MESSAGES = POSIX
    PATH = /home/jm/perl5/perlbrew/bin:/home/jm/perl5/perlbrew/perls/perl-5.14.4/bin:/home/jm/perl5/perlbrew/bin:/usr/local/bin:/usr/bin:/bin:/usr/games:/usr/lib/kde4/libexec:/usr/lib/qt/bin:.:.:/home/jm/usr/bin
    PERL5LIB = 
    PERL5OPT = 
    PERL5_CPANPLUS_IS_RUNNING = 14113
    PERL5_CPAN_IS_RUNNING = 14113
    PERLBREW_BASHRC_VERSION = 0.61
    PERLBREW_HOME = /home/jm/.perlbrew
    PERLBREW_MANPATH = /home/jm/perl5/perlbrew/perls/perl-5.14.4/man
    PERLBREW_PATH = /home/jm/perl5/perlbrew/bin:/home/jm/perl5/perlbrew/perls/perl-5.14.4/bin
    PERLBREW_PERL = perl-5.14.4
    PERLBREW_ROOT = /home/jm/perl5/perlbrew
    PERLBREW_VERSION = 0.63
    SHELL = /bin/bash
    TERM = xterm

Perl special variables (and OS-specific diagnostics, for MSWin32):

    $^X = /home/jm/perl5/perlbrew/perls/perl-5.14.4/bin/perl5.14.4
    $UID/$EUID = 1000 / 1000
    $GID = 100 6 10 17 18 19 83 84 93 94 100 1000
    $EGID = 100 6 10 17 18 19 83 84 93 94 100 1000

Perl module toolchain versions installed:

    Module              Have    
    ------------------- --------
    CPAN                2.00    
    CPAN::Meta          2.131560
    Cwd                 3.40    
    ExtUtils::CBuilder  0.280205
    ExtUtils::Command   1.17    
    ExtUtils::Install   1.56    
    ExtUtils::MakeMaker 6.64    
    ExtUtils::Manifest  1.61    
    ExtUtils::ParseXS   3.18    
    File::Spec          3.40    
    JSON                2.57    
    JSON::PP            2.27202 
    Module::Build       0.4005  
    Module::Signature   0.70    
    Parse::CPAN::Meta   1.4404  
    Test::Harness       3.28    
    Test::More          0.98    
    YAML                0.84    
    YAML::Syck          1.25    
    version             0.9902  


--

Summary of my perl5 (revision 5 version 14 subversion 4) configuration:
   
  Platform:
    osname=linux, osvers=3.2.29-smp, archname=i686-linux
    uname='linux darkstar 3.2.29-smp #2 smp mon sep 17 13:16:43 cdt 2012 i686 intel(r) celeron(r) cpu 3.06ghz genuineintel gnulinux '
    config_args='-de -Dprefix=/home/jm/perl5/perlbrew/perls/perl-5.14.4 -Aeval:scriptdir=/home/jm/perl5/perlbrew/perls/perl-5.14.4/bin'
    hint=recommended, useposix=true, d_sigaction=define
    useithreads=undef, usemultiplicity=undef
    useperlio=define, d_sfio=undef, uselargefiles=define, usesocks=undef
    use64bitint=undef, use64bitall=undef, uselongdouble=undef
    usemymalloc=n, bincompat5005=undef
  Compiler:
    cc='cc', ccflags ='-fno-strict-aliasing -pipe -fstack-protector -I/usr/local/include -D_LARGEFILE_SOURCE -D_FILE_OFFSET_BITS=64',
    optimize='-O2',
    cppflags='-fno-strict-aliasing -pipe -fstack-protector -I/usr/local/include'
    ccversion='', gccversion='4.7.1', gccosandvers=''
    intsize=4, longsize=4, ptrsize=4, doublesize=8, byteorder=1234
    d_longlong=define, longlongsize=8, d_longdbl=define, longdblsize=12
    ivtype='long', ivsize=4, nvtype='double', nvsize=8, Off_t='off_t', lseeksize=8
    alignbytes=4, prototype=define
  Linker and Libraries:
    ld='cc', ldflags =' -fstack-protector -L/usr/local/lib'
    libpth=/usr/local/lib /lib /usr/lib
    libs=-lnsl -lgdbm -ldb -ldl -lm -lcrypt -lutil -lc
    perllibs=-lnsl -ldl -lm -lcrypt -lutil -lc
    libc=/lib/libc-2.15.so, so=so, useshrplib=false, libperl=libperl.a
    gnulibc_version='2.15'
  Dynamic Linking:
    dlsrc=dl_dlopen.xs, dlext=so, d_dlsymun=undef, ccdlflags='-Wl,-E'
    cccdlflags='-fPIC', lddlflags='-shared -O2 -L/usr/local/lib -fstack-protector'


Characteristics of this binary (from libperl): 
  Compile-time options: PERL_DONT_CREATE_GVSV PERL_MALLOC_WRAP
                        PERL_PRESERVE_IVUV USE_LARGE_FILES USE_PERLIO
                        USE_PERL_ATOF
  Built under linux
  Compiled at Mar 11 2013 22:12:27
  %ENV:
    PERL5LIB=""
    PERL5OPT=""
    PERL5_CPANPLUS_IS_RUNNING="14113"
    PERL5_CPAN_IS_RUNNING="14113"
    PERLBREW_BASHRC_VERSION="0.61"
    PERLBREW_HOME="/home/jm/.perlbrew"
    PERLBREW_MANPATH="/home/jm/perl5/perlbrew/perls/perl-5.14.4/man"
    PERLBREW_PATH="/home/jm/perl5/perlbrew/bin:/home/jm/perl5/perlbrew/perls/perl-5.14.4/bin"
    PERLBREW_PERL="perl-5.14.4"
    PERLBREW_ROOT="/home/jm/perl5/perlbrew"
    PERLBREW_VERSION="0.63"
  @INC:
    /home/jm/perl5/perlbrew/perls/perl-5.14.4/lib/site_perl/5.14.4/i686-linux
    /home/jm/perl5/perlbrew/perls/perl-5.14.4/lib/site_perl/5.14.4
    /home/jm/perl5/perlbrew/perls/perl-5.14.4/lib/5.14.4/i686-linux
    /home/jm/perl5/perlbrew/perls/perl-5.14.4/lib/5.14.4
    .