Report for Flickr-Upload-1.4

Back
From: metabase:user:5ee0677d-6da5-1014-8959-389925b980da
Subject: PASS Flickr-Upload-1.4 v5.18.2 
Date: 2015-05-01T17:57:00Z

This distribution has been tested as part of the CPAN Testers
project, supporting the Perl programming language.  See
http://wiki.cpantesters.org/ for more information or email
questions to cpan-testers-discuss@perl.org


--
Dear SSEVERIN,

This is a computer-generated report for Flickr-Upload-1.4
on perl 5.18.2, created by App::cpanminus::reporter 0.12 (1.7004).

Thank you for uploading your work to CPAN.  Congratulations!
All tests were successful.

Sections of this report:

    * Tester comments
    * Program output
    * Prerequisites
    * Environment and other context

------------------------------
TESTER COMMENTS
------------------------------

Additional comments from tester:

none provided

------------------------------
PROGRAM OUTPUT
------------------------------

Output from '':

Building and testing Flickr-Upload-1.4
cp Upload.pm blib\lib\Flickr\Upload.pm
"D:\Perl\perl\bin\perl.exe" -MExtUtils::Command -e cp -- flickr_upload blib\script\flickr_upload
pl2bat.bat blib\script\flickr_upload
"D:\Perl\perl\bin\perl.exe" "-MExtUtils::Command::MM" "-MTest::Harness" "-e" "undef *Test::Harness::Switches; test_harness(0, 'blib\lib', 'blib\arch')" t/*.t
t/async.t ............. ok
Failed uploading attempt attempt 1/3, trying again. Message from server was: '500 Can't connect to api.flickr.com:443'
Failed uploading attempt attempt 2/3, trying again. Message from server was: '500 Can't connect to api.flickr.com:443'
Failed uploading attempt attempt 3/3, giving up. Message from server was: '500 Can't connect to api.flickr.com:443'
upload failed:
Can't connect to api.flickr.com:443

Bad file descriptor at D:/Perl/perl/site/lib/LWP/Protocol/http.pm line 41.

t/failupload.t ........ ok
t/progress.t .......... ok
t/progress_request.t .. ok
t/request.t ........... ok
t/upload.t ............ ok
All tests successful.
Files=6, Tests=9009, 16 wallclock secs ( 2.27 usr +  0.16 sys =  2.42 CPU)
Result: PASS

------------------------------
PREREQUISITES
------------------------------

Prerequisite modules loaded:

    No requirements found

------------------------------
ENVIRONMENT AND OTHER CONTEXT
------------------------------

Environment variables:

    COMSPEC = C:\Windows\system32\cmd.exe
    NUMBER_OF_PROCESSORS = 4
    PATH = C:\Program Files\ActiveState Komodo IDE 9\;C:\ProgramData\Oracle\Java\javapath;C:\Program Files\Broadcom\Broadcom 802.11 Network Adapter\Driver;;;C:\Program Files\Intel\TXE Components\TCS\;C:\Windows\system32;C:\Windows;C:\Windows\System32\Wbem;C:\Windows\System32\WindowsPowerShell\v1.0\;C:\Program Files\Intel\TXE Components\DAL\;C:\Program Files\Intel\TXE Components\IPT\;C:\Program Files\Windows Kits\8.1\Windows Performance Toolkit\;D:\Perl\c\bin;D:\Perl\perl\site\bin;D:\Perl\perl\bin;D:\texlive\2014\bin\win32
    PROCESSOR_IDENTIFIER = x86 Family 6 Model 55 Stepping 3, GenuineIntel
    TEMP = C:\Users\Karl\AppData\Local\Temp
    TERM = dumb

Perl special variables (and OS-specific diagnostics, for MSWin32):

    EGID = 0
    EUID = 0
    EXECUTABLE_NAME = D:\Perl\perl\bin\perl.exe
    GID = 0
    UID = 0
    Win32::FsType = NTFS
    Win32::GetOSName = Win8
    Win32::GetOSVersion = , 6, 2, 9200, 2, 0, 0, 768, 1
    Win32::IsAdminUser = 0

Perl module toolchain versions installed:

    Module              Have    
    ------------------- --------
    CPAN                2.10    
    CPAN::Meta          2.150001
    Cwd                 3.47    
    ExtUtils::CBuilder  0.280220
    ExtUtils::Command   1.20    
    ExtUtils::Install   2.04    
    ExtUtils::MakeMaker 7.04    
    ExtUtils::Manifest  1.70    
    ExtUtils::ParseXS   3.24    
    File::Spec          3.47    
    JSON                2.90    
    JSON::PP            2.27300 
    Module::Build       0.4211  
    Module::Signature   n/a     
    Parse::CPAN::Meta   1.4414  
    Test::Harness       3.35    
    Test::More          1.001014
    YAML                1.15    
    YAML::Syck          n/a     
    version             0.9912  


--

Summary of my perl5 (revision 5 version 18 subversion 2) configuration:
   
  Platform:
    osname=MSWin32, osvers=6.2, archname=MSWin32-x86-multi-thread-64int
    uname='Win32 strawberry-perl 5.18.2.2 #1 Tue Apr 15 18:02:21 2014 i386'
    config_args='undef'
    hint=recommended, useposix=true, d_sigaction=undef
    useithreads=define, usemultiplicity=define
    useperlio=define, d_sfio=undef, uselargefiles=define, usesocks=undef
    use64bitint=define, use64bitall=undef, uselongdouble=undef
    usemymalloc=n, bincompat5005=undef
  Compiler:
    cc='gcc', ccflags =' -s -O2 -DWIN32  -DPERL_TEXTMODE_SCRIPTS -DPERL_IMPLICIT_CONTEXT -DPERL_IMPLICIT_SYS -DUSE_PERLIO -fno-strict-aliasing -mms-bitfields',
    optimize='-s -O2',
    cppflags='-DWIN32'
    ccversion='', gccversion='4.7.3', gccosandvers=''
    intsize=4, longsize=4, ptrsize=4, doublesize=8, byteorder=12345678
    d_longlong=define, longlongsize=8, d_longdbl=define, longdblsize=12
    ivtype='long long', ivsize=8, nvtype='double', nvsize=8, Off_t='long long', lseeksize=8
    alignbytes=8, prototype=define
  Linker and Libraries:
    ld='g++', ldflags ='-s -L"D:\Perl\perl\lib\CORE" -L"D:\Perl\c\lib"'
    libpth=D:\Perl\c\lib D:\Perl\c\i686-w64-mingw32\lib D:\Perl\c\lib\gcc\i686-w64-mingw32\4.7.3
    libs=-lmoldname -lkernel32 -luser32 -lgdi32 -lwinspool -lcomdlg32 -ladvapi32 -lshell32 -lole32 -loleaut32 -lnetapi32 -luuid -lws2_32 -lmpr -lwinmm -lversion -lodbc32 -lodbccp32 -lcomctl32
    perllibs=-lmoldname -lkernel32 -luser32 -lgdi32 -lwinspool -lcomdlg32 -ladvapi32 -lshell32 -lole32 -loleaut32 -lnetapi32 -luuid -lws2_32 -lmpr -lwinmm -lversion -lodbc32 -lodbccp32 -lcomctl32
    libc=, so=dll, useshrplib=true, libperl=libperl518.a
    gnulibc_version=''
  Dynamic Linking:
    dlsrc=dl_win32.xs, dlext=dll, d_dlsymun=undef, ccdlflags=' '
    cccdlflags=' ', lddlflags='-mdll -s -L"D:\Perl\perl\lib\CORE" -L"D:\Perl\c\lib"'


Characteristics of this binary (from libperl): 
  Compile-time options: HAS_TIMES HAVE_INTERP_INTERN MULTIPLICITY
                        PERLIO_LAYERS PERL_DONT_CREATE_GVSV
                        PERL_HASH_FUNC_ONE_AT_A_TIME_HARD
                        PERL_IMPLICIT_CONTEXT PERL_IMPLICIT_SYS
                        PERL_MALLOC_WRAP PERL_PRESERVE_IVUV PERL_SAWAMPERSAND
                        USE_64_BIT_INT USE_ITHREADS USE_LARGE_FILES
                        USE_LOCALE USE_LOCALE_COLLATE USE_LOCALE_CTYPE
                        USE_LOCALE_NUMERIC USE_PERLIO USE_PERL_ATOF
  Built under MSWin32
  Compiled at Apr 15 2014 18:11:20
  @INC:
    D:/Perl/perl/site/lib/MSWin32-x86-multi-thread-64int
    D:/Perl/perl/site/lib
    D:/Perl/perl/vendor/lib
    D:/Perl/perl/lib
    .