AutoLoader v5.74 Perl 5 v5.8.6 armv7l-linux
- Status
- Pass
- From
- Nigel Horne
- Dist
-
AutoLoader v5.74
- Platform
- Perl 5 v5.8.6 armv7l-linux
- Date
- 2020-10-25 06:30:49
- ID
- 9fa0b9ae-168b-11eb-b9db-b6c7a8faccfa
This distribution has been tested as part of the CPAN Testers
project, supporting the Perl programming language. See
http://wiki.cpantesters.org/ for more information or email
questions to cpan-testers-discuss@perl.org
--
Dear Steffen Mueller,
This is a computer-generated report for AutoLoader-5.74
on perl 5.8.6, created by CPAN-Reporter-1.2018.
Thank you for uploading your work to CPAN. Congratulations!
All tests were successful.
Sections of this report:
* Tester comments
* Program output
* Prerequisites
* Environment and other context
------------------------------
TESTER COMMENTS
------------------------------
Additional comments from tester:
none provided
------------------------------
PROGRAM OUTPUT
------------------------------
Output from '/usr/bin/make test':
PERL_DL_NONLAZY=1 "/mnt/nas/home/pi4/njh/perl5/perlbrew/perls/perl-5.8.6/bin/perl" "-MExtUtils::Command::MM" "-MTest::Harness" "-e" "undef *Test::Harness::Switches; test_harness(0, 'blib/lib', 'blib/arch')" t/*.t
t/00pod.t ......... skipped: Test::Pod 1.00 required for testing POD
t/01AutoLoader.t .. ok
t/02AutoSplit.t ... ok
All tests successful.
Files=3, Tests=79, 17 wallclock secs ( 0.05 usr 0.03 sys + 0.70 cusr 0.18 csys = 0.96 CPU)
Result: PASS
------------------------------
PREREQUISITES
------------------------------
Prerequisite modules loaded:
build_requires:
Module Need Have
------------------- ---- ----
ExtUtils::MakeMaker 0 7.44
configure_requires:
Module Need Have
------------------- ---- ----
ExtUtils::MakeMaker 0 7.44
------------------------------
ENVIRONMENT AND OTHER CONTEXT
------------------------------
Environment variables:
HARNESS_OPTIONS = c:j4
LANG = en_US.UTF-8
PATH = /home/njh/perl5/perlbrew/bin:/home/njh/perl5/perlbrew/perls/perl-5.8.6/bin:/home/njh/perl5/perlbrew/bin:/usr/bin:/bin
PERL5LIB =
PERL5OPT =
PERL5_CPANPLUS_IS_RUNNING = 5262
PERL5_CPAN_IS_RUNNING = 5262
PERLBREW_HOME = /home/njh/.perlbrew
PERLBREW_LIB =
PERLBREW_MANPATH = /home/njh/perl5/perlbrew/perls/perl-5.8.6/man
PERLBREW_PATH = /home/njh/perl5/perlbrew/bin:/home/njh/perl5/perlbrew/perls/perl-5.8.6/bin
PERLBREW_PERL = perl-5.8.6
PERLBREW_ROOT = /home/njh/perl5/perlbrew
PERLBREW_SHELLRC_VERSION = 0.87
PERLBREW_VERSION = 0.87
PERL_LOCAL_LIB_ROOT =
PERL_USE_UNSAFE_INC = 1
SHELL = /bin/sh
TEMP = /tmp/user/1000
TMPDIR = /tmp/user/1000
Perl special variables (and OS-specific diagnostics, for MSWin32):
$^X = /mnt/nas/home/pi4/njh/perl5/perlbrew/perls/perl-5.8.6/bin/perl
$UID/$EUID = 1000 / 1000
$GID = 1000 1000 999 998 997 995 109 105 100 60 46 44 30 29 27 25 24 20 4
$EGID = 1000 1000 999 998 997 995 109 105 100 60 46 44 30 29 27 25 24 20 4
Perl module toolchain versions installed:
Module Have
------------------- --------
CPAN 2.27
CPAN::Meta 2.143240
Cwd 3.2701
ExtUtils::CBuilder 0.280231
ExtUtils::Command 7.44
ExtUtils::Install 2.06
ExtUtils::MakeMaker 7.44
ExtUtils::Manifest 1.70
ExtUtils::ParseXS 3.35
File::Spec 3.2701
JSON 4.02
JSON::PP 2.27203
Module::Build 0.32
Module::Signature n/a
Parse::CPAN::Meta 1.4414
Test::Harness 3.42
Test::More 1.302170
YAML n/a
YAML::Syck n/a
version 0.9924
--
Summary of my perl5 (revision 5 version 8 subversion 6) configuration:
Platform:
osname=linux, osvers=4.19.75-v7l+, archname=armv7l-linux
uname='linux pi4 4.19.75-v7l+ #1270 smp tue sep 24 18:51:41 bst 2019 armv7l gnulinux '
config_args='-de -Dprefix=/home/njh/perl5/perlbrew/perls/perl-5.8.6 -Aeval:scriptdir=/home/njh/perl5/perlbrew/perls/perl-5.8.6/bin'
hint=recommended, useposix=true, d_sigaction=define
usethreads=undef use5005threads=undef useithreads=undef usemultiplicity=undef
useperlio=define d_sfio=undef uselargefiles=define usesocks=undef
use64bitint=undef use64bitall=undef uselongdouble=undef
usemymalloc=n, bincompat5005=undef
Compiler:
cc='cc', ccflags ='-fwrapv -fno-strict-aliasing -pipe -I/usr/local/include -D_LARGEFILE_SOURCE -D_FILE_OFFSET_BITS=64',
optimize='-O2',
cppflags='-fwrapv -fno-strict-aliasing -pipe -I/usr/local/include'
ccversion='', gccversion='8.3.0', gccosandvers=''
intsize=4, longsize=4, ptrsize=4, doublesize=8, byteorder=1234
d_longlong=define, longlongsize=8, d_longdbl=define, longdblsize=8
ivtype='long', ivsize=4, nvtype='double', nvsize=8, Off_t='off_t', lseeksize=8
alignbytes=8, prototype=define
Linker and Libraries:
ld='cc', ldflags =' -L/usr/local/lib'
libpth=/usr/local/lib /lib/arm-linux-gnueabihf /lib /usr/lib/arm-linux-gnueabihf /usr/lib
libs=-lnsl -lgdbm -ldb -ldl -lm -lcrypt -lutil -lc
perllibs=-lnsl -ldl -lm -lcrypt -lutil -lc
libc=libc-2.28.so, so=so, useshrplib=false, libperl=libperl.a
gnulibc_version='2.28'
Dynamic Linking:
dlsrc=dl_dlopen.xs, dlext=so, d_dlsymun=undef, ccdlflags='-Wl,-E'
cccdlflags='-fpic', lddlflags='-shared -L/usr/local/lib'
Characteristics of this binary (from libperl):
Compile-time options: USE_LARGE_FILES
Locally applied patches:
Devel::PatchPerl 1.80
Built under linux
Compiled at Dec 28 2019 02:25:46
%ENV:
PERL5LIB=""
PERL5OPT=""
PERL5_CPANPLUS_IS_RUNNING="5262"
PERL5_CPAN_IS_RUNNING="5262"
PERLBREW_HOME="/home/njh/.perlbrew"
PERLBREW_LIB=""
PERLBREW_MANPATH="/home/njh/perl5/perlbrew/perls/perl-5.8.6/man"
PERLBREW_PATH="/home/njh/perl5/perlbrew/bin:/home/njh/perl5/perlbrew/perls/perl-5.8.6/bin"
PERLBREW_PERL="perl-5.8.6"
PERLBREW_ROOT="/home/njh/perl5/perlbrew"
PERLBREW_SHELLRC_VERSION="0.87"
PERLBREW_VERSION="0.87"
PERL_LOCAL_LIB_ROOT=""
PERL_USE_UNSAFE_INC="1"
@INC:
/home/njh/perl5/perlbrew/perls/perl-5.8.6/lib/5.8.6/armv7l-linux
/home/njh/perl5/perlbrew/perls/perl-5.8.6/lib/5.8.6
/home/njh/perl5/perlbrew/perls/perl-5.8.6/lib/site_perl/5.8.6/armv7l-linux
/home/njh/perl5/perlbrew/perls/perl-5.8.6/lib/site_perl/5.8.6
/home/njh/perl5/perlbrew/perls/perl-5.8.6/lib/site_perl
.