Report for DBIx-Skinny-0.0742

Back
From: metabase:user:e3434da8-b236-11df-85ca-0247c6d74bde
Subject: PASS DBIx-Skinny-0.0742 v5.8.9 GNU/Linux
Date: 2011-12-03T21:41:57Z

This distribution has been tested as part of the CPAN Testers
project, supporting the Perl programming language.  See
http://wiki.cpantesters.org/ for more information or email
questions to cpan-testers-discuss@perl.org


--
Dear Atsushi Kobayashi,

This is a computer-generated report for DBIx-Skinny-0.0742
on perl 5.8.9, created by CPAN-Reporter-1.1902.

Thank you for uploading your work to CPAN.  Congratulations!
All tests were successful.

Sections of this report:

    * Tester comments
    * Program output
    * Prerequisites
    * Environment and other context

------------------------------
TESTER COMMENTS
------------------------------

Additional comments from tester:

this report is from an automated smoke testing program
and was not reviewed by a human for accuracy

------------------------------
PROGRAM OUTPUT
------------------------------

Output from '/usr/bin/make test':

PERL_DL_NONLAZY=1 /home/perl58/testing/bin/perl5.8.9 "-MExtUtils::Command::MM" "-e" "test_harness(0, 'inc', 'blib/lib', 'blib/arch')" t/*.t t/*/*.t t/*/*/*.t
# DBD::SQLite versin is 1.33
t/001_basic/001_compile.t ............................................... ok
t/001_basic/002_schema_info.t ........................................... ok
t/001_basic/003_explicit_schema.t ....................................... ok
t/001_basic/004_sql.t ................................................... ok
t/001_basic/005_set_columns.t ........................................... ok
t/001_basic/006_all_in_one_file.t ....................................... ok
t/001_basic/007_connect_info.t .......................................... ok
t/001_basic/008_mixin.t ................................................. ok
t/001_basic/009_no_check_schema.t ....................................... ok
t/001_basic/010_dbh.t ................................................... ok
t/001_basic/011_inflate.t ............................................... ok
t/001_basic/012_trigger.t ............................................... ok
t/001_basic/013_common_trigger.t ........................................ ok
t/001_basic/014_utf8.t .................................................. ok
t/001_basic/015_row_class.t ............................................. ok
t/001_basic/016_row_exception.t ......................................... ok
t/001_basic/017_profile.t ............................................... ok
t/001_basic/018_custom_profiler.t ....................................... ok
t/001_basic/019_profiler_trace.t ........................................ ok
t/001_basic/020_on_connect_do.t ......................................... ok
t/001_basic/021_reconnect.t ............................................. ok
t/001_basic/022_transaction.t ........................................... ok
t/001_basic/023_bulk_insert.t ........................................... ok
t/001_basic/024_bind_column.t ........................................... ok
t/002_common/000_new.t .................................................. ok
t/002_common/001_insert.t ............................................... ok
t/002_common/002_update.t ............................................... ok
t/002_common/003_delete.t ............................................... ok
t/002_common/004_find_or_create.t ....................................... ok
t/002_common/005_count.t ................................................ ok
t/002_common/006_single.t ............................................... ok
t/002_common/007_search.t ............................................... ok
t/002_common/008_search_named.t ......................................... ok
t/002_common/009_search_by_sql.t ........................................ ok
t/002_common/010_resultset.t ............................................ ok
t/002_common/011_do.t ................................................... ok
t/002_common/012_replace.t .............................................. ok
t/002_common/014_find_or_new.t .......................................... ok
t/002_common/015_data2row.t ............................................. ok
t/002_common/016_hash_to_row.t .......................................... ok
t/002_common/017_iterator.t ............................................. ok
t/002_common/018_refetch.t .............................................. ok
t/002_common/019_get_columns.t .......................................... ok
t/002_common/020_get_column.t ........................................... ok
t/002_common/021_quote.t ................................................ ok
t/002_common/022_disconnect.t ........................................... ok
t/002_common/023_multi_pk.t ............................................. ok
t/002_common/024_txn_scope.t ............................................ ok
t/002_common/999_delete_by_sql.t ........................................ ok
t/002_common/999_update_by_sql.t ........................................ ok
t/500_deprecated/001_deprecated_setup.t ................................. ok
t/500_deprecated/002_deprecated_profiler.t .............................. ok
t/999_regression/bind_param.t ........................................... ok
t/999_regression/data2itr_objectarray.t ................................. ok
t/999_regression/dbh_and_txn_manager.t .................................. ok
t/999_regression/deflate_bug.t .......................................... ok
t/999_regression/deflate_scalarref.t .................................... ok
t/999_regression/duplicate_update.t ..................................... ok
t/999_regression/empty_update.t ......................................... ok
t/999_regression/get_row_class.t ........................................ ok
t/999_regression/guess_table_name.t ..................................... ok
t/999_regression/loose_connect_options_after_new.t ...................... ok
t/999_regression/new_attr.t ............................................. ok
t/999_regression/no_schema.t ............................................ ok
t/999_regression/prepare_error_handling.t ............................... ok
t/999_regression/row_update_by_scalarref.t .............................. ok
t/999_regression/transaction/call_txn_scope_after_fork.t ................ ok
t/999_regression/transaction/call_txn_scope_after_missing_connect.t ..... ok
t/999_regression/transaction/call_txn_scope_and_fork.t .................. ok
t/999_regression/transaction/call_txn_scope_before_fork.t ............... ok
t/999_regression/transaction/call_txn_scope_before_fork_and_rollback.t .. ok
t/999_regression/where_condition_in.t ................................... ok
All tests successful.
Files=72, Tests=280, 11 wallclock secs ( 0.32 usr  0.15 sys +  6.00 cusr  1.57 csys =  8.04 CPU)
Result: PASS

------------------------------
PREREQUISITES
------------------------------

Prerequisite modules loaded:

requires:

    Module                   Need Have 
    ------------------------ ---- -----
    Carp                     0    1.10 
    Class::Accessor::Lite    0    0.05 
    Class::Load              0    0.12 
    DBI                      0    1.616
    DBIx::TransactionManager 1.07 1.09 
    ExtUtils::MakeMaker      6.42 6.56 
    IO::Handle               0    1.27 
    Scalar::Util             0    1.19 
    Test::More               0.96 0.98 
    Test::SharedFork         0.15 0.19 
    Try::Tiny                0    0.09 
    UNIVERSAL::require       0    0.13 

configure_requires:

    Module                   Need Have 
    ------------------------ ---- -----
    ExtUtils::MakeMaker      6.42 6.56 


------------------------------
ENVIRONMENT AND OTHER CONTEXT
------------------------------

Environment variables:

    AUTOMATED_TESTING = 1
    LANG = en_GB.utf8
    LC_COLLATE = C
    LC_MONETARY = nl_NL.utf8
    PATH = /home/tester/perl5/perlbrew/bin:/home/tester/perl5/perlbrew/perls/perl-5.15.2/bin:/usr/lib64/qt-3.3/bin:/usr/lib64/ccache:/usr/local/bin:/bin:/usr/bin:/usr/local/sbin:/usr/sbin:/sbin:/home/tester/bin:/home/tester/bin
    PATH_WITHOUT_PERLBREW = /usr/lib64/qt-3.3/bin:/usr/lib64/ccache:/usr/local/bin:/bin:/usr/bin:/usr/local/sbin:/usr/sbin:/sbin:/home/tester/bin
    PERL5LIB = /home/perl58/.cpan/build/Test-SharedFork-0.19-5Ea8Sd/blib/arch:/home/perl58/.cpan/build/Test-SharedFork-0.19-5Ea8Sd/blib/lib:/home/perl58/.cpan/build/UNIVERSAL-require-0.13-T2qapE/blib/arch:/home/perl58/.cpan/build/UNIVERSAL-require-0.13-T2qapE/blib/lib:/home/perl58/.cpan/build/Class-Accessor-Lite-0.05-nBWnL5/blib/arch:/home/perl58/.cpan/build/Class-Accessor-Lite-0.05-nBWnL5/blib/lib:/home/perl58/.cpan/build/DBIx-TransactionManager-1.09-ap3Biv/blib/arch:/home/perl58/.cpan/build/DBIx-TransactionManager-1.09-ap3Biv/blib/lib:/home/perl58/.cpan/build/Class-Load-0.12-Jf0UHm/blib/arch:/home/perl58/.cpan/build/Class-Load-0.12-Jf0UHm/blib/lib:/home/perl58/.cpan/build/Module-Runtime-0.011-GTXCgY/blib/arch:/home/perl58/.cpan/build/Module-Runtime-0.011-GTXCgY/blib/lib:/home/perl58/.cpan/build/Params-Classify-0.013-5kvpaa/blib/arch:/home/perl58/.cpan/build/Params-Classify-0.013-5kvpaa/blib/lib:/home/perl58/.cpan/build/parent-0.225-VFXdrI/blib/arch:/home/perl58/.cpan/build/parent-0.225-VFXdrI/blib/lib:/home/perl58/.cpan/build/Package-Stash-0.33-1Xk_IU/blib/arch:/home/perl58/.cpan/build/Package-Stash-0.33-1Xk_IU/blib/lib:/home/perl58/.cpan/build/Package-Stash-XS-0.25-W26C3C/blib/arch:/home/perl58/.cpan/build/Package-Stash-XS-0.25-W26C3C/blib/lib
    PERL5OPT = 
    PERL5_CPANPLUS_IS_RUNNING = 27353
    PERL5_CPAN_IS_RUNNING = 27353
    PERL5_CPAN_IS_RUNNING_IN_RECURSION = 19973,27353
    PERLBREW_PATH = /home/tester/perl5/perlbrew/bin:/home/tester/perl5/perlbrew/perls/perl-5.15.2/bin
    PERLBREW_PERL = perl-5.15.2
    PERLBREW_ROOT = /home/tester/perl5/perlbrew
    PERLBREW_VERSION = 0.15
    PERL_CR_SMOKER_CURRENT = DBIx-Skinny-Pager-0.11
    PERL_EXTUTILS_AUTOINSTALL = --defaultdeps
    PERL_MM_USE_DEFAULT = 1
    SHELL = /bin/bash
    TERM = screen

Perl special variables (and OS-specific diagnostics, for MSWin32):

    $^X = /home/perl58/testing/bin/perl5.8.9
    $UID/$EUID = 506 / 506
    $GID = 506 506
    $EGID = 506 506

Perl module toolchain versions installed:

    Module              Have    
    ------------------- --------
    CPAN                1.9600  
    Cwd                 3.29    
    ExtUtils::CBuilder  0.280202
    ExtUtils::Command   1.16    
    ExtUtils::Install   1.52    
    ExtUtils::MakeMaker 6.56    
    ExtUtils::Manifest  1.56    
    ExtUtils::ParseXS   2.2206  
    File::Spec          3.29    
    Module::Build       0.3800  
    Module::Signature   n/a     
    Test::Harness       3.23    
    Test::More          0.98    
    YAML                n/a     
    YAML::Syck          1.17    
    version             0.90    


--

Summary of my perl5 (revision 5 version 8 subversion 9) configuration:
  Platform:
    osname=linux, osvers=2.6.35.11-83.fc14.x86_64, archname=x86_64-linux-thread-multi
    uname='linux firenze.fritz.box 2.6.35.11-83.fc14.x86_64 #1 smp mon feb 7 07:06:44 utc 2011 x86_64 x86_64 x86_64 gnulinux '
    config_args='-Dprefix=/home/perl58/testing/ -Dusethreads -Dusedevel -des'
    hint=recommended, useposix=true, d_sigaction=define
    usethreads=define use5005threads=undef useithreads=define usemultiplicity=define
    useperlio=define d_sfio=undef uselargefiles=define usesocks=undef
    use64bitint=define use64bitall=define uselongdouble=undef
    usemymalloc=n, bincompat5005=undef
  Compiler:
    cc='cc', ccflags ='-D_REENTRANT -D_GNU_SOURCE -DTHREADS_HAVE_PIDS -fno-strict-aliasing -pipe -I/usr/local/include -D_LARGEFILE_SOURCE -D_FILE_OFFSET_BITS=64 -I/usr/include/gdbm',
    optimize='-O2',
    cppflags='-D_REENTRANT -D_GNU_SOURCE -DTHREADS_HAVE_PIDS -fno-strict-aliasing -pipe -I/usr/local/include -I/usr/include/gdbm'
    ccversion='', gccversion='4.5.1 20100924 (Red Hat 4.5.1-4)', gccosandvers=''
    intsize=4, longsize=8, ptrsize=8, doublesize=8, byteorder=12345678
    d_longlong=define, longlongsize=8, d_longdbl=define, longdblsize=16
    ivtype='long', ivsize=8, nvtype='double', nvsize=8, Off_t='off_t', lseeksize=8
    alignbytes=8, prototype=define
  Linker and Libraries:
    ld='cc', ldflags =' -L/usr/local/lib'
    libpth=/usr/local/lib /lib /usr/lib /lib64 /usr/lib64 /usr/local/lib64
    libs=-lnsl -lgdbm -ldb -ldl -lm -lcrypt -lutil -lpthread -lc
    perllibs=-lnsl -ldl -lm -lcrypt -lutil -lpthread -lc
    libc=, so=so, useshrplib=false, libperl=libperl.a
    gnulibc_version='2.13'
  Dynamic Linking:
    dlsrc=dl_dlopen.xs, dlext=so, d_dlsymun=undef, ccdlflags='-Wl,-E'
    cccdlflags='-fPIC', lddlflags='-shared -O2 -L/usr/local/lib'


Characteristics of this binary (from libperl): 
  Compile-time options: MULTIPLICITY PERL_IMPLICIT_CONTEXT PERL_MALLOC_WRAP
                        THREADS_HAVE_PIDS USE_64_BIT_ALL USE_64_BIT_INT
                        USE_FAST_STDIO USE_ITHREADS USE_LARGE_FILES
                        USE_PERLIO USE_REENTRANT_API
  Built under linux
  Compiled at Jun  4 2011 22:22:39
  %ENV:
    PERL5LIB="/home/perl58/.cpan/build/Test-SharedFork-0.19-5Ea8Sd/blib/arch:/home/perl58/.cpan/build/Test-SharedFork-0.19-5Ea8Sd/blib/lib:/home/perl58/.cpan/build/UNIVERSAL-require-0.13-T2qapE/blib/arch:/home/perl58/.cpan/build/UNIVERSAL-require-0.13-T2qapE/blib/lib:/home/perl58/.cpan/build/Class-Accessor-Lite-0.05-nBWnL5/blib/arch:/home/perl58/.cpan/build/Class-Accessor-Lite-0.05-nBWnL5/blib/lib:/home/perl58/.cpan/build/DBIx-TransactionManager-1.09-ap3Biv/blib/arch:/home/perl58/.cpan/build/DBIx-TransactionManager-1.09-ap3Biv/blib/lib:/home/perl58/.cpan/build/Class-Load-0.12-Jf0UHm/blib/arch:/home/perl58/.cpan/build/Class-Load-0.12-Jf0UHm/blib/lib:/home/perl58/.cpan/build/Module-Runtime-0.011-GTXCgY/blib/arch:/home/perl58/.cpan/build/Module-Runtime-0.011-GTXCgY/blib/lib:/home/perl58/.cpan/build/Params-Classify-0.013-5kvpaa/blib/arch:/home/perl58/.cpan/build/Params-Classify-0.013-5kvpaa/blib/lib:/home/perl58/.cpan/build/parent-0.225-VFXdrI/blib/arch:/home/perl58/.cpan/build/parent-0.225-VFXdrI/blib/lib:/home/perl58/.cpan/build/Package-Stash-0.33-1Xk_IU/blib/arch:/home/perl58/.cpan/build/Package-Stash-0.33-1Xk_IU/blib/lib:/home/perl58/.cpan/build/Package-Stash-XS-0.25-W26C3C/blib/arch:/home/perl58/.cpan/build/Package-Stash-XS-0.25-W26C3C/blib/lib"
    PERL5OPT=""
    PERL5_CPANPLUS_IS_RUNNING="27353"
    PERL5_CPAN_IS_RUNNING="27353"
    PERL5_CPAN_IS_RUNNING_IN_RECURSION="19973,27353"
    PERLBREW_PATH="/home/tester/perl5/perlbrew/bin:/home/tester/perl5/perlbrew/perls/perl-5.15.2/bin"
    PERLBREW_PERL="perl-5.15.2"
    PERLBREW_ROOT="/home/tester/perl5/perlbrew"
    PERLBREW_VERSION="0.15"
    PERL_CR_SMOKER_CURRENT="DBIx-Skinny-Pager-0.11"
    PERL_EXTUTILS_AUTOINSTALL="--defaultdeps"
    PERL_MM_USE_DEFAULT="1"
  @INC:
    /home/perl58/.cpan/build/Test-SharedFork-0.19-5Ea8Sd/blib/arch
    /home/perl58/.cpan/build/Test-SharedFork-0.19-5Ea8Sd/blib/lib
    /home/perl58/.cpan/build/UNIVERSAL-require-0.13-T2qapE/blib/arch
    /home/perl58/.cpan/build/UNIVERSAL-require-0.13-T2qapE/blib/lib
    /home/perl58/.cpan/build/Class-Accessor-Lite-0.05-nBWnL5/blib/arch
    /home/perl58/.cpan/build/Class-Accessor-Lite-0.05-nBWnL5/blib/lib
    /home/perl58/.cpan/build/DBIx-TransactionManager-1.09-ap3Biv/blib/arch
    /home/perl58/.cpan/build/DBIx-TransactionManager-1.09-ap3Biv/blib/lib
    /home/perl58/.cpan/build/Class-Load-0.12-Jf0UHm/blib/arch
    /home/perl58/.cpan/build/Class-Load-0.12-Jf0UHm/blib/lib
    /home/perl58/.cpan/build/Module-Runtime-0.011-GTXCgY/blib/arch
    /home/perl58/.cpan/build/Module-Runtime-0.011-GTXCgY/blib/lib
    /home/perl58/.cpan/build/Params-Classify-0.013-5kvpaa/blib/arch
    /home/perl58/.cpan/build/Params-Classify-0.013-5kvpaa/blib/lib
    /home/perl58/.cpan/build/parent-0.225-VFXdrI/blib/arch
    /home/perl58/.cpan/build/parent-0.225-VFXdrI/blib/lib
    /home/perl58/.cpan/build/Package-Stash-0.33-1Xk_IU/blib/arch
    /home/perl58/.cpan/build/Package-Stash-0.33-1Xk_IU/blib/lib
    /home/perl58/.cpan/build/Package-Stash-XS-0.25-W26C3C/blib/arch
    /home/perl58/.cpan/build/Package-Stash-XS-0.25-W26C3C/blib/lib
    /home/perl58/testing/lib/5.8.9/x86_64-linux-thread-multi
    /home/perl58/testing/lib/5.8.9
    /home/perl58/testing/lib/site_perl/5.8.9/x86_64-linux-thread-multi
    /home/perl58/testing/lib/site_perl/5.8.9
    .