MarpaX-Languages-SQL2003-AST v0.005 Perl 5 v5.42.0 x86_64-linux-thread-multi

Status
Pass
From
Andreas J. König (ANDK)
Dist
MarpaX-Languages-SQL2003-AST v0.005
Platform
Perl 5 v5.42.0 x86_64-linux-thread-multi
Date
2025-07-07 09:27:38
ID
9fb6571e-5b14-11f0-9f32-c7ded42d447e
This distribution has been tested as part of the CPAN Testers
project, supporting the Perl programming language.  See
http://wiki.cpantesters.org/ for more information or email
questions to cpan-testers-discuss@perl.org


--
Dear Jean-Damien Durand,

This is a computer-generated report for MarpaX-Languages-SQL2003-AST-0.005
on perl 5.42.0, created by CPAN-Reporter-1.2020.

Thank you for uploading your work to CPAN.  Congratulations!
All tests were successful.

Sections of this report:

    * Tester comments
    * Program output
    * Prerequisites
    * Environment and other context

------------------------------
TESTER COMMENTS
------------------------------

Additional comments from tester:

this report is from an automated smoke testing program
and was not reviewed by a human for accuracy

------------------------------
PROGRAM OUTPUT
------------------------------

Output from '/usr/bin/make test':

PERL_DL_NONLAZY=1 "/tmp/basesmoker-reloperl-oBbL/bin/perl" "-MExtUtils::Command::MM" "-MTest::Harness" "-e" "undef *Test::Harness::Switches; test_harness(0, 'blib/lib', 'blib/arch')" t/*.t
t/00-compile.t ......... ok
# 
# Versions for all modules listed in MYMETA.json (including optional ones):
# 
# === Configure Requires ===
# 
#     Module              Want Have
#     ------------------- ---- ----
#     ExtUtils::MakeMaker  any 7.76
# 
# === Build Requires ===
# 
#     Module              Want Have
#     ------------------- ---- ----
#     ExtUtils::MakeMaker  any 7.76
# 
# === Test Requires ===
# 
#     Module              Want     Have
#     ------------------- ---- --------
#     Data::Section        any 0.200008
#     ExtUtils::MakeMaker  any     7.76
#     File::Spec           any     3.94
#     File::Temp           any   0.2311
#     IO::Handle           any     1.55
#     IPC::Open3           any     1.24
#     Test::More           any 1.302214
# 
# === Test Recommends ===
# 
#     Module         Want     Have
#     ---------- -------- --------
#     CPAN::Meta 2.120900 2.150010
# 
# === Runtime Requires ===
# 
#     Module             Want       Have
#     -------------- -------- ----------
#     Carp                any       1.54
#     Data::Dumper        any      2.192
#     File::Slurp         any    9999.32
#     Getopt::Long        any       2.58
#     IO::String          any       1.08
#     Marpa::R2      2.100000  12.000000
#     Math::BigFloat      any   2.005002
#     POSIX               any       2.23
#     Pod::Usage          any       2.05
#     SUPER               any 1.20190531
#     Scalar::Util        any       1.69
#     XML::LibXML         any     2.0210
#     parent              any      0.244
#     strict              any       1.14
#     warnings            any       1.74
# 
t/00-report-prereqs.t .. ok
t/all_tests.t .......... ok
All tests successful.
Files=3, Tests=22, 25 wallclock secs ( 0.04 usr  0.00 sys + 24.44 cusr  0.58 csys = 25.06 CPU)
Result: PASS

------------------------------
PREREQUISITES
------------------------------

Prerequisite modules loaded:

requires:

    Module              Need     Have      
    ------------------- -------- ----------
    Carp                0        1.54      
    Data::Dumper        0        2.192     
    File::Slurp         0        9999.32   
    Getopt::Long        0        2.58      
    IO::String          0        1.08      
    Marpa::R2           2.100000 12.000000 
    Math::BigFloat      0        2.005002  
    parent              0        0.244     
    perl                5.010    5.042000  
    Pod::Usage          0        2.05      
    POSIX               0        2.23      
    Scalar::Util        0        1.69      
    strict              0        1.14      
    SUPER               0        1.20190531
    warnings            0        1.74      
    XML::LibXML         0        2.0210    

build_requires:

    Module              Need     Have      
    ------------------- -------- ----------
    Data::Section       0        0.200008  
    ExtUtils::MakeMaker 0        7.76      
    File::Spec          0        3.94      
    File::Temp          0        0.2311    
    IO::Handle          0        1.55      
    IPC::Open3          0        1.24      
    Test::More          0        1.302214  

configure_requires:

    Module              Need     Have      
    ------------------- -------- ----------
    ExtUtils::MakeMaker 0        7.76      
    perl                5.010    5.042000  


------------------------------
ENVIRONMENT AND OTHER CONTEXT
------------------------------

Environment variables:

    AUTOMATED_TESTING = 1
    LANG = en_US.UTF-8
    PATH = /home/sand/bin:/usr/local/bin:/usr/local/sbin:/usr/sbin:/usr/bin:/sbin:/bin:/usr/games:/usr/local/games:/snap/bin:/usr/local/perl/bin:/usr/X11/bin
    PERL = /tmp/basesmoker-reloperl-oBbL/bin/perl
    PERL5LIB = /tmp/loop_over_bdir-2516185-SFtn5d/Devel-Required-0.17-0/blib/arch:/tmp/loop_over_bdir-2516185-SFtn5d/Devel-Required-0.17-0/blib/lib:/tmp/loop_over_bdir-2516185-SFtn5d/Dpkg-1.22.21-0/blib/arch:/tmp/loop_over_bdir-2516185-SFtn5d/Dpkg-1.22.21-0/blib/lib:/tmp/loop_over_bdir-2516185-SFtn5d/triceps-2.1.0-0/blib/arch:/tmp/loop_over_bdir-2516185-SFtn5d/triceps-2.1.0-0/blib/lib:/tmp/loop_over_bdir-2516185-SFtn5d/DBIx-Migration-Directories-0.12-0/blib/arch:/tmp/loop_over_bdir-2516185-SFtn5d/DBIx-Migration-Directories-0.12-0/blib/lib
    PERL5OPT = 
    PERL5_CPANPLUS_IS_RUNNING = 2516194
    PERL5_CPAN_IS_RUNNING = 2516194
    PERL_CANARY_STABILITY_NOPROMPT = 1
    PERL_MM_USE_DEFAULT = 1
    PERL_USE_UNSAFE_INC = 1
    SHELL = /usr/bin/zsh
    TERM = screen

Perl special variables (and OS-specific diagnostics, for MSWin32):

    $^X = /tmp/basesmoker-reloperl-oBbL/bin/perl
    $UID/$EUID = 1005 / 1005
    $GID = 1005 1005
    $EGID = 1005 1005

Perl module toolchain versions installed:

    Module              Have    
    ------------------- --------
    CPAN                2.38    
    CPAN::Meta          2.150010
    Cwd                 3.94    
    ExtUtils::CBuilder  0.280242
    ExtUtils::Command   7.76    
    ExtUtils::Install   2.22    
    ExtUtils::MakeMaker 7.76    
    ExtUtils::Manifest  1.75    
    ExtUtils::ParseXS   3.57    
    File::Spec          3.94    
    JSON                4.10    
    JSON::PP            4.16    
    Module::Build       0.4234  
    Module::Signature   0.93    
    Parse::CPAN::Meta   2.150010
    Test2               1.302214
    Test::Harness       3.52    
    Test::More          1.302214
    YAML                1.31    
    YAML::Syck          1.34    
    version             0.9933  


--

Summary of my perl5 (revision 5 version 42 subversion 0) configuration:
  Commit id: 5551b97c3be30b899397b99d57993a39d13294f1
  Platform:
    osname=linux
    osvers=5.4.0-208-generic
    archname=x86_64-linux-thread-multi
    uname='linux k93focal 5.4.0-208-generic #228-ubuntu smp fri feb 7 19:41:33 utc 2025 x86_64 x86_64 x86_64 gnulinux '
    config_args='-Dprefix=/home/sand/src/perl/repoperls/installed-perls/host/k93focal/v5.42.0/d119 -Dmyhostname=k93focal -Dinstallusrbinperl=n -Uversiononly -Dusedevel -des -Ui_db -Dlibswanted=cl pthread socket inet nsl gdbm dbm malloc dl ld sun m crypt sec util c cposix posix ucb BSD gdbm_compat -Duseithreads -Uuselongdouble -DEBUGGING=both'
    hint=recommended
    useposix=true
    d_sigaction=define
    useithreads=define
    usemultiplicity=define
    use64bitint=define
    use64bitall=define
    uselongdouble=undef
    usemymalloc=n
    default_inc_excludes_dot=define
  Compiler:
    cc='cc'
    ccflags ='-D_REENTRANT -D_GNU_SOURCE -fwrapv -DDEBUGGING -fno-strict-aliasing -pipe -fstack-protector-strong -I/usr/local/include -D_LARGEFILE_SOURCE -D_FILE_OFFSET_BITS=64'
    optimize='-O2 -g'
    cppflags='-D_REENTRANT -D_GNU_SOURCE -fwrapv -DDEBUGGING -fno-strict-aliasing -pipe -fstack-protector-strong -I/usr/local/include'
    ccversion=''
    gccversion='9.4.0'
    gccosandvers=''
    intsize=4
    longsize=8
    ptrsize=8
    doublesize=8
    byteorder=12345678
    doublekind=3
    d_longlong=define
    longlongsize=8
    d_longdbl=define
    longdblsize=16
    longdblkind=3
    ivtype='long'
    ivsize=8
    nvtype='double'
    nvsize=8
    Off_t='off_t'
    lseeksize=8
    alignbytes=8
    prototype=define
  Linker and Libraries:
    ld='cc'
    ldflags =' -fstack-protector-strong -L/usr/local/lib'
    libpth=/usr/local/lib /usr/lib/x86_64-linux-gnu /usr/lib /usr/lib64
    libs=-lpthread -lnsl -ldl -lm -lcrypt -lutil -lc
    perllibs=-lpthread -lnsl -ldl -lm -lcrypt -lutil -lc
    libc=libc-2.31.so
    so=so
    useshrplib=false
    libperl=libperl.a
    gnulibc_version='2.31'
  Dynamic Linking:
    dlsrc=dl_dlopen.xs
    dlext=so
    d_dlsymun=undef
    ccdlflags='-Wl,-E'
    cccdlflags='-fPIC'
    lddlflags='-shared -O2 -g -L/usr/local/lib -fstack-protector-strong'


Characteristics of this binary (from libperl): 
  Compile-time options:
    DEBUGGING
    HAS_LONG_DOUBLE
    HAS_STRTOLD
    HAS_TIMES
    MULTIPLICITY
    PERLIO_LAYERS
    PERL_COPY_ON_WRITE
    PERL_DONT_CREATE_GVSV
    PERL_HASH_FUNC_SIPHASH13
    PERL_HASH_USE_SBOX32
    PERL_MALLOC_WRAP
    PERL_OP_PARENT
    PERL_PRESERVE_IVUV
    PERL_TRACK_MEMPOOL
    PERL_USE_DEVEL
    PERL_USE_SAFE_PUTENV
    USE_64_BIT_ALL
    USE_64_BIT_INT
    USE_ITHREADS
    USE_LARGE_FILES
    USE_LOCALE
    USE_LOCALE_COLLATE
    USE_LOCALE_CTYPE
    USE_LOCALE_NUMERIC
    USE_LOCALE_TIME
    USE_PERLIO
    USE_PERL_ATOF
    USE_REENTRANT_API
    USE_THREAD_SAFE_LOCALE
  Built under linux
  Compiled at Jul  4 2025 12:13:44
  %ENV:
    PERL="/tmp/basesmoker-reloperl-oBbL/bin/perl"
    PERL5LIB="/tmp/loop_over_bdir-2516185-SFtn5d/Devel-Required-0.17-0/blib/arch:/tmp/loop_over_bdir-2516185-SFtn5d/Devel-Required-0.17-0/blib/lib:/tmp/loop_over_bdir-2516185-SFtn5d/Dpkg-1.22.21-0/blib/arch:/tmp/loop_over_bdir-2516185-SFtn5d/Dpkg-1.22.21-0/blib/lib:/tmp/loop_over_bdir-2516185-SFtn5d/triceps-2.1.0-0/blib/arch:/tmp/loop_over_bdir-2516185-SFtn5d/triceps-2.1.0-0/blib/lib:/tmp/loop_over_bdir-2516185-SFtn5d/DBIx-Migration-Directories-0.12-0/blib/arch:/tmp/loop_over_bdir-2516185-SFtn5d/DBIx-Migration-Directories-0.12-0/blib/lib"
    PERL5OPT=""
    PERL5_CPANPLUS_IS_RUNNING="2516194"
    PERL5_CPAN_IS_RUNNING="2516194"
    PERL_CANARY_STABILITY_NOPROMPT="1"
    PERL_MM_USE_DEFAULT="1"
    PERL_USE_UNSAFE_INC="1"
  @INC:
    /tmp/loop_over_bdir-2516185-SFtn5d/Devel-Required-0.17-0/blib/arch
    /tmp/loop_over_bdir-2516185-SFtn5d/Devel-Required-0.17-0/blib/lib
    /tmp/loop_over_bdir-2516185-SFtn5d/Dpkg-1.22.21-0/blib/arch
    /tmp/loop_over_bdir-2516185-SFtn5d/Dpkg-1.22.21-0/blib/lib
    /tmp/loop_over_bdir-2516185-SFtn5d/triceps-2.1.0-0/blib/arch
    /tmp/loop_over_bdir-2516185-SFtn5d/triceps-2.1.0-0/blib/lib
    /tmp/loop_over_bdir-2516185-SFtn5d/DBIx-Migration-Directories-0.12-0/blib/arch
    /tmp/loop_over_bdir-2516185-SFtn5d/DBIx-Migration-Directories-0.12-0/blib/lib
    /home/sand/src/perl/repoperls/installed-perls/host/k93focal/v5.42.0/d119/lib/site_perl/5.42.0/x86_64-linux-thread-multi
    /home/sand/src/perl/repoperls/installed-perls/host/k93focal/v5.42.0/d119/lib/site_perl/5.42.0
    /home/sand/src/perl/repoperls/installed-perls/host/k93focal/v5.42.0/d119/lib/5.42.0/x86_64-linux-thread-multi
    /home/sand/src/perl/repoperls/installed-perls/host/k93focal/v5.42.0/d119/lib/5.42.0
    .