Data-Handle v1.000001 Perl 5 v5.39.3 x86_64-linux-thread-multi
- Status
- Pass
- From
- Carlos Guevara
- Dist
-
Data-Handle v1.000001
- Platform
- Perl 5 v5.39.3 x86_64-linux-thread-multi
- Date
- 2023-09-20 12:24:20
- ID
- 9fb8fbf4-57b0-11ee-bfd5-41ecf64da85f
This distribution has been tested as part of the CPAN Testers
project, supporting the Perl programming language. See
http://wiki.cpantesters.org/ for more information or email
questions to cpan-testers-discuss@perl.org
--
Dear Kent Fredric (PAUSE Custodial Account),
This is a computer-generated report for Data-Handle-1.000001
on perl 5.39.3, created by CPAN-Reporter-1.2019.
Thank you for uploading your work to CPAN. Congratulations!
All tests were successful.
Sections of this report:
* Tester comments
* Program output
* Prerequisites
* Environment and other context
------------------------------
TESTER COMMENTS
------------------------------
Additional comments from tester:
this report is from an automated smoke testing program
and was not reviewed by a human for accuracy
------------------------------
PROGRAM OUTPUT
------------------------------
Output from '/usr/bin/make test':
PERL_DL_NONLAZY=1 "/home/cpan/bin/perl/bin/perl5.39.3" "-MExtUtils::Command::MM" "-MTest::Harness" "-e" "undef *Test::Harness::Switches; test_harness(0, 'blib/lib', 'blib/arch')" t/*.t t/00-compile/*.t t/alternative_techniques/*.t
t/00-compile/lib_Data_Handle_Exception_pm.t .... ok
t/00-compile/lib_Data_Handle_IO_pm.t ........... ok
t/00-compile/lib_Data_Handle_pm.t .............. ok
#
# Versions for all modules listed in MYMETA.json (including optional ones):
#
# === Configure Requires ===
#
# Module Want Have
# ------------------- ---- ----
# ExtUtils::MakeMaker any 7.70
#
# === Configure Recommends ===
#
# Module Want Have
# ------------------- ---- ----
# ExtUtils::MakeMaker 7.00 7.70
#
# === Build Requires ===
#
# Module Want Have
# ------------------- ---- ----
# ExtUtils::MakeMaker any 7.70
#
# === Test Requires ===
#
# Module Want Have
# ------------------- ---- --------
# Data::Dumper any 2.189
# ExtUtils::MakeMaker any 7.70
# File::Spec any 3.90
# IO::Handle any 1.53
# Test::Fatal any 0.017
# Test::More any 1.302195
# lib any 0.65
#
# === Test Recommends ===
#
# Module Want Have
# ------------------- -------- --------
# CPAN::Meta 2.120900 2.150010
# ExtUtils::MakeMaker 7.00 7.70
# Test::More 0.99 1.302195
#
# === Runtime Requires ===
#
# Module Want Have
# --------------- ---- -----
# Carp 1.22 1.54
# IO::File any 1.53
# Package::Stash 0.15 0.40
# Scalar::Util any 1.63
# Symbol any 1.09
# Term::ANSIColor any 5.01
# Try::Tiny any 0.31
# overload any 1.37
# parent any 0.241
# strict any 1.13
# warnings any 1.67
#
t/00-report-prereqs.t .......................... ok
#
#
# ** This is an example Exception, isn't it pretty?
#
# Data_Not_There has no DATA symbol
#
# [32mException 'Data::Handle::Exception::NoSymbol' thrown at /home/cpan/.cpan/build/Data-Handle-1.000001-0/blib/lib/Data/Handle.pm line 118[0m
# 2. Data::Handle::new(...) called at t/01_lowlevel.t line 26[0m
# [33m3. main::__ANON__(...) called at /home/cpan/bin/perl/lib/site_perl/5.39.3/Test/Fatal.pm line 158[0m
# [33m4. Test::Fatal::try {...} (...) called at /home/cpan/bin/perl/lib/site_perl/5.39.3/Try/Tiny.pm line 100[0m
# [33m5. eval {...} called at /home/cpan/bin/perl/lib/site_perl/5.39.3/Try/Tiny.pm line 93[0m
# [33m6. Try::Tiny::try(...) called at /home/cpan/bin/perl/lib/site_perl/5.39.3/Test/Fatal.pm line 165[0m
# 7. Test::Fatal::exception(...) called at t/01_lowlevel.t line 29[0m
#
t/01_lowlevel.t ................................ ok
t/02_example.t ................................. ok
t/03_mess_with_seek.t .......................... ok
t/04_things_that_fail.t ........................ ok
t/alternative_techniques/03_fdup_test.t ........ skipped: Example alternative technique that doesn't work
t/alternative_techniques/03_fdup_test_cowns.t .. skipped: Example alternative technique that doesn't work
t/alternative_techniques/04_fopen.t ............ skipped: Example alternative technique that doesn't work
t/alternative_techniques/05_new_from_fd.t ...... skipped: Example alternative technique that doesn't work
All tests successful.
Files=12, Tests=162, 1 wallclock secs ( 0.04 usr 0.02 sys + 0.54 cusr 0.17 csys = 0.77 CPU)
Result: PASS
------------------------------
PREREQUISITES
------------------------------
Prerequisite modules loaded:
requires:
Module Need Have
------------------- ----- --------
Carp 1.22 1.54
IO::File 0 1.53
overload 0 1.37
Package::Stash 0.15 0.40
parent 0 0.241
perl 5.008 5.039003
Scalar::Util 0 1.63
strict 0 1.13
Symbol 0 1.09
Term::ANSIColor 0 5.01
Try::Tiny 0 0.31
warnings 0 1.67
build_requires:
Module Need Have
------------------- ----- --------
Data::Dumper 0 2.189
ExtUtils::MakeMaker 0 7.70
File::Spec 0 3.90
IO::Handle 0 1.53
lib 0 0.65
Test::Fatal 0 0.017
Test::More 0 1.302195
configure_requires:
Module Need Have
------------------- ----- --------
ExtUtils::MakeMaker 0 7.70
perl 5.008 5.039003
------------------------------
ENVIRONMENT AND OTHER CONTEXT
------------------------------
Environment variables:
AUTOMATED_TESTING = 1
DATE_MANIP_TEST_DM5 = 1
LANG = C.UTF-8
LC_COLLATE = C
NONINTERACTIVE_TESTING = 1
NO_NETWORK_TESTING = 1
PATH = /home/cpan/bin/perl/bin:/usr/local/sbin:/usr/local/bin:/usr/sbin:/usr/bin:/sbin:/bin
PERL5LIB =
PERL5OPT =
PERL5_CPANPLUS_IS_RUNNING = 8462
PERL5_CPAN_IS_RUNNING = 8462
PERL_MM_USE_DEFAULT = 1
PERL_USE_UNSAFE_INC = 1
SHELL = /bin/bash
TERM = screen
Perl special variables (and OS-specific diagnostics, for MSWin32):
$^X = /home/cpan/bin/perl/bin/perl5.39.3
$UID/$EUID = 1001 / 1001
$GID = 1001 1001
$EGID = 1001 1001
Perl module toolchain versions installed:
Module Have
------------------- --------
CPAN 2.36
CPAN::Meta 2.150010
Cwd 3.90
ExtUtils::CBuilder 0.280240
ExtUtils::Command 7.70
ExtUtils::Install 2.22
ExtUtils::MakeMaker 7.70
ExtUtils::Manifest 1.75
ExtUtils::ParseXS 3.51
File::Spec 3.90
JSON 4.10
JSON::PP 4.16
Module::Build 0.4234
Module::Signature n/a
Parse::CPAN::Meta 2.150010
Test2 1.302195
Test::Harness 3.47
Test::More 1.302195
YAML 1.30
YAML::Syck 1.34
version 0.9930
--
Summary of my perl5 (revision 5 version 39 subversion 3) configuration:
Commit id: ea050918f472ad0930dc7bb8dccee8eb8ce68003
Platform:
osname=linux
osvers=6.1.54-0-lts
archname=x86_64-linux-thread-multi
uname='linux cjg-alpine3 6.1.54-0-lts #1-alpine smp preempt_dynamic tue, 19 sep 2023 13:49:36 +0000 x86_64 linux '
config_args='-des -Dprefix=/home/cpan/bin/perl -Dscriptdir=/home/cpan/bin/perl/bin -Dusedevel -Duse64bitall -Duseithreads'
hint=recommended
useposix=true
d_sigaction=define
useithreads=define
usemultiplicity=define
use64bitint=define
use64bitall=define
uselongdouble=undef
usemymalloc=n
default_inc_excludes_dot=define
Compiler:
cc='cc'
ccflags ='-D_REENTRANT -D_GNU_SOURCE -D_GNU_SOURCE -fwrapv -fno-strict-aliasing -pipe -fstack-protector-strong -D_LARGEFILE_SOURCE -D_FILE_OFFSET_BITS=64'
optimize='-O2'
cppflags='-D_REENTRANT -D_GNU_SOURCE -D_GNU_SOURCE -fwrapv -fno-strict-aliasing -pipe -fstack-protector-strong'
ccversion=''
gccversion='12.2.1 20220924'
gccosandvers=''
intsize=4
longsize=8
ptrsize=8
doublesize=8
byteorder=12345678
doublekind=3
d_longlong=define
longlongsize=8
d_longdbl=define
longdblsize=16
longdblkind=3
ivtype='long'
ivsize=8
nvtype='double'
nvsize=8
Off_t='off_t'
lseeksize=8
alignbytes=8
prototype=define
Linker and Libraries:
ld='cc'
ldflags =' -fstack-protector-strong -L/usr/local/lib'
libpth=/usr/lib /usr/local/lib /lib
libs=-lpthread -ldb -ldl -lm -lcrypt -lutil -lc
perllibs=-lpthread -ldl -lm -lcrypt -lutil -lc
libc=/usr/lib/libc.a
so=so
useshrplib=false
libperl=libperl.a
gnulibc_version=''
Dynamic Linking:
dlsrc=dl_dlopen.xs
dlext=so
d_dlsymun=undef
ccdlflags='-Wl,-E'
cccdlflags='-fPIC'
lddlflags='-shared -O2 -L/usr/local/lib -fstack-protector-strong'
Characteristics of this binary (from libperl):
Compile-time options:
HAS_LONG_DOUBLE
HAS_STRTOLD
HAS_TIMES
MULTIPLICITY
PERLIO_LAYERS
PERL_COPY_ON_WRITE
PERL_DONT_CREATE_GVSV
PERL_HASH_FUNC_SIPHASH13
PERL_HASH_USE_SBOX32
PERL_MALLOC_WRAP
PERL_OP_PARENT
PERL_PRESERVE_IVUV
PERL_USE_DEVEL
PERL_USE_SAFE_PUTENV
USE_64_BIT_ALL
USE_64_BIT_INT
USE_ITHREADS
USE_LARGE_FILES
USE_LOCALE
USE_LOCALE_COLLATE
USE_LOCALE_CTYPE
USE_LOCALE_NUMERIC
USE_LOCALE_TIME
USE_PERLIO
USE_PERL_ATOF
USE_REENTRANT_API
USE_THREAD_SAFE_LOCALE
Built under linux
Compiled at Sep 20 2023 01:29:30
%ENV:
PERL5LIB=""
PERL5OPT=""
PERL5_CPANPLUS_IS_RUNNING="8462"
PERL5_CPAN_IS_RUNNING="8462"
PERL_MM_USE_DEFAULT="1"
PERL_USE_UNSAFE_INC="1"
@INC:
/home/cpan/bin/perl/lib/site_perl/5.39.3/x86_64-linux-thread-multi
/home/cpan/bin/perl/lib/site_perl/5.39.3
/home/cpan/bin/perl/lib/5.39.3/x86_64-linux-thread-multi
/home/cpan/bin/perl/lib/5.39.3
.