Astro-Catalog v4.37 Perl 5 v5.28.2 x86_64-linux-ld

Status
Pass
From
Andreas J. König (ANDK)
Dist
Astro-Catalog v4.37
Platform
Perl 5 v5.28.2 x86_64-linux-ld
Date
2023-05-16 07:02:30
ID
9fcc6836-f3b7-11ed-936e-057912055bb0
This distribution has been tested as part of the CPAN Testers
project, supporting the Perl programming language.  See
http://wiki.cpantesters.org/ for more information or email
questions to cpan-testers-discuss@perl.org


--
Dear Graham Bell,

This is a computer-generated report for Astro-Catalog-4.37
on perl 5.28.2, created by CPAN-Reporter-1.2018.

Thank you for uploading your work to CPAN.  Congratulations!
All tests were successful.

Sections of this report:

    * Tester comments
    * Program output
    * Prerequisites
    * Environment and other context

------------------------------
TESTER COMMENTS
------------------------------

Additional comments from tester:

this report is from an automated smoke testing program
and was not reviewed by a human for accuracy

------------------------------
PROGRAM OUTPUT
------------------------------

Output from './Build test':

# Astro::Catalog::IO::VOTable can not locate Astro/VO/VOTable/Document.pm
# Astro::Catalog::IO::VEX can not locate Astro/VEX.pm
t/1_compile.t ..... ok
t/2_astrom.t ...... ok
t/2_cluster.t ..... ok
t/2_findoff.t ..... ok
t/2_fitstable.t ... ok
t/2_gaiapick.t .... ok
t/2_jcmt.t ........ ok
t/2_jcmt_loose.t .. ok
t/2_northstar.t ... ok
t/2_ritmatch.t .... ok
t/2_sextractor.t .. ok
t/2_simple.t ...... ok
t/2_stl.t ......... ok
t/2_tst.t ......... ok
t/2_ukirtbs.t ..... ok
t/2_votable.t ..... skipped: Astro::VO::VOTable not installed
t/2_xy.t .......... ok
t/3_catalog.t ..... ok
t/3_item.t ........ ok
t/3_morphology.t .. ok
t/3_star.t ........ ok
t/4_cmc.t ......... ok
Unable to find plausible coordinate in string '------ ------ ------' at /home/sand/src/perl/repoperls/installed-perls/host/k93msid/v5.28.2/af11/lib/site_perl/5.28.2/Astro/Coords/Equatorial.pm line 149.
Unable to find plausible coordinate in string '------ ----- ----' at /home/sand/src/perl/repoperls/installed-perls/host/k93msid/v5.28.2/af11/lib/site_perl/5.28.2/Astro/Coords/Equatorial.pm line 151.
# Cannot connect to ESO GSC: Coordinates must be an Astro::Coords object at /tmp/loop_over_bdir-941283-h9KBUP/Astro-Catalog-4.37-0/blib/lib/Astro/Catalog/Query/GSC.pm line 205.
t/4_gsc.t ......... ok
# Error 500: Failed to establish network connection using url http://scully.harvard.edu/~cgi/MPCheck.COM?which=pos&oc=500&day=1.87&tmot=s&month=3&TextArea=&type=p&ra=07+13+42&mot=h&sort=d&decl=-14+02+00&ps=n&radius=300&year=2004&needed=f&limit=20 at t/4_mpc.t line 99.
t/4_mpc.t ......... ok
# Cannot connect to Sesame: Service description 'http://cdsws.u-strasbg.fr/axis/services/Sesame?wsdl' can't be loaded: 500 Can't connect to cdsws.u-strasbg.fr:80 (Name or service not known)
# Cannot connect to Sesame: Service description 'http://cdsws.u-strasbg.fr/axis/services/Sesame?wsdl' can't be loaded: 500 Can't connect to cdsws.u-strasbg.fr:80 (Name or service not known)
t/4_sesame.t ...... ok
# Can not construct Skycat client: unable to find a remote service named gsc@eso at t/4_skycat_gsc.t line 107.
t/4_skycat_gsc.t .. ok
# Cannot connect to USNO-A2: Error 404: Failed to establish network connection using url http://archive.eso.org/skycat/servers/usnoa_res?object=HT Cas&format=1&radmax=1&nout=2000&sort=ra&magbright=0&magfaint=100 at t/4_usnoa2.t line 152.
t/4_usnoa2.t ...... ok
All tests successful.
Files=27, Tests=3471, 25 wallclock secs ( 0.28 usr  0.08 sys + 13.97 cusr  2.95 csys = 17.28 CPU)
Result: PASS

------------------------------
PREREQUISITES
------------------------------

Prerequisite modules loaded:

requires:

    Module                    Need    Have    
    ------------------------- ------- --------
    Astro::Coords             0.12    0.21    
    Astro::Flux               0.01    0.01    
    Astro::Telescope          0.5     0.71    
    Carp                      1.01    1.50    
    Class::Struct             0.63    0.65    
    Data::Dumper              2.12    2.183   
    DateTime                  0       1.51    
    DateTime::Format::ISO8601 0       0.08    
    File::Spec                0.84    3.75    
    File::Temp                0.14    0.2309  
    LWP                       5.53    6.61    
    Misc::Quality             0.01    0.01    
    Net::Domain               2.13    3.11    
    Number::Uncertainty       0.01    1.4     
    Pod::Usage                1.14    1.69    
    Scalar::Util              1.14    1.63    
    SOAP::Lite                0       1.27    
    Time::Piece               1.08    1.33    

build_requires:

    Module                    Need    Have    
    ------------------------- ------- --------
    Test::More                0       1.302195

configure_requires:

    Module                    Need    Have    
    ------------------------- ------- --------
    Module::Build             0.3     0.4229  

opt_requires:

    Module                    Need    Have    
    ------------------------- ------- --------
    Astro::FITS::CFITSIO      1.03    1.17    
  ! Astro::VEX                0       n/a     
  ! Astro::VO::VOTable        0.9     n/a     
    Text::CSV                 0       2.00    
    Tk                        804.029 804.035 


------------------------------
ENVIRONMENT AND OTHER CONTEXT
------------------------------

Environment variables:

    AUTOMATED_TESTING = 1
    LANG = en_US.UTF-8
    LANGUAGE = en_US:en
    PATH = /home/sand/bin:/usr/local/bin:/usr/bin:/bin:/usr/games:/usr/local/perl/bin:/usr/X11/bin:/sbin:/usr/sbin
    PERL5LIB = 
    PERL5OPT = 
    PERL5_CPANPLUS_IS_RUNNING = 1862931
    PERL5_CPAN_IS_RUNNING = 1862931
    PERL_CANARY_STABILITY_NOPROMPT = 1
    PERL_MM_USE_DEFAULT = 1
    PERL_USE_UNSAFE_INC = 1
    SHELL = /usr/bin/zsh
    TERM = screen

Perl special variables (and OS-specific diagnostics, for MSWin32):

    $^X = /home/sand/src/perl/repoperls/installed-perls/host/k93msid/v5.28.2/af11/bin/perl
    $UID/$EUID = 1005 / 1005
    $GID = 1005 1005
    $EGID = 1005 1005

Perl module toolchain versions installed:

    Module              Have    
    ------------------- --------
    CPAN                2.29    
    CPAN::Meta          2.150010
    Cwd                 3.75    
    ExtUtils::CBuilder  0.280236
    ExtUtils::Command   7.70    
    ExtUtils::Install   2.14    
    ExtUtils::MakeMaker 7.70    
    ExtUtils::Manifest  1.70    
    ExtUtils::ParseXS   3.39    
    File::Spec          3.75    
    JSON                4.05    
    JSON::PP            4.07    
    Module::Build       0.4229  
    Module::Signature   0.83    
    Parse::CPAN::Meta   2.150010
    Test::Harness       3.42    
    Test::More          1.302195
    YAML                1.29    
    YAML::Syck          1.31    
    version             0.9924  


--

Summary of my perl5 (revision 5 version 28 subversion 2) configuration:
  Derived from: c763da0e1c4ed5f24d490617b5a28c81fb69f6c4
  Platform:
    osname=linux
    osvers=5.3.0-2-amd64
    archname=x86_64-linux-ld
    uname='linux k93msid 5.3.0-2-amd64 #1 smp debian 5.3.9-3 (2019-11-19) x86_64 gnulinux '
    config_args='-Dprefix=/home/sand/src/perl/repoperls/installed-perls/host/k93msid/v5.28.2/af11 -Dmyhostname=k93msid -Dinstallusrbinperl=n -Uversiononly -Dusedevel -des -Ui_db -Dlibswanted=cl pthread socket inet nsl gdbm dbm malloc dl ld sun m crypt sec util c cposix posix ucb BSD gdbm_compat -Uuseithreads -Duselongdouble -DEBUGGING=-g'
    hint=recommended
    useposix=true
    d_sigaction=define
    useithreads=undef
    usemultiplicity=undef
    use64bitint=define
    use64bitall=define
    uselongdouble=define
    usemymalloc=n
    default_inc_excludes_dot=define
    bincompat5005=undef
  Compiler:
    cc='cc'
    ccflags ='-fwrapv -fno-strict-aliasing -pipe -fstack-protector-strong -I/usr/local/include -D_LARGEFILE_SOURCE -D_FILE_OFFSET_BITS=64'
    optimize='-O2 -g'
    cppflags='-fwrapv -fno-strict-aliasing -pipe -fstack-protector-strong -I/usr/local/include'
    ccversion=''
    gccversion='9.2.1 20191109'
    gccosandvers=''
    intsize=4
    longsize=8
    ptrsize=8
    doublesize=8
    byteorder=12345678
    doublekind=3
    d_longlong=define
    longlongsize=8
    d_longdbl=define
    longdblsize=16
    longdblkind=3
    ivtype='long'
    ivsize=8
    nvtype='long double'
    nvsize=16
    Off_t='off_t'
    lseeksize=8
    alignbytes=16
    prototype=define
  Linker and Libraries:
    ld='cc'
    ldflags =' -fstack-protector-strong -L/usr/local/lib'
    libpth=/usr/local/lib /usr/lib/gcc/x86_64-linux-gnu/9/include-fixed /usr/include/x86_64-linux-gnu /usr/lib /lib/x86_64-linux-gnu /lib/../lib /usr/lib/x86_64-linux-gnu /usr/lib/../lib /lib
    libs=-lpthread -lnsl -ldl -lm -lcrypt -lutil -lc
    perllibs=-lpthread -lnsl -ldl -lm -lcrypt -lutil -lc
    libc=libc-2.29.so
    so=so
    useshrplib=false
    libperl=libperl.a
    gnulibc_version='2.29'
  Dynamic Linking:
    dlsrc=dl_dlopen.xs
    dlext=so
    d_dlsymun=undef
    ccdlflags='-Wl,-E'
    cccdlflags='-fPIC'
    lddlflags='-shared -O2 -g -L/usr/local/lib -fstack-protector-strong'


Characteristics of this binary (from libperl): 
  Compile-time options:
    HAS_TIMES
    PERLIO_LAYERS
    PERL_COPY_ON_WRITE
    PERL_DONT_CREATE_GVSV
    PERL_MALLOC_WRAP
    PERL_OP_PARENT
    PERL_PRESERVE_IVUV
    PERL_USE_DEVEL
    USE_64_BIT_ALL
    USE_64_BIT_INT
    USE_LARGE_FILES
    USE_LOCALE
    USE_LOCALE_COLLATE
    USE_LOCALE_CTYPE
    USE_LOCALE_NUMERIC
    USE_LOCALE_TIME
    USE_LONG_DOUBLE
    USE_PERLIO
    USE_PERL_ATOF
  Locally applied patches:
    uncommitted-changes
  Built under linux
  Compiled at Nov 24 2019 12:49:56
  %ENV:
    PERL5LIB=""
    PERL5OPT=""
    PERL5_CPANPLUS_IS_RUNNING="1862931"
    PERL5_CPAN_IS_RUNNING="1862931"
    PERL_CANARY_STABILITY_NOPROMPT="1"
    PERL_MM_USE_DEFAULT="1"
    PERL_USE_UNSAFE_INC="1"
  @INC:
    /home/sand/src/perl/repoperls/installed-perls/host/k93msid/v5.28.2/af11/lib/site_perl/5.28.2/x86_64-linux-ld
    /home/sand/src/perl/repoperls/installed-perls/host/k93msid/v5.28.2/af11/lib/site_perl/5.28.2
    /home/sand/src/perl/repoperls/installed-perls/host/k93msid/v5.28.2/af11/lib/5.28.2/x86_64-linux-ld
    /home/sand/src/perl/repoperls/installed-perls/host/k93msid/v5.28.2/af11/lib/5.28.2
    .