HTML-Selector-XPath v0.25 Perl 5 v5.18.4 x86_64-linux-thread-multi
- Status
- Pass
- From
- Slaven Rezić (SREZIC)
- Dist
-
HTML-Selector-XPath v0.25
- Platform
- Perl 5 v5.18.4 x86_64-linux-thread-multi
- Date
- 2018-11-03 10:02:51
- ID
- 9fd12c1c-df4f-11e8-95b8-d02a9ae90dc9
This distribution has been tested as part of the CPAN Testers
project, supporting the Perl programming language. See
http://wiki.cpantesters.org/ for more information or email
questions to cpan-testers-discuss@perl.org
--
Dear Max Maischein,
This is a computer-generated report for HTML-Selector-XPath-0.25
on perl 5.18.4, created by CPAN-Reporter-1.2018.
Thank you for uploading your work to CPAN. Congratulations!
All tests were successful.
Sections of this report:
* Tester comments
* Program output
* Prerequisites
* Environment and other context
------------------------------
TESTER COMMENTS
------------------------------
Additional comments from tester:
none provided
------------------------------
PROGRAM OUTPUT
------------------------------
Output from '/usr/bin/make test':
PERL_DL_NONLAZY=1 /bbbike/perl-5.18.4t/bin/perl "-MExtUtils::Command::MM" "-e" "test_harness(0, 'blib/lib', 'blib/arch')" t/*.t
t/00_compile.t ....... ok
t/01_xpath.t ......... ok
t/02_html.t .......... skipped: HTML::TreeBuilder::XPath is not installed.
t/03_xpath_root.t .... ok
t/04_subclass.t ...... ok
t/05_xpath_prefix.t .. ok
t/06_rt114261.t ...... ok
t/07_rt114345.t ...... ok
t/99_pod.t ........... skipped: Test::Pod 1.00 required for testing POD
All tests successful.
Files=9, Tests=146, 1 wallclock secs ( 0.04 usr 0.02 sys + 0.37 cusr 0.13 csys = 0.56 CPU)
Result: PASS
------------------------------
PREREQUISITES
------------------------------
Prerequisite modules loaded:
requires:
Module Need Have
------------------- -------- --------
Carp 0 1.29
Exporter 0 5.68
perl 5.008001 5.018004
strict 0 1.07
build_requires:
Module Need Have
------------------- -------- --------
Encode 0 2.49
ExtUtils::MakeMaker 0 6.66
Test::Base 0 0.88
Test::More 0 1.302086
configure_requires:
Module Need Have
------------------- -------- --------
ExtUtils::MakeMaker 0 6.66
------------------------------
ENVIRONMENT AND OTHER CONTEXT
------------------------------
Environment variables:
LANG = C
PATH = /usr/local/bin:/usr/bin:/bin:/usr/local/sbin:/usr/sbin:/sbin:/home/cpansand/bin/linux-gnu:/home/cpansand/bin/sh:/home/cpansand/bin:/usr/games:/home/cpansand/devel:/home/eserte/src/srezic-misc/scripts
PERL5LIB = /home/cpansand/.cpan/build/2018110309/XML-LibXML-2.0132-Enf2oD/blib/arch:/home/cpansand/.cpan/build/2018110309/XML-LibXML-2.0132-Enf2oD/blib/lib:/home/cpansand/.cpan/build/2018110309/XML-SAX-1.00-eQkmSS/blib/arch:/home/cpansand/.cpan/build/2018110309/XML-SAX-1.00-eQkmSS/blib/lib:/home/cpansand/.cpan/build/2018110309/XML-NamespaceSupport-1.12-Bipk7t/blib/arch:/home/cpansand/.cpan/build/2018110309/XML-NamespaceSupport-1.12-Bipk7t/blib/lib:/home/cpansand/.cpan/build/2018110309/XML-SAX-Base-1.09-sF18BW/blib/arch:/home/cpansand/.cpan/build/2018110309/XML-SAX-Base-1.09-sF18BW/blib/lib
PERL5OPT =
PERL5_CPANPLUS_IS_RUNNING = 2522
PERL5_CPAN_IS_RUNNING = 2522
PERL5_CPAN_IS_RUNNING_IN_RECURSION = 32122,2522
PERLDOC = -MPod::Perldoc::ToTextOverstrike
PERL_BATCH = yes
PERL_CANARY_STABILITY_NOPROMPT = 1
PERL_CPAN_REPORTER_CONFIG = /var/tmp/cpansmoker-1023/2018110309/cpanreporter_000_config.ini
PERL_EXTUTILS_AUTOINSTALL = --defaultdeps
SHELL = /bin/zsh
TERM = screen
TMPDIR = /var/tmp/cpansmoker-1023/2018110309
Perl special variables (and OS-specific diagnostics, for MSWin32):
$^X = /bbbike/perl-5.18.4t/bin/perl
$UID/$EUID = 1023 / 1023
$GID = 1023 1023
$EGID = 1023 1023
Perl module toolchain versions installed:
Module Have
------------------- --------
CPAN 2.00
CPAN::Meta 2.150010
Cwd 3.40
ExtUtils::CBuilder 0.280210
ExtUtils::Command 1.17
ExtUtils::Install 1.59
ExtUtils::MakeMaker 6.66
ExtUtils::Manifest 1.63
ExtUtils::ParseXS 3.18
File::Spec 3.40
JSON n/a
JSON::PP 2.27400
Module::Build 0.4003
Module::Signature n/a
Parse::CPAN::Meta 2.150010
Test::Harness 3.26
Test::More 1.302086
YAML 1.15
YAML::Syck 1.29
version 0.9902
--
Summary of my perl5 (revision 5 version 18 subversion 4) configuration:
Platform:
osname=linux, osvers=3.16.0-4-amd64, archname=x86_64-linux-thread-multi
uname='linux eserte 3.16.0-4-amd64 #1 smp debian 3.16.7-ckt25-2 (2016-04-08) x86_64 gnulinux '
config_args='-ds -e -Dprefix=/opt/perl-5.18.4t -Dusethreads -Dcf_email=srezic@cpan.org'
hint=recommended, useposix=true, d_sigaction=define
useithreads=define, usemultiplicity=define
useperlio=define, d_sfio=undef, uselargefiles=define, usesocks=undef
use64bitint=define, use64bitall=define, uselongdouble=undef
usemymalloc=n, bincompat5005=undef
Compiler:
cc='cc', ccflags ='-D_REENTRANT -D_GNU_SOURCE -fno-strict-aliasing -pipe -fstack-protector -I/usr/local/include -D_LARGEFILE_SOURCE -D_FILE_OFFSET_BITS=64',
optimize='-O2',
cppflags='-D_REENTRANT -D_GNU_SOURCE -fno-strict-aliasing -pipe -fstack-protector -I/usr/local/include'
ccversion='', gccversion='4.9.2', gccosandvers=''
intsize=4, longsize=8, ptrsize=8, doublesize=8, byteorder=12345678
d_longlong=define, longlongsize=8, d_longdbl=define, longdblsize=16
ivtype='long', ivsize=8, nvtype='double', nvsize=8, Off_t='off_t', lseeksize=8
alignbytes=8, prototype=define
Linker and Libraries:
ld='cc', ldflags =' -fstack-protector -L/usr/local/lib'
libpth=/usr/local/lib /lib/x86_64-linux-gnu /lib/../lib /usr/lib/x86_64-linux-gnu /usr/lib/../lib /lib /usr/lib
libs=-lnsl -lgdbm -ldb -ldl -lm -lcrypt -lutil -lpthread -lc -lgdbm_compat
perllibs=-lnsl -ldl -lm -lcrypt -lutil -lpthread -lc
libc=, so=so, useshrplib=false, libperl=libperl.a
gnulibc_version='2.19'
Dynamic Linking:
dlsrc=dl_dlopen.xs, dlext=so, d_dlsymun=undef, ccdlflags='-Wl,-E'
cccdlflags='-fPIC', lddlflags='-shared -O2 -L/usr/local/lib -fstack-protector'
Characteristics of this binary (from libperl):
Compile-time options: HAS_TIMES MULTIPLICITY PERLIO_LAYERS
PERL_DONT_CREATE_GVSV
PERL_HASH_FUNC_ONE_AT_A_TIME_HARD
PERL_IMPLICIT_CONTEXT PERL_MALLOC_WRAP
PERL_PRESERVE_IVUV PERL_SAWAMPERSAND USE_64_BIT_ALL
USE_64_BIT_INT USE_ITHREADS USE_LARGE_FILES
USE_LOCALE USE_LOCALE_COLLATE USE_LOCALE_CTYPE
USE_LOCALE_NUMERIC USE_PERLIO USE_PERL_ATOF
USE_REENTRANT_API
Built under linux
Compiled at May 7 2016 17:21:50
%ENV:
PERL5LIB="/home/cpansand/.cpan/build/2018110309/XML-LibXML-2.0132-Enf2oD/blib/arch:/home/cpansand/.cpan/build/2018110309/XML-LibXML-2.0132-Enf2oD/blib/lib:/home/cpansand/.cpan/build/2018110309/XML-SAX-1.00-eQkmSS/blib/arch:/home/cpansand/.cpan/build/2018110309/XML-SAX-1.00-eQkmSS/blib/lib:/home/cpansand/.cpan/build/2018110309/XML-NamespaceSupport-1.12-Bipk7t/blib/arch:/home/cpansand/.cpan/build/2018110309/XML-NamespaceSupport-1.12-Bipk7t/blib/lib:/home/cpansand/.cpan/build/2018110309/XML-SAX-Base-1.09-sF18BW/blib/arch:/home/cpansand/.cpan/build/2018110309/XML-SAX-Base-1.09-sF18BW/blib/lib"
PERL5OPT=""
PERL5_CPANPLUS_IS_RUNNING="2522"
PERL5_CPAN_IS_RUNNING="2522"
PERL5_CPAN_IS_RUNNING_IN_RECURSION="32122,2522"
PERLDOC="-MPod::Perldoc::ToTextOverstrike"
PERL_BATCH="yes"
PERL_CANARY_STABILITY_NOPROMPT="1"
PERL_CPAN_REPORTER_CONFIG="/var/tmp/cpansmoker-1023/2018110309/cpanreporter_000_config.ini"
PERL_EXTUTILS_AUTOINSTALL="--defaultdeps"
@INC:
/home/cpansand/.cpan/build/2018110309/XML-LibXML-2.0132-Enf2oD/blib/arch
/home/cpansand/.cpan/build/2018110309/XML-LibXML-2.0132-Enf2oD/blib/lib
/home/cpansand/.cpan/build/2018110309/XML-SAX-1.00-eQkmSS/blib/arch
/home/cpansand/.cpan/build/2018110309/XML-SAX-1.00-eQkmSS/blib/lib
/home/cpansand/.cpan/build/2018110309/XML-NamespaceSupport-1.12-Bipk7t/blib/arch
/home/cpansand/.cpan/build/2018110309/XML-NamespaceSupport-1.12-Bipk7t/blib/lib
/home/cpansand/.cpan/build/2018110309/XML-SAX-Base-1.09-sF18BW/blib/arch
/home/cpansand/.cpan/build/2018110309/XML-SAX-Base-1.09-sF18BW/blib/lib
/opt/perl-5.18.4t/lib/site_perl/5.18.4/x86_64-linux-thread-multi
/opt/perl-5.18.4t/lib/site_perl/5.18.4
/opt/perl-5.18.4t/lib/5.18.4/x86_64-linux-thread-multi
/opt/perl-5.18.4t/lib/5.18.4
.