Back
From: metabase:user:314402c4-2aae-11df-837a-5e0a49663a4f
Subject: PASS Spreadsheet-XLSX-Reader-LibXML-v0.38.10 v5.20.1 FreeBSD
Date: 2015-08-11T06:17:21Z
This distribution has been tested as part of the CPAN Testers
project, supporting the Perl programming language. See
http://wiki.cpantesters.org/ for more information or email
questions to cpan-testers-discuss@perl.org
--
Dear Jed Lund,
This is a computer-generated report for Spreadsheet-XLSX-Reader-LibXML-v0.38.10
on perl 5.20.1, created by CPAN-Reporter-1.2011.
Thank you for uploading your work to CPAN. Congratulations!
All tests were successful.
Sections of this report:
* Tester comments
* Program output
* Prerequisites
* Environment and other context
------------------------------
TESTER COMMENTS
------------------------------
Additional comments from tester:
none provided
------------------------------
PROGRAM OUTPUT
------------------------------
Output from '/usr/bin/make test':
PERL_DL_NONLAZY=1 "/usr/perl5.20.1p/bin/perl5.20.1" "-MExtUtils::Command::MM" "-MTest::Harness" "-e" "undef *Test::Harness::Switches; test_harness(0, 'blib/lib', 'blib/arch')" t/Spreadsheet/XLSX/Reader/*.t t/Spreadsheet/XLSX/Reader/LibXML/*.t t/Spreadsheet/XLSX/Reader/LibXML/XMLReader/*.t
t/Spreadsheet/XLSX/Reader/01-libxml.t ............................. ok
t/Spreadsheet/XLSX/Reader/02-open_by_worksheet_bug.t .............. ok
t/Spreadsheet/XLSX/Reader/03-temp_dir_bug.t ....................... ok
t/Spreadsheet/XLSX/Reader/04-no_pivot_bug.t ....................... ok
t/Spreadsheet/XLSX/Reader/05-chart_bug.t .......................... ok
t/Spreadsheet/XLSX/Reader/49-shared_strings_bug.t ................. ok
t/Spreadsheet/XLSX/Reader/51-percent_file_bug.t ................... ok
t/Spreadsheet/XLSX/Reader/60-hidden_formatting_bug.t .............. ok
t/Spreadsheet/XLSX/Reader/LibXML/01-types.t ....................... ok
t/Spreadsheet/XLSX/Reader/LibXML/02-error.t ....................... ok
t/Spreadsheet/XLSX/Reader/LibXML/04-xml_reader.t .................. ok
t/Spreadsheet/XLSX/Reader/LibXML/05-cell_to_column_row.t .......... ok
t/Spreadsheet/XLSX/Reader/LibXML/07-fmt_default.t ................. ok
t/Spreadsheet/XLSX/Reader/LibXML/08-parse_excel_fmt_string.t ...... ok
t/Spreadsheet/XLSX/Reader/LibXML/09-cell.t ........................ ok
t/Spreadsheet/XLSX/Reader/LibXML/10-get_cell.t .................... ok
t/Spreadsheet/XLSX/Reader/LibXML/20-empty_sharedstrings_bug.t ..... ok
t/Spreadsheet/XLSX/Reader/LibXML/XMLReader/01-xml_to_perl_data.t .. ok
t/Spreadsheet/XLSX/Reader/LibXML/XMLReader/02-worksheet.t ......... ok
t/Spreadsheet/XLSX/Reader/LibXML/XMLReader/03-sharedstrings.t ..... ok
t/Spreadsheet/XLSX/Reader/LibXML/XMLReader/04-calcchain.t ......... ok
t/Spreadsheet/XLSX/Reader/LibXML/XMLReader/05-styles.t ............ ok
All tests successful.
Files=22, Tests=3543, 236 wallclock secs ( 4.12 usr 2.09 sys + 196.14 cusr 15.24 csys = 217.59 CPU)
Result: PASS
------------------------------
PREREQUISITES
------------------------------
Prerequisite modules loaded:
requires:
Module Need Have
------------------------------- ------ --------
Archive::Zip 0 1.48
Carp 0 1.36
Clone 0 0.38
DateTime::Format::Flexible 0 0.26
DateTimeX::Format::Excel 0.012 v0.12.26
Encode 0 2.75
IO::File 0 1.16
lib 0 0.63
List::Util 1.33 1.42
Moose 2.1213 2.1405
Moose::Role 0 2.1405
MooseX::HasDefaults::RO 0 0
MooseX::ShortCut::BuildInstance 1.032 v1.34.4
MooseX::StrictConstructor 0 0.19
perl 5.010 5.020001
strict 0 1.08
Type::Coercion 0 1.000005
Type::Library 1.000 1.000005
Type::Tiny 1.000 1.000005
Type::Utils 0 1.000005
Types::Standard 0 1.000005
version 0.77 0.9912
warnings 0 1.23
XML::LibXML 0 2.0121
XML::LibXML::Reader 0 2.0121
build_requires:
Module Need Have
------------------------------- ------ --------
Archive::Zip 0 1.48
Capture::Tiny 0 0.30
Carp 0 1.36
Clone 0 0.38
Data::Dumper 0 2.154
DateTime::Format::Flexible 0 0.26
DateTimeX::Format::Excel 0.012 v0.12.26
ExtUtils::MakeMaker 7.04 7.04
IO::File 0 1.16
List::Util 1.33 1.42
Moose 2.1213 2.1405
Moose::Role 0 2.1405
MooseX::HasDefaults::RO 0 0
MooseX::ShortCut::BuildInstance 1.032 v1.34.4
MooseX::StrictConstructor 0 0.19
Spreadsheet::ParseExcel 0 0.65
Test::Moose 0 2.1405
Test::Most 0 0.34
Test::TypeTiny 0 1.000005
Type::Tiny 1.000 1.000005
version 0.77 0.9912
XML::LibXML 0 2.0121
XML::LibXML::Reader 0 2.0121
configure_requires:
Module Need Have
------------------------------- ------ --------
Alien::LibXML 0.003 0.003
ExtUtils::MakeMaker 7.04 7.04
------------------------------
ENVIRONMENT AND OTHER CONTEXT
------------------------------
Environment variables:
DBIC_NO_WARN_BAD_PERL = 1
LC_ALL = de_DE.ISO8859-1
PATH = /usr/local/bin:/usr/bin:/bin:/usr/local/sbin:/usr/sbin:/sbin:/home/cpansand/bin/freebsd10.0:/home/cpansand/bin/sh:/home/cpansand/bin:/usr/games:/home/cpansand/devel:/home/eserte/src/srezic-misc/scripts
PERL5LIB =
PERL5OPT =
PERL5_CPANPLUS_IS_RUNNING = 77862
PERL5_CPAN_IS_RUNNING = 77862
PERL5_CPAN_IS_RUNNING_IN_RECURSION = 77806,77862
PERLDOC = -MPod::Perldoc::ToTextOverstrike
PERL_BATCH = yes
PERL_CANARY_STABILITY_NOPROMPT = 1
PERL_CPAN_REPORTER_CONFIG = /var/tmp/cpansmoker-1023/2015081106/cpanreporter_000_config.ini
PERL_EXTUTILS_AUTOINSTALL = --defaultdeps
PERL_HTML_DISPLAY_CLASS = HTML::Display::Mozilla
SHELL = /usr/local/bin/zsh
TERM = screen
TMPDIR = /var/tmp/cpansmoker-1023/2015081106
Perl special variables (and OS-specific diagnostics, for MSWin32):
$^X = /usr/perl5.20.1p/bin/perl5.20.1
$UID/$EUID = 1023 / 1023
$GID = 1023 1023
$EGID = 1023 1023
Perl module toolchain versions installed:
Module Have
------------------- --------
CPAN 2.10
CPAN::Meta 2.150005
Cwd 3.48
ExtUtils::CBuilder 0.280217
ExtUtils::Command 1.18
ExtUtils::Install 1.67
ExtUtils::MakeMaker 7.04
ExtUtils::Manifest 1.70
ExtUtils::ParseXS 3.24
File::Spec 3.48
JSON 2.90
JSON::PP 2.27203
Module::Build 0.4214
Module::Signature 0.79
Parse::CPAN::Meta 1.4414
Test::Harness 3.35
Test::More 1.001014
YAML 1.15
YAML::Syck 1.29
version 0.9912
--
Summary of my perl5 (revision 5 version 20 subversion 1) configuration:
Platform:
osname=freebsd, osvers=10.1-release, archname=amd64-freebsd
uname='freebsd cvrsnica-freebsd-101.herceg.de 10.1-release freebsd 10.1-release #0 r274401: tue nov 11 21:02:49 utc 2014 root@releng1.nyi.freebsd.org:usrobjusrsrcsysgeneric amd64 '
config_args='-ds -e -Dprefix=/usr/perl5.20.1p'
hint=recommended, useposix=true, d_sigaction=define
useithreads=undef, usemultiplicity=undef
use64bitint=define, use64bitall=define, uselongdouble=undef
usemymalloc=n, bincompat5005=undef
Compiler:
cc='cc', ccflags ='-DHAS_FPSETMASK -DHAS_FLOATINGPOINT_H -fno-strict-aliasing -pipe -fstack-protector -I/usr/local/include',
optimize='-O',
cppflags='-DHAS_FPSETMASK -DHAS_FLOATINGPOINT_H -fno-strict-aliasing -pipe -fstack-protector -I/usr/local/include'
ccversion='', gccversion='4.2.1 Compatible FreeBSD Clang 3.4.1 (tags/RELEASE_34/dot1-final 208032)', gccosandvers=''
intsize=4, longsize=8, ptrsize=8, doublesize=8, byteorder=12345678
d_longlong=define, longlongsize=8, d_longdbl=define, longdblsize=16
ivtype='long', ivsize=8, nvtype='double', nvsize=8, Off_t='off_t', lseeksize=8
alignbytes=8, prototype=define
Linker and Libraries:
ld='cc', ldflags ='-pthread -Wl,-E -fstack-protector -L/usr/local/lib'
libpth=/usr/lib /usr/local/lib /usr/include/clang/3.4.1 /usr/lib
libs=-lm -lcrypt -lutil -lc
perllibs=-lm -lcrypt -lutil -lc
libc=, so=so, useshrplib=false, libperl=libperl.a
gnulibc_version=''
Dynamic Linking:
dlsrc=dl_dlopen.xs, dlext=so, d_dlsymun=undef, ccdlflags=' '
cccdlflags='-DPIC -fPIC', lddlflags='-shared -L/usr/local/lib -fstack-protector'
Characteristics of this binary (from libperl):
Compile-time options: HAS_TIMES PERLIO_LAYERS PERL_DONT_CREATE_GVSV
PERL_HASH_FUNC_ONE_AT_A_TIME_HARD PERL_MALLOC_WRAP
PERL_NEW_COPY_ON_WRITE PERL_PRESERVE_IVUV
USE_64_BIT_ALL USE_64_BIT_INT USE_LARGE_FILES
USE_LOCALE USE_LOCALE_COLLATE USE_LOCALE_CTYPE
USE_LOCALE_NUMERIC USE_PERLIO USE_PERL_ATOF
Built under freebsd
Compiled at Jan 29 2015 08:45:50
%ENV:
PERL5LIB=""
PERL5OPT=""
PERL5_CPANPLUS_IS_RUNNING="77862"
PERL5_CPAN_IS_RUNNING="77862"
PERL5_CPAN_IS_RUNNING_IN_RECURSION="77806,77862"
PERLDOC="-MPod::Perldoc::ToTextOverstrike"
PERL_BATCH="yes"
PERL_CANARY_STABILITY_NOPROMPT="1"
PERL_CPAN_REPORTER_CONFIG="/var/tmp/cpansmoker-1023/2015081106/cpanreporter_000_config.ini"
PERL_EXTUTILS_AUTOINSTALL="--defaultdeps"
PERL_HTML_DISPLAY_CLASS="HTML::Display::Mozilla"
@INC:
/usr/perl5.20.1p/lib/site_perl/5.20.1/amd64-freebsd
/usr/perl5.20.1p/lib/site_perl/5.20.1
/usr/perl5.20.1p/lib/5.20.1/amd64-freebsd
/usr/perl5.20.1p/lib/5.20.1
.