Unicode-Homoglyph-Replace v0.01 Perl 5 v5.35.11 x86_64-linux-ld
- Status
- Pass
- From
- Andreas J. König (ANDK)
- Dist
-
Unicode-Homoglyph-Replace v0.01
- Platform
- Perl 5 v5.35.11 x86_64-linux-ld
- Date
- 2022-05-11 03:37:03
- ID
- 9fd6ea0e-d0db-11ec-9a40-01e25b56558d
This distribution has been tested as part of the CPAN Testers
project, supporting the Perl programming language. See
http://wiki.cpantesters.org/ for more information or email
questions to cpan-testers-discuss@perl.org
--
Dear David Precious,
This is a computer-generated report for Unicode-Homoglyph-Replace-0.01
on perl 5.35.11, created by CPAN-Reporter-1.2018.
Thank you for uploading your work to CPAN. Congratulations!
All tests were successful.
Sections of this report:
* Tester comments
* Program output
* Prerequisites
* Environment and other context
------------------------------
TESTER COMMENTS
------------------------------
Additional comments from tester:
this report is from an automated smoke testing program
and was not reviewed by a human for accuracy
------------------------------
PROGRAM OUTPUT
------------------------------
Output from '/usr/bin/make test':
PERL_DL_NONLAZY=1 "/tmp/basesmoker-reloperl-d0Dr/bin/perl" "-MExtUtils::Command::MM" "-MTest::Harness" "-e" "undef *Test::Harness::Switches; test_harness(0, 'blib/lib', 'blib/arch')" t/*.t
# Testing Unicode::Homoglyph::Replace 0.01, Perl 5.035011, /tmp/basesmoker-reloperl-d0Dr/bin/perl
t/00-load.t ....... ok
# Testing Unicode::Homoglyph::Replace 0.01, Perl 5.035011, /tmp/basesmoker-reloperl-d0Dr/bin/perl
Wide character in print at /home/sand/src/perl/repoperls/installed-perls/host/k93focal/v5.35.11/d3e4/lib/5.35.11/Test2/Formatter/TAP.pm line 156.
Wide character in print at /home/sand/src/perl/repoperls/installed-perls/host/k93focal/v5.35.11/d3e4/lib/5.35.11/Test2/Formatter/TAP.pm line 156.
Wide character in print at /home/sand/src/perl/repoperls/installed-perls/host/k93focal/v5.35.11/d3e4/lib/5.35.11/Test2/Formatter/TAP.pm line 156.
Wide character in print at /home/sand/src/perl/repoperls/installed-perls/host/k93focal/v5.35.11/d3e4/lib/5.35.11/Test2/Formatter/TAP.pm line 156.
Wide character in print at /home/sand/src/perl/repoperls/installed-perls/host/k93focal/v5.35.11/d3e4/lib/5.35.11/Test2/Formatter/TAP.pm line 125.
# Take the time to make some sense => âðkõâÂÂtheâÂÂtimõâ¯tÿâ¯âÂ
¿akeâÂÂsomõâÂÂÃÂõnsᥱ
Wide character in print at /home/sand/src/perl/repoperls/installed-perls/host/k93focal/v5.35.11/d3e4/lib/5.35.11/Test2/Formatter/TAP.pm line 156.
Wide character in print at /home/sand/src/perl/repoperls/installed-perls/host/k93focal/v5.35.11/d3e4/lib/5.35.11/Test2/Formatter/TAP.pm line 125.
# Take the time to make some sense => âðkeâÂÂtûeàtÃÂâÂ
¿eâÂÂtoâÂÂmakᥱâÂÂsþmõâÂÂsõnsᥱ
Wide character in print at /home/sand/src/perl/repoperls/installed-perls/host/k93focal/v5.35.11/d3e4/lib/5.35.11/Test2/Formatter/TAP.pm line 156.
Wide character in print at /home/sand/src/perl/repoperls/installed-perls/host/k93focal/v5.35.11/d3e4/lib/5.35.11/Test2/Formatter/TAP.pm line 125.
# Take the time to make some sense => á¢ÃÂkeâÂÂtûeâ¯tâÂ
°âÂ
¿ÃµâÂÂtâ²Âàmðkeâ¯sâ²ÂâÂ
¿ÃµâÂÂsᥱá¥Âsᥱ
Wide character in print at /home/sand/src/perl/repoperls/installed-perls/host/k93focal/v5.35.11/d3e4/lib/5.35.11/Test2/Formatter/TAP.pm line 156.
Wide character in print at /home/sand/src/perl/repoperls/installed-perls/host/k93focal/v5.35.11/d3e4/lib/5.35.11/Test2/Formatter/TAP.pm line 125.
# Take the time to make some sense => á¢ÃÂkeâÂÂthõàtâÂ
°âÂ
¿á¥±âÂÂtâ²ÂâÂÂâÂ
¿Ã°kᥱâÂÂsà ´ mõâÂÂsÃ栝ÂÃÂᥱ
Wide character in print at /home/sand/src/perl/repoperls/installed-perls/host/k93focal/v5.35.11/d3e4/lib/5.35.11/Test2/Formatter/TAP.pm line 156.
Wide character in print at /home/sand/src/perl/repoperls/installed-perls/host/k93focal/v5.35.11/d3e4/lib/5.35.11/Test2/Formatter/TAP.pm line 125.
# Take the time to make some sense => äðkeâÂÂ
tûᥱâÂÂtimõâÂÂtâ²ÂâÂÂmakᥱâÂÂ
ÃÂþâÂ
¿eâÂÂseá¥ÂÃÂe
Wide character in print at /home/sand/src/perl/repoperls/installed-perls/host/k93focal/v5.35.11/d3e4/lib/5.35.11/Test2/Formatter/TAP.pm line 156.
Wide character in print at /home/sand/src/perl/repoperls/installed-perls/host/k93focal/v5.35.11/d3e4/lib/5.35.11/Test2/Formatter/TAP.pm line 125.
# Take the time to make some sense => äðkᥱâÂÂtûõ timeâÂÂtþâÂÂmÃÂkeâÂÂsà ´ mᥱàsÃ栝ÂÃÂᥱ
Wide character in print at /home/sand/src/perl/repoperls/installed-perls/host/k93focal/v5.35.11/d3e4/lib/5.35.11/Test2/Formatter/TAP.pm line 156.
Wide character in print at /home/sand/src/perl/repoperls/installed-perls/host/k93focal/v5.35.11/d3e4/lib/5.35.11/Test2/Formatter/TAP.pm line 125.
# Take the time to make some sense => TÃÂkõâÂÂtûeâÂÂtâÂ
°mõâÂÂtÿ mðkõâÂÂÃÂâ²Âmõ ÃÂeá¥Âsᥱ
Wide character in print at /home/sand/src/perl/repoperls/installed-perls/host/k93focal/v5.35.11/d3e4/lib/5.35.11/Test2/Formatter/TAP.pm line 156.
Wide character in print at /home/sand/src/perl/repoperls/installed-perls/host/k93focal/v5.35.11/d3e4/lib/5.35.11/Test2/Formatter/TAP.pm line 125.
# Take the time to make some sense => á¢akeâÂÂthᥱ tÃÂmeâ¯toâ¯âÂ
¿Ã°kᥱâÂÂsÿmõâÂÂÃÂense
Wide character in print at /home/sand/src/perl/repoperls/installed-perls/host/k93focal/v5.35.11/d3e4/lib/5.35.11/Test2/Formatter/TAP.pm line 156.
Wide character in print at /home/sand/src/perl/repoperls/installed-perls/host/k93focal/v5.35.11/d3e4/lib/5.35.11/Test2/Formatter/TAP.pm line 125.
# Take the time to make some sense => á¢akᥱâ¯thõâÂÂtimeâÂÂtÿ âÂ
¿Ã°kõàsà ´ mõâÂÂÃÂÃ栝Âsõ
Wide character in print at /home/sand/src/perl/repoperls/installed-perls/host/k93focal/v5.35.11/d3e4/lib/5.35.11/Test2/Formatter/TAP.pm line 156.
Wide character in print at /home/sand/src/perl/repoperls/installed-perls/host/k93focal/v5.35.11/d3e4/lib/5.35.11/Test2/Formatter/TAP.pm line 125.
# Take the time to make some sense => äðkᥱâÂÂtheâÂÂtiâÂ
¿ÃµâÂÂtÿâÂÂâÂ
¿ÃÂkeâÂÂsà ´ âÂ
¿eâÂÂsᥱnsõ
Wide character in print at /home/sand/src/perl/repoperls/installed-perls/host/k93focal/v5.35.11/d3e4/lib/5.35.11/Test2/Formatter/TAP.pm line 156.
Wide character in print at /home/sand/src/perl/repoperls/installed-perls/host/k93focal/v5.35.11/d3e4/lib/5.35.11/Test2/Formatter/TAP.pm line 125.
# Of what you want to say, => ÃÂfâÂÂá´¡hÃÂtâÂÂÃÂÿá¥ÂâÂÂá´¡aá¥ÂtâÂÂtoâÂÂsðỿâÂÂ
Wide character in print at /home/sand/src/perl/repoperls/installed-perls/host/k93focal/v5.35.11/d3e4/lib/5.35.11/Test2/Formatter/TAP.pm line 156.
Wide character in print at /home/sand/src/perl/repoperls/installed-perls/host/k93focal/v5.35.11/d3e4/lib/5.35.11/Test2/Formatter/TAP.pm line 125.
# Of what you want to say, => ÃÂfâ¯ᴡhatâÂÂỿâ²Âuâ¯ᴡantâÂÂ
to saỿ,
Wide character in print at /home/sand/src/perl/repoperls/installed-perls/host/k93focal/v5.35.11/d3e4/lib/5.35.11/Test2/Formatter/TAP.pm line 156.
Wide character in print at /home/sand/src/perl/repoperls/installed-perls/host/k93focal/v5.35.11/d3e4/lib/5.35.11/Test2/Formatter/TAP.pm line 125.
# Of what you want to say, => â²Âf á´¡hatâÂÂ
ÃÂÿá¥ÂâÂÂwÃÂntâÂÂtoâÂÂsÃÂỿï¼Â
Wide character in print at /home/sand/src/perl/repoperls/installed-perls/host/k93focal/v5.35.11/d3e4/lib/5.35.11/Test2/Formatter/TAP.pm line 156.
Wide character in print at /home/sand/src/perl/repoperls/installed-perls/host/k93focal/v5.35.11/d3e4/lib/5.35.11/Test2/Formatter/TAP.pm line 125.
# Of what you want to say, => OfâÂÂwhðtâÂÂỿâ²ÂuâÂÂwðá¥ÂtâÂÂtoâÂÂsaỿâÂÂ
Wide character in print at /home/sand/src/perl/repoperls/installed-perls/host/k93focal/v5.35.11/d3e4/lib/5.35.11/Test2/Formatter/TAP.pm line 156.
Wide character in print at /home/sand/src/perl/repoperls/installed-perls/host/k93focal/v5.35.11/d3e4/lib/5.35.11/Test2/Formatter/TAP.pm line 125.
# Of what you want to say, => OfâÂÂᴡûÃÂtâÂÂyÿá¥ÂàᴡðntâÂÂtâ²ÂâÂÂsaÃÂá§
Wide character in print at /home/sand/src/perl/repoperls/installed-perls/host/k93focal/v5.35.11/d3e4/lib/5.35.11/Test2/Formatter/TAP.pm line 156.
Wide character in print at /home/sand/src/perl/repoperls/installed-perls/host/k93focal/v5.35.11/d3e4/lib/5.35.11/Test2/Formatter/TAP.pm line 125.
# Of what you want to say, => OfâÂÂᴡûatâÂÂyþá¥ÂâÂÂwantâÂÂtoâÂÂ
say,
Wide character in print at /home/sand/src/perl/repoperls/installed-perls/host/k93focal/v5.35.11/d3e4/lib/5.35.11/Test2/Formatter/TAP.pm line 156.
Wide character in print at /home/sand/src/perl/repoperls/installed-perls/host/k93focal/v5.35.11/d3e4/lib/5.35.11/Test2/Formatter/TAP.pm line 125.
# Of what you want to say, => OfâÂÂᴡûðtâÂÂyà ´ âªâÂÂ
ᴡðntâÂÂtþâÂÂÃÂðy,
Wide character in print at /home/sand/src/perl/repoperls/installed-perls/host/k93focal/v5.35.11/d3e4/lib/5.35.11/Test2/Formatter/TAP.pm line 156.
Wide character in print at /home/sand/src/perl/repoperls/installed-perls/host/k93focal/v5.35.11/d3e4/lib/5.35.11/Test2/Formatter/TAP.pm line 125.
# Of what you want to say, => ÃÂfâÂÂwûÃÂt ÃÂà ´ uâÂÂá´¡antâÂÂtÿâÂÂsaÃÂÃÂ
Wide character in print at /home/sand/src/perl/repoperls/installed-perls/host/k93focal/v5.35.11/d3e4/lib/5.35.11/Test2/Formatter/TAP.pm line 156.
Wide character in print at /home/sand/src/perl/repoperls/installed-perls/host/k93focal/v5.35.11/d3e4/lib/5.35.11/Test2/Formatter/TAP.pm line 125.
# Of what you want to say, => ÃÂfâÂÂᴡûÃÂtâÂ¯á»¿à ´ uâÂÂwðntâÂÂtoâ¯ÃÂÃÂỿâÂÂ
Wide character in print at /home/sand/src/perl/repoperls/installed-perls/host/k93focal/v5.35.11/d3e4/lib/5.35.11/Test2/Formatter/TAP.pm line 156.
Wide character in print at /home/sand/src/perl/repoperls/installed-perls/host/k93focal/v5.35.11/d3e4/lib/5.35.11/Test2/Formatter/TAP.pm line 125.
# Of what you want to say, => ÃÂfâÂÂwhÃÂtâ¯ỿþ⪠waá¥ÂtâÂÂtÿâÂÂsÃÂỿá§
Wide character in print at /home/sand/src/perl/repoperls/installed-perls/host/k93focal/v5.35.11/d3e4/lib/5.35.11/Test2/Formatter/TAP.pm line 156.
Wide character in print at /home/sand/src/perl/repoperls/installed-perls/host/k93focal/v5.35.11/d3e4/lib/5.35.11/Test2/Formatter/TAP.pm line 125.
# And cast your words away upon the waves. => áªá¥ÂdâÂÂÃÂaÃÂtâÂÂỿÿurâÂÂwordsâÂÂaá´¡ÃÂỿâÂÂupà ´ nâÂÂthe wÃÂâ¨esï¼Â
Wide character in print at /home/sand/src/perl/repoperls/installed-perls/host/k93focal/v5.35.11/d3e4/lib/5.35.11/Test2/Formatter/TAP.pm line 156.
Wide character in print at /home/sand/src/perl/repoperls/installed-perls/host/k93focal/v5.35.11/d3e4/lib/5.35.11/Test2/Formatter/TAP.pm line 125.
# And cast your words away upon the waves. => áªá¥ÂâÂ
¾âÂÂcÃÂstâÂÂyà ´ urâÂÂá´¡à ´ rdÃÂâÂÂðwayâÂÂupoá¥ÂâÂÂ
tûõâÂÂwaá´ es.
Wide character in print at /home/sand/src/perl/repoperls/installed-perls/host/k93focal/v5.35.11/d3e4/lib/5.35.11/Test2/Formatter/TAP.pm line 156.
Wide character in print at /home/sand/src/perl/repoperls/installed-perls/host/k93focal/v5.35.11/d3e4/lib/5.35.11/Test2/Formatter/TAP.pm line 125.
# And cast your words away upon the waves. => ÃÂnÃÂâÂÂcðstâÂÂỿâ²Âá¥ÂrâÂÂworÃÂsâÂÂðᴡÃÂỿâÂÂuâ²£on thõâÂÂ
ᴡðvesï¼Â
Wide character in print at /home/sand/src/perl/repoperls/installed-perls/host/k93focal/v5.35.11/d3e4/lib/5.35.11/Test2/Formatter/TAP.pm line 156.
Wide character in print at /home/sand/src/perl/repoperls/installed-perls/host/k93focal/v5.35.11/d3e4/lib/5.35.11/Test2/Formatter/TAP.pm line 125.
# And cast your words away upon the waves. => ÃÂá¥ÂÃÂâÂÂcÃÂstâÂÂ
yÿâªrâÂÂᴡþrâÂ
¾ÃÂâ¯aᴡðÃÂâÂÂuÃÂà ´ nâ¯thõâÂÂwaá´ esâ¤
Wide character in print at /home/sand/src/perl/repoperls/installed-perls/host/k93focal/v5.35.11/d3e4/lib/5.35.11/Test2/Formatter/TAP.pm line 156.
Wide character in print at /home/sand/src/perl/repoperls/installed-perls/host/k93focal/v5.35.11/d3e4/lib/5.35.11/Test2/Formatter/TAP.pm line 125.
# And cast your words away upon the waves. => Aá¥ÂâÂ
¾âÂÂòastâÂÂyâ²Âur wâ²ÂrÃÂsâÂÂaá´¡aÃÂâÂÂuponâÂÂtûᥱâÂÂᴡðvᥱs.
Wide character in print at /home/sand/src/perl/repoperls/installed-perls/host/k93focal/v5.35.11/d3e4/lib/5.35.11/Test2/Formatter/TAP.pm line 156.
Wide character in print at /home/sand/src/perl/repoperls/installed-perls/host/k93focal/v5.35.11/d3e4/lib/5.35.11/Test2/Formatter/TAP.pm line 125.
# And cast your words away upon the waves. => áªnâÂ
¾âÂÂÃÂðst yþá¥ÂrâÂÂᴡÿrÃÂsâÂÂaᴡðÃÂâÂÂá¥ÂponâÂÂtheâÂÂ
á´¡ÃÂᴠõÃÂâ¤
Wide character in print at /home/sand/src/perl/repoperls/installed-perls/host/k93focal/v5.35.11/d3e4/lib/5.35.11/Test2/Formatter/TAP.pm line 156.
Wide character in print at /home/sand/src/perl/repoperls/installed-perls/host/k93focal/v5.35.11/d3e4/lib/5.35.11/Test2/Formatter/TAP.pm line 125.
# And cast your words away upon the waves. => ÃÂá¥ÂâÂ
¾â¯ÃÂðst yÿurâÂÂwà ´ rdÃÂâÂÂðwaỿâ¯upâ²Âá¥ÂâÂÂtûõ á´¡aâÂÂõsâ¤
Wide character in print at /home/sand/src/perl/repoperls/installed-perls/host/k93focal/v5.35.11/d3e4/lib/5.35.11/Test2/Formatter/TAP.pm line 156.
Wide character in print at /home/sand/src/perl/repoperls/installed-perls/host/k93focal/v5.35.11/d3e4/lib/5.35.11/Test2/Formatter/TAP.pm line 125.
# And cast your words away upon the waves. => Aá¥ÂÃÂâÂÂâÂ
½ÃÂstâ¯ÃÂourâÂÂᴡÿrÃÂsàawðyâ¯uÃÂà ´ nâÂÂtûᥱâ¯ᴡðvõÃÂ.
Wide character in print at /home/sand/src/perl/repoperls/installed-perls/host/k93focal/v5.35.11/d3e4/lib/5.35.11/Test2/Formatter/TAP.pm line 156.
Wide character in print at /home/sand/src/perl/repoperls/installed-perls/host/k93focal/v5.35.11/d3e4/lib/5.35.11/Test2/Formatter/TAP.pm line 125.
# And cast your words away upon the waves. => ÃÂnÃÂâÂÂòÃÂstâÂÂyÿá¥ÂrâÂÂᴡÿrâÂ
¾Ã aá´¡aỿâÂÂuâ²£à ´ á¥ÂâÂÂtûõâÂÂ
á´¡avõÃÂâ¤
Wide character in print at /home/sand/src/perl/repoperls/installed-perls/host/k93focal/v5.35.11/d3e4/lib/5.35.11/Test2/Formatter/TAP.pm line 156.
Wide character in print at /home/sand/src/perl/repoperls/installed-perls/host/k93focal/v5.35.11/d3e4/lib/5.35.11/Test2/Formatter/TAP.pm line 125.
# And cast your words away upon the waves. => ÃÂndâÂÂÃÂÃÂstâÂÂyâ²Âá¥ÂrâÂÂᴡÿrâÂ
¾sâÂÂðᴡÃÂÃÂàâªÃÂà ´ á¥ÂâÂÂtheâÂÂᴡðâ¨es.
Wide character in print at /home/sand/src/perl/repoperls/installed-perls/host/k93focal/v5.35.11/d3e4/lib/5.35.11/Test2/Formatter/TAP.pm line 156.
Wide character in print at /home/sand/src/perl/repoperls/installed-perls/host/k93focal/v5.35.11/d3e4/lib/5.35.11/Test2/Formatter/TAP.pm line 125.
# Sail them home with acquiesce, => ÃÂ
ÃÂilâÂÂtheâÂ
¿âÂÂûÿmõâÂÂá´¡itÃȉÂÂaòqâªiesÃÂõ,
Wide character in print at /home/sand/src/perl/repoperls/installed-perls/host/k93focal/v5.35.11/d3e4/lib/5.35.11/Test2/Formatter/TAP.pm line 156.
Wide character in print at /home/sand/src/perl/repoperls/installed-perls/host/k93focal/v5.35.11/d3e4/lib/5.35.11/Test2/Formatter/TAP.pm line 125.
# Sail them home with acquiesce, => áÂÂðâÂ
°lâÂÂthemâÂÂûþme á´¡itÃȉÂÂÃÂòquâÂ
°esÃÂõâÂÂ
Wide character in print at /home/sand/src/perl/repoperls/installed-perls/host/k93focal/v5.35.11/d3e4/lib/5.35.11/Test2/Formatter/TAP.pm line 156.
Wide character in print at /home/sand/src/perl/repoperls/installed-perls/host/k93focal/v5.35.11/d3e4/lib/5.35.11/Test2/Formatter/TAP.pm line 125.
# Sail them home with acquiesce, => SaiâÂ
¼âÂÂtûᥱâÂ
¿â¯hoâÂ
¿ÃµâÂÂwâÂ
°tÃȉÂÂÃÂòquÃÂõscõÃÂ
Wide character in print at /home/sand/src/perl/repoperls/installed-perls/host/k93focal/v5.35.11/d3e4/lib/5.35.11/Test2/Formatter/TAP.pm line 156.
Wide character in print at /home/sand/src/perl/repoperls/installed-perls/host/k93focal/v5.35.11/d3e4/lib/5.35.11/Test2/Formatter/TAP.pm line 125.
# Sail them home with acquiesce, => ÃÂ
ailâÂÂtûemâÂÂûÿâÂ
¿á¥±âÂÂá´¡âÂ
°tÃȉÂÂacquâÂ
°esâÂ
½á¥±,
Wide character in print at /home/sand/src/perl/repoperls/installed-perls/host/k93focal/v5.35.11/d3e4/lib/5.35.11/Test2/Formatter/TAP.pm line 156.
Wide character in print at /home/sand/src/perl/repoperls/installed-perls/host/k93focal/v5.35.11/d3e4/lib/5.35.11/Test2/Formatter/TAP.pm line 125.
# Sail them home with acquiesce, => ÃÂ
ðÃÂâÂ
¼âÂÂthemâÂÂ
ûomõâÂÂwÃÂtÃȉ¯ðòquiᥱsòᥱ,
Wide character in print at /home/sand/src/perl/repoperls/installed-perls/host/k93focal/v5.35.11/d3e4/lib/5.35.11/Test2/Formatter/TAP.pm line 156.
Wide character in print at /home/sand/src/perl/repoperls/installed-perls/host/k93focal/v5.35.11/d3e4/lib/5.35.11/Test2/Formatter/TAP.pm line 125.
# Sail them home with acquiesce, => áÂÂðâÂ
°âÂ
¼âÂÂtûõâÂ
¿âÂÂhoâÂ
¿eâÂÂ
á´¡âÂ
°thâÂÂ
ÃÂcquâÂ
°á¥±sâÂ
½Ãµá§
Wide character in print at /home/sand/src/perl/repoperls/installed-perls/host/k93focal/v5.35.11/d3e4/lib/5.35.11/Test2/Formatter/TAP.pm line 156.
Wide character in print at /home/sand/src/perl/repoperls/installed-perls/host/k93focal/v5.35.11/d3e4/lib/5.35.11/Test2/Formatter/TAP.pm line 125.
# Sail them home with acquiesce, => áÂÂðÃÂâÂ
¼âÂÂtûᥱmâÂÂûþâÂ
¿ÃµâÂÂá´¡itÃȉ¯aòquâÂ
°Ãµscõ,
Wide character in print at /home/sand/src/perl/repoperls/installed-perls/host/k93focal/v5.35.11/d3e4/lib/5.35.11/Test2/Formatter/TAP.pm line 156.
Wide character in print at /home/sand/src/perl/repoperls/installed-perls/host/k93focal/v5.35.11/d3e4/lib/5.35.11/Test2/Formatter/TAP.pm line 125.
# Sail them home with acquiesce, => áÂÂaÃÂlâ¯thõmàhâ²ÂmõâÂÂá´¡ithâÂÂaâÂ
½quâÂ
°Ãµsòeá§
Wide character in print at /home/sand/src/perl/repoperls/installed-perls/host/k93focal/v5.35.11/d3e4/lib/5.35.11/Test2/Formatter/TAP.pm line 156.
Wide character in print at /home/sand/src/perl/repoperls/installed-perls/host/k93focal/v5.35.11/d3e4/lib/5.35.11/Test2/Formatter/TAP.pm line 125.
# Sail them home with acquiesce, => áÂÂðilâÂÂthõâÂ
¿ hþmᥱâÂÂá´¡ithâ¯aâÂ
½quiõÃÂÃÂᥱÃÂ
Wide character in print at /home/sand/src/perl/repoperls/installed-perls/host/k93focal/v5.35.11/d3e4/lib/5.35.11/Test2/Formatter/TAP.pm line 156.
Wide character in print at /home/sand/src/perl/repoperls/installed-perls/host/k93focal/v5.35.11/d3e4/lib/5.35.11/Test2/Formatter/TAP.pm line 125.
# Sail them home with acquiesce, => áÂÂðilâÂÂtûᥱmâÂÂûÿâÂ
¿á¥±âÂÂ
witÃȉÂÂÃÂòqá¥ÂÃÂescõÃÂ
Wide character in print at /home/sand/src/perl/repoperls/installed-perls/host/k93focal/v5.35.11/d3e4/lib/5.35.11/Test2/Formatter/TAP.pm line 156.
Wide character in print at /home/sand/src/perl/repoperls/installed-perls/host/k93focal/v5.35.11/d3e4/lib/5.35.11/Test2/Formatter/TAP.pm line 125.
# On a ship of hope today => ÃÂá¥ÂâÂÂðâÂÂÃÂhâÂ
°ÃÂâÂÂ
ofâÂÂhâ²ÂpõâÂÂtþâÂ
¾ay
Wide character in print at /home/sand/src/perl/repoperls/installed-perls/host/k93focal/v5.35.11/d3e4/lib/5.35.11/Test2/Formatter/TAP.pm line 156.
Wide character in print at /home/sand/src/perl/repoperls/installed-perls/host/k93focal/v5.35.11/d3e4/lib/5.35.11/Test2/Formatter/TAP.pm line 125.
# On a ship of hope today => ÃÂnâÂÂðâÂÂshÃÂpâÂÂ
â²ÂfÃ Ã»à ´ peâÂÂtÿdðỿ
Wide character in print at /home/sand/src/perl/repoperls/installed-perls/host/k93focal/v5.35.11/d3e4/lib/5.35.11/Test2/Formatter/TAP.pm line 156.
Wide character in print at /home/sand/src/perl/repoperls/installed-perls/host/k93focal/v5.35.11/d3e4/lib/5.35.11/Test2/Formatter/TAP.pm line 125.
# On a ship of hope today => â²Âá¥ÂâÂÂaâÂÂshâÂ
°ÃÂâÂÂâ²ÂfâÂÂûþpᥱâ¯tâ²ÂÃÂay
Wide character in print at /home/sand/src/perl/repoperls/installed-perls/host/k93focal/v5.35.11/d3e4/lib/5.35.11/Test2/Formatter/TAP.pm line 156.
Wide character in print at /home/sand/src/perl/repoperls/installed-perls/host/k93focal/v5.35.11/d3e4/lib/5.35.11/Test2/Formatter/TAP.pm line 125.
# On a ship of hope today => Oá¥ÂâÂÂaâÂÂsÃȉÂ
°ÃÂâÂÂþfàûþⲣõâÂÂtodÃÂy
Wide character in print at /home/sand/src/perl/repoperls/installed-perls/host/k93focal/v5.35.11/d3e4/lib/5.35.11/Test2/Formatter/TAP.pm line 156.
Wide character in print at /home/sand/src/perl/repoperls/installed-perls/host/k93focal/v5.35.11/d3e4/lib/5.35.11/Test2/Formatter/TAP.pm line 125.
# On a ship of hope today => ÃÂnâÂÂ
ÃÂàshâÂ
°â²£âÂÂâ²ÂfâÂÂûâ²ÂÃÂõâÂÂtâ²ÂÃÂaỿ
Wide character in print at /home/sand/src/perl/repoperls/installed-perls/host/k93focal/v5.35.11/d3e4/lib/5.35.11/Test2/Formatter/TAP.pm line 156.
Wide character in print at /home/sand/src/perl/repoperls/installed-perls/host/k93focal/v5.35.11/d3e4/lib/5.35.11/Test2/Formatter/TAP.pm line 125.
# On a ship of hope today => ÃÂá¥ÂâÂÂÃÂâÂÂ
sûÃÂâ²£âÂÂþfàûâ²ÂpeâÂÂ
tþâÂ
¾Ã°y
Wide character in print at /home/sand/src/perl/repoperls/installed-perls/host/k93focal/v5.35.11/d3e4/lib/5.35.11/Test2/Formatter/TAP.pm line 156.
Wide character in print at /home/sand/src/perl/repoperls/installed-perls/host/k93focal/v5.35.11/d3e4/lib/5.35.11/Test2/Formatter/TAP.pm line 125.
# On a ship of hope today => â²ÂnâÂÂÃÂâÂÂshipâ¯ofâÂÂûâ²Âpeàtâ²ÂdaÃÂ
Wide character in print at /home/sand/src/perl/repoperls/installed-perls/host/k93focal/v5.35.11/d3e4/lib/5.35.11/Test2/Formatter/TAP.pm line 156.
Wide character in print at /home/sand/src/perl/repoperls/installed-perls/host/k93focal/v5.35.11/d3e4/lib/5.35.11/Test2/Formatter/TAP.pm line 125.
# On a ship of hope today => OnâÂÂàÃÂhÃÂâ²£âÂÂþfâÂÂûoⲣᥱâÂÂtodaÃÂ
Wide character in print at /home/sand/src/perl/repoperls/installed-perls/host/k93focal/v5.35.11/d3e4/lib/5.35.11/Test2/Formatter/TAP.pm line 156.
Wide character in print at /home/sand/src/perl/repoperls/installed-perls/host/k93focal/v5.35.11/d3e4/lib/5.35.11/Test2/Formatter/TAP.pm line 125.
# On a ship of hope today => ÃÂá¥ÂâÂÂÃÂâÂÂshÃÂpâÂÂà ´ fâÂÂ
hà ´ ÃÂeâ¯tâ²Âdaỿ
Wide character in print at /home/sand/src/perl/repoperls/installed-perls/host/k93focal/v5.35.11/d3e4/lib/5.35.11/Test2/Formatter/TAP.pm line 156.
Wide character in print at /home/sand/src/perl/repoperls/installed-perls/host/k93focal/v5.35.11/d3e4/lib/5.35.11/Test2/Formatter/TAP.pm line 125.
# On a ship of hope today => â²Âá¥ÂâÂÂÃÂâÂÂsûip þfâÂÂhâ²ÂpᥱâÂÂtâ²Âdðỿ
Wide character in print at /home/sand/src/perl/repoperls/installed-perls/host/k93focal/v5.35.11/d3e4/lib/5.35.11/Test2/Formatter/TAP.pm line 156.
Wide character in print at /home/sand/src/perl/repoperls/installed-perls/host/k93focal/v5.35.11/d3e4/lib/5.35.11/Test2/Formatter/TAP.pm line 125.
# And as they land upon the shore => ÃÂnâÂ
¾âÂÂðsàtûeỿâÂÂâÂ
¼andâÂÂuⲣÿá¥ÂâÂÂtûeâÂÂÃÂhà ´ rõ
Wide character in print at /home/sand/src/perl/repoperls/installed-perls/host/k93focal/v5.35.11/d3e4/lib/5.35.11/Test2/Formatter/TAP.pm line 156.
Wide character in print at /home/sand/src/perl/repoperls/installed-perls/host/k93focal/v5.35.11/d3e4/lib/5.35.11/Test2/Formatter/TAP.pm line 125.
# And as they land upon the shore => áªnÃÂâÂÂðsâÂÂtheyâÂÂâÂ
¼ÃÂnÃÂâÂÂuÃÂâ²ÂnâÂÂtûeâÂÂ
shà ´ rõ
Wide character in print at /home/sand/src/perl/repoperls/installed-perls/host/k93focal/v5.35.11/d3e4/lib/5.35.11/Test2/Formatter/TAP.pm line 156.
Wide character in print at /home/sand/src/perl/repoperls/installed-perls/host/k93focal/v5.35.11/d3e4/lib/5.35.11/Test2/Formatter/TAP.pm line 125.
# And as they land upon the shore => AnÃÂâ¯ðÃÂâÂÂtûõỿâ¯âÂ
¼anâÂ
¾Ã âªpÿnâÂÂ
tûõàsÃ»à ´ rõ
Wide character in print at /home/sand/src/perl/repoperls/installed-perls/host/k93focal/v5.35.11/d3e4/lib/5.35.11/Test2/Formatter/TAP.pm line 156.
Wide character in print at /home/sand/src/perl/repoperls/installed-perls/host/k93focal/v5.35.11/d3e4/lib/5.35.11/Test2/Formatter/TAP.pm line 125.
# And as they land upon the shore => Aá¥ÂdâÂÂasàtûõÃÂâÂÂâÂ
¼ÃÂnÃÂâ¯uÃÂà ´ nâÂÂtûᥱâÂÂÃÂûâ²Ârõ
Wide character in print at /home/sand/src/perl/repoperls/installed-perls/host/k93focal/v5.35.11/d3e4/lib/5.35.11/Test2/Formatter/TAP.pm line 156.
Wide character in print at /home/sand/src/perl/repoperls/installed-perls/host/k93focal/v5.35.11/d3e4/lib/5.35.11/Test2/Formatter/TAP.pm line 125.
# And as they land upon the shore => ÃÂá¥ÂâÂ
¾âÂÂðÃÂâÂÂtûõỿâÂÂâÂ
¼ÃÂá¥ÂÃÂâÂÂâªÃÂþnâÂÂtheâÂÂshà ´ rõ
Wide character in print at /home/sand/src/perl/repoperls/installed-perls/host/k93focal/v5.35.11/d3e4/lib/5.35.11/Test2/Formatter/TAP.pm line 156.
Wide character in print at /home/sand/src/perl/repoperls/installed-perls/host/k93focal/v5.35.11/d3e4/lib/5.35.11/Test2/Formatter/TAP.pm line 125.
# And as they land upon the shore => ÃÂndâÂÂÃÂÃÂâÂÂtûeÃÂâÂÂâÂ
¼ÃÂá¥ÂâÂ
¾âÂÂâªpÿá¥ÂâÂÂtûõâÂÂ
ÃÂûorᥱ
Wide character in print at /home/sand/src/perl/repoperls/installed-perls/host/k93focal/v5.35.11/d3e4/lib/5.35.11/Test2/Formatter/TAP.pm line 156.
Wide character in print at /home/sand/src/perl/repoperls/installed-perls/host/k93focal/v5.35.11/d3e4/lib/5.35.11/Test2/Formatter/TAP.pm line 125.
# And as they land upon the shore => ÃÂndâ¯ÃÂÃÂâÂÂtûeỿâÂÂlðnÃÂâÂÂupÿá¥ÂâÂÂthᥱâÂÂshþre
Wide character in print at /home/sand/src/perl/repoperls/installed-perls/host/k93focal/v5.35.11/d3e4/lib/5.35.11/Test2/Formatter/TAP.pm line 156.
Wide character in print at /home/sand/src/perl/repoperls/installed-perls/host/k93focal/v5.35.11/d3e4/lib/5.35.11/Test2/Formatter/TAP.pm line 125.
# And as they land upon the shore => áªnÃÂâÂÂÃÂÃÂâÂÂthᥱàâÂ
¼Ã°á¥ÂâÂ
¾ âÂªâ²£à ´ nàthõâÂÂshÿre
Wide character in print at /home/sand/src/perl/repoperls/installed-perls/host/k93focal/v5.35.11/d3e4/lib/5.35.11/Test2/Formatter/TAP.pm line 156.
Wide character in print at /home/sand/src/perl/repoperls/installed-perls/host/k93focal/v5.35.11/d3e4/lib/5.35.11/Test2/Formatter/TAP.pm line 125.
# And as they land upon the shore => áªndâÂÂ
as tûõỿâÂÂlÃÂá¥ÂÃÂâÂÂâªⲣoá¥ÂâÂÂtheàshþrᥱ
Wide character in print at /home/sand/src/perl/repoperls/installed-perls/host/k93focal/v5.35.11/d3e4/lib/5.35.11/Test2/Formatter/TAP.pm line 156.
Wide character in print at /home/sand/src/perl/repoperls/installed-perls/host/k93focal/v5.35.11/d3e4/lib/5.35.11/Test2/Formatter/TAP.pm line 125.
# And as they land upon the shore => ÃÂá¥ÂâÂ
¾âÂÂasâÂÂtûõÃÂâÂÂlðá¥Âdàâªpâ²Âá¥ÂâÂÂthᥱâÂÂshÿre
Wide character in print at /home/sand/src/perl/repoperls/installed-perls/host/k93focal/v5.35.11/d3e4/lib/5.35.11/Test2/Formatter/TAP.pm line 156.
Wide character in print at /home/sand/src/perl/repoperls/installed-perls/host/k93focal/v5.35.11/d3e4/lib/5.35.11/Test2/Formatter/TAP.pm line 125.
# Tell them not to fear no more => âõllâÂÂ
theâÂ
¿âÂÂnÿtâÂÂtoâÂÂfõarâÂÂ
á¥ÂoâÂÂâÂ
¿Ã¾rõ
Wide character in print at /home/sand/src/perl/repoperls/installed-perls/host/k93focal/v5.35.11/d3e4/lib/5.35.11/Test2/Formatter/TAP.pm line 156.
Wide character in print at /home/sand/src/perl/repoperls/installed-perls/host/k93focal/v5.35.11/d3e4/lib/5.35.11/Test2/Formatter/TAP.pm line 125.
# Tell them not to fear no more => âõâÂ
¼lâÂÂtûõmànâ²ÂtâÂÂtoâÂÂfearâÂÂá¥ÂÿâÂÂâÂ
¿orõ
Wide character in print at /home/sand/src/perl/repoperls/installed-perls/host/k93focal/v5.35.11/d3e4/lib/5.35.11/Test2/Formatter/TAP.pm line 156.
Wide character in print at /home/sand/src/perl/repoperls/installed-perls/host/k93focal/v5.35.11/d3e4/lib/5.35.11/Test2/Formatter/TAP.pm line 125.
# Tell them not to fear no more => âᥱâÂ
¼l tûõmâÂÂá¥ÂÿtâÂÂtþâÂÂfearâÂÂá¥Ââ² morᥱ
Wide character in print at /home/sand/src/perl/repoperls/installed-perls/host/k93focal/v5.35.11/d3e4/lib/5.35.11/Test2/Formatter/TAP.pm line 156.
Wide character in print at /home/sand/src/perl/repoperls/installed-perls/host/k93focal/v5.35.11/d3e4/lib/5.35.11/Test2/Formatter/TAP.pm line 125.
# Tell them not to fear no more => âõlâÂ
¼âÂÂthõâÂ
¿âÂÂá¥ÂotâÂÂtÿâÂÂfᥱÃÂrâÂÂnÿâÂÂâÂ
¿Ã¾re
Wide character in print at /home/sand/src/perl/repoperls/installed-perls/host/k93focal/v5.35.11/d3e4/lib/5.35.11/Test2/Formatter/TAP.pm line 156.
Wide character in print at /home/sand/src/perl/repoperls/installed-perls/host/k93focal/v5.35.11/d3e4/lib/5.35.11/Test2/Formatter/TAP.pm line 125.
# Tell them not to fear no more => á¢õllâÂÂtûᥱmâ¯á¥ÂotâÂÂto fᥱÃÂrâ¯noâÂÂmore
Wide character in print at /home/sand/src/perl/repoperls/installed-perls/host/k93focal/v5.35.11/d3e4/lib/5.35.11/Test2/Formatter/TAP.pm line 156.
Wide character in print at /home/sand/src/perl/repoperls/installed-perls/host/k93focal/v5.35.11/d3e4/lib/5.35.11/Test2/Formatter/TAP.pm line 125.
# Tell them not to fear no more => á¢eâÂ
¼lâÂÂtûõmâÂÂá¥Âà ´ tâÂÂtà ´ âÂÂfᥱðràá¥ÂoâÂÂâÂ
¿orᥱ
Wide character in print at /home/sand/src/perl/repoperls/installed-perls/host/k93focal/v5.35.11/d3e4/lib/5.35.11/Test2/Formatter/TAP.pm line 156.
Wide character in print at /home/sand/src/perl/repoperls/installed-perls/host/k93focal/v5.35.11/d3e4/lib/5.35.11/Test2/Formatter/TAP.pm line 125.
# Tell them not to fear no more => äõâÂ
¼âÂ
¼ thõâÂ
¿âÂÂá¥Âþt tþâÂÂfeðrâÂÂnâ²ÂâÂÂâÂ
¿â²Ârõ
Wide character in print at /home/sand/src/perl/repoperls/installed-perls/host/k93focal/v5.35.11/d3e4/lib/5.35.11/Test2/Formatter/TAP.pm line 156.
Wide character in print at /home/sand/src/perl/repoperls/installed-perls/host/k93focal/v5.35.11/d3e4/lib/5.35.11/Test2/Formatter/TAP.pm line 125.
# Tell them not to fear no more => âeâÂ
¼l themâÂÂnþtâÂÂtà ´ feÃÂrâÂÂá¥Ââ²ÂâÂÂâÂ
¿Ã¾re
Wide character in print at /home/sand/src/perl/repoperls/installed-perls/host/k93focal/v5.35.11/d3e4/lib/5.35.11/Test2/Formatter/TAP.pm line 156.
Wide character in print at /home/sand/src/perl/repoperls/installed-perls/host/k93focal/v5.35.11/d3e4/lib/5.35.11/Test2/Formatter/TAP.pm line 125.
# Tell them not to fear no more => äõâÂ
¼âÂ
¼âÂÂtûemâÂÂá¥ÂotàtoâÂÂfeÃÂrâÂÂnà ´ âÂÂâÂ
¿orõ
Wide character in print at /home/sand/src/perl/repoperls/installed-perls/host/k93focal/v5.35.11/d3e4/lib/5.35.11/Test2/Formatter/TAP.pm line 156.
Wide character in print at /home/sand/src/perl/repoperls/installed-perls/host/k93focal/v5.35.11/d3e4/lib/5.35.11/Test2/Formatter/TAP.pm line 125.
# Tell them not to fear no more => TeâÂ
¼âÂ
¼â¯theâÂ
¿âÂÂnþtâÂÂtà ´ âÂÂfeÃÂrâ¯nþâÂÂâÂ
¿à ´ rᥱ
Wide character in print at /home/sand/src/perl/repoperls/installed-perls/host/k93focal/v5.35.11/d3e4/lib/5.35.11/Test2/Formatter/TAP.pm line 156.
Wide character in print at /home/sand/src/perl/repoperls/installed-perls/host/k93focal/v5.35.11/d3e4/lib/5.35.11/Test2/Formatter/TAP.pm line 125.
# Say it loud and sing it proud today! => áÂÂðÃÂâÂÂ
ÃÂtâÂÂlÿâªdâÂÂðá¥ÂdâÂÂsináâÂÂâÂ
°tâÂÂprâ²ÂâªâÂ
¾âÂÂtâ²ÂdÃÂyï¼Â
Wide character in print at /home/sand/src/perl/repoperls/installed-perls/host/k93focal/v5.35.11/d3e4/lib/5.35.11/Test2/Formatter/TAP.pm line 156.
Wide character in print at /home/sand/src/perl/repoperls/installed-perls/host/k93focal/v5.35.11/d3e4/lib/5.35.11/Test2/Formatter/TAP.pm line 125.
# Say it loud and sing it proud today! => ÃÂ
ðyâÂÂâÂ
°tâÂÂloá¥ÂdâÂÂðnâÂ
¾âÂÂ
sináâ¯itàprà ´ âªÃÂâÂÂtþâÂ
¾Ã°ÃÂï¼Â
Wide character in print at /home/sand/src/perl/repoperls/installed-perls/host/k93focal/v5.35.11/d3e4/lib/5.35.11/Test2/Formatter/TAP.pm line 156.
Wide character in print at /home/sand/src/perl/repoperls/installed-perls/host/k93focal/v5.35.11/d3e4/lib/5.35.11/Test2/Formatter/TAP.pm line 125.
# Say it loud and sing it proud today! => SaÃÂâÂÂÃÂtâÂÂlÿâªâÂ
¾âÂÂÃÂnÃÂâÂÂÃÂÃÂnáâÂÂÃÂtâÂÂâ²£rÿâªâÂ
¾âÂÂtâ²Âdðyï¼Â
Wide character in print at /home/sand/src/perl/repoperls/installed-perls/host/k93focal/v5.35.11/d3e4/lib/5.35.11/Test2/Formatter/TAP.pm line 156.
Wide character in print at /home/sand/src/perl/repoperls/installed-perls/host/k93focal/v5.35.11/d3e4/lib/5.35.11/Test2/Formatter/TAP.pm line 125.
# Say it loud and sing it proud today! => ÃÂ
ðỿâÂÂ
itâÂÂlþá¥ÂâÂ
¾âÂÂ
ðnÃÂâÂÂsiá¥ÂgâÂÂÃÂtâÂÂâ²£râ²ÂuÃÂâÂÂtà ´ day!
Wide character in print at /home/sand/src/perl/repoperls/installed-perls/host/k93focal/v5.35.11/d3e4/lib/5.35.11/Test2/Formatter/TAP.pm line 156.
Wide character in print at /home/sand/src/perl/repoperls/installed-perls/host/k93focal/v5.35.11/d3e4/lib/5.35.11/Test2/Formatter/TAP.pm line 125.
# Say it loud and sing it proud today! => áÂÂÃÂÃÂâÂÂÃÂtâÂÂlÿâªâÂ
¾âÂÂðá¥ÂâÂ
¾âÂÂsÃÂnáâÂÂ
it prà ´ á¥ÂdâÂÂtâ²ÂÃÂaỿÃÂ
Wide character in print at /home/sand/src/perl/repoperls/installed-perls/host/k93focal/v5.35.11/d3e4/lib/5.35.11/Test2/Formatter/TAP.pm line 156.
Wide character in print at /home/sand/src/perl/repoperls/installed-perls/host/k93focal/v5.35.11/d3e4/lib/5.35.11/Test2/Formatter/TAP.pm line 125.
# Say it loud and sing it proud today! => áÂÂÃÂỿâÂÂâÂ
°tâ¯âÂ
¼Ã¾uâÂ
¾âÂÂanÃÂâÂÂsâÂ
°á¥ÂáâÂÂitàÃÂrâ²ÂâªâÂ
¾Ã tþÃÂðÃÂ!
Wide character in print at /home/sand/src/perl/repoperls/installed-perls/host/k93focal/v5.35.11/d3e4/lib/5.35.11/Test2/Formatter/TAP.pm line 156.
Wide character in print at /home/sand/src/perl/repoperls/installed-perls/host/k93focal/v5.35.11/d3e4/lib/5.35.11/Test2/Formatter/TAP.pm line 125.
# Say it loud and sing it proud today! => SðỿâÂÂitâ¯lÿâªdâÂÂðnÃÂâÂÂÃÂiá¥ÂáâÂÂit ÃÂrþá¥ÂÃÂàtoÃÂðÃÂï¸Â
Wide character in print at /home/sand/src/perl/repoperls/installed-perls/host/k93focal/v5.35.11/d3e4/lib/5.35.11/Test2/Formatter/TAP.pm line 156.
Wide character in print at /home/sand/src/perl/repoperls/installed-perls/host/k93focal/v5.35.11/d3e4/lib/5.35.11/Test2/Formatter/TAP.pm line 125.
# Say it loud and sing it proud today! => SÃÂyâÂÂâÂ
°t lÿá¥ÂÃÂâÂÂðá¥ÂÃÂâÂÂÃÂâÂ
°náâÂÂÃÂtâÂÂÃÂroâªdâÂÂtâ²ÂÃÂaỿâµÂ
Wide character in print at /home/sand/src/perl/repoperls/installed-perls/host/k93focal/v5.35.11/d3e4/lib/5.35.11/Test2/Formatter/TAP.pm line 156.
Wide character in print at /home/sand/src/perl/repoperls/installed-perls/host/k93focal/v5.35.11/d3e4/lib/5.35.11/Test2/Formatter/TAP.pm line 125.
# Say it loud and sing it proud today! => ÃÂ
aÃÂàâÂ
°tâÂÂâÂ
¼Ã¾âªdâ¯ðndâÂÂsiá¥Âg ÃÂtâÂÂâ²£roá¥ÂâÂ
¾ toâÂ
¾Ã°yÃÂ
Wide character in print at /home/sand/src/perl/repoperls/installed-perls/host/k93focal/v5.35.11/d3e4/lib/5.35.11/Test2/Formatter/TAP.pm line 156.
Wide character in print at /home/sand/src/perl/repoperls/installed-perls/host/k93focal/v5.35.11/d3e4/lib/5.35.11/Test2/Formatter/TAP.pm line 125.
# Say it loud and sing it proud today! => áÂÂðyâÂÂâÂ
°tâÂÂlþuâÂ
¾âÂÂðnÃÂâÂÂÃÂiá¥ÂáâÂÂ
ÃÂtâÂÂprâ²ÂuâÂ
¾âÂÂtþdÃÂỿï¼Â
Wide character in print at /home/sand/src/perl/repoperls/installed-perls/host/k93focal/v5.35.11/d3e4/lib/5.35.11/Test2/Formatter/TAP.pm line 156.
t/01-usage.t ...... ok
t/manifest.t ...... skipped: Author tests not required for installation
t/pod-coverage.t .. skipped: Author tests not required for installation
t/pod.t ........... skipped: Author tests not required for installation
All tests successful.
Files=5, Tests=85, 1 wallclock secs ( 0.03 usr 0.01 sys + 0.28 cusr 0.08 csys = 0.40 CPU)
Result: PASS
------------------------------
PREREQUISITES
------------------------------
Prerequisite modules loaded:
requires:
Module Need Have
------------------- ----- --------
perl 5.006 5.035011
build_requires:
Module Need Have
------------------- ----- --------
Test::More 0 1.302190
configure_requires:
Module Need Have
------------------- ----- --------
ExtUtils::MakeMaker 0 7.64
------------------------------
ENVIRONMENT AND OTHER CONTEXT
------------------------------
Environment variables:
AUTOMATED_TESTING = 1
LANG = en_US.utf8
PATH = /home/sand/bin:/usr/local/bin:/usr/local/sbin:/usr/sbin:/usr/bin:/sbin:/bin:/usr/games:/usr/local/games:/snap/bin:/usr/local/perl/bin:/usr/X11/bin
PERL = /tmp/basesmoker-reloperl-d0Dr/bin/perl
PERL5LIB = /tmp/loop_over_bdir-111204-6eYGuI/DBIx-Migration-Directories-0.12-0/blib/arch:/tmp/loop_over_bdir-111204-6eYGuI/DBIx-Migration-Directories-0.12-0/blib/lib:/tmp/loop_over_bdir-111204-6eYGuI/Net-ISP-Balance-1.31-0/blib/arch:/tmp/loop_over_bdir-111204-6eYGuI/Net-ISP-Balance-1.31-0/blib/lib:/tmp/loop_over_bdir-111204-6eYGuI/triceps-2.1.0-0/blib/arch:/tmp/loop_over_bdir-111204-6eYGuI/triceps-2.1.0-0/blib/lib:/tmp/loop_over_bdir-111204-6eYGuI/Devel-Required-0.16-0/blib/arch:/tmp/loop_over_bdir-111204-6eYGuI/Devel-Required-0.16-0/blib/lib:/tmp/loop_over_bdir-111204-6eYGuI/Debian-Packages-0.03-0/blib/arch:/tmp/loop_over_bdir-111204-6eYGuI/Debian-Packages-0.03-0/blib/lib:/tmp/loop_over_bdir-111204-6eYGuI/Net-Async-WebService-lxd-0.02-0/blib/arch:/tmp/loop_over_bdir-111204-6eYGuI/Net-Async-WebService-lxd-0.02-0/blib/lib:/tmp/loop_over_bdir-111204-6eYGuI/App-rmcd-0.280-0/blib/arch:/tmp/loop_over_bdir-111204-6eYGuI/App-rmcd-0.280-0/blib/lib:/tmp/loop_over_bdir-111204-6eYGuI/Captive-Portal-4.10-0/blib/arch:/tmp/loop_over_bdir-111204-6eYGuI/Captive-Portal-4.10-0/blib/lib:/tmp/loop_over_bdir-111204-6eYGuI/Sysync-0.35-0/blib/arch:/tmp/loop_over_bdir-111204-6eYGuI/Sysync-0.35-0/blib/lib:/tmp/loop_over_bdir-111204-6eYGuI/LCFG-Build-Tools-0.9.30-0/blib/arch:/tmp/loop_over_bdir-111204-6eYGuI/LCFG-Build-Tools-0.9.30-0/blib/lib:/tmp/loop_over_bdir-111204-6eYGuI/Dpkg-1.21.5-0/blib/arch:/tmp/loop_over_bdir-111204-6eYGuI/Dpkg-1.21.5-0/blib/lib:/tmp/loop_over_bdir-111204-6eYGuI/dta-tokwrap-0.98-0/blib/arch:/tmp/loop_over_bdir-111204-6eYGuI/dta-tokwrap-0.98-0/blib/lib
PERL5OPT =
PERL5_CPANPLUS_IS_RUNNING = 111212
PERL5_CPAN_IS_RUNNING = 111212
PERL_CANARY_STABILITY_NOPROMPT = 1
PERL_MM_USE_DEFAULT = 1
PERL_USE_UNSAFE_INC = 1
SHELL = /usr/bin/zsh
TERM = screen
Perl special variables (and OS-specific diagnostics, for MSWin32):
$^X = /tmp/basesmoker-reloperl-d0Dr/bin/perl
$UID/$EUID = 1005 / 1005
$GID = 1005 1005
$EGID = 1005 1005
Perl module toolchain versions installed:
Module Have
------------------- --------
CPAN 2.34
CPAN::Meta 2.150010
Cwd 3.84
ExtUtils::CBuilder 0.280236
ExtUtils::Command 7.64
ExtUtils::Install 2.20
ExtUtils::MakeMaker 7.64
ExtUtils::Manifest 1.73
ExtUtils::ParseXS 3.45
File::Spec 3.84
JSON 4.05
JSON::PP 4.08
Module::Build 0.4231
Module::Signature 0.88
Parse::CPAN::Meta 2.150010
Test::Harness 3.44
Test::More 1.302190
YAML 1.30
YAML::Syck 1.34
version 0.9929
--
Summary of my perl5 (revision 5 version 35 subversion 11) configuration:
Commit id: 6309b8c0e379d2ae5a9d50fe46b4c1f52ec1b012
Platform:
osname=linux
osvers=5.4.0-107-generic
archname=x86_64-linux-ld
uname='linux k93focal 5.4.0-107-generic #121-ubuntu smp thu mar 24 16:04:27 utc 2022 x86_64 x86_64 x86_64 gnulinux '
config_args='-Dprefix=/home/sand/src/perl/repoperls/installed-perls/host/k93focal/v5.35.11/d3e4 -Dmyhostname=k93focal -Dinstallusrbinperl=n -Uversiononly -Dusedevel -des -Ui_db -Dlibswanted=cl pthread socket inet nsl gdbm dbm malloc dl ld sun m crypt sec util c cposix posix ucb BSD gdbm_compat -Uuseithreads -Duselongdouble -DEBUGGING=both'
hint=recommended
useposix=true
d_sigaction=define
useithreads=undef
usemultiplicity=undef
use64bitint=define
use64bitall=define
uselongdouble=define
usemymalloc=n
default_inc_excludes_dot=define
Compiler:
cc='cc'
ccflags ='-fwrapv -DDEBUGGING -fno-strict-aliasing -pipe -fstack-protector-strong -I/usr/local/include -D_LARGEFILE_SOURCE -D_FILE_OFFSET_BITS=64'
optimize='-O2 -g'
cppflags='-fwrapv -DDEBUGGING -fno-strict-aliasing -pipe -fstack-protector-strong -I/usr/local/include'
ccversion=''
gccversion='9.4.0'
gccosandvers=''
intsize=4
longsize=8
ptrsize=8
doublesize=8
byteorder=12345678
doublekind=3
d_longlong=define
longlongsize=8
d_longdbl=define
longdblsize=16
longdblkind=3
ivtype='long'
ivsize=8
nvtype='long double'
nvsize=16
Off_t='off_t'
lseeksize=8
alignbytes=16
prototype=define
Linker and Libraries:
ld='cc'
ldflags =' -fstack-protector-strong -L/usr/local/lib'
libpth=/usr/local/lib /usr/lib/x86_64-linux-gnu /usr/lib /usr/lib64
libs=-lpthread -lnsl -ldl -lm -lcrypt -lutil -lc
perllibs=-lpthread -lnsl -ldl -lm -lcrypt -lutil -lc
libc=libc-2.31.so
so=so
useshrplib=false
libperl=libperl.a
gnulibc_version='2.31'
Dynamic Linking:
dlsrc=dl_dlopen.xs
dlext=so
d_dlsymun=undef
ccdlflags='-Wl,-E'
cccdlflags='-fPIC'
lddlflags='-shared -O2 -g -L/usr/local/lib -fstack-protector-strong'
Characteristics of this binary (from libperl):
Compile-time options:
DEBUGGING
HAS_TIMES
PERLIO_LAYERS
PERL_COPY_ON_WRITE
PERL_DONT_CREATE_GVSV
PERL_MALLOC_WRAP
PERL_OP_PARENT
PERL_PRESERVE_IVUV
PERL_USE_DEVEL
USE_64_BIT_ALL
USE_64_BIT_INT
USE_LARGE_FILES
USE_LOCALE
USE_LOCALE_COLLATE
USE_LOCALE_CTYPE
USE_LOCALE_NUMERIC
USE_LOCALE_TIME
USE_LONG_DOUBLE
USE_PERLIO
USE_PERL_ATOF
Built under linux
Compiled at May 6 2022 19:52:54
%ENV:
PERL="/tmp/basesmoker-reloperl-d0Dr/bin/perl"
PERL5LIB="/tmp/loop_over_bdir-111204-6eYGuI/DBIx-Migration-Directories-0.12-0/blib/arch:/tmp/loop_over_bdir-111204-6eYGuI/DBIx-Migration-Directories-0.12-0/blib/lib:/tmp/loop_over_bdir-111204-6eYGuI/Net-ISP-Balance-1.31-0/blib/arch:/tmp/loop_over_bdir-111204-6eYGuI/Net-ISP-Balance-1.31-0/blib/lib:/tmp/loop_over_bdir-111204-6eYGuI/triceps-2.1.0-0/blib/arch:/tmp/loop_over_bdir-111204-6eYGuI/triceps-2.1.0-0/blib/lib:/tmp/loop_over_bdir-111204-6eYGuI/Devel-Required-0.16-0/blib/arch:/tmp/loop_over_bdir-111204-6eYGuI/Devel-Required-0.16-0/blib/lib:/tmp/loop_over_bdir-111204-6eYGuI/Debian-Packages-0.03-0/blib/arch:/tmp/loop_over_bdir-111204-6eYGuI/Debian-Packages-0.03-0/blib/lib:/tmp/loop_over_bdir-111204-6eYGuI/Net-Async-WebService-lxd-0.02-0/blib/arch:/tmp/loop_over_bdir-111204-6eYGuI/Net-Async-WebService-lxd-0.02-0/blib/lib:/tmp/loop_over_bdir-111204-6eYGuI/App-rmcd-0.280-0/blib/arch:/tmp/loop_over_bdir-111204-6eYGuI/App-rmcd-0.280-0/blib/lib:/tmp/loop_over_bdir-111204-6eYGuI/Captive-Portal-4.10-0/blib/arch:/tmp/loop_over_bdir-111204-6eYGuI/Captive-Portal-4.10-0/blib/lib:/tmp/loop_over_bdir-111204-6eYGuI/Sysync-0.35-0/blib/arch:/tmp/loop_over_bdir-111204-6eYGuI/Sysync-0.35-0/blib/lib:/tmp/loop_over_bdir-111204-6eYGuI/LCFG-Build-Tools-0.9.30-0/blib/arch:/tmp/loop_over_bdir-111204-6eYGuI/LCFG-Build-Tools-0.9.30-0/blib/lib:/tmp/loop_over_bdir-111204-6eYGuI/Dpkg-1.21.5-0/blib/arch:/tmp/loop_over_bdir-111204-6eYGuI/Dpkg-1.21.5-0/blib/lib:/tmp/loop_over_bdir-111204-6eYGuI/dta-tokwrap-0.98-0/blib/arch:/tmp/loop_over_bdir-111204-6eYGuI/dta-tokwrap-0.98-0/blib/lib"
PERL5OPT=""
PERL5_CPANPLUS_IS_RUNNING="111212"
PERL5_CPAN_IS_RUNNING="111212"
PERL_CANARY_STABILITY_NOPROMPT="1"
PERL_MM_USE_DEFAULT="1"
PERL_USE_UNSAFE_INC="1"
@INC:
/tmp/loop_over_bdir-111204-6eYGuI/DBIx-Migration-Directories-0.12-0/blib/arch
/tmp/loop_over_bdir-111204-6eYGuI/DBIx-Migration-Directories-0.12-0/blib/lib
/tmp/loop_over_bdir-111204-6eYGuI/Net-ISP-Balance-1.31-0/blib/arch
/tmp/loop_over_bdir-111204-6eYGuI/Net-ISP-Balance-1.31-0/blib/lib
/tmp/loop_over_bdir-111204-6eYGuI/triceps-2.1.0-0/blib/arch
/tmp/loop_over_bdir-111204-6eYGuI/triceps-2.1.0-0/blib/lib
/tmp/loop_over_bdir-111204-6eYGuI/Devel-Required-0.16-0/blib/arch
/tmp/loop_over_bdir-111204-6eYGuI/Devel-Required-0.16-0/blib/lib
/tmp/loop_over_bdir-111204-6eYGuI/Debian-Packages-0.03-0/blib/arch
/tmp/loop_over_bdir-111204-6eYGuI/Debian-Packages-0.03-0/blib/lib
/tmp/loop_over_bdir-111204-6eYGuI/Net-Async-WebService-lxd-0.02-0/blib/arch
/tmp/loop_over_bdir-111204-6eYGuI/Net-Async-WebService-lxd-0.02-0/blib/lib
/tmp/loop_over_bdir-111204-6eYGuI/App-rmcd-0.280-0/blib/arch
/tmp/loop_over_bdir-111204-6eYGuI/App-rmcd-0.280-0/blib/lib
/tmp/loop_over_bdir-111204-6eYGuI/Captive-Portal-4.10-0/blib/arch
/tmp/loop_over_bdir-111204-6eYGuI/Captive-Portal-4.10-0/blib/lib
/tmp/loop_over_bdir-111204-6eYGuI/Sysync-0.35-0/blib/arch
/tmp/loop_over_bdir-111204-6eYGuI/Sysync-0.35-0/blib/lib
/tmp/loop_over_bdir-111204-6eYGuI/LCFG-Build-Tools-0.9.30-0/blib/arch
/tmp/loop_over_bdir-111204-6eYGuI/LCFG-Build-Tools-0.9.30-0/blib/lib
/tmp/loop_over_bdir-111204-6eYGuI/Dpkg-1.21.5-0/blib/arch
/tmp/loop_over_bdir-111204-6eYGuI/Dpkg-1.21.5-0/blib/lib
/tmp/loop_over_bdir-111204-6eYGuI/dta-tokwrap-0.98-0/blib/arch
/tmp/loop_over_bdir-111204-6eYGuI/dta-tokwrap-0.98-0/blib/lib
/home/sand/src/perl/repoperls/installed-perls/host/k93focal/v5.35.11/d3e4/lib/site_perl/5.35.11/x86_64-linux-ld
/home/sand/src/perl/repoperls/installed-perls/host/k93focal/v5.35.11/d3e4/lib/site_perl/5.35.11
/home/sand/src/perl/repoperls/installed-perls/host/k93focal/v5.35.11/d3e4/lib/5.35.11/x86_64-linux-ld
/home/sand/src/perl/repoperls/installed-perls/host/k93focal/v5.35.11/d3e4/lib/5.35.11
.