DateTime-Format-Strptime v1.76 Perl 5 v5.8.5 x86_64-linux

Status
Pass
From
Andreas J. König (ANDK)
Dist
DateTime-Format-Strptime v1.76
Platform
Perl 5 v5.8.5 x86_64-linux
Date
2019-03-03 18:03:18
ID
9ffb5058-3dde-11e9-9a6e-557ecead5ccb
This distribution has been tested as part of the CPAN Testers
project, supporting the Perl programming language.  See
http://wiki.cpantesters.org/ for more information or email
questions to cpan-testers-discuss@perl.org


--
Dear Dave Rolsky,

This is a computer-generated report for DateTime-Format-Strptime-1.76
on perl 5.8.5, created by CPAN-Reporter-1.2018.

Thank you for uploading your work to CPAN.  Congratulations!
All tests were successful.

Sections of this report:

    * Tester comments
    * Program output
    * Prerequisites
    * Environment and other context

------------------------------
TESTER COMMENTS
------------------------------

Additional comments from tester:

this report is from an automated smoke testing program
and was not reviewed by a human for accuracy

------------------------------
PROGRAM OUTPUT
------------------------------

Output from '/usr/bin/make test':

PERL_DL_NONLAZY=1 "/home/sand/src/perl/repoperls/installed-perls/host/k93msid/perl-5.8.5/6fdb/bin/perl" "-MExtUtils::Command::MM" "-MTest::Harness" "-e" "undef *Test::Harness::Switches; test_harness(0, 'blib/lib', 'blib/arch')" t/*.t
# 
# Versions for all modules listed in MYMETA.json (including optional ones):
# 
# === Configure Requires ===
# 
#     Module              Want Have
#     ------------------- ---- ----
#     ExtUtils::MakeMaker  any 7.34
# 
# === Configure Suggests ===
# 
#     Module      Want Have
#     -------- ------- ----
#     JSON::PP 2.27300 4.00
# 
# === Build Requires ===
# 
#     Module              Want Have
#     ------------------- ---- ----
#     ExtUtils::MakeMaker  any 7.34
# 
# === Test Requires ===
# 
#     Module              Want     Have
#     ------------------- ---- --------
#     ExtUtils::MakeMaker  any     7.34
#     File::Spec           any     3.75
#     Test::Builder        any 1.302158
#     Test::Fatal          any    0.014
#     Test::More          0.96 1.302158
#     Test::Warnings       any    0.026
#     lib                  any   0.5565
#     utf8                 any     1.04
# 
# === Test Recommends ===
# 
#     Module         Want     Have
#     ---------- -------- --------
#     CPAN::Meta 2.120900 2.150010
# 
# === Runtime Requires ===
# 
#     Module                     Want  Have
#     -------------------------- ---- -----
#     Carp                        any  1.50
#     DateTime                   1.00  1.50
#     DateTime::Locale           1.23  1.23
#     DateTime::Locale::Base      any  1.23
#     DateTime::Locale::FromData  any  1.23
#     DateTime::TimeZone         2.09  2.22
#     Exporter                    any  5.73
#     Params::ValidationCompiler  any  0.30
#     Specio                     0.33  0.43
#     Specio::Declare             any  0.43
#     Specio::Exporter            any  0.43
#     Specio::Library::Builtins   any  0.43
#     Specio::Library::String     any  0.43
#     Try::Tiny                   any  0.30
#     constant                    any  1.33
#     parent                      any 0.237
#     strict                      any  1.03
#     warnings                    any  1.03
# 
t/00-report-prereqs.t ... ok
t/basic.t ............... ok
t/edge.t ................ ok
t/errors.t .............. ok
t/format-datetime.t ..... ok
t/format-with-locale.t .. ok
t/import.t .............. ok
t/locale-de.t ........... ok
t/locale-en.t ........... ok
t/locale-ga.t ........... ok
t/locale-pt.t ........... ok
t/locale-zh.t ........... ok
t/zones.t ............... ok
All tests successful.
Files=13, Tests=142,  7 wallclock secs ( 0.13 usr  0.10 sys +  4.80 cusr  0.59 csys =  5.62 CPU)
Result: PASS

------------------------------
PREREQUISITES
------------------------------

Prerequisite modules loaded:

requires:

    Module                     Need Have    
    -------------------------- ---- --------
    Carp                       0    1.50    
    constant                   0    1.33    
    DateTime                   1.00 1.50    
    DateTime::Locale           1.23 1.23    
    DateTime::Locale::Base     0    1.23    
    DateTime::Locale::FromData 0    1.23    
    DateTime::TimeZone         2.09 2.22    
    Exporter                   0    5.73    
    Params::ValidationCompiler 0    0.30    
    parent                     0    0.237   
    Specio                     0.33 0.43    
    Specio::Declare            0    0.43    
    Specio::Exporter           0    0.43    
    Specio::Library::Builtins  0    0.43    
    Specio::Library::String    0    0.43    
    strict                     0    1.03    
    Try::Tiny                  0    0.30    
    warnings                   0    1.03    

build_requires:

    Module                     Need Have    
    -------------------------- ---- --------
    ExtUtils::MakeMaker        0    7.34    
    File::Spec                 0    3.75    
    lib                        0    0.5565  
    Test::Builder              0    1.302158
    Test::Fatal                0    0.014   
    Test::More                 0.96 1.302158
    Test::Warnings             0    0.026   
    utf8                       0    1.04    

configure_requires:

    Module                     Need Have    
    -------------------------- ---- --------
    ExtUtils::MakeMaker        0    7.34    


------------------------------
ENVIRONMENT AND OTHER CONTEXT
------------------------------

Environment variables:

    AUTOMATED_TESTING = 1
    LANG = en_US.UTF-8
    PATH = /home/sand/bin:/usr/local/bin:/usr/bin:/bin:/usr/games:/usr/local/perl/bin:/usr/X11/bin:/sbin:/usr/sbin
    PERL5LIB = 
    PERL5OPT = 
    PERL5_CPANPLUS_IS_RUNNING = 10589
    PERL5_CPAN_IS_RUNNING = 10589
    PERL_CANARY_STABILITY_NOPROMPT = 1
    PERL_MM_USE_DEFAULT = 1
    PERL_USE_UNSAFE_INC = 1
    SHELL = /usr/bin/zsh
    TERM = screen

Perl special variables (and OS-specific diagnostics, for MSWin32):

    $^X = /home/sand/src/perl/repoperls/installed-perls/host/k93msid/perl-5.8.5/6fdb/bin/perl
    $UID/$EUID = 1005 / 1005
    $GID = 1005 1005
    $EGID = 1005 1005

Perl module toolchain versions installed:

    Module              Have    
    ------------------- --------
    CPAN                2.22    
    CPAN::Meta          2.150010
    Cwd                 3.75    
    ExtUtils::CBuilder  0.280230
    ExtUtils::Command   7.34    
    ExtUtils::Install   2.06    
    ExtUtils::MakeMaker 7.34    
    ExtUtils::Manifest  1.70    
    ExtUtils::ParseXS   3.35    
    File::Spec          3.75    
    JSON                4.00    
    JSON::PP            4.00    
    Module::Build       0.4224  
    Module::Signature   0.83    
    Parse::CPAN::Meta   2.150010
    Test::Harness       3.42    
    Test::More          1.302158
    YAML                n/a     
    YAML::Syck          1.31    
    version             0.9924  


--

Summary of my perl5 (revision 5 version 8 subversion 5) configuration:
  Platform:
    osname=linux, osvers=4.18.0-2-amd64, archname=x86_64-linux
    uname='linux k93msid 4.18.0-2-amd64 #1 smp debian 4.18.10-2 (2018-10-07) x86_64 gnulinux '
    config_args='-Dprefix=/home/sand/src/perl/repoperls/installed-perls/host/k93msid/perl-5.8.5/6fdb -Dmyhostname=k93msid -Dinstallusrbinperl=n -Uversiononly -Dusedevel -des -Ui_db -Dlibswanted=cl pthread socket inet nsl gdbm dbm malloc dl ld sun m crypt sec util c cposix posix ucb BSD gdbm_compat -Uuseithreads -Uuselongdouble -Doptimize=-g'
    hint=recommended, useposix=true, d_sigaction=define
    usethreads=undef use5005threads=undef useithreads=undef usemultiplicity=undef
    useperlio=define d_sfio=undef uselargefiles=define usesocks=undef
    use64bitint=define use64bitall=define uselongdouble=undef
    usemymalloc=n, bincompat5005=undef
  Compiler:
    cc='cc', ccflags ='-DDEBUGGING -fno-strict-aliasing -pipe -I/usr/local/include -D_LARGEFILE_SOURCE -D_FILE_OFFSET_BITS=64',
    optimize='-g',
    cppflags='-DDEBUGGING -fno-strict-aliasing -pipe -I/usr/local/include'
    ccversion='', gccversion='8.2.0', gccosandvers=''
    intsize=4, longsize=8, ptrsize=8, doublesize=8, byteorder=12345678
    d_longlong=define, longlongsize=8, d_longdbl=define, longdblsize=16
    ivtype='long', ivsize=8, nvtype='double', nvsize=8, Off_t='off_t', lseeksize=8
    alignbytes=8, prototype=define
  Linker and Libraries:
    ld='cc', ldflags =' -L/usr/local/lib'
    libpth=/usr/local/lib /lib/x86_64-linux-gnu /lib/../lib /usr/lib/x86_64-linux-gnu /usr/lib/../lib /lib /usr/lib
    libs=-lpthread -lnsl -ldl -lm -lcrypt -lutil -lc
    perllibs=-lpthread -lnsl -ldl -lm -lcrypt -lutil -lc
    libc=libc-2.27.so, so=so, useshrplib=false, libperl=libperl.a
    gnulibc_version='2.27'
  Dynamic Linking:
    dlsrc=dl_dlopen.xs, dlext=so, d_dlsymun=undef, ccdlflags='-Wl,-E'
    cccdlflags='-fpic', lddlflags='-shared -L/usr/local/lib'


Characteristics of this binary (from libperl): 
  Compile-time options: DEBUGGING USE_64_BIT_INT USE_64_BIT_ALL USE_LARGE_FILES
  Locally applied patches:
	MAINT23136
  Built under linux
  Compiled at Dec 19 2018 01:08:19
  %ENV:
    PERL5LIB=""
    PERL5OPT=""
    PERL5_CPANPLUS_IS_RUNNING="10589"
    PERL5_CPAN_IS_RUNNING="10589"
    PERL_CANARY_STABILITY_NOPROMPT="1"
    PERL_MM_USE_DEFAULT="1"
    PERL_USE_UNSAFE_INC="1"
  @INC:
    /home/sand/src/perl/repoperls/installed-perls/host/k93msid/perl-5.8.5/6fdb/lib/5.8.5/x86_64-linux
    /home/sand/src/perl/repoperls/installed-perls/host/k93msid/perl-5.8.5/6fdb/lib/5.8.5
    /home/sand/src/perl/repoperls/installed-perls/host/k93msid/perl-5.8.5/6fdb/lib/site_perl/5.8.5/x86_64-linux
    /home/sand/src/perl/repoperls/installed-perls/host/k93msid/perl-5.8.5/6fdb/lib/site_perl/5.8.5
    /home/sand/src/perl/repoperls/installed-perls/host/k93msid/perl-5.8.5/6fdb/lib/site_perl
    .