Group-Git-Cmd-Ivan vv0.0.4 Perl 5 v5.24.4 x86_64-linux-ld

Status
Pass
From
Andreas J. König (ANDK)
Dist
Group-Git-Cmd-Ivan vv0.0.4
Platform
Perl 5 v5.24.4 x86_64-linux-ld
Date
2019-01-19 17:49:53
ID
a010c7be-1c12-11e9-b10e-ec52ae8d74de
This distribution has been tested as part of the CPAN Testers
project, supporting the Perl programming language.  See
http://wiki.cpantesters.org/ for more information or email
questions to cpan-testers-discuss@perl.org


--
Dear Ivan Wills,

This is a computer-generated report for Group-Git-Cmd-Ivan-v0.0.4
on perl 5.24.4, created by CPAN-Reporter-1.2018.

Thank you for uploading your work to CPAN.  Congratulations!
All tests were successful.

Sections of this report:

    * Tester comments
    * Program output
    * Prerequisites
    * Environment and other context

------------------------------
TESTER COMMENTS
------------------------------

Additional comments from tester:

this report is from an automated smoke testing program
and was not reviewed by a human for accuracy

------------------------------
PROGRAM OUTPUT
------------------------------

Output from './Build test':

# Testing Group::Git::Cmd::Ivan 0.0.4, Perl 5.024004, /home/sand/src/perl/repoperls/installed-perls/host/k93msid/v5.24.4/af11/bin/perl
t/00-load.t ....... ok
t/boilerplate.t ... ok
t/critic.t ........ skipped: Author test.  Set TEST_AUTHOR environment variable to a true value to run.
t/kwalitee.t ...... skipped: Author test.  Set TEST_AUTHOR environment variable to a true value to run.
t/manifest.t ...... skipped: Author test.  Set TEST_AUTHOR environment variable to a true value to run.
t/pod-coverage.t .. skipped: Author test.  Set TEST_AUTHOR environment variable to a true value to run.
t/pod.t ........... ok
t/spelling.t ...... skipped: Author test.  Set TEST_AUTHOR environment variable to a true value to run.
All tests successful.
Files=8, Tests=12,  1 wallclock secs ( 0.03 usr  0.05 sys +  0.55 cusr  0.17 csys =  0.80 CPU)
Result: PASS

------------------------------
PREREQUISITES
------------------------------

Prerequisite modules loaded:

requires:

    Module                        Need    Have    
    ----------------------------- ------- --------
    DateTime::Format::Strptime    0       1.75    
    File::chdir                   0       0.1010  
    Getopt::Alt                   v0.1.1  0.4.8   
  ! Group::Git                    v0.6.10 n/a     
    Group::Git::Cmd::SinceRelease 0       0.0.11  
    Group::Git::Cmd::Stats        0       0.0.3   
    Group::Git::Cmd::Todo         0       0.0.4   
  ! Group::Git::Taggers::Maven    0       n/a     
  ! Group::Git::Taggers::Node     0       n/a     
  ! Group::Git::Taggers::Perl     0       n/a     
  ! Group::Git::Taggers::Ruby     0       n/a     
    Moose::Role                   0       2.2011  
    perl                          5.008   5.024004
    version                       0       0.9916  

build_requires:

    Module                        Need    Have    
    ----------------------------- ------- --------
    Test::More                    0.88    1.302148
    Test::Warnings                0.026   0.026   

configure_requires:

    Module                        Need    Have    
    ----------------------------- ------- --------
    Module::Build                 0.38    0.4224  


------------------------------
ENVIRONMENT AND OTHER CONTEXT
------------------------------

Environment variables:

    AUTOMATED_TESTING = 1
    LANG = en_US.UTF-8
    PATH = /home/sand/bin:/usr/local/bin:/usr/bin:/bin:/usr/games:/usr/local/perl/bin:/usr/X11/bin:/sbin:/usr/sbin
    PERL5LIB = 
    PERL5OPT = 
    PERL5_CPANPLUS_IS_RUNNING = 22094
    PERL5_CPAN_IS_RUNNING = 22094
    PERL_CANARY_STABILITY_NOPROMPT = 1
    PERL_MM_USE_DEFAULT = 1
    PERL_USE_UNSAFE_INC = 1
    SHELL = /usr/bin/zsh
    TERM = screen

Perl special variables (and OS-specific diagnostics, for MSWin32):

    $^X = /home/sand/src/perl/repoperls/installed-perls/host/k93msid/v5.24.4/af11/bin/perl
    $UID/$EUID = 1005 / 1005
    $GID = 1005 1005
    $EGID = 1005 1005

Perl module toolchain versions installed:

    Module              Have    
    ------------------- --------
    CPAN                2.22    
    CPAN::Meta          2.150010
    Cwd                 3.75    
    ExtUtils::CBuilder  0.280230
    ExtUtils::Command   7.34    
    ExtUtils::Install   2.06    
    ExtUtils::MakeMaker 7.34    
    ExtUtils::Manifest  1.70    
    ExtUtils::ParseXS   3.31    
    File::Spec          3.75    
    JSON                4.00    
    JSON::PP            2.97001 
    Module::Build       0.4224  
    Module::Signature   0.83    
    Parse::CPAN::Meta   2.150010
    Test::Harness       3.42    
    Test::More          1.302148
    YAML                1.27    
    YAML::Syck          1.31    
    version             0.9916  


--

Summary of my perl5 (revision 5 version 24 subversion 4) configuration:
  Derived from: 901dd848e31de6d0cacfb77c029b4e92c41a13ce
  Platform:
    osname=linux, osvers=4.18.0-2-amd64, archname=x86_64-linux-ld
    uname='linux k93msid 4.18.0-2-amd64 #1 smp debian 4.18.10-2 (2018-10-07) x86_64 gnulinux '
    config_args='-Dprefix=/home/sand/src/perl/repoperls/installed-perls/host/k93msid/v5.24.4/af11 -Dmyhostname=k93msid -Dinstallusrbinperl=n -Uversiononly -Dusedevel -des -Ui_db -Dlibswanted=cl pthread socket inet nsl gdbm dbm malloc dl ld sun m crypt sec util c cposix posix ucb BSD gdbm_compat -Uuseithreads -Duselongdouble -DEBUGGING=-g'
    hint=recommended, useposix=true, d_sigaction=define
    useithreads=undef, usemultiplicity=undef
    use64bitint=define, use64bitall=define, uselongdouble=define
    usemymalloc=n, bincompat5005=undef
  Compiler:
    cc='cc', ccflags ='-fwrapv -fno-strict-aliasing -pipe -fstack-protector-strong -I/usr/local/include -D_LARGEFILE_SOURCE -D_FILE_OFFSET_BITS=64',
    optimize='-O2 -g',
    cppflags='-fwrapv -fno-strict-aliasing -pipe -fstack-protector-strong -I/usr/local/include'
    ccversion='', gccversion='8.2.0', gccosandvers=''
    intsize=4, longsize=8, ptrsize=8, doublesize=8, byteorder=12345678, doublekind=3
    d_longlong=define, longlongsize=8, d_longdbl=define, longdblsize=16, longdblkind=3
    ivtype='long', ivsize=8, nvtype='long double', nvsize=16, Off_t='off_t', lseeksize=8
    alignbytes=16, prototype=define
  Linker and Libraries:
    ld='cc', ldflags =' -fstack-protector-strong -L/usr/local/lib'
    libpth=/usr/local/lib /usr/lib/gcc/x86_64-linux-gnu/8/include-fixed /usr/include/x86_64-linux-gnu /usr/lib /lib/x86_64-linux-gnu /lib/../lib /usr/lib/x86_64-linux-gnu /usr/lib/../lib /lib
    libs=-lpthread -lnsl -ldl -lm -lcrypt -lutil -lc
    perllibs=-lpthread -lnsl -ldl -lm -lcrypt -lutil -lc
    libc=libc-2.27.so, so=so, useshrplib=false, libperl=libperl.a
    gnulibc_version='2.27'
  Dynamic Linking:
    dlsrc=dl_dlopen.xs, dlext=so, d_dlsymun=undef, ccdlflags='-Wl,-E'
    cccdlflags='-fPIC', lddlflags='-shared -O2 -g -L/usr/local/lib -fstack-protector-strong'


Characteristics of this binary (from libperl): 
  Compile-time options: HAS_TIMES PERLIO_LAYERS PERL_COPY_ON_WRITE
                        PERL_DONT_CREATE_GVSV
                        PERL_HASH_FUNC_ONE_AT_A_TIME_HARD PERL_MALLOC_WRAP
                        PERL_PRESERVE_IVUV PERL_USE_DEVEL USE_64_BIT_ALL
                        USE_64_BIT_INT USE_LARGE_FILES USE_LOCALE
                        USE_LOCALE_COLLATE USE_LOCALE_CTYPE
                        USE_LOCALE_NUMERIC USE_LOCALE_TIME USE_LONG_DOUBLE
                        USE_PERLIO USE_PERL_ATOF
  Locally applied patches:
	uncommitted-changes
  Built under linux
  Compiled at Oct 28 2018 05:23:42
  %ENV:
    PERL5LIB=""
    PERL5OPT=""
    PERL5_CPANPLUS_IS_RUNNING="22094"
    PERL5_CPAN_IS_RUNNING="22094"
    PERL_CANARY_STABILITY_NOPROMPT="1"
    PERL_MM_USE_DEFAULT="1"
    PERL_USE_UNSAFE_INC="1"
  @INC:
    /home/sand/src/perl/repoperls/installed-perls/host/k93msid/v5.24.4/af11/lib/site_perl/5.24.4/x86_64-linux-ld
    /home/sand/src/perl/repoperls/installed-perls/host/k93msid/v5.24.4/af11/lib/site_perl/5.24.4
    /home/sand/src/perl/repoperls/installed-perls/host/k93msid/v5.24.4/af11/lib/5.24.4/x86_64-linux-ld
    /home/sand/src/perl/repoperls/installed-perls/host/k93msid/v5.24.4/af11/lib/5.24.4
    .