Config-Perl-V v0.38 Perl 5 v5.41.11 x86_64-linux
- Status
- Pass
- From
- Carlos Guevara
- Dist
-
Config-Perl-V v0.38
- Platform
- Perl 5 v5.41.11 x86_64-linux
- Date
- 2025-04-18 17:29:04
- ID
- a0221da6-1c7a-11f0-8ac6-c2475e031ebf
This distribution has been tested as part of the CPAN Testers
project, supporting the Perl programming language. See
http://wiki.cpantesters.org/ for more information or email
questions to cpan-testers-discuss@perl.org
--
Dear H.Merijn Brand,
This is a computer-generated report for Config-Perl-V-0.38
on perl 5.41.11, created by CPAN-Reporter-1.2020.
Thank you for uploading your work to CPAN. Congratulations!
All tests were successful.
Sections of this report:
* Tester comments
* Program output
* Prerequisites
* Environment and other context
------------------------------
TESTER COMMENTS
------------------------------
Additional comments from tester:
this report is from an automated smoke testing program
and was not reviewed by a human for accuracy
------------------------------
PROGRAM OUTPUT
------------------------------
Output from '/usr/bin/make test':
PERL_DL_NONLAZY=1 "/home/cpan/bin/perl/bin/perl5.41.11" "-MExtUtils::Command::MM" "-MTest::Harness" "-e" "undef *Test::Harness::Switches; test_harness(0, 'blib/lib', 'blib/arch')" t/*.t
t/10_base.t ........... ok
t/20_plv56.t .......... ok
t/21_plv58.t .......... ok
t/22_plv510.t ......... ok
t/23_plv512.t ......... ok
t/24_plv514.t ......... ok
t/25_plv516.t ......... ok
t/25_plv5162.t ........ ok
t/26_plv518.t ......... ok
t/26_plv5182.t ........ ok
t/27_plv5200.t ........ ok
t/27_plv5202.t ........ ok
t/28_plv5220.t ........ ok
t/28_plv52201w.t ...... ok
t/29_plv5235w.t ....... ok
t/30_plv5240.t ........ ok
t/31_plv52511.t ....... ok
t/32_plv5261rc1.t ..... ok
t/33_plv52711r.t ...... ok
t/34_plv5280.t ........ ok
t/35_plv52910g.t ...... ok
t/36_plv5300.t ........ ok
t/37_plv53111qm.t ..... ok
t/38_plv5320tld.t ..... ok
t/39_plv5340tqm.t ..... ok
t/40_plv5358dnqm.t .... ok
t/41_plv5360dnqm.t .... ok
t/42_plv5373tld.t ..... ok
t/43_plv53710rcs.t .... ok
t/44_plv5380tqm.t ..... ok
t/45_plv5400tqm.t ..... ok
t/46_plv5411tqmrcs.t .. ok
All tests successful.
Files=32, Tests=4099, 3 wallclock secs ( 0.23 usr 0.05 sys + 1.59 cusr 0.36 csys = 2.23 CPU)
Result: PASS
------------------------------
PREREQUISITES
------------------------------
Prerequisite modules loaded:
requires:
Module Need Have
------------------- ---- --------
Config 0 5.041011
build_requires:
Module Need Have
------------------- ---- --------
ExtUtils::MakeMaker 0 7.74
Test::More 0 1.302210
Test::NoWarnings 0 1.06
configure_requires:
Module Need Have
------------------- ---- --------
ExtUtils::MakeMaker 0 7.74
------------------------------
ENVIRONMENT AND OTHER CONTEXT
------------------------------
Environment variables:
AUTOMATED_TESTING = 1
DATE_MANIP_TEST_DM5 = 1
LANG = en_US.UTF-8
LC_ALL = C
NONINTERACTIVE_TESTING = 1
NO_NETWORK_TESTING = 1
PATH = /home/cpan/bin/perl/bin:/home/cpan/bin:/usr/share/Modules/bin:/home/cpan/bin:/usr/local/bin:/usr/bin:/usr/local/sbin:/usr/sbin
PERL5LIB = /home/cpan/.cpan/build/Encode-3.21-8/blib/arch:/home/cpan/.cpan/build/Encode-3.21-8/blib/lib:/home/cpan/.cpan/build/Test-Reporter-1.62-0/blib/arch:/home/cpan/.cpan/build/Test-Reporter-1.62-0/blib/lib:/home/cpan/.cpan/build/Memoize-1.17-4/blib/arch:/home/cpan/.cpan/build/Memoize-1.17-4/blib/lib:/home/cpan/.cpan/build/Test-Harness-3.50-8/blib/arch:/home/cpan/.cpan/build/Test-Harness-3.50-8/blib/lib:/home/cpan/.cpan/build/CPAN-2.38-8/blib/arch:/home/cpan/.cpan/build/CPAN-2.38-8/blib/lib:/home/cpan/.cpan/build/Scalar-List-Utils-1.69-2/blib/arch:/home/cpan/.cpan/build/Scalar-List-Utils-1.69-2/blib/lib
PERL5OPT =
PERL5_CPANPLUS_IS_RUNNING = 448592
PERL5_CPAN_IS_RUNNING = 448592
PERL_MM_USE_DEFAULT = 1
PERL_USE_UNSAFE_INC = 1
SHELL = /bin/bash
TERM = screen
TMPDIR = /home/cpan/tmp
Perl special variables (and OS-specific diagnostics, for MSWin32):
$^X = /home/cpan/bin/perl/bin/perl5.41.11
$UID/$EUID = 1001 / 1001
$GID = 1001 1001
$EGID = 1001 1001
Perl module toolchain versions installed:
Module Have
------------------- --------
CPAN 2.38
CPAN::Meta 2.150010
Cwd 3.94
ExtUtils::CBuilder 0.280240
ExtUtils::Command 7.74
ExtUtils::Install 2.22
ExtUtils::MakeMaker 7.74
ExtUtils::Manifest 1.75
ExtUtils::ParseXS 3.57
File::Spec 3.94
JSON 4.10
JSON::PP 4.16
Module::Build 0.4234
Module::Signature n/a
Parse::CPAN::Meta 2.150010
Test2 1.302210
Test::Harness 3.50
Test::More 1.302210
YAML 1.31
YAML::Syck 1.34
version 0.9933
--
Summary of my perl5 (revision 5 version 41 subversion 11) configuration:
Commit id: 39bf0ded82272127f9469488edc322b02dacadd6
Platform:
osname=linux
osvers=5.14.0-503.38.1.el9_5.x86_64
archname=x86_64-linux
uname='linux cjg-rhel9 5.14.0-503.38.1.el9_5.x86_64 #1 smp preempt_dynamic sun apr 13 22:01:49 edt 2025 x86_64 x86_64 x86_64 gnulinux '
config_args='-des -Dprefix=/home/cpan/bin/perl -Dscriptdir=/home/cpan/bin/perl/bin -Dusedevel -Duse64bitall'
hint=recommended
useposix=true
d_sigaction=define
useithreads=undef
usemultiplicity=undef
use64bitint=define
use64bitall=define
uselongdouble=undef
usemymalloc=n
default_inc_excludes_dot=define
Compiler:
cc='cc'
ccflags ='-fwrapv -fno-strict-aliasing -pipe -fstack-protector-strong -I/usr/local/include -D_LARGEFILE_SOURCE -D_FILE_OFFSET_BITS=64 -D_FORTIFY_SOURCE=2'
optimize='-O2'
cppflags='-fwrapv -fno-strict-aliasing -pipe -fstack-protector-strong -I/usr/local/include'
ccversion=''
gccversion='11.5.0 20240719 (Red Hat 11.5.0-5)'
gccosandvers=''
intsize=4
longsize=8
ptrsize=8
doublesize=8
byteorder=12345678
doublekind=3
d_longlong=define
longlongsize=8
d_longdbl=define
longdblsize=16
longdblkind=3
ivtype='long'
ivsize=8
nvtype='double'
nvsize=8
Off_t='off_t'
lseeksize=8
alignbytes=8
prototype=define
Linker and Libraries:
ld='cc'
ldflags =' -fstack-protector-strong -L/usr/local/lib'
libpth=/usr/local/lib /usr/lib /usr/lib64 /usr/local/lib64
libs=-lpthread -ldb -ldl -lm -lcrypt -lutil -lc
perllibs=-lpthread -ldl -lm -lcrypt -lutil -lc
libc=/lib/../lib64/libc.so.6
so=so
useshrplib=false
libperl=libperl.a
gnulibc_version='2.34'
Dynamic Linking:
dlsrc=dl_dlopen.xs
dlext=so
d_dlsymun=undef
ccdlflags='-Wl,-E'
cccdlflags='-fPIC'
lddlflags='-shared -O2 -L/usr/local/lib -fstack-protector-strong'
Characteristics of this binary (from libperl):
Compile-time options:
HAS_LONG_DOUBLE
HAS_STRTOLD
HAS_TIMES
PERLIO_LAYERS
PERL_COPY_ON_WRITE
PERL_DONT_CREATE_GVSV
PERL_HASH_FUNC_SIPHASH13
PERL_HASH_USE_SBOX32
PERL_MALLOC_WRAP
PERL_OP_PARENT
PERL_PRESERVE_IVUV
PERL_USE_DEVEL
PERL_USE_SAFE_PUTENV
USE_64_BIT_ALL
USE_64_BIT_INT
USE_LARGE_FILES
USE_LOCALE
USE_LOCALE_COLLATE
USE_LOCALE_CTYPE
USE_LOCALE_NUMERIC
USE_LOCALE_TIME
USE_PERLIO
USE_PERL_ATOF
Built under linux
Compiled at Apr 18 2025 08:39:16
%ENV:
PERL5LIB="/home/cpan/.cpan/build/Encode-3.21-8/blib/arch:/home/cpan/.cpan/build/Encode-3.21-8/blib/lib:/home/cpan/.cpan/build/Test-Reporter-1.62-0/blib/arch:/home/cpan/.cpan/build/Test-Reporter-1.62-0/blib/lib:/home/cpan/.cpan/build/Memoize-1.17-4/blib/arch:/home/cpan/.cpan/build/Memoize-1.17-4/blib/lib:/home/cpan/.cpan/build/Test-Harness-3.50-8/blib/arch:/home/cpan/.cpan/build/Test-Harness-3.50-8/blib/lib:/home/cpan/.cpan/build/CPAN-2.38-8/blib/arch:/home/cpan/.cpan/build/CPAN-2.38-8/blib/lib:/home/cpan/.cpan/build/Scalar-List-Utils-1.69-2/blib/arch:/home/cpan/.cpan/build/Scalar-List-Utils-1.69-2/blib/lib"
PERL5OPT=""
PERL5_CPANPLUS_IS_RUNNING="448592"
PERL5_CPAN_IS_RUNNING="448592"
PERL_MM_USE_DEFAULT="1"
PERL_USE_UNSAFE_INC="1"
@INC:
/home/cpan/.cpan/build/Encode-3.21-8/blib/arch
/home/cpan/.cpan/build/Encode-3.21-8/blib/lib
/home/cpan/.cpan/build/Test-Reporter-1.62-0/blib/arch
/home/cpan/.cpan/build/Test-Reporter-1.62-0/blib/lib
/home/cpan/.cpan/build/Memoize-1.17-4/blib/arch
/home/cpan/.cpan/build/Memoize-1.17-4/blib/lib
/home/cpan/.cpan/build/Test-Harness-3.50-8/blib/arch
/home/cpan/.cpan/build/Test-Harness-3.50-8/blib/lib
/home/cpan/.cpan/build/CPAN-2.38-8/blib/arch
/home/cpan/.cpan/build/CPAN-2.38-8/blib/lib
/home/cpan/.cpan/build/Scalar-List-Utils-1.69-2/blib/arch
/home/cpan/.cpan/build/Scalar-List-Utils-1.69-2/blib/lib
/home/cpan/bin/perl/lib/site_perl/5.41.11/x86_64-linux
/home/cpan/bin/perl/lib/site_perl/5.41.11
/home/cpan/bin/perl/lib/5.41.11/x86_64-linux
/home/cpan/bin/perl/lib/5.41.11
.