Wiki-Toolkit v0.87 Perl 5 v5.35.12 x86_64-linux-thread-multi

Status
Pass
From
Andreas J. König (ANDK)
Dist
Wiki-Toolkit v0.87
Platform
Perl 5 v5.35.12 x86_64-linux-thread-multi
Date
2022-04-25 03:13:06
ID
a0290f16-c445-11ec-a925-347e4aaea4ab
This distribution has been tested as part of the CPAN Testers
project, supporting the Perl programming language.  See
http://wiki.cpantesters.org/ for more information or email
questions to cpan-testers-discuss@perl.org


--
Dear bob walker,

This is a computer-generated report for Wiki-Toolkit-0.87
on perl 5.35.12, created by CPAN-Reporter-1.2018.

Thank you for uploading your work to CPAN.  Congratulations!
All tests were successful.

Sections of this report:

    * Tester comments
    * Program output
    * Prerequisites
    * Environment and other context

------------------------------
TESTER COMMENTS
------------------------------

Additional comments from tester:

this report is from an automated smoke testing program
and was not reviewed by a human for accuracy

------------------------------
PROGRAM OUTPUT
------------------------------

Output from '/usr/bin/make test':

PERL_DL_NONLAZY=1 "/tmp/basesmoker-reloperl-gsCu/bin/perl" "-MExtUtils::Command::MM" "-MTest::Harness" "-e" "undef *Test::Harness::Switches; test_harness(0, 'blib/lib', 'blib/arch')" t/*.t
t/001_load.t ........................... ok
t/002_datastore_setup.t ................ ok
t/003_instantiate.t .................... ok
t/004_write_and_retrieve.t ............. ok
t/005_delete.t ......................... ok
t/006_list_all.t ....................... ok
t/007_search.t ......................... ok
t/008_write_and_rewrite.t .............. ok
t/009_backlinks.t ...................... ok
t/010_metadata.t ....................... ok
t/011_recent_changes.t ................. ok
t/012_blank_data.t ..................... ok
t/013_fuzzy_title_match.t .............. ok
t/014_advanced_metadata.t .............. ok
t/015_dangling_links.t ................. ok
t/016_recent_changes_between.t ......... ok
t/017_delete_version.t ................. ok
t/018_rc_multiple_metadata_criteria.t .. ok
t/019_recent_changes_case.t ............ ok
t/020_node_exists_case_insensitive.t ... ok
t/021_moderation.t ..................... ok
t/022_list_unmoderated.t ............... ok
t/025_list_node_all_versions.t ......... ok
t/026_schema_current.t ................. ok
t/027_list_last_version_before.t ....... ok
t/040_rename.t ......................... ok
t/041_long_node_names.t ................ ok
t/050_mysql_store.t .................... ok
t/051_pg_store.t ....................... ok
t/052_sqlite_store.t ................... ok
t/060_recent_changes_new_only.t ........ ok
t/061_list_metadata_by_type.t .......... ok
t/062_recent_changes_metadata_was.t .... ok
t/100_formatting.t ..................... ok
t/101_default_formatter.t .............. ok
t/102_multiple_formatter.t ............. ok
t/150_plugins.t ........................ ok
t/151_plugin_methods.t ................. ok
t/152_pre_plugin_approval.t ............ ok
t/297_feed_rss_recentchanges.t ......... ok
t/298_feed_rss_node_all_versions.t ..... ok
t/299_feed_rss_gen_node_dist_feed.t .... ok
t/300_feed_atom_setup.t ................ ok
t/301_feed_atom_add_test_data.t ........ ok
t/302_feed_atom_recentchanges.t ........ ok
t/303_feed_atom_node_all_versions.t .... ok
t/304_feed_atom_gen_node_dist_feed.t ... ok
t/400_upgrade.t ........................ ok
t/401_null_change.t .................... ok
t/500_pod.t ............................ ok
t/700_lucy_bug.t ....................... ok
t/701_lucy_setup.t ..................... ok
t/702_metadata_search.t ................ ok
t/703_search_weightings.t .............. ok
t/704_search_content_munging.t ......... ok
t/705_search_exclusion.t ............... ok
All tests successful.
Files=56, Tests=973, 67 wallclock secs ( 0.23 usr  0.19 sys +  6.81 cusr  1.67 csys =  8.90 CPU)
Result: PASS

------------------------------
PREREQUISITES
------------------------------

Prerequisite modules loaded:

requires:

    Module              Need Have    
    ------------------- ---- --------
    CGI                 0    4.54    
    DBD::SQLite         0.25 1.70    
    DBI                 0    1.643   
    Digest::MD5         0    2.58    
    Digest::SHA         0    6.02    
    HTML::PullParser    0    3.78    
    Test::More          0    1.302190
    Text::WikiFormat    0.78 0.81    
    Time::Piece         0    1.3401  

build_requires:

    Module              Need Have    
    ------------------- ---- --------
    ExtUtils::MakeMaker 0    7.64    

configure_requires:

    Module              Need Have    
    ------------------- ---- --------
    ExtUtils::MakeMaker 0    7.64    


------------------------------
ENVIRONMENT AND OTHER CONTEXT
------------------------------

Environment variables:

    AUTOMATED_TESTING = 1
    LANG = en_US.UTF-8
    PATH = /home/sand/bin:/usr/local/bin:/usr/bin:/bin:/usr/games:/usr/local/perl/bin:/usr/X11/bin:/sbin:/usr/sbin
    PERL5LIB = 
    PERL5OPT = 
    PERL5_CPANPLUS_IS_RUNNING = 580418
    PERL5_CPAN_IS_RUNNING = 580418
    PERL_CANARY_STABILITY_NOPROMPT = 1
    PERL_MM_USE_DEFAULT = 1
    PERL_USE_UNSAFE_INC = 1
    SHELL = /usr/bin/zsh
    TERM = screen

Perl special variables (and OS-specific diagnostics, for MSWin32):

    $^X = /tmp/basesmoker-reloperl-gsCu/bin/perl
    $UID/$EUID = 1005 / 1005
    $GID = 1005 1005
    $EGID = 1005 1005

Perl module toolchain versions installed:

    Module              Have    
    ------------------- --------
    CPAN                2.34    
    CPAN::Meta          2.150010
    Cwd                 3.84    
    ExtUtils::CBuilder  0.280236
    ExtUtils::Command   7.64    
    ExtUtils::Install   2.20    
    ExtUtils::MakeMaker 7.64    
    ExtUtils::Manifest  1.73    
    ExtUtils::ParseXS   3.45    
    File::Spec          3.84    
    JSON                4.05    
    JSON::PP            4.08    
    Module::Build       0.4231  
    Module::Signature   0.88    
    Parse::CPAN::Meta   2.150010
    Test::Harness       3.44    
    Test::More          1.302190
    YAML                1.30    
    YAML::Syck          1.34    
    version             0.9929  


--

Summary of my perl5 (revision 5 version 35 subversion 12) configuration:
  Commit id: 70f5c3e99f92075109e4262faf825fb00ea79bd3
  Platform:
    osname=linux
    osvers=5.16.0-6-amd64
    archname=x86_64-linux-thread-multi
    uname='linux k93msid 5.16.0-6-amd64 #1 smp preempt debian 5.16.18-1 (2022-03-29) x86_64 gnulinux '
    config_args='-Dprefix=/home/sand/src/perl/repoperls/installed-perls/host/k93msid/v5.35.11-10-g70f5c3e99f/419a -Dmyhostname=k93msid -Dinstallusrbinperl=n -Uversiononly -Dusedevel -des -Ui_db -Dlibswanted=cl pthread socket inet nsl gdbm dbm malloc dl ld sun m crypt sec util c cposix posix ucb BSD gdbm_compat -Duseithreads -Uuselongdouble -DEBUGGING=none'
    hint=recommended
    useposix=true
    d_sigaction=define
    useithreads=define
    usemultiplicity=define
    use64bitint=define
    use64bitall=define
    uselongdouble=undef
    usemymalloc=n
    default_inc_excludes_dot=define
  Compiler:
    cc='cc'
    ccflags ='-D_REENTRANT -D_GNU_SOURCE -fwrapv -fno-strict-aliasing -pipe -fstack-protector-strong -I/usr/local/include -D_LARGEFILE_SOURCE -D_FILE_OFFSET_BITS=64 -D_FORTIFY_SOURCE=2'
    optimize='-O2'
    cppflags='-D_REENTRANT -D_GNU_SOURCE -fwrapv -fno-strict-aliasing -pipe -fstack-protector-strong -I/usr/local/include'
    ccversion=''
    gccversion='11.2.0'
    gccosandvers=''
    intsize=4
    longsize=8
    ptrsize=8
    doublesize=8
    byteorder=12345678
    doublekind=3
    d_longlong=define
    longlongsize=8
    d_longdbl=define
    longdblsize=16
    longdblkind=3
    ivtype='long'
    ivsize=8
    nvtype='double'
    nvsize=8
    Off_t='off_t'
    lseeksize=8
    alignbytes=8
    prototype=define
  Linker and Libraries:
    ld='cc'
    ldflags =' -fstack-protector-strong -L/usr/local/lib'
    libpth=/usr/local/lib /usr/lib/x86_64-linux-gnu /usr/lib /lib/x86_64-linux-gnu /lib
    libs=-lpthread -lnsl -ldl -lm -lcrypt -lutil -lc
    perllibs=-lpthread -lnsl -ldl -lm -lcrypt -lutil -lc
    libc=libc-2.33.so
    so=so
    useshrplib=false
    libperl=libperl.a
    gnulibc_version='2.33'
  Dynamic Linking:
    dlsrc=dl_dlopen.xs
    dlext=so
    d_dlsymun=undef
    ccdlflags='-Wl,-E'
    cccdlflags='-fPIC'
    lddlflags='-shared -O2 -L/usr/local/lib -fstack-protector-strong'


Characteristics of this binary (from libperl): 
  Compile-time options:
    HAS_TIMES
    MULTIPLICITY
    PERLIO_LAYERS
    PERL_COPY_ON_WRITE
    PERL_DONT_CREATE_GVSV
    PERL_MALLOC_WRAP
    PERL_OP_PARENT
    PERL_PRESERVE_IVUV
    PERL_USE_DEVEL
    USE_64_BIT_ALL
    USE_64_BIT_INT
    USE_ITHREADS
    USE_LARGE_FILES
    USE_LOCALE
    USE_LOCALE_COLLATE
    USE_LOCALE_CTYPE
    USE_LOCALE_NUMERIC
    USE_LOCALE_TIME
    USE_PERLIO
    USE_PERL_ATOF
    USE_REENTRANT_API
    USE_THREAD_SAFE_LOCALE
  Built under linux
  Compiled at Apr 23 2022 07:40:47
  %ENV:
    PERL5LIB=""
    PERL5OPT=""
    PERL5_CPANPLUS_IS_RUNNING="580418"
    PERL5_CPAN_IS_RUNNING="580418"
    PERL_CANARY_STABILITY_NOPROMPT="1"
    PERL_MM_USE_DEFAULT="1"
    PERL_USE_UNSAFE_INC="1"
  @INC:
    /home/sand/src/perl/repoperls/installed-perls/host/k93msid/v5.35.11-10-g70f5c3e99f/419a/lib/site_perl/5.35.12/x86_64-linux-thread-multi
    /home/sand/src/perl/repoperls/installed-perls/host/k93msid/v5.35.11-10-g70f5c3e99f/419a/lib/site_perl/5.35.12
    /home/sand/src/perl/repoperls/installed-perls/host/k93msid/v5.35.11-10-g70f5c3e99f/419a/lib/5.35.12/x86_64-linux-thread-multi
    /home/sand/src/perl/repoperls/installed-perls/host/k93msid/v5.35.11-10-g70f5c3e99f/419a/lib/5.35.12
    .