Math-LongDouble v0.26 Perl 5 v5.26.2 OpenBSD.amd64-openbsd-thread-multi
- Status
- Pass
- From
- Chris Williams (BINGOS)
- Dist
-
Math-LongDouble v0.26
- Platform
- Perl 5 v5.26.2 OpenBSD.amd64-openbsd-thread-multi
- Date
- 2024-12-08 00:30:29
- ID
- a044cc5c-b4fb-11ef-98b0-b3c3213a625c
This distribution has been tested as part of the CPAN Testers
project, supporting the Perl programming language. See
http://wiki.cpantesters.org/ for more information or email
questions to cpan-testers-discuss@perl.org
--
Dear SISYPHUS,
This is a computer-generated error report created automatically by
CPANPLUS, version 0.9914. Testers personal comments may appear
at the end of this report.
Thank you for uploading your work to CPAN. Congratulations!
All tests were successful.
TEST RESULTS:
Below is the error stack from stage 'make test':
"/home/cpan/pit/thr/perl-5.26.2/bin/perl" -MExtUtils::Command::MM -e 'cp_nonempty' -- LongDouble.bs blib/arch/auto/Math/LongDouble/LongDouble.bs 644
PERL_DL_NONLAZY=1 "/home/cpan/pit/thr/perl-5.26.2/bin/perl" "-MExtUtils::Command::MM" "-MTest::Harness" "-e" "undef *Test::Harness::Switches; test_harness(0, 'blib/lib', 'blib/arch')" t/*.t
No tests with this file. Instead, mainly for the benefit
of the author, we (hopefully) see some diagnostics from some
test executables that were run during the Makefile.PL stage.
t/01config_xtra.t .......... ok
CC = cc
OPTMIZE = -O2
erfl & isnanl check (build): ld: error: undefined symbol: isnanl
>>> referenced by try.in
>>> /tmp/try-90054a.o:(main)
>>> did you mean: isnanf
>>> defined in: /usr/lib/libc.so.97.0
cc: error: linker command failed with exit code 1 (use -v to see invocation)
build output (nanl check):
execution output (nanl check): rop set as expected
build output (nan**0 check):
try2.in:50:38: warning: format specifies type 'unsigned int' but the argument has type 'unsigned long' [-Wformat]
printf("size of long double: %u\n", ul);
~~ ^~
%lu
1 warning generated.
nan**0 check diagnostic: 1.0L
1.0L
1.0L
size of long double: 16
build output (signbitl check): ld: error: undefined symbol: signbitl
>>> referenced by try4.in
>>> /tmp/try4-1f8122.o:(main)
cc: error: linker command failed with exit code 1 (use -v to see invocation)
build output (sincosl check):
execution output (sincosl check):
NAN_POW_BUG is NOT defined
NANL_IS_UNAVAILABLE is NOT defined
ISNANL_IS_UNAVAILABLE is defined
SIGNBITL_IS_UNAVAILABLE is defined
SINCOSL_IS_UNAVAILABLE is defined
Actual nvsize == 8
Actual long double size = 10
t/aab_basic.t .............. ok
Math::LongDouble::_have_isnanl() returns 0
t/abs.t .................... ok
Math::LongDouble::_have_nanl() returns 1
Math::LongDouble::_have_signbitl() returns 0
t/arith.t .................. ok
t/base_conversion.t ........ ok
t/bool.t ................... ok
t/cmp.t .................... ok
LD_DBL_DENORM_MIN not implemented
t/constants.t .............. ok
LD_LDBL_DENORM_MIN not implemented
t/inc_dec.t ................ ok
t/int.t .................... ok
Skipping all tests - nvtype ('double') is not 'long double'
t/ld_bytes.t ............... ok
t/log_exp.t ................ ok
Math:LongDouble::_nan_pow_bug() returns 0
t/nan_pow.t ................ ok
t/new.t .................... ok
t/nnum.t ................... ok
t/overload.t ............... ok
t/overload_cmp_reversal.t .. ok
t/overload_switch.t ........ ok
Skipping test 1 - no recent version of Test::Pod installed
t/pod.t .................... ok
t/pow.t .................... ok
FYI:
DBL_DIG = 15
LDBL_DIG = 18
Default precison = 21
t/prec.t ................... ok
t/signbit.t ................ ok
t/special.t ................ ok
t/stringification.t ........ ok
using own implementation of sincosl function
t/trig.t ................... ok
All tests successful.
Files=25, Tests=340, 1 wallclock secs ( 0.07 usr 0.14 sys + 0.93 cusr 0.43 csys = 1.57 CPU)
Result: PASS
PREREQUISITES:
Here is a list of prerequisites you specified and versions we
managed to load:
Module Name Have Want
ExtUtils::MakeMaker 7.70 0
Perl module toolchain versions installed:
Module Name Have
CPANPLUS 0.9914
CPANPLUS::Dist::Build 0.90
Cwd 3.75
ExtUtils::CBuilder 0.280236
ExtUtils::Command 7.70
ExtUtils::Install 2.22
ExtUtils::MakeMaker 7.70
ExtUtils::Manifest 1.75
ExtUtils::ParseXS 3.51
File::Spec 3.75
Module::Build 0.4234
Pod::Parser 1.63
Pod::Simple 3.35
Test2 1.302200
Test::Harness 3.48
Test::More 1.302200
version 0.9932
******************************** NOTE ********************************
The comments above are created mechanically, possibly without manual
checking by the sender. As there are many people performing automatic
tests on each upload to CPAN, it is likely that you will receive
identical messages about the same problem.
If you believe that the message is mistaken, please reply to the first
one with correction and/or additional informations, and do not take
it personally. We appreciate your patience. :)
**********************************************************************
Additional comments:
This report was machine-generated by CPANPLUS::Dist::YACSmoke 1.08.
Powered by minismokebox version 0.68
CPANPLUS is prefering Build.PL
------------------------------
ENVIRONMENT AND OTHER CONTEXT
------------------------------
Environment variables:
AUTOMATED_TESTING = 1
NONINTERACTIVE_TESTING = 1
PATH = /home/cpan/pit/jail/xxcJsU1Brp/bin:/home/cpan/bin:/bin:/sbin:/usr/bin:/usr/sbin:/usr/X11R6/bin:/usr/local/bin:/usr/local/sbin
PERL5LIB = /home/cpan/pit/jail/xxcJsU1Brp/lib/perl5:/home/cpan/pit/thr/conf/perl-5.26.2/.cpanplus/5.26.2/build/T9iDVop5cj/Math-LongDouble-0.26/blib/lib:/home/cpan/pit/thr/conf/perl-5.26.2/.cpanplus/5.26.2/build/T9iDVop5cj/Math-LongDouble-0.26/blib/arch
PERL5_CPANPLUS_IS_RUNNING = 23353
PERL5_CPANPLUS_IS_VERSION = 0.9914
PERL5_MINISMOKEBOX = 0.68
PERL5_YACSMOKE_BASE = /home/cpan/pit/thr/conf/perl-5.26.2
PERL_EXTUTILS_AUTOINSTALL = --defaultdeps
PERL_LOCAL_LIB_ROOT = /home/cpan/pit/jail/xxcJsU1Brp
PERL_MB_OPT = --install_base "/home/cpan/pit/jail/xxcJsU1Brp"
PERL_MM_OPT = INSTALL_BASE=/home/cpan/pit/jail/xxcJsU1Brp
PERL_MM_USE_DEFAULT = 1
SHELL = /usr/local/bin/bash
TERM = screen.xterm-256color
Perl special variables (and OS-specific diagnostics, for MSWin32):
Perl: $^X = /home/cpan/pit/thr/perl-5.26.2/bin/perl
UID: $< = 1001
EUID: $> = 1001
GID: $( = 1001 1001
EGID: $) = 1001 1001
-------------------------------
--
Summary of my perl5 (revision 5 version 26 subversion 2) configuration:
Platform:
osname=openbsd
osvers=7.3
archname=OpenBSD.amd64-openbsd-thread-multi
uname='openbsd overture.bingosnet.co.uk 7.3 generic#1072 amd64 '
config_args='-des -Dprefix=/home/cpan/pit/thr/perl-5.26.2 -Dusethreads'
hint=recommended
useposix=true
d_sigaction=define
useithreads=define
usemultiplicity=define
use64bitint=define
use64bitall=define
uselongdouble=undef
usemymalloc=n
default_inc_excludes_dot=define
bincompat5005=undef
Compiler:
cc='cc'
ccflags ='-pthread -fno-strict-aliasing -pipe -fstack-protector-strong -I/usr/local/include'
optimize='-O2'
cppflags='-pthread -fno-strict-aliasing -pipe -fstack-protector-strong -I/usr/local/include'
ccversion=''
gccversion='OpenBSD Clang 13.0.0'
gccosandvers=''
intsize=4
longsize=8
ptrsize=8
doublesize=8
byteorder=12345678
doublekind=3
d_longlong=define
longlongsize=8
d_longdbl=define
longdblsize=16
longdblkind=3
ivtype='long'
ivsize=8
nvtype='double'
nvsize=8
Off_t='off_t'
lseeksize=8
alignbytes=8
prototype=define
Linker and Libraries:
ld='cc'
ldflags ='-pthread -Wl,-E -fstack-protector-strong -L/usr/local/lib'
libpth=/usr/lib/clang/13.0.0/lib /usr/lib /usr/local/lib
libs=-lpthread -lgdbm -lm -lutil -lc
perllibs=-lpthread -lm -lutil -lc
libc=/usr/lib/libc.so.97.0
so=so
useshrplib=false
libperl=libperl.a
gnulibc_version=''
Dynamic Linking:
dlsrc=dl_dlopen.xs
dlext=so
d_dlsymun=undef
ccdlflags=' '
cccdlflags='-DPIC -fPIC '
lddlflags='-shared -fPIC -L/usr/local/lib -fstack-protector-strong'
Characteristics of this binary (from libperl):
Compile-time options:
HAS_TIMES
MULTIPLICITY
PERLIO_LAYERS
PERL_COPY_ON_WRITE
PERL_DONT_CREATE_GVSV
PERL_IMPLICIT_CONTEXT
PERL_MALLOC_WRAP
PERL_OP_PARENT
PERL_PRESERVE_IVUV
USE_64_BIT_ALL
USE_64_BIT_INT
USE_ITHREADS
USE_LARGE_FILES
USE_LOCALE
USE_LOCALE_COLLATE
USE_LOCALE_CTYPE
USE_LOCALE_NUMERIC
USE_LOCALE_TIME
USE_PERLIO
USE_PERL_ATOF
USE_REENTRANT_API
Locally applied patches:
Devel::PatchPerl 2.08
Built under openbsd
Compiled at May 30 2023 09:44:13
%ENV:
PERL5LIB="/home/cpan/pit/jail/xxcJsU1Brp/lib/perl5:/home/cpan/pit/thr/conf/perl-5.26.2/.cpanplus/5.26.2/build/T9iDVop5cj/Math-LongDouble-0.26/blib/lib:/home/cpan/pit/thr/conf/perl-5.26.2/.cpanplus/5.26.2/build/T9iDVop5cj/Math-LongDouble-0.26/blib/arch"
PERL5_CPANPLUS_IS_RUNNING="23353"
PERL5_CPANPLUS_IS_VERSION="0.9914"
PERL5_MINISMOKEBOX="0.68"
PERL5_YACSMOKE_BASE="/home/cpan/pit/thr/conf/perl-5.26.2"
PERL_EXTUTILS_AUTOINSTALL="--defaultdeps"
PERL_LOCAL_LIB_ROOT="/home/cpan/pit/jail/xxcJsU1Brp"
PERL_MB_OPT="--install_base "/home/cpan/pit/jail/xxcJsU1Brp""
PERL_MM_OPT="INSTALL_BASE=/home/cpan/pit/jail/xxcJsU1Brp"
PERL_MM_USE_DEFAULT="1"
@INC:
/home/cpan/pit/jail/xxcJsU1Brp/lib/perl5/5.26.2/OpenBSD.amd64-openbsd-thread-multi
/home/cpan/pit/jail/xxcJsU1Brp/lib/perl5/5.26.2
/home/cpan/pit/jail/xxcJsU1Brp/lib/perl5/OpenBSD.amd64-openbsd-thread-multi
/home/cpan/pit/jail/xxcJsU1Brp/lib/perl5
/home/cpan/pit/thr/conf/perl-5.26.2/.cpanplus/5.26.2/build/T9iDVop5cj/Math-LongDouble-0.26/blib/lib
/home/cpan/pit/thr/conf/perl-5.26.2/.cpanplus/5.26.2/build/T9iDVop5cj/Math-LongDouble-0.26/blib/arch
/home/cpan/pit/thr/perl-5.26.2/lib/site_perl/5.26.2/OpenBSD.amd64-openbsd-thread-multi
/home/cpan/pit/thr/perl-5.26.2/lib/site_perl/5.26.2
/home/cpan/pit/thr/perl-5.26.2/lib/5.26.2/OpenBSD.amd64-openbsd-thread-multi
/home/cpan/pit/thr/perl-5.26.2/lib/5.26.2