HTML-FormFu-MultiForm v1.03 Perl 5 v5.14.1 x86_64-linux

Status
Pass
From
Nedzad Hrnjica (NHRNJICA)
Dist
HTML-FormFu-MultiForm v1.03
Platform
Perl 5 v5.14.1 x86_64-linux
Date
2022-07-26 14:24:14
ID
a04abf48-0cee-11ed-a586-165e19f29030
This distribution has been tested as part of the CPAN Testers
project, supporting the Perl programming language.  See
http://wiki.cpantesters.org/ for more information or email
questions to cpan-testers-discuss@perl.org


--
Dear NIGELM,

This is a computer-generated report for HTML-FormFu-MultiForm-1.03
on perl 5.14.1, created by App::cpanminus::reporter 0.17 (1.7046).

Thank you for uploading your work to CPAN.  Congratulations!
All tests were successful.

Sections of this report:

    * Tester comments
    * Program output
    * Prerequisites
    * Environment and other context

------------------------------
TESTER COMMENTS
------------------------------

Additional comments from tester:

none provided

------------------------------
PROGRAM OUTPUT
------------------------------

Output from '':

Building and testing HTML-FormFu-MultiForm-1.03
cp lib/HTML/FormFu/MultiForm.pm blib/lib/HTML/FormFu/MultiForm.pm
Manifying 1 pod document
PERL_DL_NONLAZY=1 "/home/liveapp/.plenv/versions/5.14.1/bin/perl5.14.1" "-MExtUtils::Command::MM" "-MTest::Harness" "-e" "undef *Test::Harness::Switches; test_harness(0, 'blib/lib', 'blib/arch')" t/*.t t/multiform-misc/*.t t/multiform-nested-name/*.t t/multiform-no-combine/*.t t/multiform/*.t t/multiform_hidden_name/*.t
# 
# Versions for all modules listed in MYMETA.json (including optional ones):
# 
# === Configure Requires ===
# 
#     Module              Want Have
#     ------------------- ---- ----
#     ExtUtils::MakeMaker  any 7.64
# 
# === Build Requires ===
# 
#     Module              Want Have
#     ------------------- ---- ----
#     ExtUtils::MakeMaker  any 7.64
# 
# === Test Requires ===
# 
#     Module              Want     Have
#     ------------------- ---- --------
#     Cwd                  any     3.75
#     ExtUtils::MakeMaker  any     7.64
#     Fatal                any   2.1001
#     File::Spec           any     3.75
#     Test::More          0.92 1.302191
#     YAML::XS             any     0.83
#     warnings             any     1.12
# 
# === Test Recommends ===
# 
#     Module         Want     Have
#     ---------- -------- --------
#     CPAN::Meta 2.120900 2.150010
# 
# === Runtime Requires ===
# 
#     Module                                       Want   Have
#     -------------------------------------------- ---- ------
#     Carp                                          any   1.50
#     Clone                                         any   0.45
#     Crypt::CBC                                    any   3.04
#     Crypt::DES                                    any   2.07
#     HTML::FormFu                                  any   2.07
#     HTML::FormFu::Attribute                       any   2.07
#     HTML::FormFu::ObjectUtil                      any   2.07
#     HTML::FormFu::QueryType::CGI                  any   2.07
#     HTML::FormFu::Role::FormAndElementMethods     any   2.07
#     HTML::FormFu::Role::FormBlockAndFieldMethods  any   2.07
#     HTML::FormFu::Role::NestedHashUtils           any   2.07
#     HTML::FormFu::Role::Populate                  any   2.07
#     List::MoreUtils                               any  0.430
#     Moose                                         any 2.2201
#     MooseX::Attribute::Chained                    any  1.0.3
#     Scalar::Util                                  any   1.62
#     Storable                                      any   3.25
#     overload                                      any   1.13
#     strict                                        any   1.04
# 
t/00-report-prereqs.t ........................ ok
t/multiform-misc-file-client-side.t .......... skipped: CGI tmp_upload_dir functionality makes this unusable on modern versions
WARNING: The key derivation method "opensslv1" is deprecated. Using -pbkdf=>'pbkdf2' would be better.
Pass -nodeprecate=>1 to inhibit this message.
 at /home/liveapp/.cpanm/work/1658844835.2085257/HTML-FormFu-MultiForm-1.03/blib/lib/HTML/FormFu/MultiForm.pm line 533.
t/multiform-misc/accessors.t ................. ok
t/multiform-misc/file-server-side.t .......... skipped: CGI tmp_upload_dir functionality makes this unusable on modern versions
t/multiform-nested-name/0_render_page_1.t .... ok
t/multiform-nested-name/1_submit_page_1.t .... ok
WARNING: The key derivation method "opensslv1" is deprecated. Using -pbkdf=>'pbkdf2' would be better.
Pass -nodeprecate=>1 to inhibit this message.
 at /home/liveapp/.cpanm/work/1658844835.2085257/HTML-FormFu-MultiForm-1.03/blib/lib/HTML/FormFu/MultiForm.pm line 533.
WARNING: The key derivation method "opensslv1" is deprecated. Using -pbkdf=>'pbkdf2' would be better.
Pass -nodeprecate=>1 to inhibit this message.
 at /home/liveapp/.cpanm/work/1658844835.2085257/HTML-FormFu-MultiForm-1.03/blib/lib/HTML/FormFu/MultiForm.pm line 533.
t/multiform-nested-name/2_render_page_2.t .... ok
WARNING: The key derivation method "opensslv1" is deprecated. Using -pbkdf=>'pbkdf2' would be better.
Pass -nodeprecate=>1 to inhibit this message.
 at /home/liveapp/.cpanm/work/1658844835.2085257/HTML-FormFu-MultiForm-1.03/blib/lib/HTML/FormFu/MultiForm.pm line 533.
WARNING: The key derivation method "opensslv1" is deprecated. Using -pbkdf=>'pbkdf2' would be better.
Pass -nodeprecate=>1 to inhibit this message.
 at /home/liveapp/.cpanm/work/1658844835.2085257/HTML-FormFu-MultiForm-1.03/blib/lib/HTML/FormFu/MultiForm.pm line 533.
t/multiform-nested-name/3_submit_page_2.t .... ok
WARNING: The key derivation method "opensslv1" is deprecated. Using -pbkdf=>'pbkdf2' would be better.
Pass -nodeprecate=>1 to inhibit this message.
 at /home/liveapp/.cpanm/work/1658844835.2085257/HTML-FormFu-MultiForm-1.03/blib/lib/HTML/FormFu/MultiForm.pm line 533.
WARNING: The key derivation method "opensslv1" is deprecated. Using -pbkdf=>'pbkdf2' would be better.
Pass -nodeprecate=>1 to inhibit this message.
 at /home/liveapp/.cpanm/work/1658844835.2085257/HTML-FormFu-MultiForm-1.03/blib/lib/HTML/FormFu/MultiForm.pm line 533.
t/multiform-nested-name/4_complete_page_3.t .. ok
t/multiform-no-combine/0_render_page_1.t ..... ok
t/multiform-no-combine/1_submit_page_1.t ..... ok
WARNING: The key derivation method "opensslv1" is deprecated. Using -pbkdf=>'pbkdf2' would be better.
Pass -nodeprecate=>1 to inhibit this message.
 at /home/liveapp/.cpanm/work/1658844835.2085257/HTML-FormFu-MultiForm-1.03/blib/lib/HTML/FormFu/MultiForm.pm line 533.
WARNING: The key derivation method "opensslv1" is deprecated. Using -pbkdf=>'pbkdf2' would be better.
Pass -nodeprecate=>1 to inhibit this message.
 at /home/liveapp/.cpanm/work/1658844835.2085257/HTML-FormFu-MultiForm-1.03/blib/lib/HTML/FormFu/MultiForm.pm line 533.
t/multiform-no-combine/2_render_page_2.t ..... ok
WARNING: The key derivation method "opensslv1" is deprecated. Using -pbkdf=>'pbkdf2' would be better.
Pass -nodeprecate=>1 to inhibit this message.
 at /home/liveapp/.cpanm/work/1658844835.2085257/HTML-FormFu-MultiForm-1.03/blib/lib/HTML/FormFu/MultiForm.pm line 533.
WARNING: The key derivation method "opensslv1" is deprecated. Using -pbkdf=>'pbkdf2' would be better.
Pass -nodeprecate=>1 to inhibit this message.
 at /home/liveapp/.cpanm/work/1658844835.2085257/HTML-FormFu-MultiForm-1.03/blib/lib/HTML/FormFu/MultiForm.pm line 533.
t/multiform-no-combine/3_submit_page_2.t ..... ok
WARNING: The key derivation method "opensslv1" is deprecated. Using -pbkdf=>'pbkdf2' would be better.
Pass -nodeprecate=>1 to inhibit this message.
 at /home/liveapp/.cpanm/work/1658844835.2085257/HTML-FormFu-MultiForm-1.03/blib/lib/HTML/FormFu/MultiForm.pm line 533.
WARNING: The key derivation method "opensslv1" is deprecated. Using -pbkdf=>'pbkdf2' would be better.
Pass -nodeprecate=>1 to inhibit this message.
 at /home/liveapp/.cpanm/work/1658844835.2085257/HTML-FormFu-MultiForm-1.03/blib/lib/HTML/FormFu/MultiForm.pm line 533.
t/multiform-no-combine/4_complete_page_3.t ... ok
t/multiform/0_render_page_1.t ................ ok
t/multiform/1_submit_page_1.t ................ ok
WARNING: The key derivation method "opensslv1" is deprecated. Using -pbkdf=>'pbkdf2' would be better.
Pass -nodeprecate=>1 to inhibit this message.
 at /home/liveapp/.cpanm/work/1658844835.2085257/HTML-FormFu-MultiForm-1.03/blib/lib/HTML/FormFu/MultiForm.pm line 533.
WARNING: The key derivation method "opensslv1" is deprecated. Using -pbkdf=>'pbkdf2' would be better.
Pass -nodeprecate=>1 to inhibit this message.
 at /home/liveapp/.cpanm/work/1658844835.2085257/HTML-FormFu-MultiForm-1.03/blib/lib/HTML/FormFu/MultiForm.pm line 533.
t/multiform/2_render_page_2.t ................ ok
WARNING: The key derivation method "opensslv1" is deprecated. Using -pbkdf=>'pbkdf2' would be better.
Pass -nodeprecate=>1 to inhibit this message.
 at /home/liveapp/.cpanm/work/1658844835.2085257/HTML-FormFu-MultiForm-1.03/blib/lib/HTML/FormFu/MultiForm.pm line 533.
WARNING: The key derivation method "opensslv1" is deprecated. Using -pbkdf=>'pbkdf2' would be better.
Pass -nodeprecate=>1 to inhibit this message.
 at /home/liveapp/.cpanm/work/1658844835.2085257/HTML-FormFu-MultiForm-1.03/blib/lib/HTML/FormFu/MultiForm.pm line 533.
t/multiform/3_submit_page_2.t ................ ok
WARNING: The key derivation method "opensslv1" is deprecated. Using -pbkdf=>'pbkdf2' would be better.
Pass -nodeprecate=>1 to inhibit this message.
 at /home/liveapp/.cpanm/work/1658844835.2085257/HTML-FormFu-MultiForm-1.03/blib/lib/HTML/FormFu/MultiForm.pm line 533.
WARNING: The key derivation method "opensslv1" is deprecated. Using -pbkdf=>'pbkdf2' would be better.
Pass -nodeprecate=>1 to inhibit this message.
 at /home/liveapp/.cpanm/work/1658844835.2085257/HTML-FormFu-MultiForm-1.03/blib/lib/HTML/FormFu/MultiForm.pm line 533.
t/multiform/4_complete_page_3.t .............. ok
t/multiform_hidden_name/0_render_page_1.t .... ok
t/multiform_hidden_name/1_submit_page_1.t .... ok
WARNING: The key derivation method "opensslv1" is deprecated. Using -pbkdf=>'pbkdf2' would be better.
Pass -nodeprecate=>1 to inhibit this message.
 at /home/liveapp/.cpanm/work/1658844835.2085257/HTML-FormFu-MultiForm-1.03/blib/lib/HTML/FormFu/MultiForm.pm line 533.
WARNING: The key derivation method "opensslv1" is deprecated. Using -pbkdf=>'pbkdf2' would be better.
Pass -nodeprecate=>1 to inhibit this message.
 at /home/liveapp/.cpanm/work/1658844835.2085257/HTML-FormFu-MultiForm-1.03/blib/lib/HTML/FormFu/MultiForm.pm line 533.
t/multiform_hidden_name/2_render_page_2.t .... ok
WARNING: The key derivation method "opensslv1" is deprecated. Using -pbkdf=>'pbkdf2' would be better.
Pass -nodeprecate=>1 to inhibit this message.
 at /home/liveapp/.cpanm/work/1658844835.2085257/HTML-FormFu-MultiForm-1.03/blib/lib/HTML/FormFu/MultiForm.pm line 533.
WARNING: The key derivation method "opensslv1" is deprecated. Using -pbkdf=>'pbkdf2' would be better.
Pass -nodeprecate=>1 to inhibit this message.
 at /home/liveapp/.cpanm/work/1658844835.2085257/HTML-FormFu-MultiForm-1.03/blib/lib/HTML/FormFu/MultiForm.pm line 533.
t/multiform_hidden_name/3_submit_page_2.t .... ok
WARNING: The key derivation method "opensslv1" is deprecated. Using -pbkdf=>'pbkdf2' would be better.
Pass -nodeprecate=>1 to inhibit this message.
 at /home/liveapp/.cpanm/work/1658844835.2085257/HTML-FormFu-MultiForm-1.03/blib/lib/HTML/FormFu/MultiForm.pm line 533.
WARNING: The key derivation method "opensslv1" is deprecated. Using -pbkdf=>'pbkdf2' would be better.
Pass -nodeprecate=>1 to inhibit this message.
 at /home/liveapp/.cpanm/work/1658844835.2085257/HTML-FormFu-MultiForm-1.03/blib/lib/HTML/FormFu/MultiForm.pm line 533.
t/multiform_hidden_name/4_complete_page_3.t .. ok
All tests successful.
Files=24, Tests=111, 12 wallclock secs ( 0.06 usr  0.03 sys + 10.98 cusr  0.86 csys = 11.93 CPU)
Result: PASS

------------------------------
PREREQUISITES
------------------------------

Prerequisite modules loaded:

    No requirements found

------------------------------
ENVIRONMENT AND OTHER CONTEXT
------------------------------

Environment variables:

    LANG = C.UTF-8
    PATH = /home/liveapp/.plenv/versions/5.14.1/bin:/home/liveapp/.plenv/libexec:/home/liveapp/.plenv/plugins/perl-build/bin:/home/liveapp/cpantesters.new/5.14.1/local/bin:/home/liveapp/.plenv/shims:/home/liveapp/.plenv/bin:/usr/local/sbin:/usr/local/bin:/usr/sbin:/usr/bin:/sbin:/bin:/usr/games:/usr/local/games:/snap/bin
    PERL5LIB = /home/liveapp/cpantesters.new/5.14.1/local/lib/perl5
    SHELL = /bin/bash
    TERM = xterm-256color

Perl special variables (and OS-specific diagnostics, for MSWin32):

    EGID = 1001 27 1001
    EUID = 1001
    EXECUTABLE_NAME = /home/liveapp/.plenv/versions/5.14.1/bin/perl5.14.1
    GID = 1001 27 1001
    UID = 1001

Perl module toolchain versions installed:

    Module              Have    
    ------------------- --------
    CPAN                1.9600  
    CPAN::Meta          2.150010
    Cwd                 3.75    
    ExtUtils::CBuilder  0.280236
    ExtUtils::Command   7.64    
    ExtUtils::Install   2.06    
    ExtUtils::MakeMaker 7.64    
    ExtUtils::Manifest  1.70    
    ExtUtils::ParseXS   3.44    
    File::Spec          3.75    
    JSON                4.07    
    JSON::PP            4.10    
    Module::Build       0.4231  
    Module::Signature   n/a     
    Parse::CPAN::Meta   2.150010
    Test::Harness       3.44    
    Test::More          1.302191
    YAML                1.30    
    YAML::Syck          1.34    
    version             0.9929  


--

Summary of my perl5 (revision 5 version 14 subversion 1) configuration:
   
  Platform:
    osname=linux, osvers=5.4.0-91-generic, archname=x86_64-linux
    uname='linux supremeadmin 5.4.0-91-generic #102-ubuntu smp fri nov 5 16:31:28 utc 2021 x86_64 x86_64 x86_64 gnulinux '
    config_args='-Dprefix=/home/liveapp/.plenv/versions/5.14.1 -de -Dversiononly -A'eval:scriptdir=/home/liveapp/.plenv/versions/5.14.1/bin''
    hint=recommended, useposix=true, d_sigaction=define
    useithreads=undef, usemultiplicity=undef
    useperlio=define, d_sfio=undef, uselargefiles=define, usesocks=undef
    use64bitint=define, use64bitall=define, uselongdouble=undef
    usemymalloc=n, bincompat5005=undef
  Compiler:
    cc='cc', ccflags ='-fwrapv -fno-strict-aliasing -pipe -fstack-protector -I/usr/local/include -D_LARGEFILE_SOURCE -D_FILE_OFFSET_BITS=64',
    optimize='-O2',
    cppflags='-fwrapv -fno-strict-aliasing -pipe -fstack-protector -I/usr/local/include'
    ccversion='', gccversion='9.4.0', gccosandvers=''
    intsize=4, longsize=8, ptrsize=8, doublesize=8, byteorder=12345678
    d_longlong=define, longlongsize=8, d_longdbl=define, longdblsize=16
    ivtype='long', ivsize=8, nvtype='double', nvsize=8, Off_t='off_t', lseeksize=8
    alignbytes=8, prototype=define
  Linker and Libraries:
    ld='cc', ldflags =' -fstack-protector -L/usr/local/lib'
    libpth=/usr/local/lib /lib/x86_64-linux-gnu /lib/../lib /usr/lib/x86_64-linux-gnu /usr/lib/../lib /lib /usr/lib
    libs=-lnsl -ldl -lm -lcrypt -lutil -lc
    perllibs=-lnsl -ldl -lm -lcrypt -lutil -lc
    libc=libc-2.31.so, so=so, useshrplib=false, libperl=libperl.a
    gnulibc_version='2.31'
  Dynamic Linking:
    dlsrc=dl_dlopen.xs, dlext=so, d_dlsymun=undef, ccdlflags='-Wl,-E'
    cccdlflags='-fPIC', lddlflags='-shared -O2 -L/usr/local/lib -fstack-protector'


Characteristics of this binary (from libperl): 
  Compile-time options: PERL_DONT_CREATE_GVSV PERL_MALLOC_WRAP
                        PERL_PRESERVE_IVUV USE_64_BIT_ALL USE_64_BIT_INT
                        USE_LARGE_FILES USE_PERLIO USE_PERL_ATOF
  Locally applied patches:
	Devel::PatchPerl 2.08
  Built under linux
  Compiled at Jul 24 2022 13:53:49
  %ENV:
    PERL5LIB="/home/liveapp/cpantesters.new/5.14.1/local/lib/perl5"
  @INC:
    /home/liveapp/cpantesters.new/5.14.1/local/lib/perl5
    /home/liveapp/.plenv/versions/5.14.1/lib/perl5/site_perl/5.14.1/x86_64-linux
    /home/liveapp/.plenv/versions/5.14.1/lib/perl5/site_perl/5.14.1
    /home/liveapp/.plenv/versions/5.14.1/lib/perl5/5.14.1/x86_64-linux
    /home/liveapp/.plenv/versions/5.14.1/lib/perl5/5.14.1
    .