POE-Component-Server-SimpleHTTP v2.30 Perl 5 v5.38.4 x86_64-linux
- Status
- Pass
- From
- David Cantrell (DCANTRELL)
- Dist
-
POE-Component-Server-SimpleHTTP v2.30
- Platform
- Perl 5 v5.38.4 x86_64-linux
- Date
- 2025-06-08 22:40:49
- ID
- a066b10c-44b9-11f0-b1c9-d8c78a2728a1
This distribution has been tested as part of the CPAN Testers
project, supporting the Perl programming language. See
http://wiki.cpantesters.org/ for more information or email
questions to cpan-testers-discuss@perl.org
--
Dear Chris Williams,
This is a computer-generated report for POE-Component-Server-SimpleHTTP-2.30
on perl 5.38.4, created by CPAN-Reporter-1.2020.
Thank you for uploading your work to CPAN. Congratulations!
All tests were successful.
Sections of this report:
* Tester comments
* Program output
* Prerequisites
* Environment and other context
------------------------------
TESTER COMMENTS
------------------------------
Additional comments from tester:
this report is from an automated smoke testing program
and was not reviewed by a human for accuracy
------------------------------
PROGRAM OUTPUT
------------------------------
Output from '/usr/bin/make test':
PERL_DL_NONLAZY=1 "/home/david/cpantesting/perl-5.38.4/bin/perl" "-MExtUtils::Command::MM" "-MTest::Harness" "-e" "undef *Test::Harness::Switches; test_harness(0, 'blib/lib', 'blib/arch')" t/*.t
t/00-compile.t ........... ok
# GET http://pocosimpletest.com:36097/ HTTP/1.1
# Host: 127.0.0.1:36097
#
# HTTP/1.1 200 (OK)
# Date: Sun, 08 Jun 2025 22:39:40 GMT
# Content-Length: 3
# Content-Type: text/plain
#
# Moo
t/02_simple.t ............ ok
# starting httpd6
# httpd6 started
# Port is 37117
# webc_connected
# GET http://pocosimpletest.com:37117/ HTTP/1.1
# Host: ::1:37117
#
# HTTP/1.1 200 (OK)
# Date: Sun, 08 Jun 2025 22:39:48 GMT
# Content-Length: 3
# Content-Type: text/plain
#
# Moo
t/02_simple_ipv6.t ....... ok
# HTTP/1.1 404 (Not Found)
# Date: Sun, 08 Jun 2025 22:39:56 GMT
# Content-Length: 13
# Content-Type: text/plain
#
# 404 Not Found
t/03_bad_handler.t ....... ok
# GEt http://pocosimpletest.com:38709/ HTTP/1.1
# Host: 127.0.0.1:38709
#
# HTTP/1.1 200 (OK)
# Date: Sun, 08 Jun 2025 22:40:04 GMT
# Content-Length: 3
# Content-Type: text/plain
#
# Moo
t/03_bad_request.t ....... ok
# 200 (OK)
# Date: Sun, 08 Jun 2025 22:40:12 GMT
# Content-Length: 11
# Content-Type: text/plain
# X-HTTP-Version: 1.1
#
# this is top
# 200 (OK)
# Date: Sun, 08 Jun 2025 22:40:12 GMT
# Content-Length: 12
# Content-Type: text/plain
# X-HTTP-Version: 1.1
#
# this is honk
# 200 (OK)
# Date: Sun, 08 Jun 2025 22:40:12 GMT
# Content-Length: 123
# Content-Type: text/html
# X-HTTP-Version: 1.1
#
# <html>
# <head><title>YEAH!</title></head>
# <body><p>This, my friend, is the page you've been looking for.</p></body>
# </html>
# 404 (Not Found)
# Date: Sun, 08 Jun 2025 22:40:12 GMT
# Content-Length: 13
# Content-Type: text/plain
# X-HTTP-Version: 1.1
#
# 404 Not Found
t/04_run_close.t ......... ok
# 200 (OK)
# Date: Sun, 08 Jun 2025 22:40:19 GMT
# Content-Length: 11
# Content-Type: text/plain
# X-HTTP-Version: 1.1
#
# this is top
# 200 (OK)
# Date: Sun, 08 Jun 2025 22:40:19 GMT
# Content-Length: 12
# Content-Type: text/plain
# X-HTTP-Version: 1.1
#
# this is honk
# 200 (OK)
# Date: Sun, 08 Jun 2025 22:40:19 GMT
# Content-Length: 123
# Content-Type: text/html
# X-HTTP-Version: 1.1
#
# <html>
# <head><title>YEAH!</title></head>
# <body><p>This, my friend, is the page you've been looking for.</p></body>
# </html>
# 404 (Not Found)
# Date: Sun, 08 Jun 2025 22:40:19 GMT
# Content-Length: 13
# Content-Type: text/plain
# X-HTTP-Version: 1.1
#
# 404 Not Found
t/04_run_keepalive.t ..... ok
# POST http://pocosimpletest.com:39677/ HTTP/1.1
# Host: 127.0.0.1:39677
# Content-Length: 40
#
# brother !~we need to get off this island
# 200 (OK)
# Date: Sun, 08 Jun 2025 22:40:27 GMT
# Content-Length: 40
# Content-Type: text/plain
# X-HTTP-Version: 1.1
#
# we need to get off this island brother !
t/05_post.t .............. ok
t/06_stream.t ............ skipped: POE::Component::Client::HTTP is required for this test
t/author-pod-coverage.t .. skipped: these tests are for testing by the author
t/author-pod-syntax.t .... skipped: these tests are for testing by the author
All tests successful.
Files=11, Tests=47, 74 wallclock secs ( 0.11 usr 0.04 sys + 11.63 cusr 1.31 csys = 13.09 CPU)
Result: PASS
------------------------------
PREREQUISITES
------------------------------
Prerequisite modules loaded:
requires:
Module Need Have
------------------------- ------ --------
Carp 0 1.54
HTTP::Date 0 6.06
HTTP::Request 0 7.00
HTTP::Response 0 7.00
Moose 0.9 2.2207
MooseX::POE 0.205 0.215
perl 5.006 5.038004
POE 1.0000 1.370
Socket 0 2.038
Storable 0 3.32
Sys::Hostname 0 1.25
build_requires:
Module Need Have
------------------------- ------ --------
ExtUtils::MakeMaker 6.59 7.70
File::Spec 0 3.88
IO::Handle 0 1.55
IPC::Open3 0 1.22
POE::Filter::HTTP::Parser 1.06 1.08
Test::More 0.47 1.302210
Test::POE::Client::TCP 1.24 1.26
configure_requires:
Module Need Have
------------------------- ------ --------
ExtUtils::MakeMaker 0 7.70
------------------------------
ENVIRONMENT AND OTHER CONTEXT
------------------------------
Environment variables:
AUTOMATED_TESTING = 1
LANG = en_GB.UTF-8
LANGUAGE = en_GB:en
LC_TERMINAL = iTerm2
LC_TERMINAL_VERSION = 3.5.14
NONINTERACTIVE_TESTING = 1
PATH = /home/david/.nvm/versions/node/v22.16.0/bin:/home/david/.cargo/bin:/home/david/perl5/perlbrew/bin:/home/david/perl5/perlbrew/perls/perl-5.30.2/bin:/home/david/bin:/usr/local/bin:/usr/bin:/bin:/usr/local/games:/usr/games
PERL = 5.38.4
PERL5LIB = /home/david/cpantesting/perl-5.38.4/.cpan/build/Dpkg-1.22.20-0/blib/arch:/home/david/cpantesting/perl-5.38.4/.cpan/build/Dpkg-1.22.20-0/blib/lib
PERL5OPT =
PERL5_CPANPLUS_IS_RUNNING = 20959
PERL5_CPAN_IS_RUNNING = 20959
PERLBREW_HOME = /home/david/.perlbrew
PERLBREW_MANPATH = /home/david/perl5/perlbrew/perls/perl-5.30.2/man
PERLBREW_PATH = /home/david/perl5/perlbrew/bin:/home/david/perl5/perlbrew/perls/perl-5.30.2/bin
PERLBREW_PERL = perl-5.30.2
PERLBREW_ROOT = /home/david/perl5/perlbrew
PERLBREW_SHELLRC_VERSION = 0.98
PERLBREW_VERSION = 0.98
PERLVER = 5.38.4
PERL_INLINE_DIRECTORY = /home/david/.Inline-5.38.4
PERL_MM_USE_DEFAULT = 1
PERL_USE_UNSAFE_INC = 0
SHELL = /bin/bash
TERM = screen
Perl special variables (and OS-specific diagnostics, for MSWin32):
$^X = /home/david/cpantesting/perl-5.38.4/bin/perl
$UID/$EUID = 1000 / 1000
$GID = 1000 24 25 27 29 30 44 46 109 1000
$EGID = 1000 24 25 27 29 30 44 46 109 1000
Perl module toolchain versions installed:
Module Have
------------------- --------
CPAN 2.38
CPAN::Meta 2.150010
Cwd 3.89
ExtUtils::CBuilder 0.280238
ExtUtils::Command 7.70
ExtUtils::Install 2.22
ExtUtils::MakeMaker 7.70
ExtUtils::Manifest 1.75
ExtUtils::ParseXS 3.51
File::Spec 3.88
JSON 4.10
JSON::PP 4.16
Module::Build 0.4234
Module::Signature 0.89
Parse::CPAN::Meta 2.150010
Test2 1.302210
Test::Harness 3.50
Test::More 1.302210
YAML 1.31
YAML::Syck n/a
version 0.9933
--
Summary of my perl5 (revision 5 version 38 subversion 4) configuration:
Platform:
osname=linux
osvers=6.1.0-11-amd64
archname=x86_64-linux
uname='linux cpantesting-linux 6.1.0-11-amd64 #1 smp preempt_dynamic debian 6.1.38-4 (2023-08-08) x86_64 gnulinux '
config_args='-de -Dprefix=/home/david/cpantesting/perl-5.38.4'
hint=recommended
useposix=true
d_sigaction=define
useithreads=undef
usemultiplicity=undef
use64bitint=define
use64bitall=define
uselongdouble=undef
usemymalloc=n
default_inc_excludes_dot=define
Compiler:
cc='cc'
ccflags ='-fwrapv -fno-strict-aliasing -pipe -fstack-protector-strong -I/usr/local/include -D_LARGEFILE_SOURCE -D_FILE_OFFSET_BITS=64 -D_FORTIFY_SOURCE=2'
optimize='-O2'
cppflags='-fwrapv -fno-strict-aliasing -pipe -fstack-protector-strong -I/usr/local/include'
ccversion=''
gccversion='12.2.0'
gccosandvers=''
intsize=4
longsize=8
ptrsize=8
doublesize=8
byteorder=12345678
doublekind=3
d_longlong=define
longlongsize=8
d_longdbl=define
longdblsize=16
longdblkind=3
ivtype='long'
ivsize=8
nvtype='double'
nvsize=8
Off_t='off_t'
lseeksize=8
alignbytes=8
prototype=define
Linker and Libraries:
ld='cc'
ldflags =' -fstack-protector-strong -L/usr/local/lib'
libpth=/usr/local/lib /usr/lib/x86_64-linux-gnu /usr/lib /usr/lib64
libs=-lpthread -ldl -lm -lcrypt -lutil -lc
perllibs=-lpthread -ldl -lm -lcrypt -lutil -lc
libc=/lib/x86_64-linux-gnu/libc.so.6
so=so
useshrplib=false
libperl=libperl.a
gnulibc_version='2.36'
Dynamic Linking:
dlsrc=dl_dlopen.xs
dlext=so
d_dlsymun=undef
ccdlflags='-Wl,-E'
cccdlflags='-fPIC'
lddlflags='-shared -O2 -L/usr/local/lib -fstack-protector-strong'
Characteristics of this binary (from libperl):
Compile-time options:
HAS_LONG_DOUBLE
HAS_STRTOLD
HAS_TIMES
PERLIO_LAYERS
PERL_COPY_ON_WRITE
PERL_DONT_CREATE_GVSV
PERL_HASH_FUNC_SIPHASH13
PERL_HASH_USE_SBOX32
PERL_MALLOC_WRAP
PERL_OP_PARENT
PERL_PRESERVE_IVUV
PERL_USE_SAFE_PUTENV
USE_64_BIT_ALL
USE_64_BIT_INT
USE_LARGE_FILES
USE_LOCALE
USE_LOCALE_COLLATE
USE_LOCALE_CTYPE
USE_LOCALE_NUMERIC
USE_LOCALE_TIME
USE_PERLIO
USE_PERL_ATOF
Built under linux
Compiled at Apr 13 2025 17:08:06
%ENV:
PERL="5.38.4"
PERL5LIB="/home/david/cpantesting/perl-5.38.4/.cpan/build/Dpkg-1.22.20-0/blib/arch:/home/david/cpantesting/perl-5.38.4/.cpan/build/Dpkg-1.22.20-0/blib/lib"
PERL5OPT=""
PERL5_CPANPLUS_IS_RUNNING="20959"
PERL5_CPAN_IS_RUNNING="20959"
PERLBREW_HOME="/home/david/.perlbrew"
PERLBREW_MANPATH="/home/david/perl5/perlbrew/perls/perl-5.30.2/man"
PERLBREW_PATH="/home/david/perl5/perlbrew/bin:/home/david/perl5/perlbrew/perls/perl-5.30.2/bin"
PERLBREW_PERL="perl-5.30.2"
PERLBREW_ROOT="/home/david/perl5/perlbrew"
PERLBREW_SHELLRC_VERSION="0.98"
PERLBREW_VERSION="0.98"
PERLVER="5.38.4"
PERL_INLINE_DIRECTORY="/home/david/.Inline-5.38.4"
PERL_MM_USE_DEFAULT="1"
PERL_USE_UNSAFE_INC="0"
@INC:
/home/david/cpantesting/perl-5.38.4/.cpan/build/Dpkg-1.22.20-0/blib/arch
/home/david/cpantesting/perl-5.38.4/.cpan/build/Dpkg-1.22.20-0/blib/lib
/home/david/cpantesting/perl-5.38.4/lib/site_perl/5.38.4/x86_64-linux
/home/david/cpantesting/perl-5.38.4/lib/site_perl/5.38.4
/home/david/cpantesting/perl-5.38.4/lib/5.38.4/x86_64-linux
/home/david/cpantesting/perl-5.38.4/lib/5.38.4