Lab-Measurement v3.931 Perl 5 v5.20.2 x86_64-linux

Status
Pass
From
Chris Williams (BINGOS)
Dist
Lab-Measurement v3.931
Platform
Perl 5 v5.20.2 x86_64-linux
Date
2025-05-08 07:11:13
ID
a072be1c-2bdb-11f0-acaa-c91c7f7edd59
This distribution has been tested as part of the CPAN Testers
project, supporting the Perl programming language.  See
http://wiki.cpantesters.org/ for more information or email
questions to cpan-testers-discuss@perl.org


--

Dear AKHUETTEL,

This is a computer-generated error report created automatically by
CPANPLUS, version 0.9916. Testers personal comments may appear
at the end of this report.


Thank you for uploading your work to CPAN.  Congratulations!
All tests were successful.

TEST RESULTS:

Below is the error stack from stage 'make test':

PERL_DL_NONLAZY=1 "/home/cpan/pit/bare/perl-5.20.2/bin/perl" "-MExtUtils::Command::MM" "-MTest::Harness" "-e" "undef *Test::Harness::Switches; test_harness(0, 'blib/lib', 'blib/arch')" t/*.t t/Lab/Test/*.t t/Moose/*.t t/Moose/Connection/*.t t/Moose/DataFile/*.t t/Moose/DataFile/Gnuplot/*.t t/Moose/Instrument/*.t t/Moose/Instrument/OI_Mercury/*.t
# checking installed modules
# not using Lab::VISA
# not using Lab::VXI11
# not using PDL::Graphics::Gnuplot
# not using LinuxGpib
# using PDL::IO::CSV
# using Math::Round
# not using USB::TMC
# not using Lab::Zhinst
# not using sys/ioctl.ph
# not using linux/usb/tmc.ph
# trying to load Lab/Moose.pm ...
Too late to run INIT block at /home/cpan/pit/bare/conf/perl-5.20.2/.cpanplus/5.20.2/build/lyErMQeCJG/Lab-Measurement-3.931/blib/lib/Lab/Moose.pm line 157.
# trying to load Lab/Moose/Connection.pm ...
# trying to load Lab/Moose/Sweep.pm ...
# trying to load Lab/Moose/DataFolder.pm ...
# trying to load Lab/Moose/Instrument.pm ...
# trying to load Lab/Moose/Countdown.pm ...
# trying to load Lab/Moose/Catfile.pm ...
# trying to load Lab/Moose/DataFile.pm ...
# trying to load Lab/Moose/Stabilizer.pm ...
# trying to load Lab/Moose/Sweep/Continuous.pm ...
# trying to load Lab/Moose/Sweep/DataFile.pm ...
# trying to load Lab/Moose/Sweep/Step.pm ...
# trying to load Lab/Moose/Sweep/Continuous/Time.pm ...
# trying to load Lab/Moose/Sweep/Continuous/Voltage.pm ...
# trying to load Lab/Moose/Sweep/Continuous/Magnet.pm ...
# trying to load Lab/Moose/Sweep/Step/Voltage.pm ...
# trying to load Lab/Moose/Sweep/Step/Pulsewidth.pm ...
# trying to load Lab/Moose/Sweep/Step/Frequency.pm ...
# trying to load Lab/Moose/Sweep/Step/Temperature.pm ...
# trying to load Lab/Moose/Sweep/Step/Repeat.pm ...
# trying to load Lab/Moose/Sweep/Step/Phase.pm ...
# trying to load Lab/Moose/Sweep/Step/Power.pm ...
# trying to load Lab/Moose/Sweep/Step/Magnet.pm ...
# trying to load Lab/Moose/Sweep/Step/Pulsedelay.pm ...
# trying to load Lab/Moose/DataFile/Read.pm ...
# trying to load Lab/Moose/DataFile/Meta.pm ...
# trying to load Lab/Moose/DataFile/Gnuplot/Compressed.pm ...
# trying to load Lab/Moose/Connection/WWW.pm ...
# trying to load Lab/Moose/Connection/Debug.pm ...
# trying to load Lab/Moose/Connection/HTTP.pm ...
# trying to load Lab/Moose/Connection/Socket.pm ...
# trying to load Lab/Moose/Connection/IsoBus.pm ...
# trying to load Lab/Moose/Connection/Mock.pm ...
# trying to load Lab/Moose/Instrument/Keithley2000.pm ...
# trying to load Lab/Moose/Instrument/Cache.pm ...
# trying to load Lab/Moose/Instrument/Agilent33120A.pm ...
# trying to load Lab/Moose/Instrument/ZI_MFLI.pm ...
# trying to load Lab/Moose/Instrument/RS_FSV.pm ...
# trying to load Lab/Moose/Instrument/Keithley2400.pm ...
# trying to load Lab/Moose/Instrument/RS_RTB2000.pm ...
# trying to load Lab/Moose/Instrument/KeysightDSOS604A.pm ...
# trying to load Lab/Moose/Instrument/AttoCube_AMC.pm ...
# trying to load Lab/Moose/Instrument/Agilent34410A.pm ...
# trying to load Lab/Moose/Instrument/HP34420A.pm ...
# trying to load Lab/Moose/Instrument/KeysightE3633E.pm ...
# trying to load Lab/Moose/Instrument/Yokogawa7651.pm ...
# trying to load Lab/Moose/Instrument/HP3458A.pm ...
# trying to load Lab/Moose/Instrument/Bluefors_Temp.pm ...
# trying to load Lab/Moose/Instrument/LinearStepSweep.pm ...
# trying to load Lab/Moose/Instrument/RS_ZVA.pm ...
# trying to load Lab/Moose/Instrument/YokogawaGS200.pm ...
# trying to load Lab/Moose/Instrument/AdjustRange.pm ...
# trying to load Lab/Moose/Instrument/Lakeshore340.pm ...
# trying to load Lab/Moose/Instrument/KeysightB2901A.pm ...
# trying to load Lab/Moose/Instrument/HP34410A.pm ...
# trying to load Lab/Moose/Instrument/Keysight34470A.pm ...
# trying to load Lab/Moose/Instrument/VNASweep.pm ...
# trying to load Lab/Moose/Instrument/Keysight33600.pm ...
# trying to load Lab/Moose/Instrument/SignalRecovery7265.pm ...
Useless use of multiplication (*) in void context at /home/cpan/pit/bare/conf/perl-5.20.2/.cpanplus/5.20.2/build/lyErMQeCJG/Lab-Measurement-3.931/blib/lib/Lab/Moose/Instrument/SignalRecovery7265.pm line 1201.
# trying to load Lab/Moose/Instrument/Common.pm ...
# trying to load Lab/Moose/Instrument/Log.pm ...
# trying to load Lab/Moose/Instrument/OI_ITC503.pm ...
# trying to load Lab/Moose/Instrument/SR830.pm ...
# trying to load Lab/Moose/Instrument/Keithley2450.pm ...
# trying to load Lab/Moose/Instrument/Cryomagnetics_4G.pm ...
# trying to load Lab/Moose/Instrument/ProStep4.pm ...
# trying to load Lab/Moose/Instrument/ZI_MFIA.pm ...
# trying to load Lab/Moose/Instrument/Rigol_DG5000.pm ...
# trying to load Lab/Moose/Instrument/AH2700A.pm ...
# trying to load Lab/Moose/Instrument/OI_Common.pm ...
# trying to load Lab/Moose/Instrument/Lakeshore350.pm ...
# trying to load Lab/Moose/Instrument/ABB_TRMC2.pm ...
The ABB_TRMC2 driver is untested so far. Feedback welcome... at t/00-load.t line 121.
# trying to load Lab/Moose/Instrument/TBS1000C.pm ...
# trying to load Lab/Moose/Instrument/ZI_HDAWG.pm ...
# trying to load Lab/Moose/Instrument/Synctek_MCL1_540.pm ...
# trying to load Lab/Moose/Instrument/KeysightN9310A.pm ...
# trying to load Lab/Moose/Instrument/Lakeshore372.pm ...
# trying to load Lab/Moose/Instrument/SCPIBlock.pm ...
# trying to load Lab/Moose/Instrument/HP83732A.pm ...
# trying to load Lab/Moose/Instrument/HP33120A.pm ...
# trying to load Lab/Moose/Instrument/OI_IPS.pm ...
# trying to load Lab/Moose/Instrument/DummySource.pm ...
# trying to load Lab/Moose/Instrument/NanonisTramea.pm ...
# trying to load Lab/Moose/Instrument/AMI_430.pm ...
# trying to load Lab/Moose/Instrument/RS_ZNL.pm ...
# trying to load Lab/Moose/Instrument/Agilent34460A.pm ...
# trying to load Lab/Moose/Instrument/OI_ILM210.pm ...
# trying to load Lab/Moose/Instrument/OI_Triton.pm ...
# trying to load Lab/Moose/Instrument/RS_ZVM.pm ...
# trying to load Lab/Moose/Instrument/RS_SMB.pm ...
# trying to load Lab/Moose/Instrument/ZI_HF2LI.pm ...
# trying to load Lab/Moose/Instrument/Agilent33210A.pm ...
# trying to load Lab/Moose/Instrument/OI_IPS/Strunk_3He.pm ...
# trying to load Lab/Moose/Instrument/SCPI/Format.pm ...
# trying to load Lab/Moose/Instrument/SCPI/Unit.pm ...
# trying to load Lab/Moose/Instrument/SCPI/Instrument.pm ...
# trying to load Lab/Moose/Instrument/SCPI/Initiate.pm ...
# trying to load Lab/Moose/Instrument/SCPI/Output/State.pm ...
# trying to load Lab/Moose/Instrument/SCPI/Display/Window.pm ...
# trying to load Lab/Moose/Instrument/SCPI/Sense/Sweep.pm ...
# trying to load Lab/Moose/Instrument/SCPI/Sense/Range.pm ...
# trying to load Lab/Moose/Instrument/SCPI/Sense/Frequency.pm ...
# trying to load Lab/Moose/Instrument/SCPI/Sense/Protection.pm ...
# trying to load Lab/Moose/Instrument/SCPI/Sense/Average.pm ...
# trying to load Lab/Moose/Instrument/SCPI/Sense/Power.pm ...
# trying to load Lab/Moose/Instrument/SCPI/Sense/Function.pm ...
# trying to load Lab/Moose/Instrument/SCPI/Sense/Impedance.pm ...
# trying to load Lab/Moose/Instrument/SCPI/Sense/Null.pm ...
# trying to load Lab/Moose/Instrument/SCPI/Sense/NPLC.pm ...
# trying to load Lab/Moose/Instrument/SCPI/Sense/Bandwidth.pm ...
# trying to load Lab/Moose/Instrument/SCPI/Sense/Function/Concurrent.pm ...
# trying to load Lab/Moose/Instrument/SCPI/Source/Range.pm ...
# trying to load Lab/Moose/Instrument/SCPI/Source/Power.pm ...
# trying to load Lab/Moose/Instrument/SCPI/Source/Function.pm ...
# trying to load Lab/Moose/Instrument/SCPI/Source/Level.pm ...
# trying to load Lab/Moose/Instrument/Lakeshore340/Helium3.pm ...
# trying to load Lab/Moose/Instrument/OI_Mercury/Magnet.pm ...
t/00-load.t ............................. ok
# 
# Versions for all modules listed in MYMETA.json (including optional ones):
# 
# === Configure Requires ===
# 
#     Module              Want Have
#     ------------------- ---- ----
#     ExtUtils::MakeMaker  any 7.74
# 
# === Build Requires ===
# 
#     Module              Want Have
#     ------------------- ---- ----
#     ExtUtils::MakeMaker  any 7.74
# 
# === Test Requires ===
# 
#     Module                      Want     Have
#     ----------------------- -------- --------
#     ExtUtils::MakeMaker          any     7.74
#     File::Find                   any     1.27
#     File::Glob                   any     1.23
#     File::Slurper                any    0.014
#     File::Spec                   any     3.75
#     File::Spec::Functions        any     3.75
#     File::Temp                   any   0.2311
#     Getopt::Long                 any     2.42
#     IO::Uncompress::Bunzip2      any    2.213
#     PDL::Ufunc                   any    undef
#     Test::Builder::Module        any 1.302210
#     Test::Fatal                  any    0.017
#     Test::File                   any    1.995
#     Test::More              1.001014 1.302210
#     Test::Tester                 any 1.302210
#     Text::Diff                   any     1.45
#     aliased                      any     0.34
#     lib                          any     0.63
#     parent                       any    0.228
# 
# === Test Recommends ===
# 
#     Module         Want     Have
#     ---------- -------- --------
#     CPAN::Meta 2.120900 2.150010
# 
# === Runtime Requires ===
# 
#     Module                           Want     Have
#     ---------------------------- -------- --------
#     Carp                              any   1.3301
#     Class::Method::Modifiers         2.11     2.15
#     Clone                            0.31     0.47
#     Data::Dumper                      any 2.151_01
#     DateTime                          any     1.66
#     Encode                            any     3.21
#     Exception::Class                  1.0     1.45
#     Exporter                          any     5.71
#     Fcntl                             any     1.11
#     File::Basename                    any     2.85
#     File::Copy                        any     2.30
#     File::Path                        any     2.18
#     HTTP::Request                     any     7.00
#     IO::Handle                        any     1.35
#     IO::Select                        any     1.22
#     IO::Socket::INET                  any     1.35
#     JSON::PP                          any     4.06
#     LWP::Simple                       any     6.78
#     LWP::UserAgent                    any     6.78
#     List::MoreUtils                   any    0.430
#     List::Util                        any     1.69
#     Math::Round                       any     0.08
#     Module::Load                     0.26     0.36
#     Moose                          2.1213   2.2207
#     Moose::Role                       any   2.2207
#     Moose::Util::TypeConstraints      any   2.2207
#     MooseX::Params::Validate         0.18     0.21
#     MooseX::StrictConstructor         any     0.21
#     Net::RFC3161::Timestamp           any    0.020
#     PDL                             2.007    2.100
#     PDL::Core                         any    2.096
#     PDL::IO::CSV                      any    0.011
#     PDL::NiceSlice                    any    1.001
#     POSIX                             any  1.38_03
#     Role::Tiny                   1.003004 2.002004
#     Scalar::Util                      any     1.69
#     Socket                            any    2.013
#     Statistics::Descriptive           any   3.0801
#     Sys::Hostname                     any     1.18
#     Term::ReadKey                    2.30     2.38
#     Test::More                   1.001014 1.302210
#     Tie::IxHash                       any     1.23
#     Time::HiRes                       any   1.9726
#     Time::Seconds                     any     1.27
#     Try::Tiny                        0.22     0.32
#     YAML::XS                         0.41 v0.903.0
#     constant                          any     1.31
#     integer                           any     1.01
#     namespace::autoclean             0.20     0.31
#     strict                            any     1.08
#     utf8                              any  1.13_01
#     warnings                          any     1.23
# 
t/00-report-prereqs.t ................... ok
t/Dataset.t ............................. skipped: known to fail
t/Lab/Test/test.t ....................... ok
t/Meta.t ................................ skipped: known to fail
t/Moose/Connection/Socket.t ............. ok
t/Moose/DataFile/Gnuplot.t .............. skipped: test requires PDL::Graphics::Gnuplot
t/Moose/DataFile/Gnuplot/Compressed.t ... ok
t/Moose/DataFile/Read.t ................. ok
t/Moose/DataFolder.t .................... ok
Use of uninitialized value in string ne at /home/cpan/pit/bare/conf/perl-5.20.2/.cpanplus/5.20.2/build/lyErMQeCJG/Lab-Measurement-3.931/blib/lib/Lab/Moose/Instrument.pm line 141.
t/Moose/Instrument/base.t ............... ok
t/Moose/Instrument/DummySource.t ........ ok
t/Moose/Instrument/HP34410A.t ........... ok
t/Moose/Instrument/HP34420A.t ........... ok
t/Moose/Instrument/HP8596E.t ............ skipped: test requires PDL::Graphics::Gnuplot
t/Moose/Instrument/HPE4400B.t ........... skipped: test requires PDL::Graphics::Gnuplot
t/Moose/Instrument/Keithley2400.t ....... ok
t/Moose/Instrument/KeysightB2901A.t ..... ok
t/Moose/Instrument/OI_Mercury/Magnet.t .. ok
t/Moose/Instrument/Rigol_DSA815.t ....... skipped: test requires PDL::Graphics::Gnuplot
setting data format: REAL, 32 at /home/cpan/pit/bare/conf/perl-5.20.2/.cpanplus/5.20.2/build/lyErMQeCJG/Lab-Measurement-3.931/blib/lib/Lab/Moose/Instrument/RS_FSV.pm line 66.
t/Moose/Instrument/RS_FSV.t ............. ok
t/Moose/Instrument/RS_SMB.t ............. ok
setting data format: REAL, 32 at /home/cpan/pit/bare/conf/perl-5.20.2/.cpanplus/5.20.2/build/lyErMQeCJG/Lab-Measurement-3.931/blib/lib/Lab/Moose/Instrument/VNASweep.pm line 119.
t/Moose/Instrument/RS_ZVA.t ............. ok
setting data format: REAL, 32 at /home/cpan/pit/bare/conf/perl-5.20.2/.cpanplus/5.20.2/build/lyErMQeCJG/Lab-Measurement-3.931/blib/lib/Lab/Moose/Instrument/VNASweep.pm line 119.
t/Moose/Instrument/RS_ZVM.t ............. ok
t/Moose/Instrument/SR830.t .............. ok
t/Moose/Instrument/YokogawaGS200.t ...... ok
t/Moose/Instrument/ZI_MFIA.t ............ ok
t/Moose/Instrument/ZI_MFLI.t ............ ok
Name "PDL::Graphics::Gnuplot::gp_version" used only once: possible typo at t/Moose/Plot.t line 30.
t/Moose/Plot.t .......................... skipped: test requires PDL::Graphics::Gnuplot
t/Moose/Stabilizer.t .................... ok
t/Moose/Sweep-Continuous-Time.t ......... ok
Going to sweep start:
Setpoint: 0
Rate: 2
 at t/Moose/Sweep-Continuous-Voltage.t line 77.
Starting sweep
Setpoint: 10.5
Rate: 2
 at t/Moose/Sweep-Continuous-Voltage.t line 77.
Starting sweep
Setpoint: 0
Rate: 5
 at t/Moose/Sweep-Continuous-Voltage.t line 77.
t/Moose/Sweep-Continuous-Voltage.t ...... ok
t/Moose/Sweep-Plot.t .................... skipped: test requires PDL::Graphics::Gnuplot
dir: /tmp/XLppLc34Rg/sweep
t/Moose/Sweep.t ......................... ok
All tests successful.
Files=34, Tests=592, 42 wallclock secs ( 0.16 usr  0.07 sys + 15.00 cusr  2.20 csys = 17.43 CPU)
Result: PASS


PREREQUISITES:

Here is a list of prerequisites you specified and versions we
managed to load:

	  Module Name                        Have     Want
	  Carp                             1.3301        0
	  Class::Method::Modifiers           2.15     2.11
	  Clone                              0.47     0.31
	  Data::Dumper                   2.151_01        0
	  DateTime                           1.66        0
	  Encode                             3.21        0
	  Exception::Class                   1.45      1.0
	  Exporter                           5.71        0
	  ExtUtils::MakeMaker                7.74        0
	  Fcntl                              1.11        0
	  File::Basename                     2.85        0
	  File::Copy                         2.30        0
	  File::Find                         1.27        0
	  File::Glob                         1.23        0
	  File::Path                         2.18        0
	  File::Slurper                     0.014        0
	  File::Spec                         3.75        0
	  File::Spec::Functions              3.75        0
	  File::Temp                       0.2311        0
	  Getopt::Long                       2.42        0
	  HTTP::Request                      7.00        0
	  IO::Handle                         1.35        0
	  IO::Select                         1.22        0
	  IO::Socket::INET                   1.35        0
	  IO::Uncompress::Bunzip2           2.213        0
	  JSON::PP                           4.06        0
	  LWP::Simple                        6.78        0
	  LWP::UserAgent                     6.78        0
	  List::MoreUtils                   0.430        0
	  List::Util                         1.69        0
	  Math::Round                        0.08        0
	  Module::Load                       0.36     0.26
	  Moose                            2.2207   2.1213
	  Moose::Role                      2.2207        0
	  Moose::Util::TypeConstraints     2.2207        0
	  MooseX::Params::Validate           0.21     0.18
	  MooseX::StrictConstructor          0.21        0
	  Net::RFC3161::Timestamp           0.020        0
	  PDL                               2.100    2.007
	  PDL::Core                         2.096        0
	  PDL::IO::CSV                      0.011        0
	  PDL::NiceSlice                    1.001        0
	  PDL::Ufunc                            0        0
	  POSIX                           1.38_03        0
	  Role::Tiny                     2.002004 1.003004
	  Scalar::Util                       1.69        0
	  Socket                            2.013        0
	  Statistics::Descriptive          3.0801        0
	  Sys::Hostname                      1.18        0
	  Term::ReadKey                      2.38     2.30
	  Test::Builder::Module          1.302210        0
	  Test::Fatal                       0.017        0
	  Test::File                        1.995        0
	  Test::More                     1.302210 1.001014
	  Test::Tester                   1.302210        0
	  Text::Diff                         1.45        0
	  Tie::IxHash                        1.23        0
	  Time::HiRes                      1.9726        0
	  Time::Seconds                      1.27        0
	  Try::Tiny                          0.32     0.22
	  YAML::XS                       v0.903.0     0.41
	  aliased                            0.34        0
	  constant                           1.31        0
	  integer                            1.01        0
	  lib                                0.63        0
	  namespace::autoclean               0.31     0.20
	  parent                            0.228        0
	  strict                             1.08        0
	  utf8                            1.13_01        0
	  warnings                           1.23        0

Perl module toolchain versions installed:
	Module Name                        Have
	CPANPLUS                         0.9916
	CPANPLUS::Dist::Build              0.90
	Cwd                                3.75
	ExtUtils::CBuilder             0.280236
	ExtUtils::Command                  7.74
	ExtUtils::Install                  2.22
	ExtUtils::MakeMaker                7.74
	ExtUtils::Manifest                 1.75
	ExtUtils::ParseXS                  3.51
	File::Spec                         3.75
	Module::Build                    0.4234
	Pod::Parser                        1.62
	Pod::Simple                        3.28
	Test2                          1.302210
	Test::Harness                      3.50
	Test::More                     1.302210
	version                          0.9933

******************************** NOTE ********************************
The comments above are created mechanically, possibly without manual
checking by the sender.  As there are many people performing automatic
tests on each upload to CPAN, it is likely that you will receive
identical messages about the same problem.

If you believe that the message is mistaken, please reply to the first
one with correction and/or additional informations, and do not take
it personally.  We appreciate your patience. :)
**********************************************************************

Additional comments:


This report was machine-generated by CPANPLUS::Dist::YACSmoke 1.08.
Powered by minismokebox version 0.68

CPANPLUS is prefering Build.PL

------------------------------
ENVIRONMENT AND OTHER CONTEXT
------------------------------

Environment variables:

    AUTOMATED_TESTING = 1
    LANG = C.UTF-8
    LC_COLLATE = C
    NONINTERACTIVE_TESTING = 1
    PATH = /usr/local/sbin:/usr/local/bin:/usr/sbin:/usr/bin:/sbin:/bin
    PERL5LIB = /home/cpan/pit/jail/Hd0LJ9B5iJ/lib/perl5:/home/cpan/pit/bare/conf/perl-5.20.2/.cpanplus/5.20.2/build/nEBIWtIFta/aliased-0.34/blib/lib:/home/cpan/pit/bare/conf/perl-5.20.2/.cpanplus/5.20.2/build/nEBIWtIFta/aliased-0.34/blib/arch:/home/cpan/pit/bare/conf/perl-5.20.2/.cpanplus/5.20.2/build/lyErMQeCJG/Lab-Measurement-3.931/blib/lib:/home/cpan/pit/bare/conf/perl-5.20.2/.cpanplus/5.20.2/build/lyErMQeCJG/Lab-Measurement-3.931/blib/arch
    PERL5_CPANPLUS_IS_RUNNING = 9859
    PERL5_CPANPLUS_IS_VERSION = 0.9916
    PERL5_MINISMOKEBOX = 0.68
    PERL5_YACSMOKE_BASE = /home/cpan/pit/bare/conf/perl-5.20.2
    PERL_EXTUTILS_AUTOINSTALL = --defaultdeps
    PERL_LOCAL_LIB_ROOT = /home/cpan/pit/jail/Hd0LJ9B5iJ
    PERL_MB_OPT = --install_base "/home/cpan/pit/jail/Hd0LJ9B5iJ"
    PERL_MM_OPT = INSTALL_BASE=/home/cpan/pit/jail/Hd0LJ9B5iJ
    PERL_MM_USE_DEFAULT = 1
    SHELL = /bin/bash
    TERM = screen

Perl special variables (and OS-specific diagnostics, for MSWin32):

    Perl: $^X = /home/cpan/pit/bare/perl-5.20.2/bin/perl
    UID:  $<  = 1001
    EUID: $>  = 1001
    GID:  $(  = 1001 1001
    EGID: $)  = 1001 1001


-------------------------------


--

Summary of my perl5 (revision 5 version 20 subversion 2) configuration:
   
  Platform:
    osname=linux, osvers=5.10.16-0-lts, archname=x86_64-linux
    uname='linux agaric 5.10.16-0-lts #1-alpine smp wed, 17 feb 2021 08:17:06 utc x86_64 linux '
    config_args='-des -Dprefix=/home/cpan/pit/bare/perl-5.20.2'
    hint=recommended, useposix=true, d_sigaction=define
    useithreads=undef, usemultiplicity=undef
    use64bitint=define, use64bitall=define, uselongdouble=undef
    usemymalloc=n, bincompat5005=undef
  Compiler:
    cc='cc', ccflags ='-D_GNU_SOURCE -fwrapv -fno-strict-aliasing -pipe -fstack-protector -D_LARGEFILE_SOURCE -D_FILE_OFFSET_BITS=64',
    optimize='-O2',
    cppflags='-D_GNU_SOURCE -fwrapv -fno-strict-aliasing -pipe -fstack-protector'
    ccversion='', gccversion='10.2.1 20201203', gccosandvers=''
    intsize=4, longsize=8, ptrsize=8, doublesize=8, byteorder=12345678
    d_longlong=define, longlongsize=8, d_longdbl=define, longdblsize=16
    ivtype='long', ivsize=8, nvtype='double', nvsize=8, Off_t='off_t', lseeksize=8
    alignbytes=8, prototype=define
  Linker and Libraries:
    ld='cc', ldflags =' -fstack-protector -L/usr/local/lib'
    libpth=/usr/include/fortify /usr/lib /usr/local/lib /lib/../lib /usr/lib/../lib /lib
    libs=-lgdbm -ldl -lm -lcrypt -lutil -lc -lgdbm_compat
    perllibs=-ldl -lm -lcrypt -lutil -lc
    libc=/usr/lib/libc.a, so=so, useshrplib=false, libperl=libperl.a
    gnulibc_version=''
  Dynamic Linking:
    dlsrc=dl_dlopen.xs, dlext=so, d_dlsymun=undef, ccdlflags='-Wl,-E'
    cccdlflags='-fPIC', lddlflags='-shared -O2 -L/usr/local/lib -fstack-protector'


Characteristics of this binary (from libperl): 
  Compile-time options: HAS_TIMES PERLIO_LAYERS PERL_DONT_CREATE_GVSV
                        PERL_HASH_FUNC_ONE_AT_A_TIME_HARD PERL_MALLOC_WRAP
                        PERL_NEW_COPY_ON_WRITE PERL_PRESERVE_IVUV
                        USE_64_BIT_ALL USE_64_BIT_INT USE_LARGE_FILES
                        USE_LOCALE USE_LOCALE_COLLATE USE_LOCALE_CTYPE
                        USE_LOCALE_NUMERIC USE_PERLIO USE_PERL_ATOF
  Locally applied patches:
	Devel::PatchPerl 2.08
  Built under linux
  Compiled at Mar 12 2021 02:18:32
  %ENV:
    PERL5LIB="/home/cpan/pit/jail/Hd0LJ9B5iJ/lib/perl5:/home/cpan/pit/bare/conf/perl-5.20.2/.cpanplus/5.20.2/build/nEBIWtIFta/aliased-0.34/blib/lib:/home/cpan/pit/bare/conf/perl-5.20.2/.cpanplus/5.20.2/build/nEBIWtIFta/aliased-0.34/blib/arch:/home/cpan/pit/bare/conf/perl-5.20.2/.cpanplus/5.20.2/build/lyErMQeCJG/Lab-Measurement-3.931/blib/lib:/home/cpan/pit/bare/conf/perl-5.20.2/.cpanplus/5.20.2/build/lyErMQeCJG/Lab-Measurement-3.931/blib/arch"
    PERL5_CPANPLUS_IS_RUNNING="9859"
    PERL5_CPANPLUS_IS_VERSION="0.9916"
    PERL5_MINISMOKEBOX="0.68"
    PERL5_YACSMOKE_BASE="/home/cpan/pit/bare/conf/perl-5.20.2"
    PERL_EXTUTILS_AUTOINSTALL="--defaultdeps"
    PERL_LOCAL_LIB_ROOT="/home/cpan/pit/jail/Hd0LJ9B5iJ"
    PERL_MB_OPT="--install_base "/home/cpan/pit/jail/Hd0LJ9B5iJ""
    PERL_MM_OPT="INSTALL_BASE=/home/cpan/pit/jail/Hd0LJ9B5iJ"
    PERL_MM_USE_DEFAULT="1"
  @INC:
    /home/cpan/pit/jail/Hd0LJ9B5iJ/lib/perl5/5.20.2/x86_64-linux
    /home/cpan/pit/jail/Hd0LJ9B5iJ/lib/perl5/5.20.2
    /home/cpan/pit/jail/Hd0LJ9B5iJ/lib/perl5/x86_64-linux
    /home/cpan/pit/jail/Hd0LJ9B5iJ/lib/perl5
    /home/cpan/pit/bare/conf/perl-5.20.2/.cpanplus/5.20.2/build/nEBIWtIFta/aliased-0.34/blib/lib
    /home/cpan/pit/bare/conf/perl-5.20.2/.cpanplus/5.20.2/build/nEBIWtIFta/aliased-0.34/blib/arch
    /home/cpan/pit/bare/conf/perl-5.20.2/.cpanplus/5.20.2/build/lyErMQeCJG/Lab-Measurement-3.931/blib/lib
    /home/cpan/pit/bare/conf/perl-5.20.2/.cpanplus/5.20.2/build/lyErMQeCJG/Lab-Measurement-3.931/blib/arch
    /home/cpan/pit/bare/perl-5.20.2/lib/site_perl/5.20.2/x86_64-linux
    /home/cpan/pit/bare/perl-5.20.2/lib/site_perl/5.20.2
    /home/cpan/pit/bare/perl-5.20.2/lib/5.20.2/x86_64-linux
    /home/cpan/pit/bare/perl-5.20.2/lib/5.20.2
    .