Dist-Zilla-Plugin-MinimumPerl v1.006 Perl 5 v5.18.2 darwin-thread-multi-2level

Status
Pass
From
Serguei Trouchelle (STRO)
Dist
Dist-Zilla-Plugin-MinimumPerl v1.006
Platform
Perl 5 v5.18.2 darwin-thread-multi-2level
Date
2018-08-21 00:46:23
ID
a0768972-a4db-11e8-b2d6-bc7c5caa421b
This distribution has been tested as part of the CPAN Testers
project, supporting the Perl programming language.  See
http://wiki.cpantesters.org/ for more information or email
questions to cpan-testers-discuss@perl.org


--
Dear Apocalypse,

This is a computer-generated report for Dist-Zilla-Plugin-MinimumPerl-1.006
on perl 5.18.2, created by CPAN-Reporter-1.2018.

Thank you for uploading your work to CPAN.  Congratulations!
All tests were successful.

Sections of this report:

    * Tester comments
    * Program output
    * Prerequisites
    * Environment and other context

------------------------------
TESTER COMMENTS
------------------------------

Additional comments from tester:

none provided

------------------------------
PROGRAM OUTPUT
------------------------------

Output from './Build test':

t/00-compile.t ................ ok
# 
# 
# Generated by Dist::Zilla::Plugin::ReportVersions::Tiny v1.10
# perl: 5.018002 (wanted 5.006) on darwin from /usr/bin/perl
# 
# Dist::Zilla::Role::FileFinderUser             => 6.012      (want 4.200006)
# Dist::Zilla::Role::PrereqSource               => 6.012      (want 5.006)  
# ExtUtils::MakeMaker                           => 7.34       (want any version)
# File::Spec                                    => 3.40       (want any version)
# File::Temp                                    => 0.2308     (want any version)
# IO::Handle                                    => 1.34       (want any version)
# IPC::Open3                                    => 1.13       (want any version)
# Module::Build::Tiny                           => 0.039      (want 0.039)  
# Moose                                         => 2.2011     (want 1.03)   
# Moose::Util::TypeConstraints                  => 2.2011     (want 1.01)   
# MooseX::Types::Perl                           => 0.101343   (want 0.101340)
# Perl::MinimumVersion                          => 1.38       (want 1.26)   
# Test::More                                    => 1.302138   (want 0.88)   
# strict                                        => 1.07       (want any version)
# warnings                                      => 1.18       (want any version)
# 
# Thanks for using my code.  I hope it works for you.
# If not, please try and include this output in the bug report.
# That will help me reproduce the issue and solve your problem.
# 
t/000-report-versions-tiny.t .. ok
t/apocalypse.t ................ skipped: Test::Apocalypse required for validating the distribution
All tests successful.
Files=3, Tests=2,  1 wallclock secs ( 0.02 usr  0.01 sys +  0.89 cusr  0.11 csys =  1.03 CPU)
Result: PASS

------------------------------
PREREQUISITES
------------------------------

Prerequisite modules loaded:

requires:

    Module                            Need     Have    
    --------------------------------- -------- --------
    Dist::Zilla::Role::FileFinderUser 4.200006 6.012   
    Dist::Zilla::Role::PrereqSource   5.006    6.012   
    Moose                             1.03     2.2011  
    Moose::Util::TypeConstraints      1.01     2.2011  
    MooseX::Types::Perl               0.101340 0.101343
    perl                              5.006    5.018002
    Perl::MinimumVersion              1.26     1.38    
    strict                            0        1.07    
    warnings                          0        1.18    

build_requires:

    Module                            Need     Have    
    --------------------------------- -------- --------
    File::Spec                        0        3.40    
    File::Temp                        0        0.2308  
    IO::Handle                        0        1.34    
    IPC::Open3                        0        1.13    
    perl                              5.006    5.018002
    Test::More                        0.88     1.302138

configure_requires:

    Module                            Need     Have    
    --------------------------------- -------- --------
    ExtUtils::MakeMaker               0        7.34    
    Module::Build::Tiny               0.039    0.039   
    perl                              5.006    5.018002


------------------------------
ENVIRONMENT AND OTHER CONTEXT
------------------------------

Environment variables:

    LANG = en_US.UTF-8
    PATH = /Users/strushel/perl5/bin:/usr/local/bin:/usr/bin:/bin:/usr/sbin:/sbin
    PERL5LIB = /Users/strushel/perl5/lib/perl5
    PERL5OPT = 
    PERL5_CPANPLUS_IS_RUNNING = 37312
    PERL5_CPAN_IS_RUNNING = 37312
    PERL_LOCAL_LIB_ROOT = /Users/strushel/perl5
    PERL_MB_OPT = --install_base "/Users/strushel/perl5"
    PERL_MM_OPT = INSTALL_BASE=/Users/strushel/perl5
    SHELL = /bin/bash
    TERM = xterm-256color
    TMPDIR = /var/folders/59/vg8z2y5j06jctjrv0_6g42q0n7dx3w/T/
    VERSIONER_PERL_PREFER_32_BIT = no
    VERSIONER_PERL_VERSION = 5.18

Perl special variables (and OS-specific diagnostics, for MSWin32):

    $^X = /usr/bin/perl
    $UID/$EUID = 712438908 / 712438908
    $GID = 180014856 180014856 12 62 79 80 81 98 702 704 703 33 100 204 250 395 398 399 701
    $EGID = 180014856 180014856 12 62 79 80 81 98 702 704 703 33 100 204 250 395 398 399 701

Perl module toolchain versions installed:

    Module              Have    
    ------------------- --------
    CPAN                2.00    
    CPAN::Meta          2.143240
    Cwd                 3.40    
    ExtUtils::CBuilder  0.280210
    ExtUtils::Command   7.34    
    ExtUtils::Install   2.06    
    ExtUtils::MakeMaker 7.34    
    ExtUtils::Manifest  1.70    
    ExtUtils::ParseXS   3.35    
    File::Spec          3.40    
    JSON                2.97001 
    JSON::PP            2.97001 
    Module::Build       0.4224  
    Module::Signature   n/a     
    Parse::CPAN::Meta   1.4414  
    Test::Harness       3.42    
    Test::More          1.302138
    YAML                1.26    
    YAML::Syck          1.27    
    version             0.9924  


--

Summary of my perl5 (revision 5 version 18 subversion 2) configuration:
   
  Platform:
    osname=darwin, osvers=17.0, archname=darwin-thread-multi-2level
    uname='darwin osx361.sd.apple.com 17.0 darwin kernel version 16.1.0: mon oct 9 13:05:29 pdt 2017; root:xnu-3789.21.4.1.7~1development_x86_64 x86_64 '
    config_args='-ds -e -Dprefix=/usr -Dccflags=-g  -pipe  -Dldflags= -Dman3ext=3pm -Duseithreads -Duseshrplib -Dinc_version_list=none -Dcc=cc'
    hint=recommended, useposix=true, d_sigaction=define
    useithreads=define, usemultiplicity=define
    useperlio=define, d_sfio=undef, uselargefiles=define, usesocks=undef
    use64bitint=define, use64bitall=define, uselongdouble=undef
    usemymalloc=n, bincompat5005=undef
  Compiler:
    cc='cc', ccflags ='-arch x86_64 -arch i386 -g -pipe -fno-common -DPERL_DARWIN -fno-strict-aliasing -fstack-protector',
    optimize='-Os',
    cppflags='-g -pipe -fno-common -DPERL_DARWIN -fno-strict-aliasing -fstack-protector'
    ccversion='', gccversion='4.2.1 Compatible Apple LLVM 9.0.0 (clang-900.0.31)', gccosandvers=''
    intsize=4, longsize=8, ptrsize=8, doublesize=8, byteorder=12345678
    d_longlong=define, longlongsize=8, d_longdbl=define, longdblsize=16
    ivtype='long', ivsize=8, nvtype='double', nvsize=8, Off_t='off_t', lseeksize=8
    alignbytes=8, prototype=define
  Linker and Libraries:
    ld='cc', ldflags ='-arch x86_64 -arch i386 -fstack-protector'
    libpth=/usr/lib /usr/local/lib
    libs= 
    perllibs=
    libc=, so=dylib, useshrplib=true, libperl=libperl.dylib
    gnulibc_version=''
  Dynamic Linking:
    dlsrc=dl_dlopen.xs, dlext=bundle, d_dlsymun=undef, ccdlflags=' '
    cccdlflags=' ', lddlflags='-arch x86_64 -arch i386 -bundle -undefined dynamic_lookup -fstack-protector'


Characteristics of this binary (from libperl): 
  Compile-time options: HAS_TIMES MULTIPLICITY PERLIO_LAYERS
                        PERL_DONT_CREATE_GVSV
                        PERL_HASH_FUNC_ONE_AT_A_TIME_HARD
                        PERL_IMPLICIT_CONTEXT PERL_MALLOC_WRAP
                        PERL_PRESERVE_IVUV PERL_SAWAMPERSAND USE_64_BIT_ALL
                        USE_64_BIT_INT USE_ITHREADS USE_LARGE_FILES
                        USE_LOCALE USE_LOCALE_COLLATE USE_LOCALE_CTYPE
                        USE_LOCALE_NUMERIC USE_PERLIO USE_PERL_ATOF
                        USE_REENTRANT_API
  Locally applied patches:
	/Library/Perl/Updates/<version> comes before system perl directories
	installprivlib and installarchlib points to the Updates directory
  Built under darwin
  Compiled at May  1 2018 17:43:05
  %ENV:
    PERL5LIB="/Users/strushel/perl5/lib/perl5"
    PERL5OPT=""
    PERL5_CPANPLUS_IS_RUNNING="37312"
    PERL5_CPAN_IS_RUNNING="37312"
    PERL_LOCAL_LIB_ROOT="/Users/strushel/perl5"
    PERL_MB_OPT="--install_base "/Users/strushel/perl5""
    PERL_MM_OPT="INSTALL_BASE=/Users/strushel/perl5"
  @INC:
    /Users/strushel/perl5/lib/perl5/5.18.2/darwin-thread-multi-2level
    /Users/strushel/perl5/lib/perl5/5.18.2
    /Users/strushel/perl5/lib/perl5/darwin-thread-multi-2level
    /Users/strushel/perl5/lib/perl5
    /Library/Perl/5.18/darwin-thread-multi-2level
    /Library/Perl/5.18
    /Network/Library/Perl/5.18/darwin-thread-multi-2level
    /Network/Library/Perl/5.18
    /Library/Perl/Updates/5.18.2
    /System/Library/Perl/5.18/darwin-thread-multi-2level
    /System/Library/Perl/5.18
    /System/Library/Perl/Extras/5.18/darwin-thread-multi-2level
    /System/Library/Perl/Extras/5.18
    .