Report for MySQL-Sandbox-3.2.10

Back
From: metabase:user:ec999e86-1b50-11e7-8bf0-446011392603
Subject: PASS MySQL-Sandbox-3.2.10 v5.10.0 SunOS/Solaris
Date: 2017-05-06T03:25:17Z

This distribution has been tested as part of the CPAN Testers
project, supporting the Perl programming language.  See
http://wiki.cpantesters.org/ for more information or email
questions to cpan-testers-discuss@perl.org


--
Dear Giuseppe Maxia,

This is a computer-generated report for MySQL-Sandbox-3.2.10
on perl 5.10.0, created by CPAN-Reporter-1.2018.

Thank you for uploading your work to CPAN.  Congratulations!
All tests were successful.

Sections of this report:

    * Tester comments
    * Program output
    * Prerequisites
    * Environment and other context

------------------------------
TESTER COMMENTS
------------------------------

Additional comments from tester:

this report is from an automated smoke testing program
and was not reviewed by a human for accuracy

------------------------------
PROGRAM OUTPUT
------------------------------

Output from '/usr/gnu/bin/make test':

PERL_DL_NONLAZY=1 "/usr/perl5/5.10.0/bin/perl" "-MExtUtils::Command::MM" "-MTest::Harness" "-e" "undef *Test::Harness::Switches; test_harness(0, 'blib/lib', 'blib/arch')" t/*.t
t/01_modules.t ...................... ok
t/02_test_binaries.t ................ ok
t/03_test_sandbox.t ................. ok
t/04_test_sbtool.t .................. ok
t/05_test_smoke.t ................... ok
t/06_test_user_defined.t ............ ok
t/07_test_user_defined.t ............ ok
t/08_test_single_port_checking.t .... ok
t/09_test_multiple_port_checking.t .. ok
t/10_check_start_restart.t .......... ok
t/11_replication_parameters.t ....... ok
t/12_custom_user_pwd.t .............. ok
t/13_innodb_plugin_install.t ........ ok
t/14_semi_synch_plugin_install.t .... ok
t/15_user_privileges.t .............. ok
t/16_replication_options.t .......... ok
t/17_replication_flow.t ............. ok
t/18_force_creation.t ............... ok
t/19_replication_gtid.t ............. ok
t/20_add_option.t ................... ok
t/21_replication_gtid_option.t ...... ok
t/22_init_exec_sql.t ................ ok
t/23_mysqlx_plugin.t ................ ok
t/24_dd_expose.t .................... ok
All tests successful.
Files=24, Tests=26,  7 wallclock secs ( 0.32 usr  0.52 sys +  1.89 cusr  3.16 csys =  5.89 CPU)
Result: PASS

------------------------------
PREREQUISITES
------------------------------

Prerequisite modules loaded:

requires:

    Module              Need Have 
    ------------------- ---- -----
    File::Find          1    1.12 
    Socket              1.7  2.024

build_requires:

    Module              Need Have 
    ------------------- ---- -----
    ExtUtils::MakeMaker 0    7.24 


------------------------------
ENVIRONMENT AND OTHER CONTEXT
------------------------------

Environment variables:

    AUTOMATED_TESTING = 1
    LANG = en_US.UTF-8
    PATH = /home/jdurand/perl5/bin:/usr/gnu/bin:/usr/bin:/usr/sbin:/sbin
    PERL5LIB = /home/jdurand/perl5/lib/perl5
    PERL5OPT = 
    PERL5_CPANPLUS_IS_RUNNING = 1897
    PERL5_CPAN_IS_RUNNING = 1897
    PERL5_CPAN_IS_RUNNING_IN_RECURSION = 10914,1897
    PERL_CR_SMOKER_CURRENT = MySQL-Sandbox-3.2.10
    PERL_EXTUTILS_AUTOINSTALL = --defaultdeps
    PERL_LOCAL_LIB_ROOT = /home/jdurand/perl5
    PERL_MB_OPT = --install_base "/home/jdurand/perl5"
    PERL_MM_OPT = INSTALL_BASE=/home/jdurand/perl5
    PERL_MM_USE_DEFAULT = 1
    SHELL = /bin/bash
    TERM = xterm

Perl special variables (and OS-specific diagnostics, for MSWin32):

    $^X = /usr/perl5/5.10.0/bin/perl
    $UID/$EUID = 101 / 101
    $GID = 10 10
    $EGID = 10 10

Perl module toolchain versions installed:

    Module              Have    
    ------------------- --------
    CPAN                2.16    
    CPAN::Meta          2.143240
    Cwd                 3.62    
    ExtUtils::CBuilder  0.280224
    ExtUtils::Command   7.24    
    ExtUtils::Install   1.54    
    ExtUtils::MakeMaker 7.24    
    ExtUtils::Manifest  1.70    
    ExtUtils::ParseXS   3.30    
    File::Spec          3.62    
    JSON                n/a     
    JSON::PP            2.27400 
    Module::Build       0.4222  
    Module::Signature   n/a     
    Parse::CPAN::Meta   1.4414  
    Test::Harness       3.38    
    Test::More          1.302078
    YAML                1.23    
    YAML::Syck          1.29    
    version             0.9917  


--

Summary of my perl5 (revision 5 version 10 subversion 0) configuration:
  Platform:
    osname=solaris, osvers=2.11, archname=i86pc-solaris-64int
    uname='sunos localhost 5.11 i86pc i386 i86pc'
    config_args=''
    hint=recommended, useposix=true, d_sigaction=define
    useithreads=undef, usemultiplicity=undef
    useperlio=define, d_sfio=undef, uselargefiles=define, usesocks=undef
    use64bitint=define, use64bitall=undef, uselongdouble=undef
    usemymalloc=n, bincompat5005=undef
  Compiler:
    cc='cc', ccflags ='-D_LARGEFILE_SOURCE -D_FILE_OFFSET_BITS=64 -D_TS_ERRNO -DPERL_USE_SAFE_PUTENV',
    optimize='-xO3 -xspace -xildoff',
    cppflags=''
    ccversion='Sun C 5.9 SunOS_i386 Patch 124868-07 2008/10/07', gccversion='', gccosandvers=''
    intsize=4, longsize=4, ptrsize=4, doublesize=8, byteorder=12345678
    d_longlong=define, longlongsize=8, d_longdbl=define, longdblsize=12
    ivtype='long long', ivsize=8, nvtype='double', nvsize=8, Off_t='off_t', lseeksize=8
    alignbytes=4, prototype=define
  Linker and Libraries:
    ld='cc', ldflags =''
    libpth=/lib /usr/lib /usr/ccs/lib
    libs=-lsocket -lnsl -ldl -lm -lc
    perllibs=-lsocket -lnsl -ldl -lm -lc
    libc=/lib/libc.so, so=so, useshrplib=true, libperl=libperl.so
    gnulibc_version=''
  Dynamic Linking:
    dlsrc=dl_dlopen.xs, dlext=so, d_dlsymun=undef, ccdlflags='-R /usr/perl5/5.10.0/lib/i86pc-solaris-64int/CORE '
    cccdlflags='-KPIC', lddlflags='-G'


Characteristics of this binary (from libperl): 
  Compile-time options: PERL_DONT_CREATE_GVSV PERL_MALLOC_WRAP
                        PERL_USE_SAFE_PUTENV USE_64_BIT_INT USE_LARGE_FILES
                        USE_PERLIO
  Built under solaris
  Compiled at Jul 12 2013 13:31:02
  %ENV:
    PERL5LIB="/home/jdurand/perl5/lib/perl5"
    PERL5OPT=""
    PERL5_CPANPLUS_IS_RUNNING="1897"
    PERL5_CPAN_IS_RUNNING="1897"
    PERL5_CPAN_IS_RUNNING_IN_RECURSION="10914,1897"
    PERL_CR_SMOKER_CURRENT="MySQL-Sandbox-3.2.10"
    PERL_EXTUTILS_AUTOINSTALL="--defaultdeps"
    PERL_LOCAL_LIB_ROOT="/home/jdurand/perl5"
    PERL_MB_OPT="--install_base "/home/jdurand/perl5""
    PERL_MM_OPT="INSTALL_BASE=/home/jdurand/perl5"
    PERL_MM_USE_DEFAULT="1"
  @INC:
    /home/jdurand/perl5/lib/perl5/5.10.0/i86pc-solaris-64int
    /home/jdurand/perl5/lib/perl5/5.10.0
    /home/jdurand/perl5/lib/perl5/i86pc-solaris-64int
    /home/jdurand/perl5/lib/perl5
    /usr/perl5/site_perl/5.10.0/i86pc-solaris-64int
    /usr/perl5/site_perl/5.10.0
    /usr/perl5/vendor_perl/5.10.0/i86pc-solaris-64int
    /usr/perl5/vendor_perl/5.10.0
    /usr/perl5/vendor_perl
    /usr/perl5/5.10.0/lib/i86pc-solaris-64int
    /usr/perl5/5.10.0/lib
    .