WebService-GeoIPify v0.05 Perl 5 v5.26.3 x86_64-linux

Status
Pass
From
Andreas J. König (ANDK)
Dist
WebService-GeoIPify v0.05
Platform
Perl 5 v5.26.3 x86_64-linux
Date
2019-05-03 15:17:55
ID
a07826f2-6db6-11e9-84f0-11b7d68c76fc
This distribution has been tested as part of the CPAN Testers
project, supporting the Perl programming language.  See
http://wiki.cpantesters.org/ for more information or email
questions to cpan-testers-discuss@perl.org


--
Dear Kian Meng, Ang,

This is a computer-generated report for WebService-GeoIPify-0.05
on perl 5.26.3, created by CPAN-Reporter-1.2018.

Thank you for uploading your work to CPAN.  Congratulations!
All tests were successful.

Sections of this report:

    * Tester comments
    * Program output
    * Prerequisites
    * Environment and other context

------------------------------
TESTER COMMENTS
------------------------------

Additional comments from tester:

this report is from an automated smoke testing program
and was not reviewed by a human for accuracy

------------------------------
PROGRAM OUTPUT
------------------------------

Output from './Build test':

t/00-compile.t .............. ok
# Testing with Perl 5.026003, /home/sand/src/perl/repoperls/installed-perls/host/k93msid/v5.26.3/da1c/bin/perl
#     Cache::LRU version is 0.04
#     Data::Validate::IP version is 0.27
#     File::Spec version is 3.75
#     IO::Handle version is 1.39
#     IPC::Open3 version is 1.20
#     JSON version is 4.02
#     Module::Build::Tiny version is 0.039
#     Moo version is 2.003004
#     Pod::Coverage::TrustPod version is 0.100005
#     REST::Client version is 273
#     Role::Cache::LRU version is 0.01
#     Role::REST::Client version is 0.23
#     Sub::Quote version is 2.006003
#     Test::CPAN::Meta version is 0.25
#     Test::DistManifest version is 1.014
#     Test::Exception version is 0.43
#     Test::HasVersion version is 0.014
#     Test::More version is 1.302162
#     Test::Warn version is 0.36
#     Types::Common::String version is 1.005_001
#     Types::Standard version is 1.005_001
#     namespace::clean version is 0.27
#     strictures version is 2.000005
t/000-report-versions.t ..... ok
t/00_compile.t .............. ok
t/01_instantiation.t ........ ok
t/02_lookup.t ............... skipped: $ENV{GEOIPIFY_ACCESS_KEY} not set, skipping live tests
t/03_check.t ................ skipped: $ENV{GEOIPIFY_ACCESS_KEY} not set, skipping live tests
t/author-eol.t .............. skipped: these tests are for testing by the author
t/author-minimum-version.t .. skipped: these tests are for testing by the author
t/author-pod-coverage.t ..... skipped: these tests are for testing by the author
t/author-pod-syntax.t ....... skipped: these tests are for testing by the author
t/release-distmeta.t ........ skipped: these tests are for release candidate testing
t/release-has-version.t ..... skipped: these tests are for release candidate testing
t/release-kwalitee.t ........ skipped: these tests are for release candidate testing
t/release-unused-vars.t ..... skipped: these tests are for release candidate testing
All tests successful.
Files=14, Tests=29,  3 wallclock secs ( 0.02 usr  0.10 sys +  1.24 cusr  0.30 csys =  1.66 CPU)
Result: PASS

------------------------------
PREREQUISITES
------------------------------

Prerequisite modules loaded:

requires:

    Module                  Need     Have     
    ----------------------- -------- ---------
    Cache::LRU              0        0.04     
    Data::Validate::IP      0        0.27     
    JSON                    0        4.02     
    Moo                     0        2.003004 
    namespace::clean        0        0.27     
    perl                    5.008005 5.026003 
    REST::Client            0        273      
    Role::Cache::LRU        0        0.01     
    Role::REST::Client      0        0.23     
    strictures              2        2.000005 
    Sub::Quote              0        2.006003 
    Types::Common::String   1.004002 1.005_001
    Types::Standard         1.004002 1.005_001

build_requires:

    Module                  Need     Have     
    ----------------------- -------- ---------
    File::Spec              0        3.75     
    IO::Handle              0        1.39     
    IPC::Open3              0        1.20     
    Pod::Coverage::TrustPod 0        0.100005 
    Test::CPAN::Meta        0        0.25     
    Test::DistManifest      0        1.014    
    Test::Exception         0        0.43     
    Test::HasVersion        0        0.014    
    Test::Kwalitee          0        1.28     
    Test::More              0        1.302162 
    Test::Pod::Coverage     0        1.10     
    Test::Warn              0        0.36     

configure_requires:

    Module                  Need     Have     
    ----------------------- -------- ---------
    Module::Build::Tiny     0.034    0.039    


------------------------------
ENVIRONMENT AND OTHER CONTEXT
------------------------------

Environment variables:

    AUTOMATED_TESTING = 1
    LANG = en_US.UTF-8
    PATH = /home/sand/bin:/usr/local/bin:/usr/bin:/bin:/usr/games:/usr/local/perl/bin:/usr/X11/bin:/sbin:/usr/sbin
    PERL5LIB = 
    PERL5OPT = 
    PERL5_CPANPLUS_IS_RUNNING = 17275
    PERL5_CPAN_IS_RUNNING = 17275
    PERL_CANARY_STABILITY_NOPROMPT = 1
    PERL_MM_USE_DEFAULT = 1
    PERL_USE_UNSAFE_INC = 1
    SHELL = /usr/bin/zsh
    TERM = screen

Perl special variables (and OS-specific diagnostics, for MSWin32):

    $^X = /home/sand/src/perl/repoperls/installed-perls/host/k93msid/v5.26.3/da1c/bin/perl
    $UID/$EUID = 1005 / 1005
    $GID = 1005 1005
    $EGID = 1005 1005

Perl module toolchain versions installed:

    Module              Have    
    ------------------- --------
    CPAN                2.22    
    CPAN::Meta          2.150010
    Cwd                 3.75    
    ExtUtils::CBuilder  0.280231
    ExtUtils::Command   7.35_14 
    ExtUtils::Install   2.06    
    ExtUtils::MakeMaker 7.35_14 
    ExtUtils::Manifest  1.70    
    ExtUtils::ParseXS   3.35    
    File::Spec          3.75    
    JSON                4.02    
    JSON::PP            4.00    
    Module::Build       0.4229  
    Module::Signature   0.83    
    Parse::CPAN::Meta   2.150010
    Test::Harness       3.42    
    Test::More          1.302162
    YAML                1.27_001
    YAML::Syck          1.31    
    version             0.9924  


--

Summary of my perl5 (revision 5 version 26 subversion 3) configuration:
  Commit id: 92583df5dc9b9edbcd4a9649f753e180b9729590
  Platform:
    osname=linux
    osvers=4.18.0-2-amd64
    archname=x86_64-linux
    uname='linux k93msid 4.18.0-2-amd64 #1 smp debian 4.18.10-2 (2018-10-07) x86_64 gnulinux '
    config_args='-Dprefix=/home/sand/src/perl/repoperls/installed-perls/host/k93msid/v5.26.3/da1c -Dmyhostname=k93msid -Dinstallusrbinperl=n -Uversiononly -Dusedevel -des -Ui_db -Dlibswanted=cl pthread socket inet nsl gdbm dbm malloc dl ld sun m crypt sec util c cposix posix ucb BSD gdbm_compat -Uuseithreads -Uuselongdouble -DEBUGGING=-g'
    hint=recommended
    useposix=true
    d_sigaction=define
    useithreads=undef
    usemultiplicity=undef
    use64bitint=define
    use64bitall=define
    uselongdouble=undef
    usemymalloc=n
    default_inc_excludes_dot=define
    bincompat5005=undef
  Compiler:
    cc='cc'
    ccflags ='-fwrapv -fno-strict-aliasing -pipe -fstack-protector-strong -I/usr/local/include -D_LARGEFILE_SOURCE -D_FILE_OFFSET_BITS=64'
    optimize='-O2 -g'
    cppflags='-fwrapv -fno-strict-aliasing -pipe -fstack-protector-strong -I/usr/local/include'
    ccversion=''
    gccversion='8.2.0'
    gccosandvers=''
    intsize=4
    longsize=8
    ptrsize=8
    doublesize=8
    byteorder=12345678
    doublekind=3
    d_longlong=define
    longlongsize=8
    d_longdbl=define
    longdblsize=16
    longdblkind=3
    ivtype='long'
    ivsize=8
    nvtype='double'
    nvsize=8
    Off_t='off_t'
    lseeksize=8
    alignbytes=8
    prototype=define
  Linker and Libraries:
    ld='cc'
    ldflags =' -fstack-protector-strong -L/usr/local/lib'
    libpth=/usr/local/lib /usr/lib/gcc/x86_64-linux-gnu/8/include-fixed /usr/include/x86_64-linux-gnu /usr/lib /lib/x86_64-linux-gnu /lib/../lib /usr/lib/x86_64-linux-gnu /usr/lib/../lib /lib
    libs=-lpthread -lnsl -ldl -lm -lcrypt -lutil -lc
    perllibs=-lpthread -lnsl -ldl -lm -lcrypt -lutil -lc
    libc=libc-2.27.so
    so=so
    useshrplib=false
    libperl=libperl.a
    gnulibc_version='2.27'
  Dynamic Linking:
    dlsrc=dl_dlopen.xs
    dlext=so
    d_dlsymun=undef
    ccdlflags='-Wl,-E'
    cccdlflags='-fPIC'
    lddlflags='-shared -O2 -g -L/usr/local/lib -fstack-protector-strong'


Characteristics of this binary (from libperl): 
  Compile-time options:
    HAS_TIMES
    PERLIO_LAYERS
    PERL_COPY_ON_WRITE
    PERL_DONT_CREATE_GVSV
    PERL_MALLOC_WRAP
    PERL_OP_PARENT
    PERL_PRESERVE_IVUV
    PERL_USE_DEVEL
    USE_64_BIT_ALL
    USE_64_BIT_INT
    USE_LARGE_FILES
    USE_LOCALE
    USE_LOCALE_COLLATE
    USE_LOCALE_CTYPE
    USE_LOCALE_NUMERIC
    USE_LOCALE_TIME
    USE_PERLIO
    USE_PERL_ATOF
  Built under linux
  Compiled at Nov 30 2018 23:58:00
  %ENV:
    PERL5LIB=""
    PERL5OPT=""
    PERL5_CPANPLUS_IS_RUNNING="17275"
    PERL5_CPAN_IS_RUNNING="17275"
    PERL_CANARY_STABILITY_NOPROMPT="1"
    PERL_MM_USE_DEFAULT="1"
    PERL_USE_UNSAFE_INC="1"
  @INC:
    /home/sand/src/perl/repoperls/installed-perls/host/k93msid/v5.26.3/da1c/lib/site_perl/5.26.3/x86_64-linux
    /home/sand/src/perl/repoperls/installed-perls/host/k93msid/v5.26.3/da1c/lib/site_perl/5.26.3
    /home/sand/src/perl/repoperls/installed-perls/host/k93msid/v5.26.3/da1c/lib/5.26.3/x86_64-linux
    /home/sand/src/perl/repoperls/installed-perls/host/k93msid/v5.26.3/da1c/lib/5.26.3
    .