DBIx-Class v0.082841_01 Perl 5 v5.26.1 x86_64-linux-thread-multi-quadmath
- Status
- Pass
- From
- Chris Williams (BINGOS)
- Dist
-
DBIx-Class v0.082841_01
- Platform
- Perl 5 v5.26.1 x86_64-linux-thread-multi-quadmath
- Date
- 2019-11-01 17:54:19
- ID
- a0bc2772-fcd0-11e9-9066-e374b0ba08e8
This distribution has been tested as part of the CPAN Testers
project, supporting the Perl programming language. See
http://wiki.cpantesters.org/ for more information or email
questions to cpan-testers-discuss@perl.org
--
Dear RIBASUSHI,
This is a computer-generated error report created automatically by
CPANPLUS, version 0.9178. Testers personal comments may appear
at the end of this report.
Thank you for uploading your work to CPAN. Congratulations!
All tests were successful.
TEST RESULTS:
Below is the error stack from stage 'make test':
PERL_DL_NONLAZY=1 "/home/cpan/pit/thr-qm/perl-5.26.1/bin/perl" "-MExtUtils::Command::MM" "-MTest::Harness" "-e" "undef *Test::Harness::Switches; test_harness(0, 'inc', 'blib/lib', 'blib/arch')" t/*.t t/admin/*.t t/cdbi/*.t t/cdbi/DeepAbstractSearch/*.t t/cdbi/abstract/*.t t/cdbi/sweet/*.t t/count/*.t t/debug/*.t t/delete/*.t t/inflate/*.t t/multi_create/*.t t/ordered/*.t t/prefetch/*.t t/relationship/*.t t/resultset/*.t t/resultsource/*.t t/row/*.t t/schema/*.t t/search/*.t t/sqlmaker/*.t t/sqlmaker/hierarchical/*.t t/sqlmaker/limit_dialects/*.t t/storage/*.t t/update/*.t xt/*.t
#
#
# List of loadable modules within both *OPTIONAL* and core dependency chains
# present on this system (modules sourced from ./blib, ./lib, ./t, and ./xt
# with versions identical to their parent namespace were omitted for brevity)
#
# *** Note that *MANY* of these modules will *NEVER* be loaded ***
# *** during normal operation of DBIx::Class ***
#
# @INC at startup (does not reflect manipulation at runtime):
# 0: ./inc/
# 1: ./blib/lib/
# 2: ./blib/arch/
# ...
# 6: /home/cpan/pit/jail/kc7EZa_zv9/lib/perl5/x86_64-linux-thread-multi-quadmath
# ...
# 10: /home/cpan/pit/jail/kc7EZa_zv9/lib/perl5
# ...
# 15: ./blib/lib/
# 16: ./blib/arch/
# 17: <<SA>>/
# 18: <<SL>>/
# 19: <<PA>>/
# 20: <<PL>>/
# 21: ./
#
# Sourcing markers:
# PA: $Config{archlib}
# PL: $Config{privlib}
# SA: $Config{sitearch}
# SL: $Config{sitelib}
# BLL: ./blib/lib/
#
# =============================
# PA 1.68 B [ MD5: a1b96c83bbb9e72e40c4ef0ad7ccb9ac ]
# $INC[10] 0.24 B::Hooks::EndOfScope [ MD5: 3b9731e44ba19c730e41ef0865a9611a ]
# $INC[10] 0.24 B::Hooks::EndOfScope::XS [ MD5: e329476ce9d632219d1448c8dd641a25 ]
# PL 2.26 base [ MD5: 33a4b1acedb7ad3d17aadf941ffdf092 ]
# PL 1.05 bytes [ MD5: 0b1f4cf7f07548ffd51cd5ddb6644fe2 ]
# PL 1.42 Carp [ MD5: 5e505f781edb59d1bc7d50192aca1d0b ]
# PL 1.42 Carp::Heavy [ MD5: 79f092eecb710ba166304e7a88bfa45d ]
# $INC[10] 0.51 Class::Accessor [ MD5: a0a06301e39652deaee12c78d63dcc74 ]
# $INC[10] Class::Accessor::Chained::Fast [ MD5: 544678632aaf294dc280944a83c509bc ]
# $INC[10] 0.51 Class::Accessor::Fast [ MD5: d55e6349be3f027f1c5f6fa7eb833d8e ]
# $INC[10] 0.10014 Class::Accessor::Grouped [ MD5: e62be17499d53d13f67a4361268aac40 ]
# $INC[10] 1.001002 Class::C3::Componentised [ MD5: 2e92d4f7f9a7d2eda3cd1100583541a2 ]
# $INC[10] 1.36 Class::Inspector [ MD5: 7aed0ce1dfc5dd2067632ea22fd2f483 ]
# PL 0.65 Class::Struct [ MD5: cf060e4d87730484dcdf246d806fec93 ]
# $INC[6] 1.19 Class::XSAccessor [ MD5: 0b7adfcc61192a80f97463e89d6d1696 ]
# $INC[6] 1.19 Class::XSAccessor::Heavy [ MD5: db9379a668d6133fce801e4648cdef45 ]
# $INC[10] 0.010 Clone::Choose [ MD5: 884cece05d3959f067c7e20ed3d05cf5 ]
# PA 5.026001 Config [ MD5: f1a96beba44b53dd34d16c0d8bf0c329 ]
# PL 1.33 constant [ MD5: 56cde6eba0f667ab56196613df3933c1 ]
# $INC[10] 0.03 Context::Preserve [ MD5: 62155e2bc041508eff050250d74a0c38 ]
# SA 3.75 Cwd [ MD5: ac096f132d787b5c834fdf897d149650 ]
# PA 2.167 Data::Dumper [ MD5: e8d4d16a5dbdb2708c2422caa0887a7b ]
# $INC[10] 2.023 Data::Dumper::Concise [ MD5: b18cb47e46e385ccee825ac7e5e59d9e ]
# $INC[10] 2.03 Data::Page [ MD5: b1b86ef926254ee062c0ac6c00041135 ]
# $INC[6] 1.64 DBD::SQLite [ MD5: 51b8cd5b6a12afa6919700e9835df0cf ]
# $INC[6] 1.642 DBI [ MD5: 1fe9f7a88ed440a65d84bcf7d793296b ]
# BLL 0.082841_01 DBIx::Class [ MD5: ada0e597adf1ec94e5245a7f9855e91f ]
# $INC[10] 0.14 Devel::GlobalDestruction [ MD5: fa8dcedeb9a8a3d29fbef7dfce342970 ]
# PL 1.16 Digest::base [ MD5: c46e2ebb720ee7d9c600ce5acbf34291 ]
# PA 2.55 Digest::MD5 [ MD5: eb31899db132d674e1db22f4727234f6 ]
# PA 1.42 DynaLoader [ MD5: 946142306a2c4799cb2f003e42da5d86 ]
# PA 2.88 Encode [ MD5: bc0d0c3e24f579760903d86fd1368ae5 ]
# PA 2.21 Encode::Alias [ MD5: c80393c9755f35aa7358e8a3090a3d73 ]
# PA 2.05 Encode::Config [ MD5: 7bdd1d8dffa8d3500086802451fc020d ]
# PA 2.07 Encode::Encoding [ MD5: 34dc1ab677a5e9b9b4ab88acbde70db4 ]
# PA 1.28 Errno [ MD5: 6f40acc9d4b00746f768586dfd9c9571 ]
# PL 5.72 Exporter [ MD5: 358c4022647b971c7c4f3a4157b8343e ]
# PL 5.72 Exporter::Heavy [ MD5: d8032ca40b44e010673e6dd5816ca66b ]
# SL 7.38 ExtUtils::Liblist [ MD5: da62a28b3a2044ab8b0423baecfbf79f ]
# SL 7.38 ExtUtils::Liblist::Kid [ MD5: ad108eadd307c14ccebe2c84e406d871 ]
# SL 7.38 ExtUtils::MakeMaker [ MD5: 0e7575885178ff4bdf26a8e79f3c224b ]
# SL 7.38 ExtUtils::MakeMaker::Config [ MD5: 102b7cddd8de2b4e46b5e180e6210139 ]
# SL 7.38 ExtUtils::MakeMaker::Locale [ MD5: f645fea8c05a59951dddfc916c6b70ac ]
# SL 7.38 ExtUtils::MakeMaker::version [ MD5: dc721f7fb8e4c406dc6505c30244decd ]
# SL 7.38 ExtUtils::MM [ MD5: 12821ca0891a09ff0672d824a6bdeb71 ]
# SL 7.38 ExtUtils::MM_Any [ MD5: 12cb0836fe318056d91b3d5775339fb4 ]
# SL 7.38 ExtUtils::MM_Unix [ MD5: d875178479a4b1936845135e1d890a6e ]
# SL 7.38 ExtUtils::MY [ MD5: 84c0c8ee06918c9bf153978ccd2ac812 ]
# PA 1.13 Fcntl [ MD5: b337d563fd4bc958c7e0a2bba2ca86d2 ]
# PL 2.85 File::Basename [ MD5: 060f029d056cc44e536c7d278f69bf43 ]
# PL 2.32 File::Copy [ MD5: 6bd3ccbef5e29781e19ab4d4a4dfc779 ]
# PL 1.34 File::Find [ MD5: 04150524197463018d3188f24e360c5e ]
# PA 1.28 File::Glob [ MD5: 3924cc309b6830781e15c9b95f1c6e2c ]
# SL 2.16 File::Path [ MD5: f99518263f74b3fd734893c5bbe2220b ]
# SA 3.75 File::Spec [ MD5: 60adab4a60c40a7115274bd9c0801425 ]
# SA 3.75 File::Spec::Unix [ MD5: 64adb743d17fa746ca7c31eb21971eb7 ]
# PL 1.07 File::stat [ MD5: d6fcb5be03ba2b0f34569f8dbc9c17c8 ]
# SL 0.2309 File::Temp [ MD5: 9710fcbc8911ae90f20b0c863ebfe79b ]
# 0.2309 File::Temp::Dir ! -f $INC{'File/Temp/Dir.pm'}
# $INC[10] 0.300 Hash::Merge [ MD5: 6d88a0cad7f5b301c53a27491c664a53 ]
# PA 0.13 I18N::Langinfo [ MD5: 706de135fde051348167b99b4d87722f ]
# PL 1.01 integer [ MD5: 3e5ff5fb486c95945e10e79859dd5bfb ]
# PA 1.38 IO [ MD5: 0fd9a20e71a733dbe5859bd96e32334d ]
# PA 1.10 IO::Dir [ MD5: 3382ea44d8e267cc12a596fbfe73ff92 ]
# PA 1.16 IO::File [ MD5: 206278c02dd4a3fb7792a4a193d2588b ]
# PA 1.36 IO::Handle [ MD5: ba4d379aeccdf0982810a9ebc71aa1ce ]
# PA 1.10 IO::Seekable [ MD5: f62813b55c062f449160100dca67d043 ]
# PL 2.27400_02 JSON::PP [ MD5: 41a51e893f3f4b4e9cf1c50f415577c2 ]
# 1.01 JSON::PP::IncrParser ! -f $INC{'JSON/PP/IncrParser.pm'}
# PA 1.46_02 List::Util [ MD5: a7be2ad5372cc4930892d5242c5134a2 ]
# PL 1.09 locale [ MD5: 0e2f243d25cdd1380e17ebfb8b9eee5c ]
# PL 1.999806 Math::BigInt [ MD5: b67876533973c62afd04fe167dd12795 ]
# $INC[10] Method::Generate::Accessor [ MD5: 9209197a79974c455fca96e01ae687fe ]
# $INC[10] Method::Generate::Constructor [ MD5: 34ec0d8db3d6be1fef4b216a47ed3f40 ]
# $INC[10] 0.09 Module::Implementation [ MD5: 2a146bb117cd6b798e2b928231799546 ]
# $INC[10] 0.016 Module::Runtime [ MD5: db1042b0f9341111c7f904480a82596a ]
# $INC[10] 2.003006 Moo [ MD5: 527fb450d0524b1130a359c693d8ea3d ]
# $INC[10] Moo::Object [ MD5: 454a78f98f0239ac4044db19f07e8567 ]
# $INC[10] Moo::sification [ MD5: 9ef3e1bfcf46a351c20ca221d490d99f ]
# PA 1.20 mro [ MD5: 55e173fa7c4aa8a39d0b12f002d01a84 ]
# $INC[10] 0.13 MRO::Compat [ MD5: 0e22f9bf6be934a1ef7ecc18c01ea6be ]
# $INC[10] 0.27 namespace::clean [ MD5: f3e03f7f5f26391565d98357834e909b ]
# PL 1.28 overload [ MD5: c62689b45e22bba17c624608526f4735 ]
# PL 0.02 overloading [ MD5: 36e1b34f8175e036d57e51fd7d56becd ]
# $INC[10] 0.38 Package::Stash [ MD5: eb2d8bc231d6485055686fba89992d05 ]
# $INC[6] 0.29 Package::Stash::XS [ MD5: fd533e932b5895d3a734d7f04ee3bf87 ]
# PL 0.236 parent [ MD5: 0e42f824a13eae5979d10017afc8227b ]
# $INC[10] 0.37 Path::Class [ MD5: 62b3248e0d25291933a8d0f09e731547 ]
# $INC[10] 0.37 Path::Class::Dir [ MD5: 9b7bd783037e1e812d6a82d62bcecb92 ]
# $INC[10] 0.37 Path::Class::Entity [ MD5: 8e14d34b8f5a0909736e9bdaac460848 ]
# $INC[10] 0.37 Path::Class::File [ MD5: b7f9029ac9e90dc1d509a95d12103c69 ]
# 5.026001 perl [ MD5: 4a3ae77d9b2aa70567ad6484555439af ]
# PL 1.10 PerlIO [ MD5: 66c4f1af51bbeb98e0f6ca863f8d1615 ]
# PA 1.76 POSIX [ MD5: 8aae02d248a1a31666c00a44087aa82f ]
# PA 1.46_02 Scalar::Util [ MD5: ecae1b10069f01e9e57bdfb10a0b0a2d ]
# $INC[10] 0.21 Scope::Guard [ MD5: 914494bdeb65cd340f14eae265635cf2 ]
# PL 1.02 SelectSaver [ MD5: bddc465e351ad0508581b94ef112d322 ]
# $INC[10] 1.91 SQL::Abstract::Classic [ MD5: 82c47bb99257b1225bb3576458e85992 ]
# $INC[10] SQL::Abstract::Tree [ MD5: 4ebd475571c49fd341fd961558c89c7b ]
# $INC[10] SQL::Abstract::Util [ MD5: 4599b28bcd164597e690650c495bd658 ]
# SA 3.15 Storable [ MD5: 69585bcc08511ae70e57bf21ba5725bd ]
# PL 1.11 strict [ MD5: 441328c7ffbbe42a0226ec65bde71715 ]
# $INC[10] 2.006006 Sub::Defer [ MD5: d3942ab62222394a34d49d8a4e5d7e69 ]
# $INC[10] 0.001013 Sub::Exporter::Progressive [ MD5: 5f37412f2438f87c7b088c7b2e6dd8ab ]
# $INC[6] 0.26 Sub::Name [ MD5: 9ffca0ac7776cb7653a81b85330b6b71 ]
# $INC[10] 2.006006 Sub::Quote [ MD5: 5601633673df930e47b212c2022b4eec ]
# PA 1.46_02 Sub::Util [ MD5: 44ac17c070ae630a659627b6cc1764c2 ]
# PL 1.08 Symbol [ MD5: f261ff12097b376fceb636639aa228c8 ]
# SL 1.302168 Test2::API [ MD5: e6270fa3231ca3e0d6432dd21b9a39fb ]
# SL 1.302168 Test2::API::Context [ MD5: 9e75d5e412bf0278381f222333d374c4 ]
# SL 1.302168 Test2::API::Instance [ MD5: 1e16286e8eff07ea1bb047199f885850 ]
# SL 1.302168 Test2::API::Stack [ MD5: a589aa3ef9571dfdaa3f0e9ab3e15c9d ]
# SL 1.302168 Test2::Event [ MD5: cf4be7f645c782fd9dc5c829a4e77225 ]
# SL 1.302168 Test2::Event::Bail [ MD5: 4ee8d787f8de1b1dc4905f9cd995739f ]
# SL 1.302168 Test2::Event::Diag [ MD5: 11f0ad1cc146ada1028f020764d1a40c ]
# SL 1.302168 Test2::Event::Exception [ MD5: 2e29d66967dd9b2a3136d445e284ebcc ]
# SL 1.302168 Test2::Event::Fail [ MD5: 94f0ca37290dbdbdd48c98686459d56d ]
# SL 1.302168 Test2::Event::Note [ MD5: 822afb19150468f72b632e87ed34edff ]
# SL 1.302168 Test2::Event::Ok [ MD5: 15afdd74cc80c1c72ba800829648ef42 ]
# SL 1.302168 Test2::Event::Pass [ MD5: c462c0a203d82c2fa058c002ce04fac1 ]
# SL 1.302168 Test2::Event::Plan [ MD5: 0dfee946f8c9f6ed78558e1ca0316876 ]
# SL 1.302168 Test2::Event::Skip [ MD5: f959508c407ec9c45d8dd7ca9c4a4146 ]
# SL 1.302168 Test2::Event::Subtest [ MD5: bee79658076b528a787edc01fa62e779 ]
# SL 1.302168 Test2::Event::V2 [ MD5: 15a1d01299056df410ddaf95a775bfd6 ]
# SL 1.302168 Test2::Event::Waiting [ MD5: 3873032656465aed02cddb35eab92916 ]
# SL 1.302168 Test2::EventFacet [ MD5: 04a0c53304ddfc61b9627e3adba5350d ]
# SL 1.302168 Test2::EventFacet::About [ MD5: 4c0f9d033b9063fa338caf6e59a91beb ]
# SL 1.302168 Test2::EventFacet::Amnesty [ MD5: 60315efee9d11bc368b4290e13038809 ]
# SL 1.302168 Test2::EventFacet::Assert [ MD5: 5f10bbb988b4142fd1a57ee8ef1716db ]
# SL 1.302168 Test2::EventFacet::Control [ MD5: 0be7f53eb56b68e16a1a7ea5ad7b057a ]
# SL 1.302168 Test2::EventFacet::Error [ MD5: 0a392763e754ddbf0aea629825032632 ]
# SL 1.302168 Test2::EventFacet::Hub [ MD5: 2e652a1b47a1313c42ef18473746e19b ]
# SL 1.302168 Test2::EventFacet::Info [ MD5: 2bbc95db783ac3ad50cb67369b30ed95 ]
# SL 1.302168 Test2::EventFacet::Meta [ MD5: 17ffe33206c7a4dc1b3e7975d4e94796 ]
# SL 1.302168 Test2::EventFacet::Parent [ MD5: 15de2c4f928b5c3a798c7bcf24a6caa9 ]
# SL 1.302168 Test2::EventFacet::Plan [ MD5: 0c1b7f9b875381e9820e03ce1c1a4f6c ]
# SL 1.302168 Test2::EventFacet::Trace [ MD5: 31106327d69fc492d0f6ca68874d9f28 ]
# SL 1.302168 Test2::Formatter [ MD5: 595822cfb2e3f7a34ec71b73b51dbba2 ]
# SL 1.302168 Test2::Formatter::TAP [ MD5: e3d6fcb3be333cb63ddc4cd79fa2e02e ]
# SL 1.302168 Test2::Hub [ MD5: 030bea64bb878db85a50109436a32c08 ]
# SL 1.302168 Test2::Hub::Interceptor [ MD5: 2c375785633e18685cc45ec97ce7e011 ]
# SL 1.302168 Test2::Hub::Interceptor::Terminator [ MD5: 9107203028d389249b3c113de256e767 ]
# SL 1.302168 Test2::Hub::Subtest [ MD5: c8a91077241fd1cded801396cdc00eba ]
# SL 1.302168 Test2::Util [ MD5: a371a9b40c0b20f26e1b4842fdf824f2 ]
# SL 1.302168 Test2::Util::ExternalMeta [ MD5: 609c6438fb010b60b50af7b9ab7329be ]
# SL 1.302168 Test2::Util::Facets2Legacy [ MD5: f7da7b6a1148151c62225883d7c65785 ]
# SL 1.302168 Test2::Util::HashBase [ MD5: eb361524310d451b5bace78d4a35c0a6 ]
# SL 1.302168 Test2::Util::Trace [ MD5: e4185a8017118ac2afbebc73c82de806 ]
# SL 1.302168 Test::Builder [ MD5: c4c960e57152139bac0b005cf4818014 ]
# SL 1.302168 Test::Builder::Formatter [ MD5: 74166d9ef2bab0fee3351a6a5e4a8042 ]
# SL 1.302168 Test::Builder::Module [ MD5: 36c12ff1f7fb584d7f54852aaa73d9cf ]
# SL 1.302168 Test::Builder::TodoDiag [ MD5: 428302f7676fc217485de275e2f15db4 ]
# SL 1.302168 Test::More [ MD5: 38371e1217dbf8dab9d70cf2c321a63a ]
# PL 1.05 Tie::Hash [ MD5: acc4709f0adb89bef2863771b6995d2b ]
# PA 1.9741 Time::HiRes [ MD5: 1d000317cf75b2f0496533568e8a2711 ]
# $INC[10] 0.30 Try::Tiny [ MD5: d89736db8fa61623ca85dcccd3678b4d ]
# PL 1.19 utf8 [ MD5: 1e81482deb175e2b15443c5223ec2e17 ]
# $INC[6] 0.62 Variable::Magic [ MD5: f799b01d18fef4f04032b0737bca868c ]
# PL 1.03 vars [ MD5: 613c5318b87aa69b1145ca028f964445 ]
# SA 0.9924 version [ MD5: 6a2ea5f50139835f39590496dd5cd018 ]
# SA 0.9924 version::regex [ MD5: 1804cdcea69766fe0b4587f713779d20 ]
# SA 0.9924 version::vxs [ MD5: f7b0d12a2ac2ede57d12035e68c291ff ]
# PL 1.37 warnings [ MD5: 0e16d816918d9c552dd93339cd3c7b49 ]
# PL 1.04 warnings::register [ MD5: 2d8f6ce093a2176b982c0e12c0194b3b ]
# PL 0.27 XSLoader [ MD5: 899f9728852e657e953bac9b376308bb ]
# =============================
#
# List of loadable modules within both *OPTIONAL* and core dependency chains
# present on this system (modules sourced from ./blib, ./lib, ./t, and ./xt
# with versions identical to their parent namespace were omitted for brevity)
#
# *** Note that *MANY* of these modules will *NEVER* be loaded ***
# *** during normal operation of DBIx::Class ***
#
#
t/00describe_environment.t .......................... ok
t/04_c3_mro.t ....................................... ok
t/05components.t .................................... ok
t/100extra_source.t ................................. ok
t/100populate.t ..................................... ok
t/101populate_rs.t .................................. ok
t/101source.t ....................................... ok
t/102load_classes.t ................................. ok
t/103many_to_many_warning.t ......................... ok
t/104view.t ......................................... ok
t/106dbic_carp.t .................................... ok
t/107obj_result_class.t ............................. ok
t/18insert_default.t ................................ ok
t/19retrieve_on_insert.t ............................ ok
t/20setuperrors.t ................................... ok
t/26dumper.t ........................................ ok
t/33exception_wrap.t ................................ ok
t/34exception_action.t .............................. ok
t/35exception_inaction.t ............................ ok
t/39load_namespaces_1.t ............................. ok
t/39load_namespaces_2.t ............................. ok
t/39load_namespaces_3.t ............................. ok
t/39load_namespaces_4.t ............................. ok
t/39load_namespaces_exception.t ..................... ok
t/39load_namespaces_rt41083.t ....................... ok
t/39load_namespaces_stress.t ........................ ok
t/40compose_connection.t ............................ ok
t/40resultsetmanager.t .............................. ok
t/46where_attribute.t ............................... ok
t/50fork.t .......................................... skipped: Test needs DBD::Pg (see DBIx::Class::Optional::Dependencies for details)
t/51threadnodb.t .................................... ok
t/51threads.t ....................................... skipped: Test needs DBD::Pg (see DBIx::Class::Optional::Dependencies for details)
t/51threadtxn.t ..................................... skipped: Set $ENV{DBICTEST_PG_DSN}, _USER and _PASS to run this test (note: creates and drops a table named artist!)
t/52leaks.t ......................................... ok
t/53lean_startup.t .................................. ok
t/55namespaces_cleaned.t ............................ ok
t/60core.t .......................................... ok
t/61findnot.t ....................................... ok
t/63register_class.t ................................ ok
t/63register_column.t ............................... ok
t/63register_source.t ............................... ok
t/64db.t ............................................ ok
t/65multipk.t ....................................... ok
t/67pager.t ......................................... ok
t/69update.t ........................................ ok
t/70auto.t .......................................... ok
t/71mysql.t ......................................... skipped: Set $ENV{DBICTEST_MYSQL_DSN}, _USER and _PASS to run this test
t/72pg.t ............................................ skipped: Set $ENV{DBICTEST_PG_DSN}, _USER and _PASS to run this test
t/72pg_bytea.t ...................................... skipped: Test needs DBD::Pg (see DBIx::Class::Optional::Dependencies for details)
t/73oracle.t ........................................ skipped: Set $ENV{DBICTEST_ORA_DSN}, _USER and _PASS to run this test.
t/73oracle_blob.t ................................... skipped: Set $ENV{DBICTEST_ORA_DSN}, _USER and _PASS to run this test.
t/73oracle_hq.t ..................................... skipped: Set $ENV{DBICTEST_ORA_DSN}, _USER and _PASS to run this test.
t/745db2.t .......................................... skipped: Set $ENV{DBICTEST_DB2_DSN}, _USER and _PASS to run this test
t/746db2_400.t ...................................... skipped: Set $ENV{DBICTEST_DB2_400_DSN}, _USER and _PASS to run this test
t/746mssql.t ........................................ skipped: Set $ENV{DBICTEST_MSSQL_ODBC_DSN}, _USER and _PASS to run this test
t/746sybase.t ....................................... skipped: Set $ENV{DBICTEST_SYBASE_DSN}, _USER and _PASS to run this test. Warning: This test drops and creates the tables: 'artist', 'money_test' and 'bindtype_test'
t/747mssql_ado.t .................................... skipped: Set $ENV{DBICTEST_MSSQL_ADO_DSN}, _USER and _PASS to run this test
t/748informix.t ..................................... skipped: Set $ENV{DBICTEST_INFORMIX_DSN}, _USER and _PASS to run this test
t/749sqlanywhere.t .................................. skipped: Set $ENV{DBICTEST_SQLANYWHERE_DSN} and/or $ENV{DBICTEST_SQLANYWHERE_ODBC_DSN},
t/74mssql.t ......................................... skipped: Set $ENV{DBICTEST_MSSQL_DSN}, _USER and _PASS to run this test
t/750firebird.t ..................................... skipped: Set $ENV{DBICTEST_FIREBIRD_DSN} and/or $ENV{DBICTEST_FIREBIRD_INTERBASE_DSN} and/or $ENV{DBICTEST_FIREBIRD_ODBC_DSN}, _USER and _PASS to run these tests. WARNING: this test creates and drops the tables "artist", "bindtype_test" and "sequence_test"; the generators "gen_artist_artistid", "pkid1_seq", "pkid2_seq" and "nonpkid_seq" and the trigger "artist_bi".
t/751msaccess.t ..................................... skipped: Set $ENV{DBICTEST_MSACCESS_ODBC_DSN} and/or $ENV{DBICTEST_MSACCESS_ADO_DSN} (and optionally _USER and _PASS) to run these tests.
t/752sqlite.t ....................................... ok
t/76joins.t ......................................... ok
t/76select.t ........................................ ok
t/77join_count.t .................................... ok
t/78self_referencial.t .............................. ok
t/79aliasing.t ...................................... ok
t/80unique.t ........................................ ok
t/82cascade_copy.t .................................. ok
t/83cache.t ......................................... ok
t/84serialize.t ..................................... ok
t/85utf8.t .......................................... ok
t/86might_have.t .................................... ok
t/86sqlt.t .......................................... skipped: Test needs SQL::Translator >= 0.11018 (see DBIx::Class::Optional::Dependencies for details)
t/87ordered.t ....................................... ok
t/88result_set_column.t ............................. ok
t/90ensure_class_loaded.t ........................... ok
t/90join_torture.t .................................. ok
t/91merge_joinpref_attr.t ........................... ok
t/93autocast.t ...................................... ok
t/93single_accessor_object.t ........................ ok
t/94pk_mutation.t ................................... ok
t/94versioning.t .................................... skipped: Set $ENV{DBICTEST_MYSQL_DSN}, _USER and _PASS to run this test
t/96_is_deteministic_value.t ........................ skipped: Test needs DateTime >= 0.55, DateTime::Format::Strptime >= 1.2
t/97result_class.t .................................. ok
t/99dbic_sqlt_parser.t .............................. skipped: Test needs SQL::Translator >= 0.11018 (see DBIx::Class::Optional::Dependencies for details)
t/admin/01load.t .................................... skipped: Test needs JSON::Any >= 1.23, Moose >= 0.98, MooseX::Types >= 0.21, MooseX::Types::JSON >= 0.02, MooseX::Types::LoadableClass >= 0.011, MooseX::Types::Path::Class >= 0.05 (see DBIx::Class::Optional::Dependencies for details)
t/admin/02ddl.t ..................................... skipped: Test needs JSON::Any >= 1.23, Moose >= 0.98, MooseX::Types >= 0.21, MooseX::Types::JSON >= 0.02, MooseX::Types::LoadableClass >= 0.011, MooseX::Types::Path::Class >= 0.05 (see DBIx::Class::Optional::Dependencies for details)
t/admin/03data.t .................................... skipped: Test needs JSON::Any >= 1.23, Moose >= 0.98, MooseX::Types >= 0.21, MooseX::Types::JSON >= 0.02, MooseX::Types::LoadableClass >= 0.011, MooseX::Types::Path::Class >= 0.05 (see DBIx::Class::Optional::Dependencies for details)
t/admin/10script.t .................................. skipped: Test needs Cpanel::JSON::XS, Getopt::Long::Descriptive >= 0.081, JSON, JSON::Any >= 1.31, JSON::DWIW, JSON::XS, Moose >= 0.98, MooseX::Types >= 0.21, MooseX::Types::JSON >= 0.02, MooseX::Types::LoadableClass >= 0.011, MooseX::Types::Path::Class >= 0.05, Text::CSV >= 1.16
t/cdbi/01-columns.t ................................. skipped: Class::DBI required for this test
t/cdbi/02-Film.t .................................... skipped: Class::DBI required for this test
t/cdbi/03-subclassing.t ............................. skipped: Class::DBI required for this test
t/cdbi/04-lazy.t .................................... skipped: Class::DBI required for this test
t/cdbi/06-hasa.t .................................... skipped: Class::DBI required for this test
t/cdbi/08-inheritcols.t ............................. skipped: Class::DBI required for this test
t/cdbi/09-has_many.t ................................ skipped: Class::DBI required for this test
t/cdbi/11-triggers.t ................................ skipped: Class::DBI required for this test
t/cdbi/12-filter.t .................................. skipped: Class::DBI required for this test
t/cdbi/13-constraint.t .............................. skipped: Class::DBI required for this test
t/cdbi/14-might_have.t .............................. skipped: Class::DBI required for this test
t/cdbi/15-accessor.t ................................ skipped: Class::DBI required for this test
t/cdbi/16-reserved.t ................................ skipped: Class::DBI required for this test
t/cdbi/18-has_a.t ................................... skipped: Class::DBI required for this test
t/cdbi/19-set_sql.t ................................. skipped: Class::DBI required for this test
t/cdbi/21-iterator.t ................................ skipped: Class::DBI required for this test
t/cdbi/22-deflate_order.t ........................... skipped: Class::DBI required for this test
t/cdbi/22-self_referential.t ........................ skipped: Class::DBI required for this test
t/cdbi/23-cascade.t ................................. skipped: Class::DBI required for this test
t/cdbi/24-meta_info.t ............................... skipped: Class::DBI required for this test
t/cdbi/26-mutator.t ................................. skipped: Class::DBI required for this test
t/cdbi/30-pager.t ................................... skipped: Class::DBI required for this test
t/cdbi/68-inflate_has_a.t ........................... skipped: Class::DBI required for this test
t/cdbi/70_implicit_inflate.t ........................ skipped: Test needs DateTime >= 0.55, DateTime::Format::SQLite, DateTime::Format::Strptime >= 1.2
t/cdbi/71_column_object.t ........................... skipped: The tested functionality is only available in Class::DBI >= 3.0.5
t/cdbi/98-failure.t ................................. skipped: Class::DBI required for this test
t/cdbi/abstract/search_where.t ...................... skipped: Class::DBI required for this test
t/cdbi/columns_as_hashes.t .......................... skipped: Class::DBI required for this test
t/cdbi/columns_dont_override_custom_accessors.t ..... skipped: Class::DBI required for this test
t/cdbi/construct.t .................................. skipped: Class::DBI required for this test
t/cdbi/copy.t ....................................... skipped: Class::DBI required for this test
t/cdbi/DeepAbstractSearch/01_search.t ............... skipped: Class::DBI required for this test
t/cdbi/early_column_heisenbug.t ..................... skipped: Class::DBI required for this test
t/cdbi/has_many_loads_foreign_class.t ............... skipped: Class::DBI required for this test
t/cdbi/hasa_without_loading.t ....................... skipped: Class::DBI required for this test
t/cdbi/max_min_value_of.t ........................... skipped: Class::DBI required for this test
t/cdbi/mk_group_accessors.t ......................... skipped: Class::DBI required for this test
t/cdbi/multi_column_set.t ........................... skipped: Class::DBI required for this test
t/cdbi/object_cache.t ............................... skipped: Class::DBI required for this test
t/cdbi/retrieve_from_sql_with_limit.t ............... skipped: Class::DBI required for this test
t/cdbi/set_to_undef.t ............................... skipped: Class::DBI required for this test
t/cdbi/set_vs_DateTime.t ............................ skipped: Class::DBI required for this test
t/cdbi/sweet/08pager.t .............................. skipped: Class::DBI required for this test
t/count/count_rs.t .................................. ok
t/count/distinct.t .................................. ok
t/count/group_by_func.t ............................. ok
t/count/grouped_pager.t ............................. ok
t/count/in_subquery.t ............................... ok
t/count/joined.t .................................... ok
t/count/prefetch.t .................................. ok
t/count/search_related.t ............................ ok
t/debug/bulk-insert.t ............................... ok
t/debug/core.t ...................................... ok
t/debug/no-repeats.t ................................ ok
t/debug/pretty.t .................................... skipped: Test needs JSON::Any >= 1.23
t/debug/show-progress.t ............................. ok
t/delete/cascade_missing.t .......................... ok
t/delete/complex.t .................................. ok
t/delete/m2m.t ...................................... ok
t/delete/related.t .................................. ok
t/discard_changes_in_DESTROY.t ...................... ok
t/inflate/core.t .................................... skipped: Inflation tests need DateTime >= 0.55, DateTime::Format::Strptime >= 1.2
t/inflate/datetime.t ................................ skipped: DT inflation tests need DateTime >= 0.55, DateTime::Format::SQLite, DateTime::Format::Strptime >= 1.2
t/inflate/datetime_determine_parser.t ............... skipped: Test needs DateTime >= 0.55, DateTime::Format::SQLite, DateTime::Format::Strptime >= 1.2
t/inflate/datetime_firebird.t ....................... skipped: Set $ENV{DBICTEST_FIREBIRD_DSN} and/or $ENV{DBICTEST_FIREBIRD_INTERBASE_DSN} and/or $ENV{DBICTEST_FIREBIRD_ODBC_DSN}, _USER and _PASS to run these tests. WARNING: This test drops and creates a table called 'event'
t/inflate/datetime_informix.t ....................... skipped: Test needs DateTime >= 0.55, DateTime::Format::Strptime >= 1.2 and
t/inflate/datetime_missing_deps.t ................... ok
t/inflate/datetime_msaccess.t ....................... skipped: Set $ENV{DBICTEST_MSACCESS_ODBC_DSN} and/or $ENV{DBICTEST_MSACCESS_ADO_DSN} (and optionally _USER and _PASS) to run these tests.
t/inflate/datetime_mssql.t .......................... skipped: Set $ENV{DBICTEST_MSSQL_ODBC_DSN} and/or $ENV{DBICTEST_MSSQL_DSN} and/or $ENV{DBICTEST_MSSQL_ADO_DSN} _USER and _PASS to run this test
t/inflate/datetime_mysql.t .......................... skipped: Inflation tests need DateTime >= 0.55, DateTime::Format::MySQL, DateTime::Format::Strptime >= 1.2
t/inflate/datetime_oracle.t ......................... skipped: Set $ENV{DBICTEST_ORA_DSN}, _USER and _PASS to run this test. Warning: This test drops and creates a table called 'event'
t/inflate/datetime_pg.t ............................. skipped: Test needs DateTime >= 0.55, DateTime::Format::Pg >= 0.16004, DateTime::Format::Strptime >= 1.2
t/inflate/datetime_sqlanywhere.t .................... skipped: Set $ENV{DBICTEST_SQLANYWHERE_DSN} and/or $ENV{DBICTEST_SQLANYWHERE_ODBC_DSN}
t/inflate/datetime_sybase.t ......................... skipped: Test needs DateTime >= 0.55, DateTime::Format::Strptime >= 1.2 and
t/inflate/file_column.t ............................. ok
t/inflate/hri.t ..................................... ok
t/inflate/hri_torture.t ............................. ok
t/inflate/serialize.t ............................... ok
t/multi_create/cd_single.t .......................... ok
t/multi_create/diamond.t ............................ ok
t/multi_create/existing_in_chain.t .................. ok
t/multi_create/find_or_multicreate.t ................ ok
t/multi_create/has_many.t ........................... ok
t/multi_create/in_memory.t .......................... ok
t/multi_create/insert_defaults.t .................... ok
t/multi_create/m2m.t ................................ ok
t/multi_create/multilev_single_PKeqFK.t ............. ok
t/multi_create/reentrance_count.t ................... skipped: Disable test entirely until multicreate is rewritten in terms of subqueries
t/multi_create/standard.t ........................... ok
t/multi_create/torture.t ............................ ok
t/ordered/cascade_delete.t .......................... ok
t/ordered/unordered_movement.t ...................... ok
t/prefetch/attrs_untouched.t ........................ ok
t/prefetch/correlated.t ............................. ok
t/prefetch/count.t .................................. ok
t/prefetch/diamond.t ................................ ok
t/prefetch/double_prefetch.t ........................ ok
t/prefetch/empty_cache.t ............................ ok
t/prefetch/false_colvalues.t ........................ ok
t/prefetch/grouped.t ................................ ok
t/prefetch/incomplete.t ............................. ok
t/prefetch/join_type.t .............................. ok
t/prefetch/lazy_cursor.t ............................ ok
t/prefetch/manual.t ................................. ok
t/prefetch/multiple_hasmany.t ....................... ok
t/prefetch/multiple_hasmany_torture.t ............... ok
t/prefetch/o2m_o2m_order_by_with_limit.t ............ ok
t/prefetch/one_to_many_to_one.t ..................... ok
t/prefetch/refined_search_on_relation.t ............. ok
t/prefetch/restricted_children_set.t ................ ok
t/prefetch/standard.t ............................... ok
t/prefetch/via_search_related.t ..................... ok
t/prefetch/with_limit.t ............................. ok
t/relationship/after_update.t ....................... ok
t/relationship/core.t ............................... ok
t/relationship/custom.t ............................. ok
t/relationship/custom_opaque.t ...................... ok
t/relationship/custom_with_null_in_cond.t ........... ok
t/relationship/doesnt_exist.t ....................... ok
t/relationship/dynamic_foreign_columns.t ............ ok
t/relationship/info.t ............................... ok
t/relationship/malformed_declaration.t .............. ok
t/relationship/proxy.t .............................. ok
t/relationship/set_column_on_fk.t ................... ok
t/relationship/unresolvable.t ....................... ok
t/relationship/update_or_create_multi.t ............. ok
t/relationship/update_or_create_single.t ............ ok
t/resultset/as_query.t .............................. ok
t/resultset/as_subselect_rs.t ....................... ok
t/resultset/bind_attr.t ............................. ok
t/resultset/find_on_subquery_cond.t ................. ok
t/resultset/inflate_result_api.t .................... ok
t/resultset/inflatemap_abuse.t ...................... ok
t/resultset/is_ordered.t ............................ ok
t/resultset/is_paged.t .............................. ok
t/resultset/nulls_only.t ............................ ok
t/resultset/plus_select.t ........................... ok
t/resultset/rowparser_internals.t ................... ok
t/resultset/update_delete.t ......................... ok
t/resultset_class.t ................................. ok
t/resultset_overload.t .............................. ok
t/resultsource/bare_resultclass_exception.t ......... ok
t/resultsource/set_primary_key.t .................... ok
t/row/copy_with_extra_selection.t ................... ok
t/row/filter_column.t ............................... ok
t/row/find_one_has_many.t ........................... ok
t/row/inflate_result.t .............................. ok
t/row/pkless.t ...................................... ok
t/row/set_extra_column.t ............................ ok
t/schema/anon.t ..................................... ok
t/schema/clone.t .................................... ok
t/search/deprecated_attributes.t .................... ok
t/search/distinct.t ................................. ok
t/search/empty_attrs.t .............................. ok
t/search/preserve_original_rs.t ..................... ok
t/search/reentrancy.t ............................... ok
t/search/related_has_many.t ......................... ok
t/search/related_strip_prefetch.t ................... ok
t/search/select_chains.t ............................ ok
t/search/select_chains_unbalanced.t ................. ok
t/search/stack_cond.t ............................... ok
t/search/subquery.t ................................. ok
t/search/void.t ..................................... ok
t/sqlmaker/bind_transport.t ......................... ok
t/sqlmaker/core.t ................................... ok
t/sqlmaker/core_quoted.t ............................ ok
t/sqlmaker/dbihacks_internals.t ..................... ok
t/sqlmaker/hierarchical/oracle.t .................... skipped: Test needs Math::Base36 >= 0.07
t/sqlmaker/legacy_joins.t ........................... ok
t/sqlmaker/limit_dialects/basic.t ................... ok
t/sqlmaker/limit_dialects/custom.t .................. ok
t/sqlmaker/limit_dialects/fetch_first.t ............. ok
t/sqlmaker/limit_dialects/first_skip.t .............. ok
t/sqlmaker/limit_dialects/generic_subq.t ............ ok
t/sqlmaker/limit_dialects/mssql_torture.t ........... ok
t/sqlmaker/limit_dialects/rno.t ..................... ok
t/sqlmaker/limit_dialects/rownum.t .................. ok
t/sqlmaker/limit_dialects/skip_first.t .............. ok
t/sqlmaker/limit_dialects/toplimit.t ................ ok
t/sqlmaker/limit_dialects/torture.t ................. ok
t/sqlmaker/literal_with_bind.t ...................... ok
t/sqlmaker/msaccess.t ............................... ok
t/sqlmaker/mysql.t .................................. ok
t/sqlmaker/nest_deprec.t ............................ ok
t/sqlmaker/oracle.t ................................. skipped: Test needs Math::Base36 >= 0.07
t/sqlmaker/oraclejoin.t ............................. skipped: Test needs Math::Base36 >= 0.07
t/sqlmaker/order_by_bindtransport.t ................. ok
t/sqlmaker/order_by_func.t .......................... ok
t/sqlmaker/pg.t ..................................... ok
t/sqlmaker/quotes.t ................................. ok
t/sqlmaker/rebase.t ................................. ok
t/sqlmaker/sqlite.t ................................. ok
t/storage/base.t .................................... ok
t/storage/cursor.t .................................. ok
t/storage/dbh_do.t .................................. ok
t/storage/dbi_coderef.t ............................. ok
t/storage/dbi_env.t ................................. ok
t/storage/deploy.t .................................. skipped: Test needs SQL::Translator >= 0.11018 (see DBIx::Class::Optional::Dependencies for details)
t/storage/deprecated_exception_source_bind_attrs.t .. ok
t/storage/disable_sth_caching.t ..................... ok
t/storage/error.t ................................... ok
t/storage/exception.t ............................... ok
t/storage/global_destruction.t ...................... ok
t/storage/nobindvars.t .............................. ok
t/storage/on_connect_call.t ......................... ok
t/storage/on_connect_do.t ........................... ok
t/storage/ping_count.t .............................. ok
t/storage/prefer_stringification.t .................. ok
t/storage/quote_names.t ............................. ok
t/storage/reconnect.t ............................... ok
t/storage/replicated.t .............................. skipped: Test needs Clone, Moose >= 0.98, MooseX::Types >= 0.21, MooseX::Types::LoadableClass >= 0.011, Test::Moose
t/storage/savepoints.t .............................. ok
t/storage/stats.t ................................... ok
t/storage/txn.t ..................................... ok
t/storage/txn_scope_guard.t ......................... ok
t/update/all.t ...................................... ok
t/update/ident_cond.t ............................... ok
t/update/type_aware.t ............................... ok
#
#
#
# 208 contributors made this library what it is today
#
#
# Distinguished patrons:
# * ( 2014 ~ 2015 ) Henry Van Styn, creator of http://p3rl.org/RapidApp
#
#
t/zzzzzzz_authors.t ................................. ok
t/zzzzzzz_perl_perf_bug.t ........................... skipped: Skipping as system appears to be a smoker
t/zzzzzzz_sqlite_deadlock.t ......................... ok
xt/authors.t ........................................ ok
xt/dbictest_unlink_guard.t .......................... ok
xt/footers.t ........................................ ok
xt/old_envvars.t .................................... ok
xt/optional_deps.t .................................. ok
xt/pod.t ............................................ skipped: Test needs: Test::Pod >= 1.42
xt/podcoverage.t .................................... skipped: Test needs: Pod::Coverage >= 0.20, Test::Pod::Coverage >= 1.08
xt/quote_sub.t ...................................... ok
xt/standalone_testschema_resultclasses.t ............ ok
xt/strictures.t ..................................... skipped: Test needs: Test::Strict >= 0.20
xt/whitespace.t ..................................... skipped: Test needs: Test::EOL >= 1.0, Test::NoTabs >= 0.9
All tests successful.
Test Summary Report
-------------------
t/sqlmaker/limit_dialects/generic_subq.t (Wstat: 0 Tests: 19 Failed: 0)
TODO passed: 9, 11, 13, 15, 17
Files=323, Tests=41302, 106 wallclock secs ( 3.48 usr 0.54 sys + 93.22 cusr 8.02 csys = 105.26 CPU)
Result: PASS
PREREQUISITES:
Here is a list of prerequisites you specified and versions we
managed to load:
Module Name Have Want
Class::Accessor::Grouped 0.10014 0.10012
Class::C3::Componentised 1.001002 1.0009
Class::Inspector 1.36 1.24
Config::Any 0.32 0.20
Context::Preserve 0.03 0.01
DBD::SQLite 1.64 1.29
DBI 1.642 1.57
Data::Dumper::Concise 2.023 2.020
Data::Page 2.03 2.00
Devel::GlobalDestruction 0.14 0.09
ExtUtils::MakeMaker 7.38 6.59
File::Temp 0.2309 0.22
Hash::Merge 0.300 0.12
MRO::Compat 0.13 0.12
Module::Find 0.13 0.07
Moo 2.003006 2.000
Package::Stash 0.38 0.28
Path::Class 0.37 0.18
SQL::Abstract::Classic 1.91 1.91
Scope::Guard 0.21 0.03
Sub::Name 0.26 0.04
Test::Deep 1.128 0.101
Test::Exception 0.43 0.31
Test::More 1.302168 0.94
Test::Warn 0.36 0.21
Text::Balanced 2.03 2.00
Try::Tiny 0.30 0.07
namespace::clean 0.27 0.24
Perl module toolchain versions installed:
Module Name Have
CPANPLUS 0.9178
CPANPLUS::Dist::Build 0.90
Cwd 3.75
ExtUtils::CBuilder 0.280231
ExtUtils::Command 7.38
ExtUtils::Install 2.14
ExtUtils::MakeMaker 7.38
ExtUtils::Manifest 1.72
ExtUtils::ParseXS 3.35
File::Spec 3.75
Module::Build 0.4229
Pod::Parser 1.63
Pod::Simple 3.35
Test2 1.302168
Test::Harness 3.42
Test::More 1.302168
version 0.9924
******************************** NOTE ********************************
The comments above are created mechanically, possibly without manual
checking by the sender. As there are many people performing automatic
tests on each upload to CPAN, it is likely that you will receive
identical messages about the same problem.
If you believe that the message is mistaken, please reply to the first
one with correction and/or additional informations, and do not take
it personally. We appreciate your patience. :)
**********************************************************************
Additional comments:
This report was machine-generated by CPANPLUS::Dist::YACSmoke 1.08.
Powered by minismokebox version 0.68
CPANPLUS is prefering Build.PL
------------------------------
ENVIRONMENT AND OTHER CONTEXT
------------------------------
Environment variables:
AUTOMATED_TESTING = 1
LANG = en_GB.UTF-8
LANGUAGE = en_GB:en
NONINTERACTIVE_TESTING = 1
PATH = /home/cpan/pit/thr-qm/conf/perl-5.26.1/.cpanplus/5.26.1/build/UbTSCXocX1/DBIx-Class-0.082841_01/blib/script:/usr/local/sbin:/usr/local/bin:/usr/sbin:/usr/bin:/sbin:/bin:/usr/games:/usr/local/games:/snap/bin
PERL5LIB = /home/cpan/pit/jail/kc7EZa_zv9/lib/perl5:/home/cpan/pit/thr-qm/conf/perl-5.26.1/.cpanplus/5.26.1/build/UbTSCXocX1/DBIx-Class-0.082841_01/blib/lib:/home/cpan/pit/thr-qm/conf/perl-5.26.1/.cpanplus/5.26.1/build/UbTSCXocX1/DBIx-Class-0.082841_01/blib/arch
PERL5_CPANPLUS_IS_RUNNING = 31873
PERL5_CPANPLUS_IS_VERSION = 0.9178
PERL5_MINISMOKEBOX = 0.68
PERL5_YACSMOKE_BASE = /home/cpan/pit/thr-qm/conf/perl-5.26.1
PERL_EXTUTILS_AUTOINSTALL = --defaultdeps
PERL_LOCAL_LIB_ROOT = /home/cpan/pit/jail/kc7EZa_zv9
PERL_MB_OPT = --install_base "/home/cpan/pit/jail/kc7EZa_zv9"
PERL_MM_OPT = INSTALL_BASE=/home/cpan/pit/jail/kc7EZa_zv9
PERL_MM_USE_DEFAULT = 1
SHELL = /bin/bash
TERM = screen
Perl special variables (and OS-specific diagnostics, for MSWin32):
Perl: $^X = /home/cpan/pit/thr-qm/perl-5.26.1/bin/perl
UID: $< = 1001
EUID: $> = 1001
GID: $( = 1001 1001
EGID: $) = 1001 1001
-------------------------------
--
Summary of my perl5 (revision 5 version 26 subversion 1) configuration:
Platform:
osname=linux
osvers=4.15.0-64-generic
archname=x86_64-linux-thread-multi-quadmath
uname='linux uchder 4.15.0-64-generic #73-ubuntu smp thu sep 12 13:16:13 utc 2019 x86_64 x86_64 x86_64 gnulinux '
config_args='-des -Dprefix=/home/cpan/pit/thr-qm/perl-5.26.1 -Dusethreads -Dusequadmath'
hint=recommended
useposix=true
d_sigaction=define
useithreads=define
usemultiplicity=define
use64bitint=define
use64bitall=define
uselongdouble=undef
usemymalloc=n
default_inc_excludes_dot=define
bincompat5005=undef
Compiler:
cc='cc'
ccflags ='-D_REENTRANT -D_GNU_SOURCE -fwrapv -fno-strict-aliasing -pipe -fstack-protector-strong -I/usr/local/include -D_LARGEFILE_SOURCE -D_FILE_OFFSET_BITS=64'
optimize='-O2'
cppflags='-D_REENTRANT -D_GNU_SOURCE -fwrapv -fno-strict-aliasing -pipe -fstack-protector-strong -I/usr/local/include'
ccversion=''
gccversion='7.4.0'
gccosandvers=''
intsize=4
longsize=8
ptrsize=8
doublesize=8
byteorder=12345678
doublekind=3
d_longlong=define
longlongsize=8
d_longdbl=define
longdblsize=16
longdblkind=3
ivtype='long'
ivsize=8
nvtype='__float128'
nvsize=16
Off_t='off_t'
lseeksize=8
alignbytes=16
prototype=define
Linker and Libraries:
ld='cc'
ldflags =' -fstack-protector-strong -L/usr/local/lib'
libpth=/usr/local/lib /usr/lib/gcc/x86_64-linux-gnu/7/include-fixed /usr/include/x86_64-linux-gnu /usr/lib /lib/x86_64-linux-gnu /lib/../lib /usr/lib/x86_64-linux-gnu /usr/lib/../lib /lib
libs=-lpthread -lnsl -lgdbm -ldl -lm -lcrypt -lutil -lc -lquadmath
perllibs=-lpthread -lnsl -ldl -lm -lcrypt -lutil -lc -lquadmath
libc=libc-2.27.so
so=so
useshrplib=false
libperl=libperl.a
gnulibc_version='2.27'
Dynamic Linking:
dlsrc=dl_dlopen.xs
dlext=so
d_dlsymun=undef
ccdlflags='-Wl,-E'
cccdlflags='-fPIC'
lddlflags='-shared -O2 -L/usr/local/lib -fstack-protector-strong'
Characteristics of this binary (from libperl):
Compile-time options:
HAS_TIMES
MULTIPLICITY
PERLIO_LAYERS
PERL_COPY_ON_WRITE
PERL_DONT_CREATE_GVSV
PERL_IMPLICIT_CONTEXT
PERL_MALLOC_WRAP
PERL_OP_PARENT
PERL_PRESERVE_IVUV
USE_64_BIT_ALL
USE_64_BIT_INT
USE_ITHREADS
USE_LARGE_FILES
USE_LOCALE
USE_LOCALE_COLLATE
USE_LOCALE_CTYPE
USE_LOCALE_NUMERIC
USE_LOCALE_TIME
USE_PERLIO
USE_PERL_ATOF
USE_QUADMATH
USE_REENTRANT_API
Locally applied patches:
Devel::PatchPerl 1.64
Built under linux
Compiled at Sep 19 2019 16:16:58
%ENV:
PERL5LIB="/home/cpan/pit/jail/kc7EZa_zv9/lib/perl5:/home/cpan/pit/thr-qm/conf/perl-5.26.1/.cpanplus/5.26.1/build/UbTSCXocX1/DBIx-Class-0.082841_01/blib/lib:/home/cpan/pit/thr-qm/conf/perl-5.26.1/.cpanplus/5.26.1/build/UbTSCXocX1/DBIx-Class-0.082841_01/blib/arch"
PERL5_CPANPLUS_IS_RUNNING="31873"
PERL5_CPANPLUS_IS_VERSION="0.9178"
PERL5_MINISMOKEBOX="0.68"
PERL5_YACSMOKE_BASE="/home/cpan/pit/thr-qm/conf/perl-5.26.1"
PERL_EXTUTILS_AUTOINSTALL="--defaultdeps"
PERL_LOCAL_LIB_ROOT="/home/cpan/pit/jail/kc7EZa_zv9"
PERL_MB_OPT="--install_base "/home/cpan/pit/jail/kc7EZa_zv9""
PERL_MM_OPT="INSTALL_BASE=/home/cpan/pit/jail/kc7EZa_zv9"
PERL_MM_USE_DEFAULT="1"
@INC:
/home/cpan/pit/jail/kc7EZa_zv9/lib/perl5/5.26.1/x86_64-linux-thread-multi-quadmath
/home/cpan/pit/jail/kc7EZa_zv9/lib/perl5/5.26.1
/home/cpan/pit/jail/kc7EZa_zv9/lib/perl5/x86_64-linux-thread-multi-quadmath
/home/cpan/pit/jail/kc7EZa_zv9/lib/perl5
/home/cpan/pit/thr-qm/conf/perl-5.26.1/.cpanplus/5.26.1/build/UbTSCXocX1/DBIx-Class-0.082841_01/blib/lib
/home/cpan/pit/thr-qm/conf/perl-5.26.1/.cpanplus/5.26.1/build/UbTSCXocX1/DBIx-Class-0.082841_01/blib/arch
/home/cpan/pit/thr-qm/perl-5.26.1/lib/site_perl/5.26.1/x86_64-linux-thread-multi-quadmath
/home/cpan/pit/thr-qm/perl-5.26.1/lib/site_perl/5.26.1
/home/cpan/pit/thr-qm/perl-5.26.1/lib/5.26.1/x86_64-linux-thread-multi-quadmath
/home/cpan/pit/thr-qm/perl-5.26.1/lib/5.26.1