Weather-OpenWeatherMap v0.005004 Perl 5 v5.30.1 OpenBSD.amd64-openbsd-thread-multi

Status
Pass
From
Alceu Rodrigues de Freitas Junior
Dist
Weather-OpenWeatherMap v0.005004
Platform
Perl 5 v5.30.1 OpenBSD.amd64-openbsd-thread-multi
Date
2020-03-23 07:55:14
ID
a0d38e5a-6cdb-11ea-b4d1-9e46d73af4b9
This distribution has been tested as part of the CPAN Testers
project, supporting the Perl programming language.  See
http://wiki.cpantesters.org/ for more information or email
questions to cpan-testers-discuss@perl.org


--
Dear Jon Portnoy (PAUSE Custodial Account),

This is a computer-generated report for Weather-OpenWeatherMap-0.005004
on perl 5.30.1, created by CPAN-Reporter-1.2018.

Thank you for uploading your work to CPAN.  Congratulations!
All tests were successful.

Sections of this report:

    * Tester comments
    * Program output
    * Prerequisites
    * Environment and other context

------------------------------
TESTER COMMENTS
------------------------------

Additional comments from tester:

this report is from an automated smoke testing program
and was not reviewed by a human for accuracy

------------------------------
PROGRAM OUTPUT
------------------------------

Output from '/usr/bin/make test':

Skip blib/lib/auto/share/dist/Weather-OpenWeatherMap/current.json (unchanged)
Skip blib/lib/auto/share/dist/Weather-OpenWeatherMap/3day.json (unchanged)
Skip blib/lib/auto/share/dist/Weather-OpenWeatherMap/hourly.json (unchanged)
Skip blib/lib/auto/share/dist/Weather-OpenWeatherMap/find.json (unchanged)
Skip blib/lib/auto/share/dist/Weather-OpenWeatherMap/failure.json (unchanged)
PERL_DL_NONLAZY=1 "/home/goku/perl5/perlbrew/perls/perl-5.30.1/bin/perl" "-MExtUtils::Command::MM" "-MTest::Harness" "-e" "undef *Test::Harness::Switches; test_harness(0, 'blib/lib', 'blib/arch')" t/*.t t/request/*.t t/request/forecast/*.t t/result/*.t t/result/forecast/*.t
# 
# Versions for all modules listed in MYMETA.json (including optional ones):
# 
# === Configure Requires ===
# 
#     Module                  Want Have
#     ----------------------- ---- ----
#     ExtUtils::MakeMaker      any 7.44
#     File::ShareDir::Install 0.06 0.13
# 
# === Build Requires ===
# 
#     Module              Want Have
#     ------------------- ---- ----
#     ExtUtils::MakeMaker  any 7.44
# 
# === Test Requires ===
# 
#     Module               Want     Have
#     -------------------- ---- --------
#     Devel::Cycle          any     1.12
#     ExtUtils::MakeMaker   any     7.44
#     File::Spec            any     3.78
#     Test::File::ShareDir    1 1.001002
#     Test::More            any 1.302171
#     Test::Roo               1    1.004
# 
# === Test Recommends ===
# 
#     Module         Want     Have
#     ---------- -------- --------
#     CPAN::Meta 2.120900 2.150010
# 
# === Runtime Requires ===
# 
#     Module                       Want     Have
#     ------------------------ -------- --------
#     Carp                          any     1.50
#     Digest::SHA                   any     6.02
#     Exporter::Tiny                any 1.002001
#     File::ShareDir                any    1.116
#     HTTP::Request                 any     6.22
#     JSON::MaybeXS                 any 1.004000
#     LWP::UserAgent                any     6.43
#     List::Objects::Types            1 2.001001
#     List::Objects::WithUtils 2.010002 2.028003
#     Module::Runtime               any    0.016
#     Moo                             2 2.003006
#     Path::Tiny                   0.05    0.112
#     Throwable                     0.2 0.200013
#     Try::Tiny                     any     0.30
#     Types::DateTime               any    0.002
#     Types::Path::Tiny           0.005    0.006
#     Types::Standard               any 1.010000
#     URI::Escape                   any     3.31
#     strictures                      2 2.000006
# 
t/00-report-prereqs.t ........ ok
t/author-no-tabs.t ........... skipped: these tests are for testing by the author
t/author-pod-syntax.t ........ skipped: these tests are for testing by the author
        # Sleeping 1 second
        # Sleeping 1 second
t/cache.t .................... ok
t/error.t .................... ok
t/openweathermap.t ........... ok
t/release-cpan-changes.t ..... skipped: these tests are for release candidate testing
t/release-dist-manifest.t .... skipped: these tests are for release candidate testing
t/release-pod-linkcheck.t .... skipped: these tests are for release candidate testing
t/release-synopsis.t ......... skipped: these tests are for release candidate testing
t/release-unused-vars.t ...... skipped: these tests are for release candidate testing
t/request/current.t .......... ok
t/request/find.t ............. ok
t/request/forecast/daily.t ... ok
t/request/forecast/hourly.t .. ok
t/result/current.t ........... ok
t/result/find.t .............. ok
t/result/forecast/daily.t .... ok
t/result/forecast/hourly.t ... ok
t/units.t .................... ok
All tests successful.
Files=20, Tests=23, 15 wallclock secs ( 0.09 usr  0.20 sys + 10.21 cusr  2.68 csys = 13.18 CPU)
Result: PASS

------------------------------
PREREQUISITES
------------------------------

Prerequisite modules loaded:

requires:

    Module                   Need     Have    
    ------------------------ -------- --------
    Carp                     0        1.50    
    Digest::SHA              0        6.02    
    Exporter::Tiny           0        1.002001
    File::ShareDir           0        1.116   
    HTTP::Request            0        6.22    
    JSON::MaybeXS            0        1.004000
    List::Objects::Types     1        2.001001
    List::Objects::WithUtils 2.010002 2.028003
    LWP::UserAgent           0        6.43    
    Module::Runtime          0        0.016   
    Moo                      2        2.003006
    Path::Tiny               0.05     0.112   
    perl                     5.010001 5.030001
    strictures               2        2.000006
    Throwable                0.2      0.200013
    Try::Tiny                0        0.30    
    Types::DateTime          0        0.002   
    Types::Path::Tiny        0.005    0.006   
    Types::Standard          0        1.010000
    URI::Escape              0        3.31    

build_requires:

    Module                   Need     Have    
    ------------------------ -------- --------
    Devel::Cycle             0        1.12    
    ExtUtils::MakeMaker      0        7.44    
    File::Spec               0        3.78    
    Test::File::ShareDir     1        1.001002
    Test::More               0        1.302171
    Test::Roo                1        1.004   

configure_requires:

    Module                   Need     Have    
    ------------------------ -------- --------
    ExtUtils::MakeMaker      0        7.44    
    File::ShareDir::Install  0.06     0.13    

opt_build_requires:

    Module                   Need     Have    
    ------------------------ -------- --------
    CPAN::Meta               2.120900 2.150010


------------------------------
ENVIRONMENT AND OTHER CONTEXT
------------------------------

Environment variables:

    AUTOMATED_TESTING = 1
    DBD_MYSQL_TESTDB = test
    DBD_MYSQL_TESTHOST = localhost
    DBD_MYSQL_TESTPASSWORD = 
    DBD_MYSQL_TESTPORT = 3306
    DBD_MYSQL_TESTUSER = goku
    EXTENDED_TESTING = 1
    PATH = /home/goku/perl5/perlbrew/bin:/home/goku/perl5/perlbrew/perls/perl-5.30.1/bin:/home/goku/bin:/usr/bin:/bin:/usr/sbin:/sbin:/usr/X11R6/bin:/usr/local/bin:/usr/local/sbin
    PERL5LIB = 
    PERL5OPT = 
    PERL5_CPANPLUS_IS_RUNNING = 34377
    PERL5_CPAN_IS_RUNNING = 34377
    PERL5_CPAN_IS_RUNNING_IN_RECURSION = 36170,34377
    PERLBREW_HOME = /home/goku/.perlbrew
    PERLBREW_MANPATH = /home/goku/perl5/perlbrew/perls/perl-5.30.1/man
    PERLBREW_PATH = /home/goku/perl5/perlbrew/bin:/home/goku/perl5/perlbrew/perls/perl-5.30.1/bin
    PERLBREW_PERL = perl-5.30.1
    PERLBREW_ROOT = /home/goku/perl5/perlbrew
    PERLBREW_SHELLRC_VERSION = 0.88
    PERLBREW_VERSION = 0.88
    PERL_CR_SMOKER_CURRENT = POEx-Weather-OpenWeatherMap-0.003002
    PERL_EXTUTILS_AUTOINSTALL = --defaultdeps
    PERL_MM_USE_DEFAULT = 1
    PERL_USE_UNSAFE_INC = 1
    SHELL = /usr/local/bin/bash
    TERM = screen

Perl special variables (and OS-specific diagnostics, for MSWin32):

    $^X = /home/goku/perl5/perlbrew/perls/perl-5.30.1/bin/perl
    $UID/$EUID = 1002 / 1002
    $GID = 1002 1002 1001
    $EGID = 1002 1002 1001

Perl module toolchain versions installed:

    Module              Have    
    ------------------- --------
    CPAN                2.27    
    CPAN::Meta          2.150010
    Cwd                 3.78    
    ExtUtils::CBuilder  0.280234
    ExtUtils::Command   7.44    
    ExtUtils::Install   2.14    
    ExtUtils::MakeMaker 7.44    
    ExtUtils::Manifest  1.72    
    ExtUtils::ParseXS   3.35    
    File::Spec          3.78    
    JSON                4.02    
    JSON::PP            4.04    
    Module::Build       0.4231  
    Module::Signature   n/a     
    Parse::CPAN::Meta   2.150010
    Test::Harness       3.43_01 
    Test::More          1.302171
    YAML                1.30    
    YAML::Syck          n/a     
    version             0.9924  


--

Summary of my perl5 (revision 5 version 30 subversion 1) configuration:
   
  Platform:
    osname=openbsd
    osvers=6.6
    archname=OpenBSD.amd64-openbsd-thread-multi
    uname='openbsd cpan-smoker-openbsd 6.6 generic.mp#372 amd64 '
    config_args='-de -Dprefix=/home/goku/perl5/perlbrew/perls/perl-5.30.1 -Dman1dir=none -Dman3dir=none -Dusemultiplicity -Duse64bitint -Duse64bitall -Dusethreads -Aeval:scriptdir=/home/goku/perl5/perlbrew/perls/perl-5.30.1/bin'
    hint=recommended
    useposix=true
    d_sigaction=define
    useithreads=define
    usemultiplicity=define
    use64bitint=define
    use64bitall=define
    uselongdouble=undef
    usemymalloc=n
    default_inc_excludes_dot=define
    bincompat5005=undef
  Compiler:
    cc='cc'
    ccflags ='-pthread -fno-strict-aliasing -pipe -fstack-protector-strong -I/usr/local/include -D_FORTIFY_SOURCE=2'
    optimize='-O2'
    cppflags='-pthread -fno-strict-aliasing -pipe -fstack-protector-strong -I/usr/local/include'
    ccversion=''
    gccversion='4.2.1 Compatible OpenBSD Clang 8.0.1 (tags/RELEASE_801/final)'
    gccosandvers=''
    intsize=4
    longsize=8
    ptrsize=8
    doublesize=8
    byteorder=12345678
    doublekind=3
    d_longlong=define
    longlongsize=8
    d_longdbl=define
    longdblsize=16
    longdblkind=3
    ivtype='long'
    ivsize=8
    nvtype='double'
    nvsize=8
    Off_t='off_t'
    lseeksize=8
    alignbytes=8
    prototype=define
  Linker and Libraries:
    ld='cc'
    ldflags ='-pthread -Wl,-E  -fstack-protector-strong -L/usr/local/lib'
    libpth=/usr/lib /usr/local/lib
    libs=-lpthread -lm -lutil -lc
    perllibs=-lpthread -lm -lutil -lc
    libc=/usr/lib/libc.so.95.1
    so=so
    useshrplib=false
    libperl=libperl.a
    gnulibc_version=''
  Dynamic Linking:
    dlsrc=dl_dlopen.xs
    dlext=so
    d_dlsymun=undef
    ccdlflags=' '
    cccdlflags='-DPIC -fPIC '
    lddlflags='-shared -fPIC  -L/usr/local/lib -fstack-protector-strong'


Characteristics of this binary (from libperl): 
  Compile-time options:
    HAS_TIMES
    MULTIPLICITY
    PERLIO_LAYERS
    PERL_COPY_ON_WRITE
    PERL_DONT_CREATE_GVSV
    PERL_IMPLICIT_CONTEXT
    PERL_MALLOC_WRAP
    PERL_OP_PARENT
    PERL_PRESERVE_IVUV
    USE_64_BIT_ALL
    USE_64_BIT_INT
    USE_ITHREADS
    USE_LARGE_FILES
    USE_LOCALE
    USE_LOCALE_COLLATE
    USE_LOCALE_CTYPE
    USE_LOCALE_NUMERIC
    USE_LOCALE_TIME
    USE_PERLIO
    USE_PERL_ATOF
    USE_REENTRANT_API
  Locally applied patches:
    Devel::PatchPerl 1.86
  Built under openbsd
  Compiled at Feb 25 2020 16:58:44
  %ENV:
    PERL5LIB=""
    PERL5OPT=""
    PERL5_CPANPLUS_IS_RUNNING="34377"
    PERL5_CPAN_IS_RUNNING="34377"
    PERL5_CPAN_IS_RUNNING_IN_RECURSION="36170,34377"
    PERLBREW_HOME="/home/goku/.perlbrew"
    PERLBREW_MANPATH="/home/goku/perl5/perlbrew/perls/perl-5.30.1/man"
    PERLBREW_PATH="/home/goku/perl5/perlbrew/bin:/home/goku/perl5/perlbrew/perls/perl-5.30.1/bin"
    PERLBREW_PERL="perl-5.30.1"
    PERLBREW_ROOT="/home/goku/perl5/perlbrew"
    PERLBREW_SHELLRC_VERSION="0.88"
    PERLBREW_VERSION="0.88"
    PERL_CR_SMOKER_CURRENT="POEx-Weather-OpenWeatherMap-0.003002"
    PERL_EXTUTILS_AUTOINSTALL="--defaultdeps"
    PERL_MM_USE_DEFAULT="1"
    PERL_USE_UNSAFE_INC="1"
  @INC:
    /home/goku/perl5/perlbrew/perls/perl-5.30.1/lib/site_perl/5.30.1/OpenBSD.amd64-openbsd-thread-multi
    /home/goku/perl5/perlbrew/perls/perl-5.30.1/lib/site_perl/5.30.1
    /home/goku/perl5/perlbrew/perls/perl-5.30.1/lib/5.30.1/OpenBSD.amd64-openbsd-thread-multi
    /home/goku/perl5/perlbrew/perls/perl-5.30.1/lib/5.30.1
    .