Report for Class-Dot-2.0.0_15

Back
From: metabase:user:30f0bd62-2aae-11df-837a-5e0a49663a4f
Subject: PASS Class-Dot-2.0.0_15 v5.15.4 OpenBSD
Date: 2011-11-07T16:22:03Z

This distribution has been tested as part of the CPAN Testers
project, supporting the Perl programming language.  See
http://wiki.cpantesters.org/ for more information or email
questions to cpan-testers-discuss@perl.org


--
Dear Ask Solem,

This is a computer-generated report for Class-Dot-2.0.0_15
on perl 5.15.4, created by CPAN-Reporter-1.2002.

Thank you for uploading your work to CPAN.  Congratulations!
All tests were successful.

Sections of this report:

    * Tester comments
    * Program output
    * Prerequisites
    * Environment and other context

------------------------------
TESTER COMMENTS
------------------------------

Additional comments from tester:

this report is from an automated smoke testing program
and was not reviewed by a human for accuracy

------------------------------
PROGRAM OUTPUT
------------------------------

Output from '/usr/bin/make test':

/home/sts/cpansmoke/perl-5.15.4/bin/perl5.15.4 "-Iinc" Makefile.PL --config= --installdeps=Test::Exception,0.21,Class::Plugin::Util,0.9,Params::Util,0.14

*** Since we're running under CPANPLUS, I'll just let it take care
    of the dependency's installation later.
PERL_DL_NONLAZY=1 /home/sts/cpansmoke/perl-5.15.4/bin/perl5.15.4 "-MExtUtils::Command::MM" "-e" "test_harness(0, 'inc', 'blib/lib', 'blib/arch')" t/*.t t/*/*.t t/*/*/*.t
Prototype after '@' for Class::Dot::Policy::extends : @; at lib/Class/Dot/Policy.pm line 270.
Prototype after '@' for Class::Dot::Policy::composites : @; at lib/Class/Dot/Policy.pm line 280.
Prototype after '@' for Class::Dot::Policy::composite : @; at lib/Class/Dot/Policy.pm line 288.
Prototype after '@' for Class::Dot::Policy::after_property_get : @& at lib/Class/Dot/Policy.pm line 292.
Prototype after '@' for Class::Dot::Policy::after_property_set : @& at lib/Class/Dot/Policy.pm line 303.
Prototype after '@' for Class::Dot::Policy::to : @; at lib/Class/Dot/Policy.pm line 315.
Prototype after '@' for Class::Dot::Policy::using : @; at lib/Class/Dot/Policy.pm line 316.
t/010-std_1.x_tests/cat.t ...................................................... ok
Prototype after '@' for Class::Dot::Policy::extends : @; at lib/Class/Dot/Policy.pm line 270.
Prototype after '@' for Class::Dot::Policy::composites : @; at lib/Class/Dot/Policy.pm line 280.
Prototype after '@' for Class::Dot::Policy::composite : @; at lib/Class/Dot/Policy.pm line 288.
Prototype after '@' for Class::Dot::Policy::after_property_get : @& at lib/Class/Dot/Policy.pm line 292.
Prototype after '@' for Class::Dot::Policy::after_property_set : @& at lib/Class/Dot/Policy.pm line 303.
Prototype after '@' for Class::Dot::Policy::to : @; at lib/Class/Dot/Policy.pm line 315.
Prototype after '@' for Class::Dot::Policy::using : @; at lib/Class/Dot/Policy.pm line 316.
t/010-std_1.x_tests/properties.t ............................................... ok
Prototype after '@' for Class::Dot::Policy::extends : @; at lib/Class/Dot/Policy.pm line 270.
Prototype after '@' for Class::Dot::Policy::composites : @; at lib/Class/Dot/Policy.pm line 280.
Prototype after '@' for Class::Dot::Policy::composite : @; at lib/Class/Dot/Policy.pm line 288.
Prototype after '@' for Class::Dot::Policy::after_property_get : @& at lib/Class/Dot/Policy.pm line 292.
Prototype after '@' for Class::Dot::Policy::after_property_set : @& at lib/Class/Dot/Policy.pm line 303.
Prototype after '@' for Class::Dot::Policy::to : @; at lib/Class/Dot/Policy.pm line 315.
Prototype after '@' for Class::Dot::Policy::using : @; at lib/Class/Dot/Policy.pm line 316.
t/010-std_1.x_tests/testchained.t .............................................. ok
Prototype after '@' for Class::Dot::Policy::extends : @; at lib/Class/Dot/Policy.pm line 270.
Prototype after '@' for Class::Dot::Policy::composites : @; at lib/Class/Dot/Policy.pm line 280.
Prototype after '@' for Class::Dot::Policy::composite : @; at lib/Class/Dot/Policy.pm line 288.
Prototype after '@' for Class::Dot::Policy::after_property_get : @& at lib/Class/Dot/Policy.pm line 292.
Prototype after '@' for Class::Dot::Policy::after_property_set : @& at lib/Class/Dot/Policy.pm line 303.
Prototype after '@' for Class::Dot::Policy::to : @; at lib/Class/Dot/Policy.pm line 315.
Prototype after '@' for Class::Dot::Policy::using : @; at lib/Class/Dot/Policy.pm line 316.
t/010-std_1.x_tests/testcomplete.t ............................................. ok
Prototype after '@' for Class::Dot::Policy::extends : @; at /home/sts/cpansmoke/perl-5.15.4/cpan/build/Class-Dot-2.0.0_15-kTG575/blib/lib/Class/Dot/Policy.pm line 270.
Prototype after '@' for Class::Dot::Policy::composites : @; at /home/sts/cpansmoke/perl-5.15.4/cpan/build/Class-Dot-2.0.0_15-kTG575/blib/lib/Class/Dot/Policy.pm line 280.
Prototype after '@' for Class::Dot::Policy::composite : @; at /home/sts/cpansmoke/perl-5.15.4/cpan/build/Class-Dot-2.0.0_15-kTG575/blib/lib/Class/Dot/Policy.pm line 288.
Prototype after '@' for Class::Dot::Policy::after_property_get : @& at /home/sts/cpansmoke/perl-5.15.4/cpan/build/Class-Dot-2.0.0_15-kTG575/blib/lib/Class/Dot/Policy.pm line 292.
Prototype after '@' for Class::Dot::Policy::after_property_set : @& at /home/sts/cpansmoke/perl-5.15.4/cpan/build/Class-Dot-2.0.0_15-kTG575/blib/lib/Class/Dot/Policy.pm line 303.
Prototype after '@' for Class::Dot::Policy::to : @; at /home/sts/cpansmoke/perl-5.15.4/cpan/build/Class-Dot-2.0.0_15-kTG575/blib/lib/Class/Dot/Policy.pm line 315.
Prototype after '@' for Class::Dot::Policy::using : @; at /home/sts/cpansmoke/perl-5.15.4/cpan/build/Class-Dot-2.0.0_15-kTG575/blib/lib/Class/Dot/Policy.pm line 316.
t/020-std_2.x_tests/001-load_class_dot2.t ...................................... ok
Prototype after '@' for Class::Dot::Policy::extends : @; at /home/sts/cpansmoke/perl-5.15.4/cpan/build/Class-Dot-2.0.0_15-kTG575/blib/lib/Class/Dot/Policy.pm line 270.
Prototype after '@' for Class::Dot::Policy::composites : @; at /home/sts/cpansmoke/perl-5.15.4/cpan/build/Class-Dot-2.0.0_15-kTG575/blib/lib/Class/Dot/Policy.pm line 280.
Prototype after '@' for Class::Dot::Policy::composite : @; at /home/sts/cpansmoke/perl-5.15.4/cpan/build/Class-Dot-2.0.0_15-kTG575/blib/lib/Class/Dot/Policy.pm line 288.
Prototype after '@' for Class::Dot::Policy::after_property_get : @& at /home/sts/cpansmoke/perl-5.15.4/cpan/build/Class-Dot-2.0.0_15-kTG575/blib/lib/Class/Dot/Policy.pm line 292.
Prototype after '@' for Class::Dot::Policy::after_property_set : @& at /home/sts/cpansmoke/perl-5.15.4/cpan/build/Class-Dot-2.0.0_15-kTG575/blib/lib/Class/Dot/Policy.pm line 303.
Prototype after '@' for Class::Dot::Policy::to : @; at /home/sts/cpansmoke/perl-5.15.4/cpan/build/Class-Dot-2.0.0_15-kTG575/blib/lib/Class/Dot/Policy.pm line 315.
Prototype after '@' for Class::Dot::Policy::using : @; at /home/sts/cpansmoke/perl-5.15.4/cpan/build/Class-Dot-2.0.0_15-kTG575/blib/lib/Class/Dot/Policy.pm line 316.
t/020-std_2.x_tests/002-use_line_option_assignment.t ........................... ok
Prototype after '@' for Class::Dot::Policy::extends : @; at /home/sts/cpansmoke/perl-5.15.4/cpan/build/Class-Dot-2.0.0_15-kTG575/blib/lib/Class/Dot/Policy.pm line 270.
Prototype after '@' for Class::Dot::Policy::composites : @; at /home/sts/cpansmoke/perl-5.15.4/cpan/build/Class-Dot-2.0.0_15-kTG575/blib/lib/Class/Dot/Policy.pm line 280.
Prototype after '@' for Class::Dot::Policy::composite : @; at /home/sts/cpansmoke/perl-5.15.4/cpan/build/Class-Dot-2.0.0_15-kTG575/blib/lib/Class/Dot/Policy.pm line 288.
Prototype after '@' for Class::Dot::Policy::after_property_get : @& at /home/sts/cpansmoke/perl-5.15.4/cpan/build/Class-Dot-2.0.0_15-kTG575/blib/lib/Class/Dot/Policy.pm line 292.
Prototype after '@' for Class::Dot::Policy::after_property_set : @& at /home/sts/cpansmoke/perl-5.15.4/cpan/build/Class-Dot-2.0.0_15-kTG575/blib/lib/Class/Dot/Policy.pm line 303.
Prototype after '@' for Class::Dot::Policy::to : @; at /home/sts/cpansmoke/perl-5.15.4/cpan/build/Class-Dot-2.0.0_15-kTG575/blib/lib/Class/Dot/Policy.pm line 315.
Prototype after '@' for Class::Dot::Policy::using : @; at /home/sts/cpansmoke/perl-5.15.4/cpan/build/Class-Dot-2.0.0_15-kTG575/blib/lib/Class/Dot/Policy.pm line 316.
t/020-std_2.x_tests/003-accessor_mutator.t ..................................... ok
Prototype after '@' for Class::Dot::Policy::extends : @; at /home/sts/cpansmoke/perl-5.15.4/cpan/build/Class-Dot-2.0.0_15-kTG575/blib/lib/Class/Dot/Policy.pm line 270.
Prototype after '@' for Class::Dot::Policy::composites : @; at /home/sts/cpansmoke/perl-5.15.4/cpan/build/Class-Dot-2.0.0_15-kTG575/blib/lib/Class/Dot/Policy.pm line 280.
Prototype after '@' for Class::Dot::Policy::composite : @; at /home/sts/cpansmoke/perl-5.15.4/cpan/build/Class-Dot-2.0.0_15-kTG575/blib/lib/Class/Dot/Policy.pm line 288.
Prototype after '@' for Class::Dot::Policy::after_property_get : @& at /home/sts/cpansmoke/perl-5.15.4/cpan/build/Class-Dot-2.0.0_15-kTG575/blib/lib/Class/Dot/Policy.pm line 292.
Prototype after '@' for Class::Dot::Policy::after_property_set : @& at /home/sts/cpansmoke/perl-5.15.4/cpan/build/Class-Dot-2.0.0_15-kTG575/blib/lib/Class/Dot/Policy.pm line 303.
Prototype after '@' for Class::Dot::Policy::to : @; at /home/sts/cpansmoke/perl-5.15.4/cpan/build/Class-Dot-2.0.0_15-kTG575/blib/lib/Class/Dot/Policy.pm line 315.
Prototype after '@' for Class::Dot::Policy::using : @; at /home/sts/cpansmoke/perl-5.15.4/cpan/build/Class-Dot-2.0.0_15-kTG575/blib/lib/Class/Dot/Policy.pm line 316.
t/020-std_2.x_tests/010-attribute_readonly.t ................................... ok
Prototype after '@' for Class::Dot::Policy::extends : @; at /home/sts/cpansmoke/perl-5.15.4/cpan/build/Class-Dot-2.0.0_15-kTG575/blib/lib/Class/Dot/Policy.pm line 270.
Prototype after '@' for Class::Dot::Policy::composites : @; at /home/sts/cpansmoke/perl-5.15.4/cpan/build/Class-Dot-2.0.0_15-kTG575/blib/lib/Class/Dot/Policy.pm line 280.
Prototype after '@' for Class::Dot::Policy::composite : @; at /home/sts/cpansmoke/perl-5.15.4/cpan/build/Class-Dot-2.0.0_15-kTG575/blib/lib/Class/Dot/Policy.pm line 288.
Prototype after '@' for Class::Dot::Policy::after_property_get : @& at /home/sts/cpansmoke/perl-5.15.4/cpan/build/Class-Dot-2.0.0_15-kTG575/blib/lib/Class/Dot/Policy.pm line 292.
Prototype after '@' for Class::Dot::Policy::after_property_set : @& at /home/sts/cpansmoke/perl-5.15.4/cpan/build/Class-Dot-2.0.0_15-kTG575/blib/lib/Class/Dot/Policy.pm line 303.
Prototype after '@' for Class::Dot::Policy::to : @; at /home/sts/cpansmoke/perl-5.15.4/cpan/build/Class-Dot-2.0.0_15-kTG575/blib/lib/Class/Dot/Policy.pm line 315.
Prototype after '@' for Class::Dot::Policy::using : @; at /home/sts/cpansmoke/perl-5.15.4/cpan/build/Class-Dot-2.0.0_15-kTG575/blib/lib/Class/Dot/Policy.pm line 316.
t/020-std_2.x_tests/011-attribute_writeonly.t .................................. ok
Prototype after '@' for Class::Dot::Policy::extends : @; at /home/sts/cpansmoke/perl-5.15.4/cpan/build/Class-Dot-2.0.0_15-kTG575/blib/lib/Class/Dot/Policy.pm line 270.
Prototype after '@' for Class::Dot::Policy::composites : @; at /home/sts/cpansmoke/perl-5.15.4/cpan/build/Class-Dot-2.0.0_15-kTG575/blib/lib/Class/Dot/Policy.pm line 280.
Prototype after '@' for Class::Dot::Policy::composite : @; at /home/sts/cpansmoke/perl-5.15.4/cpan/build/Class-Dot-2.0.0_15-kTG575/blib/lib/Class/Dot/Policy.pm line 288.
Prototype after '@' for Class::Dot::Policy::after_property_get : @& at /home/sts/cpansmoke/perl-5.15.4/cpan/build/Class-Dot-2.0.0_15-kTG575/blib/lib/Class/Dot/Policy.pm line 292.
Prototype after '@' for Class::Dot::Policy::after_property_set : @& at /home/sts/cpansmoke/perl-5.15.4/cpan/build/Class-Dot-2.0.0_15-kTG575/blib/lib/Class/Dot/Policy.pm line 303.
Prototype after '@' for Class::Dot::Policy::to : @; at /home/sts/cpansmoke/perl-5.15.4/cpan/build/Class-Dot-2.0.0_15-kTG575/blib/lib/Class/Dot/Policy.pm line 315.
Prototype after '@' for Class::Dot::Policy::using : @; at /home/sts/cpansmoke/perl-5.15.4/cpan/build/Class-Dot-2.0.0_15-kTG575/blib/lib/Class/Dot/Policy.pm line 316.
t/020-std_2.x_tests/012-attribute_private.t .................................... ok
Prototype after '@' for Class::Dot::Policy::extends : @; at /home/sts/cpansmoke/perl-5.15.4/cpan/build/Class-Dot-2.0.0_15-kTG575/blib/lib/Class/Dot/Policy.pm line 270.
Prototype after '@' for Class::Dot::Policy::composites : @; at /home/sts/cpansmoke/perl-5.15.4/cpan/build/Class-Dot-2.0.0_15-kTG575/blib/lib/Class/Dot/Policy.pm line 280.
Prototype after '@' for Class::Dot::Policy::composite : @; at /home/sts/cpansmoke/perl-5.15.4/cpan/build/Class-Dot-2.0.0_15-kTG575/blib/lib/Class/Dot/Policy.pm line 288.
Prototype after '@' for Class::Dot::Policy::after_property_get : @& at /home/sts/cpansmoke/perl-5.15.4/cpan/build/Class-Dot-2.0.0_15-kTG575/blib/lib/Class/Dot/Policy.pm line 292.
Prototype after '@' for Class::Dot::Policy::after_property_set : @& at /home/sts/cpansmoke/perl-5.15.4/cpan/build/Class-Dot-2.0.0_15-kTG575/blib/lib/Class/Dot/Policy.pm line 303.
Prototype after '@' for Class::Dot::Policy::to : @; at /home/sts/cpansmoke/perl-5.15.4/cpan/build/Class-Dot-2.0.0_15-kTG575/blib/lib/Class/Dot/Policy.pm line 315.
Prototype after '@' for Class::Dot::Policy::using : @; at /home/sts/cpansmoke/perl-5.15.4/cpan/build/Class-Dot-2.0.0_15-kTG575/blib/lib/Class/Dot/Policy.pm line 316.
t/020-std_2.x_tests/020-mixin_with.t ........................................... ok
Prototype after '@' for Class::Dot::Policy::extends : @; at /home/sts/cpansmoke/perl-5.15.4/cpan/build/Class-Dot-2.0.0_15-kTG575/blib/lib/Class/Dot/Policy.pm line 270.
Prototype after '@' for Class::Dot::Policy::composites : @; at /home/sts/cpansmoke/perl-5.15.4/cpan/build/Class-Dot-2.0.0_15-kTG575/blib/lib/Class/Dot/Policy.pm line 280.
Prototype after '@' for Class::Dot::Policy::composite : @; at /home/sts/cpansmoke/perl-5.15.4/cpan/build/Class-Dot-2.0.0_15-kTG575/blib/lib/Class/Dot/Policy.pm line 288.
Prototype after '@' for Class::Dot::Policy::after_property_get : @& at /home/sts/cpansmoke/perl-5.15.4/cpan/build/Class-Dot-2.0.0_15-kTG575/blib/lib/Class/Dot/Policy.pm line 292.
Prototype after '@' for Class::Dot::Policy::after_property_set : @& at /home/sts/cpansmoke/perl-5.15.4/cpan/build/Class-Dot-2.0.0_15-kTG575/blib/lib/Class/Dot/Policy.pm line 303.
Prototype after '@' for Class::Dot::Policy::to : @; at /home/sts/cpansmoke/perl-5.15.4/cpan/build/Class-Dot-2.0.0_15-kTG575/blib/lib/Class/Dot/Policy.pm line 315.
Prototype after '@' for Class::Dot::Policy::using : @; at /home/sts/cpansmoke/perl-5.15.4/cpan/build/Class-Dot-2.0.0_15-kTG575/blib/lib/Class/Dot/Policy.pm line 316.
t/020-std_2.x_tests/030-composition.t .......................................... ok
Prototype after '@' for Class::Dot::Policy::extends : @; at /home/sts/cpansmoke/perl-5.15.4/cpan/build/Class-Dot-2.0.0_15-kTG575/blib/lib/Class/Dot/Policy.pm line 270.
Prototype after '@' for Class::Dot::Policy::composites : @; at /home/sts/cpansmoke/perl-5.15.4/cpan/build/Class-Dot-2.0.0_15-kTG575/blib/lib/Class/Dot/Policy.pm line 280.
Prototype after '@' for Class::Dot::Policy::composite : @; at /home/sts/cpansmoke/perl-5.15.4/cpan/build/Class-Dot-2.0.0_15-kTG575/blib/lib/Class/Dot/Policy.pm line 288.
Prototype after '@' for Class::Dot::Policy::after_property_get : @& at /home/sts/cpansmoke/perl-5.15.4/cpan/build/Class-Dot-2.0.0_15-kTG575/blib/lib/Class/Dot/Policy.pm line 292.
Prototype after '@' for Class::Dot::Policy::after_property_set : @& at /home/sts/cpansmoke/perl-5.15.4/cpan/build/Class-Dot-2.0.0_15-kTG575/blib/lib/Class/Dot/Policy.pm line 303.
Prototype after '@' for Class::Dot::Policy::to : @; at /home/sts/cpansmoke/perl-5.15.4/cpan/build/Class-Dot-2.0.0_15-kTG575/blib/lib/Class/Dot/Policy.pm line 315.
Prototype after '@' for Class::Dot::Policy::using : @; at /home/sts/cpansmoke/perl-5.15.4/cpan/build/Class-Dot-2.0.0_15-kTG575/blib/lib/Class/Dot/Policy.pm line 316.
t/020-std_2.x_tests/060-dot_meta.t ............................................. ok
Prototype after '@' for Class::Dot::Policy::extends : @; at /home/sts/cpansmoke/perl-5.15.4/cpan/build/Class-Dot-2.0.0_15-kTG575/blib/lib/Class/Dot/Policy.pm line 270.
Prototype after '@' for Class::Dot::Policy::composites : @; at /home/sts/cpansmoke/perl-5.15.4/cpan/build/Class-Dot-2.0.0_15-kTG575/blib/lib/Class/Dot/Policy.pm line 280.
Prototype after '@' for Class::Dot::Policy::composite : @; at /home/sts/cpansmoke/perl-5.15.4/cpan/build/Class-Dot-2.0.0_15-kTG575/blib/lib/Class/Dot/Policy.pm line 288.
Prototype after '@' for Class::Dot::Policy::after_property_get : @& at /home/sts/cpansmoke/perl-5.15.4/cpan/build/Class-Dot-2.0.0_15-kTG575/blib/lib/Class/Dot/Policy.pm line 292.
Prototype after '@' for Class::Dot::Policy::after_property_set : @& at /home/sts/cpansmoke/perl-5.15.4/cpan/build/Class-Dot-2.0.0_15-kTG575/blib/lib/Class/Dot/Policy.pm line 303.
Prototype after '@' for Class::Dot::Policy::to : @; at /home/sts/cpansmoke/perl-5.15.4/cpan/build/Class-Dot-2.0.0_15-kTG575/blib/lib/Class/Dot/Policy.pm line 315.
Prototype after '@' for Class::Dot::Policy::using : @; at /home/sts/cpansmoke/perl-5.15.4/cpan/build/Class-Dot-2.0.0_15-kTG575/blib/lib/Class/Dot/Policy.pm line 316.
t/020-std_2.x_tests/070-Maybe.t ................................................ ok
t/040-adopted_from_Moose/040-type_constraints/003_util_std_type_constraints.t .. ok
t/040-adopted_from_Moose/040-type_constraints/004_util_find_type_constraint.t .. ok
All tests successful.
Files=16, Tests=736,  2 wallclock secs ( 0.19 usr  0.10 sys +  1.62 cusr  0.30 csys =  2.21 CPU)
Result: PASS

------------------------------
PREREQUISITES
------------------------------

Prerequisite modules loaded:

requires:

    Module              Need Have   
    ------------------- ---- -------
  ! Class::Plugin::Util 0.9  0.009  
    Params::Util        0.14 1.04   
    Scalar::Util        1.14 1.23   
    Test::Exception     0.21 0.31   
    Test::Simple        0.42 0.98   
    version             0    0.93   

build_requires:

    Module              Need Have   
    ------------------- ---- -------
    ExtUtils::MakeMaker 0    6.61_01


------------------------------
ENVIRONMENT AND OTHER CONTEXT
------------------------------

Environment variables:

    AUTOMATED_TESTING = 1
    PATH = /home/sts/bin:/bin:/sbin:/usr/bin:/usr/sbin:/usr/X11R6/bin:/usr/local/bin:/usr/local/sbin:/usr/games:.
    PERL5LIB = /home/sts/cpansmoke/perl-5.15.4/cpan/build/Test-Exception-0.31-ra7TVK/blib/arch:/home/sts/cpansmoke/perl-5.15.4/cpan/build/Test-Exception-0.31-ra7TVK/blib/lib:/home/sts/cpansmoke/perl-5.15.4/cpan/build/Sub-Uplevel-0.22-gQ511q/blib/arch:/home/sts/cpansmoke/perl-5.15.4/cpan/build/Sub-Uplevel-0.22-gQ511q/blib/lib:/home/sts/cpansmoke/perl-5.15.4/cpan/build/Params-Util-1.04-Mg10nu/blib/arch:/home/sts/cpansmoke/perl-5.15.4/cpan/build/Params-Util-1.04-Mg10nu/blib/lib:/home/sts/cpansmoke/perl-5.15.4/cpan/build/Class-Plugin-Util-0.009-uHG0l1/blib/arch:/home/sts/cpansmoke/perl-5.15.4/cpan/build/Class-Plugin-Util-0.009-uHG0l1/blib/lib:/home/sts/cpansmoke/perl-5.15.4/cpan/build/Module-Find-0.10-ozQSBc/blib/arch:/home/sts/cpansmoke/perl-5.15.4/cpan/build/Module-Find-0.10-ozQSBc/blib/lib
    PERL5OPT = 
    PERL5_CPANPLUS_IS_RUNNING = 19855
    PERL5_CPAN_IS_RUNNING = 19855
    PERL5_CPAN_IS_RUNNING_IN_RECURSION = 18875,19855
    PERL_CR_SMOKER_CURRENT = Class-Dot-2.0.0_15
    PERL_EXTUTILS_AUTOINSTALL = --defaultdeps
    PERL_MM_USE_DEFAULT = 1
    SHELL = /usr/local/bin/bash
    TERM = screen
    TMPDIR = /home/sts/cpansmoke/tmp

Perl special variables (and OS-specific diagnostics, for MSWin32):

    $^X = /home/sts/cpansmoke/perl-5.15.4/bin/perl5.15.4
    $UID/$EUID = 1000 / 1000
    $GID = 10 10 0
    $EGID = 10 10 0

Perl module toolchain versions installed:

    Module              Have    
    ------------------- --------
    CPAN                1.9800  
    CPAN::Meta          2.112621
    Cwd                 3.37    
    ExtUtils::CBuilder  0.280204
    ExtUtils::Command   1.17    
    ExtUtils::Install   1.57    
    ExtUtils::MakeMaker 6.61_01 
    ExtUtils::Manifest  1.60    
    ExtUtils::ParseXS   3.05    
    File::Spec          3.34    
    JSON                n/a     
    JSON::PP            2.27200 
    Module::Build       0.39_01 
    Module::Signature   n/a     
    Parse::CPAN::Meta   1.4401  
    Test::Harness       3.23    
    Test::More          0.98    
    YAML                n/a     
    YAML::Syck          1.18    
    version             0.93    


--

Summary of my perl5 (revision 5 version 15 subversion 4) configuration:
   
  Platform:
    osname=openbsd, osvers=4.9, archname=OpenBSD.i386-openbsd-thread-multi
    uname='openbsd cpansmoke3 4.9 generic.mp#794 i386 '
    config_args='-des -Dusedevel -Dusethreads -Dprefix=/home/sts/cpansmoke/perl-5.15.4'
    hint=recommended, useposix=true, d_sigaction=define
    useithreads=define, usemultiplicity=define
    useperlio=define, d_sfio=undef, uselargefiles=define, usesocks=undef
    use64bitint=undef, use64bitall=undef, uselongdouble=undef
    usemymalloc=y, bincompat5005=undef
  Compiler:
    cc='cc', ccflags ='-pthread -fno-strict-aliasing -pipe -fstack-protector -I/usr/local/include',
    optimize='-O2',
    cppflags='-pthread -fno-strict-aliasing -pipe -fstack-protector -I/usr/local/include'
    ccversion='', gccversion='4.2.1 20070719 ', gccosandvers='openbsd4.9'
    intsize=4, longsize=4, ptrsize=4, doublesize=8, byteorder=1234
    d_longlong=define, longlongsize=8, d_longdbl=define, longdblsize=12
    ivtype='long', ivsize=4, nvtype='double', nvsize=8, Off_t='off_t', lseeksize=8
    alignbytes=4, prototype=define
  Linker and Libraries:
    ld='cc', ldflags ='-pthread -Wl,-E  -fstack-protector -L/usr/local/lib'
    libpth=/usr/local/lib /usr/lib
    libs=-lgdbm -lm -lutil -lc
    perllibs=-lm -lutil -lc
    libc=/usr/lib/libc.so.58.0, so=so, useshrplib=false, libperl=libperl.a
    gnulibc_version=''
  Dynamic Linking:
    dlsrc=dl_dlopen.xs, dlext=so, d_dlsymun=undef, ccdlflags=' '
    cccdlflags='-DPIC -fPIC ', lddlflags='-shared -fPIC  -L/usr/local/lib -fstack-protector'


Characteristics of this binary (from libperl): 
  Compile-time options: HAS_TIMES MULTIPLICITY MYMALLOC PERLIO_LAYERS
                        PERL_DONT_CREATE_GVSV PERL_IMPLICIT_CONTEXT
                        PERL_MALLOC_WRAP PERL_PRESERVE_IVUV PERL_USE_DEVEL
                        USE_ITHREADS USE_LARGE_FILES USE_LOCALE
                        USE_LOCALE_COLLATE USE_LOCALE_CTYPE
                        USE_LOCALE_NUMERIC USE_PERLIO USE_PERL_ATOF
                        USE_REENTRANT_API
  Built under openbsd
  Compiled at Oct 21 2011 12:19:35
  %ENV:
    PERL5LIB="/home/sts/cpansmoke/perl-5.15.4/cpan/build/Test-Exception-0.31-ra7TVK/blib/arch:/home/sts/cpansmoke/perl-5.15.4/cpan/build/Test-Exception-0.31-ra7TVK/blib/lib:/home/sts/cpansmoke/perl-5.15.4/cpan/build/Sub-Uplevel-0.22-gQ511q/blib/arch:/home/sts/cpansmoke/perl-5.15.4/cpan/build/Sub-Uplevel-0.22-gQ511q/blib/lib:/home/sts/cpansmoke/perl-5.15.4/cpan/build/Params-Util-1.04-Mg10nu/blib/arch:/home/sts/cpansmoke/perl-5.15.4/cpan/build/Params-Util-1.04-Mg10nu/blib/lib:/home/sts/cpansmoke/perl-5.15.4/cpan/build/Class-Plugin-Util-0.009-uHG0l1/blib/arch:/home/sts/cpansmoke/perl-5.15.4/cpan/build/Class-Plugin-Util-0.009-uHG0l1/blib/lib:/home/sts/cpansmoke/perl-5.15.4/cpan/build/Module-Find-0.10-ozQSBc/blib/arch:/home/sts/cpansmoke/perl-5.15.4/cpan/build/Module-Find-0.10-ozQSBc/blib/lib"
    PERL5OPT=""
    PERL5_CPANPLUS_IS_RUNNING="19855"
    PERL5_CPAN_IS_RUNNING="19855"
    PERL5_CPAN_IS_RUNNING_IN_RECURSION="18875,19855"
    PERL_CR_SMOKER_CURRENT="Class-Dot-2.0.0_15"
    PERL_EXTUTILS_AUTOINSTALL="--defaultdeps"
    PERL_MM_USE_DEFAULT="1"
  @INC:
    /home/sts/cpansmoke/perl-5.15.4/cpan/build/Test-Exception-0.31-ra7TVK/blib/arch
    /home/sts/cpansmoke/perl-5.15.4/cpan/build/Test-Exception-0.31-ra7TVK/blib/lib
    /home/sts/cpansmoke/perl-5.15.4/cpan/build/Sub-Uplevel-0.22-gQ511q/blib/arch
    /home/sts/cpansmoke/perl-5.15.4/cpan/build/Sub-Uplevel-0.22-gQ511q/blib/lib
    /home/sts/cpansmoke/perl-5.15.4/cpan/build/Params-Util-1.04-Mg10nu/blib/arch
    /home/sts/cpansmoke/perl-5.15.4/cpan/build/Params-Util-1.04-Mg10nu/blib/lib
    /home/sts/cpansmoke/perl-5.15.4/cpan/build/Class-Plugin-Util-0.009-uHG0l1/blib/arch
    /home/sts/cpansmoke/perl-5.15.4/cpan/build/Class-Plugin-Util-0.009-uHG0l1/blib/lib
    /home/sts/cpansmoke/perl-5.15.4/cpan/build/Module-Find-0.10-ozQSBc/blib/arch
    /home/sts/cpansmoke/perl-5.15.4/cpan/build/Module-Find-0.10-ozQSBc/blib/lib
    /home/sts/cpansmoke/perl-5.15.4/lib/site_perl/5.15.4/OpenBSD.i386-openbsd-thread-multi
    /home/sts/cpansmoke/perl-5.15.4/lib/site_perl/5.15.4
    /home/sts/cpansmoke/perl-5.15.4/lib/5.15.4/OpenBSD.i386-openbsd-thread-multi
    /home/sts/cpansmoke/perl-5.15.4/lib/5.15.4
    .