Term-Table v0.024 Perl 5 v5.12.5 i86pc-solaris
- Status
- Pass
- From
- Nigel Horne
- Dist
-
Term-Table v0.024
- Platform
- Perl 5 v5.12.5 i86pc-solaris
- Date
- 2025-06-10 16:04:46
- ID
- a0f2d81a-4614-11f0-9e00-dbcc0e51cb8f
This distribution has been tested as part of the CPAN Testers
project, supporting the Perl programming language. See
http://wiki.cpantesters.org/ for more information or email
questions to cpan-testers-discuss@perl.org
--
Dear Chad Granum,
This is a computer-generated report for Term-Table-0.024
on perl 5.12.5, created by CPAN-Reporter-1.2020.
Thank you for uploading your work to CPAN. Congratulations!
All tests were successful.
Sections of this report:
* Tester comments
* Program output
* Prerequisites
* Environment and other context
------------------------------
TESTER COMMENTS
------------------------------
Additional comments from tester:
none provided
------------------------------
PROGRAM OUTPUT
------------------------------
Output from '/usr/bin/make test':
PERL_DL_NONLAZY=1 "/export/home/njh/perl5/perlbrew/perls/perl-5.12.5/bin/perl" "-MExtUtils::Command::MM" "-MTest::Harness" "-e" "undef *Test::Harness::Switches; test_harness(0, 'blib/lib', 'blib/arch')" t/*.t t/Table/*.t
t/bad_blank_line.t ........ ok
t/HashBase.t .............. ok
# Using Test2::Tools::Tiny 1.302187
t/honor_env_in_non_tty.t .. ok
t/issue-9.t ............... ok
t/Table.t ................. ok
t/Table/Cell.t ............ ok
t/Table/CellStack.t ....... ok
t/Table/LineBreak.t ....... ok
All tests successful.
Files=8, Tests=82, 1 wallclock secs ( 0.06 usr 0.03 sys + 0.71 cusr 0.21 csys = 1.00 CPU)
Result: PASS
------------------------------
PREREQUISITES
------------------------------
Prerequisite modules loaded:
requires:
Module Need Have
------------------- -------- --------
Carp 0 1.50
List::Util 0 1.63
perl 5.008001 5.012005
Scalar::Util 0 1.63
build_requires:
Module Need Have
------------------- -------- --------
ExtUtils::MakeMaker 0 7.62
utf8 0 1.08
configure_requires:
Module Need Have
------------------- -------- --------
ExtUtils::MakeMaker 0 7.62
opt_requires:
Module Need Have
------------------- -------- --------
! Term::Size::Any 0.002 n/a
! Unicode::GCString 2013.10 n/a
! Unicode::LineBreak 2015.06 n/a
------------------------------
ENVIRONMENT AND OTHER CONTEXT
------------------------------
Environment variables:
LANG = en_US.UTF-8
NONINTERACTIVE_TESTING = 1
PATH = /export/home/njh/perl5/perlbrew/bin:/export/home/njh/perl5/perlbrew/perls/perl-5.12.5/bin:/usr/bin:/usr/sbin:/sbin:/usr/gnu/bin
PERL5LIB =
PERL5OPT =
PERL5_CPANPLUS_IS_RUNNING = 2190
PERL5_CPAN_IS_RUNNING = 2190
PERLBREW_HOME = /export/home/njh/.perlbrew
PERLBREW_MANPATH = /export/home/njh/perl5/perlbrew/perls/perl-5.12.5/man
PERLBREW_PATH = /export/home/njh/perl5/perlbrew/bin:/export/home/njh/perl5/perlbrew/perls/perl-5.12.5/bin
PERLBREW_PERL = perl-5.12.5
PERLBREW_ROOT = /export/home/njh/perl5/perlbrew
PERLBREW_SHELLRC_VERSION = 1.01
PERLBREW_VERSION = 1.01
PERL_MM_USE_DEFAULT = 1
PERL_USE_UNSAFE_INC = 1
SHELL = /bin/bash
TERM = xterm-256color
Perl special variables (and OS-specific diagnostics, for MSWin32):
$^X = /export/home/njh/perl5/perlbrew/perls/perl-5.12.5/bin/perl
$UID/$EUID = 101 / 101
$GID = 10 10
$EGID = 10 10
Perl module toolchain versions installed:
Module Have
------------------- --------
CPAN 2.38
CPAN::Meta 2.150010
Cwd 3.75
ExtUtils::CBuilder 0.27
ExtUtils::Command 7.62
ExtUtils::Install 2.06
ExtUtils::MakeMaker 7.62
ExtUtils::Manifest 1.70
ExtUtils::ParseXS 3.44
File::Spec 3.75
JSON 4.03
JSON::PP 4.06
Module::Build 0.4231
Module::Signature n/a
Parse::CPAN::Meta 2.150010
Test2 1.302187
Test::Harness 3.42
Test::More 1.302187
YAML 1.31
YAML::Syck 1.34
version 0.9929
--
Summary of my perl5 (revision 5 version 12 subversion 5) configuration:
Platform:
osname=solaris, osvers=2.11, archname=i86pc-solaris
uname='sunos njh1 5.11 illumos-06524cf4e4 i86pc i386 i86pc '
config_args='-de -Dprefix=/export/home/njh/perl5/perlbrew/perls/perl-5.12.5 -Aeval:scriptdir=/export/home/njh/perl5/perlbrew/perls/perl-5.12.5/bin'
hint=recommended, useposix=true, d_sigaction=define
useithreads=undef, usemultiplicity=undef
useperlio=define, d_sfio=undef, uselargefiles=define, usesocks=undef
use64bitint=undef, use64bitall=undef, uselongdouble=undef
usemymalloc=n, bincompat5005=undef
Compiler:
cc='cc', ccflags ='-fwrapv -fno-strict-aliasing -pipe -fstack-protector -I/usr/gnu/include -D_LARGEFILE_SOURCE -D_FILE_OFFSET_BITS=64 -DPERL_USE_SAFE_PUTENV',
optimize='-O',
cppflags='-fwrapv -fno-strict-aliasing -pipe -fstack-protector -I/usr/gnu/include'
ccversion='', gccversion='7.5.0', gccosandvers=''
intsize=4, longsize=4, ptrsize=4, doublesize=8, byteorder=1234
d_longlong=define, longlongsize=8, d_longdbl=define, longdblsize=12
ivtype='long', ivsize=4, nvtype='double', nvsize=8, Off_t='off_t', lseeksize=8
alignbytes=4, prototype=define
Linker and Libraries:
ld='cc', ldflags =' -fstack-protector -L/usr/gnu/lib '
libpth=/usr/gnu/lib /usr/lib /usr/ccs/lib
libs=-lsocket -lnsl -lgdbm -ldb -ldl -lm -lc
perllibs=-lsocket -lnsl -ldl -lm -lc
libc=/lib/libc.so, so=so, useshrplib=true, libperl=libperl.so
gnulibc_version=''
Dynamic Linking:
dlsrc=dl_dlopen.xs, dlext=so, d_dlsymun=undef, ccdlflags=' -R /export/home/njh/perl5/perlbrew/perls/perl-5.12.5/lib/5.12.5/i86pc-solaris/CORE'
cccdlflags='-fPIC', lddlflags='-shared -L/usr/gnu/lib -fstack-protector'
Characteristics of this binary (from libperl):
Compile-time options: PERL_DONT_CREATE_GVSV PERL_MALLOC_WRAP
PERL_USE_SAFE_PUTENV USE_LARGE_FILES USE_PERLIO
USE_PERL_ATOF
Locally applied patches:
Devel::PatchPerl 2.06
Built under solaris
Compiled at Sep 28 2021 01:49:03
%ENV:
PERL5LIB=""
PERL5OPT=""
PERL5_CPANPLUS_IS_RUNNING="2190"
PERL5_CPAN_IS_RUNNING="2190"
PERLBREW_HOME="/export/home/njh/.perlbrew"
PERLBREW_MANPATH="/export/home/njh/perl5/perlbrew/perls/perl-5.12.5/man"
PERLBREW_PATH="/export/home/njh/perl5/perlbrew/bin:/export/home/njh/perl5/perlbrew/perls/perl-5.12.5/bin"
PERLBREW_PERL="perl-5.12.5"
PERLBREW_ROOT="/export/home/njh/perl5/perlbrew"
PERLBREW_SHELLRC_VERSION="1.01"
PERLBREW_VERSION="1.01"
PERL_MM_USE_DEFAULT="1"
PERL_USE_UNSAFE_INC="1"
@INC:
/export/home/njh/perl5/perlbrew/perls/perl-5.12.5/lib/site_perl/5.12.5/i86pc-solaris
/export/home/njh/perl5/perlbrew/perls/perl-5.12.5/lib/site_perl/5.12.5
/export/home/njh/perl5/perlbrew/perls/perl-5.12.5/lib/5.12.5/i86pc-solaris
/export/home/njh/perl5/perlbrew/perls/perl-5.12.5/lib/5.12.5
.