Back
From: metabase:user:30ae4450-2aae-11df-837a-5e0a49663a4f
Subject: PASS Dancer-Plugin-FontSubset-0.1.2 v5.18.2 RC4
Date: 2014-01-02T18:07:26Z
This distribution has been tested as part of the CPAN Testers
project, supporting the Perl programming language. See
http://wiki.cpantesters.org/ for more information or email
questions to cpan-testers-discuss@perl.org
--
Dear Yanick Champoux,
This is a computer-generated report for Dancer-Plugin-FontSubset-0.1.2
on perl 5.18.2, created by CPAN-Reporter-1.2010_01.
Thank you for uploading your work to CPAN. Congratulations!
All tests were successful.
Sections of this report:
* Tester comments
* Program output
* Prerequisites
* Environment and other context
------------------------------
TESTER COMMENTS
------------------------------
Additional comments from tester:
this report is from an automated smoke testing program
and was not reviewed by a human for accuracy
------------------------------
PROGRAM OUTPUT
------------------------------
Output from 'C:\strawberry182RC4\perl\bin\perl.exe ./Build test':
t/00-compile.t ................ ok
#
#
# Generated by Dist::Zilla::Plugin::ReportVersions::Tiny v1.08
# perl: 5.018002 (wanted v5.12.0) on MSWin32 from C:\strawberry182RC4\perl\bin\perl.exe
#
# Dancer => 1.312 (want any version)
# Dancer::Plugin => <undef> (want any version)
# Dancer::Plugin::Cache::CHI => 1.4.0 (want any version)
# Dancer::Test => <undef> (want any version)
# File::Find => 1.23 (want any version)
# File::Temp => 0.2304 (want any version)
# Font::TTF::Font => 0.39 (want any version)
# Font::TTF::Scripts::Name => <undef> (want any version)
# List::AllUtils => 0.07 (want any version)
# Module::Build => 0.4203 (want 0.3601)
# Moo => 1.003001 (want any version)
# MooX::Singleton => 1.20 (want any version)
# Test::More => 1.001002 (want 0.88)
# strict => 1.07 (want any version)
# version => 0.9904 (want 0.9901)
# warnings => 1.18 (want any version)
#
# Thanks for using my code. I hope it works for you.
# If not, please try and include this output in the bug report.
# That will help me reproduce the issue and solve your problem.
#
t/000-report-versions-tiny.t .. ok
t/basic.t ..................... ok
t/cache.t ..................... ok
All tests successful.
Files=4, Tests=10, 5 wallclock secs ( 0.04 usr + 0.06 sys = 0.10 CPU)
Result: PASS
------------------------------
PREREQUISITES
------------------------------
Prerequisite modules loaded:
requires:
Module Need Have
-------------------------- ------- --------
Dancer 0 1.3120
Dancer::Plugin 0 0
Font::TTF::Font 0 0.39
Font::TTF::Scripts::Name 0 0
List::AllUtils 0 0.07
Moo 0 1.003001
MooX::Singleton 0 1.20
perl v5.12.0 5.018002
warnings 0 1.18
build_requires:
Module Need Have
-------------------------- ------- --------
Dancer::Plugin::Cache::CHI 0 1.4.0
Dancer::Test 0 0
File::Find 0 1.23
File::Temp 0 0.2304
Module::Build 0.3601 0.4203
strict 0 1.07
Test::More 0.88 1.001002
configure_requires:
Module Need Have
-------------------------- ------- --------
Module::Build 0.3601 0.4203
------------------------------
ENVIRONMENT AND OTHER CONTEXT
------------------------------
Environment variables:
AUTOMATED_TESTING = 1
COMSPEC = C:\WINDOWS\system32\cmd.exe
NUMBER_OF_PROCESSORS = 1
PATH = C:\Program Files\Far Manager\;C:\WINDOWS\system32;C:\WINDOWS;C:\WINDOWS\System32\Wbem;C:\strawberry182RC4\c\bin;C:\strawberry182RC4\perl\site\bin;C:\strawberry182RC4\perl\bin
PERL5LIB = C:\strawberry182RC4\cpan\build\MooX-Singleton-1.20-r494Xf/blib/arch;C:\strawberry182RC4\cpan\build\MooX-Singleton-1.20-r494Xf/blib/lib;C:\strawberry182RC4\cpan\build\Font-TTF-Scripts-1.04-0N0WQ5/blib/arch;C:\strawberry182RC4\cpan\build\Font-TTF-Scripts-1.04-0N0WQ5/blib/lib;C:\strawberry182RC4\cpan\build\Text-PDF-0.29-ujW0d4/blib/arch;C:\strawberry182RC4\cpan\build\Text-PDF-0.29-ujW0d4/blib/lib;C:\strawberry182RC4\cpan\build\Text-Unicode-Equivalents-0.05-xSIGv1/blib/arch;C:\strawberry182RC4\cpan\build\Text-Unicode-Equivalents-0.05-xSIGv1/blib/lib;C:\strawberry182RC4\cpan\build\Font-TTF-1.03-OxPi8U/blib/arch;C:\strawberry182RC4\cpan\build\Font-TTF-1.03-OxPi8U/blib/lib
PERL5OPT =
PERL5_CPANPLUS_IS_RUNNING = 1872
PERL5_CPAN_IS_RUNNING = 1872
PERL5_CPAN_IS_RUNNING_IN_RECURSION = 976,1872
PERL_CR_SMOKER_CURRENT = Dancer-Plugin-FontSubset-0.1.2
PERL_EXTUTILS_AUTOINSTALL = --defaultdeps
PERL_MM_USE_DEFAULT = 1
PROCESSOR_IDENTIFIER = x86 Family 16 Model 5 Stepping 3, AuthenticAMD
TEMP = C:\DOCUME~1\c\LOCALS~1\Temp
TERM = dumb
Perl special variables (and OS-specific diagnostics, for MSWin32):
$^X = C:\strawberry182RC4\perl\bin\perl.exe
$UID/$EUID = 0 / 0
$GID = 0
$EGID = 0
Win32::GetOSName = WinXP/.Net
Win32::GetOSVersion = Service Pack 3, 5, 1, 2600, 2, 3, 0, 256, 1
Win32::FsType = NTFS
Win32::IsAdminUser = 1
Perl module toolchain versions installed:
Module Have
------------------- --------
CPAN 2.00
CPAN::Meta 2.133380
Cwd 3.40
ExtUtils::CBuilder 0.280212
ExtUtils::Command 1.18
ExtUtils::Install 1.59
ExtUtils::MakeMaker 6.84
ExtUtils::Manifest 1.63
ExtUtils::ParseXS 3.22
File::Spec 3.40
JSON 2.90
JSON::PP 2.27203
Module::Build 0.4203
Module::Signature n/a
Parse::CPAN::Meta 1.4409
Test::Harness 3.30
Test::More 1.001002
YAML 0.88
YAML::Syck 1.27
version 0.9904
--
Summary of my perl5 (revision 5 version 18 subversion 2) configuration:
Platform:
osname=MSWin32, osvers=4.0, archname=MSWin32-x86-multi-thread
uname='Win32 strawberry-perl-no64 5.18.2.1 #1 Thu Dec 26 18:03:25 2013 i386'
config_args='undef'
hint=recommended, useposix=true, d_sigaction=undef
useithreads=define, usemultiplicity=define
useperlio=define, d_sfio=undef, uselargefiles=define, usesocks=undef
use64bitint=undef, use64bitall=undef, uselongdouble=undef
usemymalloc=n, bincompat5005=undef
Compiler:
cc='gcc', ccflags =' -s -O2 -DWIN32 -DPERL_TEXTMODE_SCRIPTS -DPERL_IMPLICIT_CONTEXT -DPERL_IMPLICIT_SYS -DUSE_PERLIO -fno-strict-aliasing -mms-bitfields',
optimize='-s -O2',
cppflags='-DWIN32'
ccversion='', gccversion='4.7.3', gccosandvers=''
intsize=4, longsize=4, ptrsize=4, doublesize=8, byteorder=1234
d_longlong=define, longlongsize=8, d_longdbl=define, longdblsize=12
ivtype='long', ivsize=4, nvtype='double', nvsize=8, Off_t='long long', lseeksize=8
alignbytes=8, prototype=define
Linker and Libraries:
ld='g++', ldflags ='-s -L"C:\strawberry182RC4\perl\lib\CORE" -L"C:\strawberry182RC4\c\lib"'
libpth=C:\strawberry182RC4\c\lib C:\strawberry182RC4\c\i686-w64-mingw32\lib
libs=-lmoldname -lkernel32 -luser32 -lgdi32 -lwinspool -lcomdlg32 -ladvapi32 -lshell32 -lole32 -loleaut32 -lnetapi32 -luuid -lws2_32 -lmpr -lwinmm -lversion -lodbc32 -lodbccp32 -lcomctl32
perllibs=-lmoldname -lkernel32 -luser32 -lgdi32 -lwinspool -lcomdlg32 -ladvapi32 -lshell32 -lole32 -loleaut32 -lnetapi32 -luuid -lws2_32 -lmpr -lwinmm -lversion -lodbc32 -lodbccp32 -lcomctl32
libc=, so=dll, useshrplib=true, libperl=libperl518.a
gnulibc_version=''
Dynamic Linking:
dlsrc=dl_win32.xs, dlext=dll, d_dlsymun=undef, ccdlflags=' '
cccdlflags=' ', lddlflags='-mdll -s -L"C:\strawberry182RC4\perl\lib\CORE" -L"C:\strawberry182RC4\c\lib"'
Characteristics of this binary (from libperl):
Compile-time options: HAS_TIMES HAVE_INTERP_INTERN MULTIPLICITY
PERLIO_LAYERS PERL_DONT_CREATE_GVSV
PERL_HASH_FUNC_ONE_AT_A_TIME_HARD
PERL_IMPLICIT_CONTEXT PERL_IMPLICIT_SYS
PERL_MALLOC_WRAP PERL_PRESERVE_IVUV PERL_SAWAMPERSAND
USE_ITHREADS USE_LARGE_FILES USE_LOCALE
USE_LOCALE_COLLATE USE_LOCALE_CTYPE
USE_LOCALE_NUMERIC USE_PERLIO USE_PERL_ATOF
Locally applied patches:
RC4
Built under MSWin32
Compiled at Dec 26 2013 18:09:02
%ENV:
PERL5LIB="C:\strawberry182RC4\cpan\build\MooX-Singleton-1.20-r494Xf/blib/arch;C:\strawberry182RC4\cpan\build\MooX-Singleton-1.20-r494Xf/blib/lib;C:\strawberry182RC4\cpan\build\Font-TTF-Scripts-1.04-0N0WQ5/blib/arch;C:\strawberry182RC4\cpan\build\Font-TTF-Scripts-1.04-0N0WQ5/blib/lib;C:\strawberry182RC4\cpan\build\Text-PDF-0.29-ujW0d4/blib/arch;C:\strawberry182RC4\cpan\build\Text-PDF-0.29-ujW0d4/blib/lib;C:\strawberry182RC4\cpan\build\Text-Unicode-Equivalents-0.05-xSIGv1/blib/arch;C:\strawberry182RC4\cpan\build\Text-Unicode-Equivalents-0.05-xSIGv1/blib/lib;C:\strawberry182RC4\cpan\build\Font-TTF-1.03-OxPi8U/blib/arch;C:\strawberry182RC4\cpan\build\Font-TTF-1.03-OxPi8U/blib/lib"
PERL5_CPANPLUS_IS_RUNNING="1872"
PERL5_CPAN_IS_RUNNING="1872"
PERL5_CPAN_IS_RUNNING_IN_RECURSION="976,1872"
PERL_CR_SMOKER_CURRENT="Dancer-Plugin-FontSubset-0.1.2"
PERL_EXTUTILS_AUTOINSTALL="--defaultdeps"
PERL_MM_USE_DEFAULT="1"
@INC:
C:\strawberry182RC4\cpan\build\MooX-Singleton-1.20-r494Xf/blib/arch
C:\strawberry182RC4\cpan\build\MooX-Singleton-1.20-r494Xf/blib/lib
C:\strawberry182RC4\cpan\build\Font-TTF-Scripts-1.04-0N0WQ5/blib/arch
C:\strawberry182RC4\cpan\build\Font-TTF-Scripts-1.04-0N0WQ5/blib/lib
C:\strawberry182RC4\cpan\build\Text-PDF-0.29-ujW0d4/blib/arch
C:\strawberry182RC4\cpan\build\Text-PDF-0.29-ujW0d4/blib/lib
C:\strawberry182RC4\cpan\build\Text-Unicode-Equivalents-0.05-xSIGv1/blib/arch
C:\strawberry182RC4\cpan\build\Text-Unicode-Equivalents-0.05-xSIGv1/blib/lib
C:\strawberry182RC4\cpan\build\Font-TTF-1.03-OxPi8U/blib/arch
C:\strawberry182RC4\cpan\build\Font-TTF-1.03-OxPi8U/blib/lib
C:/strawberry182RC4/perl/site/lib
C:/strawberry182RC4/perl/vendor/lib
C:/strawberry182RC4/perl/lib
.