StorageDisplay v2.06 Perl 5 v5.38.2 MSWin32-x86-multi-thread-64int

Status
Pass
From
gregor herrmann
Dist
StorageDisplay v2.06
Platform
Perl 5 v5.38.2 MSWin32-x86-multi-thread-64int
Date
2024-05-24 01:11:28
ID
a10011fe-6c5a-1014-bde7-a98e09bbedf2
This distribution has been tested as part of the CPAN Testers
project, supporting the Perl programming language.  See
http://wiki.cpantesters.org/ for more information or email
questions to cpan-testers-discuss@perl.org


--
Dear Vincent Danjean,

This is a computer-generated report for StorageDisplay-2.06
on perl 5.38.2, created by CPAN-Reporter-1.2019.

Thank you for uploading your work to CPAN.  Congratulations!
All tests were successful.

Sections of this report:

    * Tester comments
    * Program output
    * Prerequisites
    * Environment and other context

------------------------------
TESTER COMMENTS
------------------------------

Additional comments from tester:

this report is from an automated smoke testing program
and was not reviewed by a human for accuracy

------------------------------
PROGRAM OUTPUT
------------------------------

Output from 'C:\strawberry\c\bin\gmake.EXE test':

"C:\Strawberry\perl\bin\perl.exe" "-MExtUtils::Command::MM" "-MTest::Harness" "-e" "undef *Test::Harness::Switches; test_harness(0, 'blib\lib', 'blib\arch')" t/*.t
# Testing with Perl 5.038002, C:\Strawberry\perl\bin\perl.exe
#     Carp version is 1.54
#     Data::Compare version is 1.29
#     Data::Dumper version is 2.188
#     ExtUtils::MakeMaker version is 7.70
#     Getopt::Long version is 2.57
#     IO::Select version is 1.55
#     JSON::PP version is 4.16
#     Math::BigFloat version is 2.003002
#     Math::BigInt version is 2.003002
#     Moose version is 2.2207
#     MooseX::NonMoose version is 0.26
#     MooseX::Role::Parameterized version is 1.11
#     Net::OpenSSH version is 0.84
#     Object::ID version is v0.1.2
#     POSIX version is 2.13
#     Path::Class version is 0.37
#     Path::Class::Dir version is 0.37
#     Pod::Usage version is 2.03
#     Scalar::Util version is 1.63
#     Storable version is 3.32
#     Term::ReadKey version is 2.38
#     Test2::V0 version is 0.000162
#     Test::File::Contents version is 0.242
#     Test::More version is 1.302199
#     Test::Script version is 1.29
#     Types::Standard version is 2.004000
#     base version is 2.27
#     bignum version is 0.67
#     bigrat version is 0.67
#     namespace::sweep version is 0.006
#     parent version is 0.241
#     strict version is 1.12
#     utf8 version is 1.25
#     warnings version is 1.65
t/000-report-versions.t .. ok
t/05_round.t ............. ok
t/06_int-data-dumper.t ... ok
Der Befehl "pwd" ist entweder falsch geschrieben oder
konnte nicht gefunden werden.
Der Befehl "pwd" ist entweder falsch geschrieben oder
konnte nicht gefunden werden.
# JSON::PP: boolean_values support: 1
# JSON::PP: allow_bignum support: 1
# JSON::PP has boolean_values: 1
t/07_json.t .............. ok
# $VAR1 = {
#           's1' => {
#                     'bf' => bless( {
#                                      '_e' => bless( [
#                                                       0
#                                                     ], 'Math::BigInt::Calc' ),
#                                      '_es' => '+',
#                                      '_m' => bless( [
#                                                       '401'
#                                                     ], 'Math::BigInt::Calc' ),
#                                      'sign' => '+'
#                                    }, 'Math::BigFloat' ),
#                     'bf2bf' => bless( {
#                                         '_e' => bless( [
#                                                          0
#                                                        ], 'Math::BigInt::Calc' ),
#                                         '_es' => '+',
#                                         '_m' => bless( [
#                                                          '431'
#                                                        ], 'Math::BigInt::Calc' ),
#                                         'sign' => '+'
#                                       }, 'Math::BigFloat' ),
#                     'bf2i' => bless( {
#                                        '_e' => bless( [
#                                                         0
#                                                       ], 'Math::BigInt::Calc' ),
#                                        '_es' => '+',
#                                        '_m' => bless( [
#                                                         '411'
#                                                       ], 'Math::BigInt::Calc' ),
#                                        'sign' => '+'
#                                      }, 'Math::BigFloat' ),
#                     'bf2s' => bless( {
#                                        '_e' => bless( [
#                                                         0
#                                                       ], 'Math::BigInt::Calc' ),
#                                        '_es' => '+',
#                                        '_m' => bless( [
#                                                         '421'
#                                                       ], 'Math::BigInt::Calc' ),
#                                        'sign' => '+'
#                                      }, 'Math::BigFloat' ),
#                     'bi' => bless( {
#                                      'sign' => '+',
#                                      'value' => bless( [
#                                                          '301'
#                                                        ], 'Math::BigInt::Calc' )
#                                    }, 'Math::BigInt' ),
#                     'bi2bi' => bless( {
#                                         'sign' => '+',
#                                         'value' => bless( [
#                                                             '331'
#                                                           ], 'Math::BigInt::Calc' )
#                                       }, 'Math::BigInt' ),
#                     'bi2i' => bless( {
#                                        'sign' => '+',
#                                        'value' => bless( [
#                                                            '311'
#                                                          ], 'Math::BigInt::Calc' )
#                                      }, 'Math::BigInt' ),
#                     'bi2s' => bless( {
#                                        'sign' => '+',
#                                        'value' => bless( [
#                                                            '321'
#                                                          ], 'Math::BigInt::Calc' )
#                                      }, 'Math::BigInt' ),
#                     'i' => 101,
#                     'i2i' => 111,
#                     'i2s' => 121,
#                     's' => '201',
#                     's2i' => '211',
#                     's2s' => '221'
#                   },
#           's2' => {
#                     'bf' => bless( {
#                                      '_e' => bless( [
#                                                       0
#                                                     ], 'Math::BigInt::Calc' ),
#                                      '_es' => '+',
#                                      '_m' => bless( [
#                                                       '401'
#                                                     ], 'Math::BigInt::Calc' ),
#                                      'sign' => '+'
#                                    }, 'Math::BigFloat' ),
#                     'bf2bf' => bless( {
#                                         '_e' => bless( [
#                                                          0
#                                                        ], 'Math::BigInt::Calc' ),
#                                         '_es' => '+',
#                                         '_m' => bless( [
#                                                          '431'
#                                                        ], 'Math::BigInt::Calc' ),
#                                         'sign' => '+'
#                                       }, 'Math::BigFloat' ),
#                     'bf2i' => 411,
#                     'bf2s' => '421',
#                     'bi' => bless( {
#                                      'sign' => '+',
#                                      'value' => bless( [
#                                                          '301'
#                                                        ], 'Math::BigInt::Calc' )
#                                    }, 'Math::BigInt' ),
#                     'bi2bi' => bless( {
#                                         'sign' => '+',
#                                         'value' => bless( [
#                                                             '331'
#                                                           ], 'Math::BigInt::Calc' )
#                                       }, 'Math::BigInt' ),
#                     'bi2i' => 311,
#                     'bi2s' => '321',
#                     'i' => 101,
#                     'i2i' => 111,
#                     'i2s' => '121',
#                     's' => '201',
#                     's2i' => 211,
#                     's2s' => '221'
#                   }
#         };
t/08_bigint.t ............ ok
t/10_scripts.t ........... ok
t/20_reference.t ......... ok
t/author-critic.t ........ skipped: these tests are for testing by the author
t/author-distmeta.t ...... skipped: these tests are for testing by the author
t/author-pod-syntax.t .... skipped: these tests are for testing by the author
All tests successful.
Files=10, Tests=93, 81 wallclock secs ( 0.12 usr +  0.03 sys =  0.16 CPU)
Result: PASS

------------------------------
PREREQUISITES
------------------------------

Prerequisite modules loaded:

requires:

    Module                      Need     Have    
    --------------------------- -------- --------
    base                        0        2.27    
    bignum                      0.51     0.67    
    bigrat                      0.51     0.67    
    Carp                        0        1.54    
    Data::Compare               0        1.29    
    Data::Dumper                0        2.188   
    Getopt::Long                0        2.57    
    IO::Select                  0        1.55    
    JSON::PP                    0        4.16    
    Moose                       0        2.2207  
    Moose::Role                 0        2.2207  
    MooseX::NonMoose            0        0.26    
    MooseX::Role::Parameterized 0        1.11    
    namespace::sweep            0        0.006   
    Net::OpenSSH                0        0.84    
    Object::ID                  0        v0.1.2  
    parent                      0        0.241   
    Path::Class::Dir            0        0.37    
    perl                        5.014000 5.038002
    Pod::Usage                  0        2.03    
    POSIX                       0        2.13    
    Scalar::Util                0        1.63    
    Storable                    0        3.32    
    strict                      0        1.12    
    Term::ReadKey               0        2.38    
    Types::Standard             0        2.004000
    warnings                    0        1.65    

build_requires:

    Module                      Need     Have    
    --------------------------- -------- --------
    ExtUtils::MakeMaker         0        7.70    
    Math::BigFloat              0        2.003002
    Math::BigInt                0        2.003002
    Path::Class                 0        0.37    
    Test2::V0                   0        0.000162
    Test::File::Contents        0        0.242   
    Test::More                  0.94     1.302199
    Test::Script                0        1.29    
    utf8                        0        1.25    

configure_requires:

    Module                      Need     Have    
    --------------------------- -------- --------
    ExtUtils::MakeMaker         0        7.70    


------------------------------
ENVIRONMENT AND OTHER CONTEXT
------------------------------

Environment variables:

    AUTOMATED_TESTING = 1
    COMSPEC = C:\WINDOWS\system32\cmd.exe
    NONINTERACTIVE_TESTING = 1
    NUMBER_OF_PROCESSORS = 2
    PATH = C:\WINDOWS\system32;C:\strawberry\c\bin;C:\strawberry\perl\site\bin;C:\strawberry\perl\bin
    PERL5LIB = 
    PERL5OPT = 
    PERL5_CPANPLUS_IS_RUNNING = 7200
    PERL5_CPAN_IS_RUNNING = 7200
    PERL5_CPAN_IS_RUNNING_IN_RECURSION = 9776,7200
    PERL_CR_SMOKER_CURRENT = StorageDisplay-2.06
    PERL_EXTUTILS_AUTOINSTALL = --defaultdeps
    PERL_MM_USE_DEFAULT = 1
    PERL_USE_UNSAFE_INC = 1
    PROCESSOR_IDENTIFIER = x86 Family 6 Model 15 Stepping 11, GenuineIntel
    TEMP = C:\Users\smoker\AppData\Local\Temp

Perl special variables (and OS-specific diagnostics, for MSWin32):

    $^X = C:\Strawberry\perl\bin\perl.exe
    $UID/$EUID = 0 / 0
    $GID = 0
    $EGID = 0
    Win32::GetOSName = Win10
    Win32::GetOSVersion = , 10, 0, 19045, 2, 0, 0, 256, 1
    Win32::FsType = NTFS
    Win32::IsAdminUser = 0

Perl module toolchain versions installed:

    Module              Have    
    ------------------- --------
    CPAN                2.36    
    CPAN::Meta          2.150010
    Cwd                 3.89    
    ExtUtils::CBuilder  0.280238
    ExtUtils::Command   7.70    
    ExtUtils::Install   2.22    
    ExtUtils::MakeMaker 7.70    
    ExtUtils::Manifest  1.75    
    ExtUtils::ParseXS   3.51    
    File::Spec          3.88    
    JSON                4.10    
    JSON::PP            4.16    
    Module::Build       0.4234  
    Module::Signature   n/a     
    Parse::CPAN::Meta   2.150010
    Test2               1.302199
    Test::Harness       3.49_01 
    Test::More          1.302199
    YAML                1.31    
    YAML::Syck          1.34    
    version             0.9932  


--

Summary of my perl5 (revision 5 version 38 subversion 2) configuration:
   
  Platform:
    osname=MSWin32
    osvers=10.0.19045.4291
    archname=MSWin32-x86-multi-thread-64int
    uname='Win32 strawberry-perl 5.38.2.2 # 14:58:40 Sun April 21 2024 x32'
    config_args='undef'
    hint=recommended
    useposix=true
    d_sigaction=undef
    useithreads=define
    usemultiplicity=define
    use64bitint=define
    use64bitall=undef
    uselongdouble=undef
    usemymalloc=n
    default_inc_excludes_dot=define
  Compiler:
    cc='gcc'
    ccflags =' -DWIN32  -DPERL_TEXTMODE_SCRIPTS -DMULTIPLICITY -DPERL_IMPLICIT_SYS -DUSE_PERLIO -D__USE_MINGW_ANSI_STDIO -fwrapv -fno-strict-aliasing -mms-bitfields'
    optimize='-Os -falign-functions -falign-jumps -falign-labels -falign-loops -freorder-blocks -freorder-blocks-algorithm=stc -freorder-blocks-and-partition'
    cppflags='-DWIN32'
    ccversion=''
    gccversion='8.3.0'
    gccosandvers=''
    intsize=4
    longsize=4
    ptrsize=4
    doublesize=8
    byteorder=12345678
    doublekind=3
    d_longlong=define
    longlongsize=8
    d_longdbl=define
    longdblsize=12
    longdblkind=3
    ivtype='long long'
    ivsize=8
    nvtype='double'
    nvsize=8
    Off_t='long long'
    lseeksize=8
    alignbytes=8
    prototype=define
  Linker and Libraries:
    ld='g++'
    ldflags ='-s -L"C:\strawberry\perl\lib\CORE" -L"C:\strawberry\c\lib" -L"C:\strawberry\c\i686-w64-mingw32\lib" -L"C:\strawberry\c\lib\gcc\i686-w64-mingw32\8.3.0"'
    libpth=C:\strawberry\c\lib C:\strawberry\c\i686-w64-mingw32\lib C:\strawberry\c\lib\gcc\i686-w64-mingw32\8.3.0 C:\strawberry\c\i686-w64-mingw32\lib C:\strawberry\c\lib\gcc\i686-w64-mingw32\8.3.0
    libs= -lmoldname -lkernel32 -luser32 -lgdi32 -lwinspool -lcomdlg32 -ladvapi32 -lshell32 -lole32 -loleaut32 -lnetapi32 -luuid -lws2_32 -lmpr -lwinmm -lversion -lodbc32 -lodbccp32 -lcomctl32
    perllibs= -lmoldname -lkernel32 -luser32 -lgdi32 -lwinspool -lcomdlg32 -ladvapi32 -lshell32 -lole32 -loleaut32 -lnetapi32 -luuid -lws2_32 -lmpr -lwinmm -lversion -lodbc32 -lodbccp32 -lcomctl32
    libc=
    so=dll
    useshrplib=true
    libperl=libperl538.a
    gnulibc_version=''
  Dynamic Linking:
    dlsrc=dl_win32.xs
    dlext=xs.dll
    d_dlsymun=undef
    ccdlflags=' '
    cccdlflags=' '
    lddlflags='-shared -s -L"C:\strawberry\perl\lib\CORE" -L"C:\strawberry\c\lib" -L"C:\strawberry\c\i686-w64-mingw32\lib" -L"C:\strawberry\c\lib\gcc\i686-w64-mingw32\8.3.0"'


Characteristics of this binary (from libperl): 
  Compile-time options:
    HAS_LONG_DOUBLE
    HAS_TIMES
    HAVE_INTERP_INTERN
    MULTIPLICITY
    PERLIO_LAYERS
    PERL_COPY_ON_WRITE
    PERL_DONT_CREATE_GVSV
    PERL_HASH_FUNC_SIPHASH13
    PERL_HASH_USE_SBOX32
    PERL_IMPLICIT_SYS
    PERL_MALLOC_WRAP
    PERL_OP_PARENT
    PERL_PRESERVE_IVUV
    PERL_USE_SAFE_PUTENV
    USE_64_BIT_INT
    USE_ITHREADS
    USE_LARGE_FILES
    USE_LOCALE
    USE_LOCALE_COLLATE
    USE_LOCALE_CTYPE
    USE_LOCALE_NUMERIC
    USE_LOCALE_TIME
    USE_PERLIO
    USE_PERL_ATOF
  Built under MSWin32
  Compiled at Apr 21 2024 17:11:56
  %ENV:
    PERL5_CPANPLUS_IS_RUNNING="7200"
    PERL5_CPAN_IS_RUNNING="7200"
    PERL5_CPAN_IS_RUNNING_IN_RECURSION="9776,7200"
    PERL_CR_SMOKER_CURRENT="StorageDisplay-2.06"
    PERL_EXTUTILS_AUTOINSTALL="--defaultdeps"
    PERL_MM_USE_DEFAULT="1"
    PERL_USE_UNSAFE_INC="1"
  @INC:
    C:/Strawberry/perl/site/lib/MSWin32-x86-multi-thread-64int
    C:/Strawberry/perl/site/lib
    C:/Strawberry/perl/vendor/lib
    C:/Strawberry/perl/lib
    .