Math-PlanePath v129 Perl 5 v5.16.2 armv7l-linux

Status
Pass
From
Nigel Horne
Dist
Math-PlanePath v129
Platform
Perl 5 v5.16.2 armv7l-linux
Date
2021-01-19 07:47:50
ID
a103ee3c-5a2a-11eb-b9db-b6c7a8faccfa
This distribution has been tested as part of the CPAN Testers
project, supporting the Perl programming language.  See
http://wiki.cpantesters.org/ for more information or email
questions to cpan-testers-discuss@perl.org


--
Dear Kevin Ryde,

This is a computer-generated report for Math-PlanePath-129
on perl 5.16.2, created by CPAN-Reporter-1.2018.

Thank you for uploading your work to CPAN.  Congratulations!
All tests were successful.

Sections of this report:

    * Tester comments
    * Program output
    * Prerequisites
    * Environment and other context

------------------------------
TESTER COMMENTS
------------------------------

Additional comments from tester:

this report is from an automated smoke testing program
and was not reviewed by a human for accuracy

------------------------------
PROGRAM OUTPUT
------------------------------

Output from '/usr/bin/make test':

PERL_DL_NONLAZY=1 "/home/smoker/perl5/perlbrew/perls/perl-5.16.2/bin/perl5.16.2" "-MExtUtils::Command::MM" "-MTest::Harness" "-e" "undef *Test::Harness::Switches; test_harness(0, 'blib/lib', 'blib/arch')" t/*.t
t/AlternateTerdragon.t .......... ok
t/ArchimedeanChords.t ........... ok
t/AlternatePaperMidpoint.t ...... ok
# modulo operator dodginess ((~0)%2) != ((~0)&1): no (good)
# round_down_pow(3) tests stop for round-off at i=33
# round_up_pow(3) tests stop for round-off at i=32
t/Base-Digits.t ................. ok
t/AztecDiamondRings.t ........... ok
# Data::Float not available
t/Base-Generic.t ................ ok
t/AnvilSpiral.t ................. ok
# Math::BigFloat version 1.997
# Math::BigInt version 1.998
t/BetaOmeta.t ................... ok
# Math::BigInt version 1.998
# Math::BigInt version 1.998
# skip due to Math::BigInt::Lite not available -- Can't locate Math/BigInt/Lite.pm in @INC (@INC contains: t /tmp/build/Math-PlanePath-129-0/blib/lib /tmp/build/Math-PlanePath-129-0/blib/arch /tmp/build/constant-defer-6-0/blib/arch /tmp/build/constant-defer-6-0/blib/lib /tmp/build/Math-Libm-1.00-0/blib/arch /tmp/build/Math-Libm-1.00-0/blib/lib /home/smoker/perl5/perlbrew/perls/perl-5.16.2/lib/site_perl/5.16.2/armv7l-linux /home/smoker/perl5/perlbrew/perls/perl-5.16.2/lib/site_perl/5.16.2 /home/smoker/perl5/perlbrew/perls/perl-5.16.2/lib/5.16.2/armv7l-linux /home/smoker/perl5/perlbrew/perls/perl-5.16.2/lib/5.16.2 .) at t/bigint-lite.t line 31.
# 
t/bigint-lite.t ................. ok
t/CCurve.t ...................... ok
# +inf is inf
# -inf is -inf
# nan is NaN
t/AlternatePaper.t .............. ok
# bitwise check rule=2
# bitwise check rule=4
# bitwise check rule=6
# bitwise check rule=10
# bitwise check rule=12
# bitwise check rule=14
# bitwise check rule=16
# bitwise check rule=18
# bitwise check rule=20
# bitwise check rule=24
# bitwise check rule=26
# bitwise check rule=34
# bitwise check rule=36
# bitwise check rule=38
# bitwise check rule=42
# bitwise check rule=44
# bitwise check rule=46
# bitwise check rule=48
# bitwise check rule=50
t/bigfloat.t .................... ok
# bitwise check rule=52
# bitwise check rule=54
# bitwise check rule=56
# bitwise check rule=57
# bitwise check rule=58
# bitwise check rule=60
# bitwise check rule=66
# bitwise check rule=68
t/CfracDigits.t ................. ok
t/CellularRule190.t ............. ok
# bitwise check rule=74
# bitwise check rule=76
# bitwise check rule=80
# bitwise check rule=82
# bitwise check rule=84
# bitwise check rule=88
# bitwise check rule=90
# bitwise check rule=98
# bitwise check rule=99
# bitwise check rule=100
# bitwise check rule=102
# bitwise check rule=106
# bitwise check rule=108
# bitwise check rule=112
# bitwise check rule=114
# bitwise check rule=116
# bitwise check rule=120
# bitwise check rule=122
# bitwise check rule=130
# bitwise check rule=132
# bitwise check rule=134
# bitwise check rule=138
# bitwise check rule=140
# bitwise check rule=142
# bitwise check rule=144
# bitwise check rule=146
t/ChanTree.t .................... ok
# bitwise check rule=148
# bitwise check rule=151
# bitwise check rule=152
# bitwise check rule=154
# bitwise check rule=159
# bitwise check rule=162
# bitwise check rule=164
# bitwise check rule=166
t/Columns-load.t ................ ok
# bitwise check rule=170
# bitwise check rule=172
# bitwise check rule=174
# bitwise check rule=176
# bitwise check rule=178
# bitwise check rule=179
# bitwise check rule=180
# bitwise check rule=183
# bitwise check rule=184
# bitwise check rule=186
# bitwise check rule=190
# bitwise check rule=191
# bitwise check rule=194
t/Columns.t ..................... ok
# bitwise check rule=196
# bitwise check rule=202
# bitwise check rule=204
# bitwise check rule=206
# bitwise check rule=208
# bitwise check rule=210
# bitwise check rule=212
# bitwise check rule=215
# bitwise check rule=216
# bitwise check rule=218
# bitwise check rule=220
# bitwise check rule=222
# bitwise check rule=223
# bitwise check rule=226
# bitwise check rule=228
# bitwise check rule=234
# bitwise check rule=236
# bitwise check rule=238
# bitwise check rule=240
# bitwise check rule=242
# bitwise check rule=244
# bitwise check rule=246
# bitwise check rule=247
# bitwise check rule=248
# bitwise check rule=250
# bitwise check rule=252
# bitwise check rule=254
# bitwise check rule=255
# bitwise checks 102
t/CellularRule.t ................ ok
t/ComplexPlus.t ................. ok
t/CincoCurve.t .................. ok
t/ComplexMinus.t ................ ok
t/CornerAlternating.t ........... ok
t/Corner.t ...................... ok
t/CoprimeColumns.t .............. ok
t/CornerReplicate.t ............. ok
t/CubicBase.t ................... ok
t/Diagonals.t ................... ok
t/DiamondArms.t ................. ok
t/DiagonalRationals.t ........... ok
t/DiamondSpiral.t ............... ok
t/DigitGroups.t ................. ok
t/DragonCurve.t ................. ok
t/DivisibleColumns.t ............ ok
t/DragonMidpoint.t .............. ok
t/DragonRounded.t ............... ok
t/FactorRationals.t ............. ok
t/File.t ........................ ok
t/FibonacciWordFractal.t ........ ok
t/FilledRings.t ................. ok
t/Flowsnake.t ................... ok
t/DekkingCurve.t ................ ok
t/GcdRationals.t ................ ok
t/FlowsnakeCentres.t ............ ok
t/GosperSide.t .................. ok
t/GrayCode.t .................... ok
t/GosperReplicate.t ............. ok
t/HexArms.t ..................... ok
t/HexSpiral-load.t .............. ok
t/HexSpiral.t ................... ok
t/HexSpiralSkewed-unskew.t ...... ok
t/HexSpiralSkewed.t ............. ok
t/HilbertCurve-load.t ........... ok
t/bigint.t ...................... ok
t/HilbertCurve.t ................ ok
t/HilbertSpiral.t ............... ok
t/HIndexing.t ................... ok
t/Hypot.t ....................... ok
t/HypotOctant.t ................. ok
t/ImaginaryHalf.t ............... ok
t/ImaginaryBase.t ............... ok
t/GosperIslands.t ............... ok
t/KochelCurve.t ................. ok
t/KochCurve.t ................... ok
t/KnightSpiral.t ................ ok
t/KochSnowflakes.t .............. ok
t/KochPeaks.t ................... ok
t/KochSquareflakes.t ............ ok
t/LTiling.t ..................... ok
# skip due to Math::NumSeq not available -- Can't locate Math/NumSeq.pm in @INC (@INC contains: t /tmp/build/Math-PlanePath-129-0/blib/lib /tmp/build/Math-PlanePath-129-0/blib/arch /tmp/build/constant-defer-6-0/blib/arch /tmp/build/constant-defer-6-0/blib/lib /tmp/build/Math-Libm-1.00-0/blib/arch /tmp/build/Math-Libm-1.00-0/blib/lib /home/smoker/perl5/perlbrew/perls/perl-5.16.2/lib/site_perl/5.16.2/armv7l-linux /home/smoker/perl5/perlbrew/perls/perl-5.16.2/lib/site_perl/5.16.2 /home/smoker/perl5/perlbrew/perls/perl-5.16.2/lib/5.16.2/armv7l-linux /home/smoker/perl5/perlbrew/perls/perl-5.16.2/lib/5.16.2 .) at t/NumSeq-PlanePathCoord.t line 31.
# 
t/NumSeq-PlanePathCoord.t ....... ok
# skip due to Math::NumSeq not available -- Can't locate Math/NumSeq.pm in @INC (@INC contains: t /tmp/build/Math-PlanePath-129-0/blib/lib /tmp/build/Math-PlanePath-129-0/blib/arch /tmp/build/constant-defer-6-0/blib/arch /tmp/build/constant-defer-6-0/blib/lib /tmp/build/Math-Libm-1.00-0/blib/arch /tmp/build/Math-Libm-1.00-0/blib/lib /home/smoker/perl5/perlbrew/perls/perl-5.16.2/lib/site_perl/5.16.2/armv7l-linux /home/smoker/perl5/perlbrew/perls/perl-5.16.2/lib/site_perl/5.16.2 /home/smoker/perl5/perlbrew/perls/perl-5.16.2/lib/5.16.2/armv7l-linux /home/smoker/perl5/perlbrew/perls/perl-5.16.2/lib/5.16.2 .) at t/NumSeq-PlanePathDelta.t line 35.
# 
t/NumSeq-PlanePathDelta.t ....... ok
t/MultipleRings.t ............... ok
# skip due to Number::Fraction 1.14 not available -- Can't locate Number/Fraction.pm in @INC (@INC contains: t /tmp/build/Math-PlanePath-129-0/blib/lib /tmp/build/Math-PlanePath-129-0/blib/arch /tmp/build/constant-defer-6-0/blib/arch /tmp/build/constant-defer-6-0/blib/lib /tmp/build/Math-Libm-1.00-0/blib/arch /tmp/build/Math-Libm-1.00-0/blib/lib /home/smoker/perl5/perlbrew/perls/perl-5.16.2/lib/site_perl/5.16.2/armv7l-linux /home/smoker/perl5/perlbrew/perls/perl-5.16.2/lib/site_perl/5.16.2 /home/smoker/perl5/perlbrew/perls/perl-5.16.2/lib/5.16.2/armv7l-linux /home/smoker/perl5/perlbrew/perls/perl-5.16.2/lib/5.16.2 .) at (eval 1) line 1.
# BEGIN failed--compilation aborted at (eval 1) line 1.
# 
t/number-fraction.t ............. ok
# skip due to Math::NumSeq not available -- Can't locate Math/NumSeq.pm in @INC (@INC contains: t /tmp/build/Math-PlanePath-129-0/blib/lib /tmp/build/Math-PlanePath-129-0/blib/arch /tmp/build/constant-defer-6-0/blib/arch /tmp/build/constant-defer-6-0/blib/lib /tmp/build/Math-Libm-1.00-0/blib/arch /tmp/build/Math-Libm-1.00-0/blib/lib /home/smoker/perl5/perlbrew/perls/perl-5.16.2/lib/site_perl/5.16.2/armv7l-linux /home/smoker/perl5/perlbrew/perls/perl-5.16.2/lib/site_perl/5.16.2 /home/smoker/perl5/perlbrew/perls/perl-5.16.2/lib/5.16.2/armv7l-linux /home/smoker/perl5/perlbrew/perls/perl-5.16.2/lib/5.16.2 .) at t/NumSeq-PlanePathN.t line 31.
# 
t/NumSeq-PlanePathN.t ........... ok
# skip due to Math::NumSeq not available -- Can't locate Math/NumSeq.pm in @INC (@INC contains: t /tmp/build/Math-PlanePath-129-0/blib/lib /tmp/build/Math-PlanePath-129-0/blib/arch /tmp/build/constant-defer-6-0/blib/arch /tmp/build/constant-defer-6-0/blib/lib /tmp/build/Math-Libm-1.00-0/blib/arch /tmp/build/Math-Libm-1.00-0/blib/lib /home/smoker/perl5/perlbrew/perls/perl-5.16.2/lib/site_perl/5.16.2/armv7l-linux /home/smoker/perl5/perlbrew/perls/perl-5.16.2/lib/site_perl/5.16.2 /home/smoker/perl5/perlbrew/perls/perl-5.16.2/lib/5.16.2/armv7l-linux /home/smoker/perl5/perlbrew/perls/perl-5.16.2/lib/5.16.2 .) at t/NumSeq-PlanePathTurn.t line 35.
# 
t/NumSeq-PlanePathTurn.t ........ ok
t/PeanoCurve-load.t ............. ok
t/GreekKeySpiral.t .............. ok
t/PlanePath.t ................... ok
t/PeanoCurve.t .................. ok
t/PyramidRows.t ................. ok
# have_53bits: 0
t/PythagoreanTree.t ............. ok
t/QuadricIslands.t .............. ok
t/QuadricCurve.t ................ ok
t/PixelRings.t .................. ok
t/QuintetReplicate.t ............ ok
t/RationalsTree.t ............... ok
t/Rows-load.t ................... ok
t/Rows.t ........................ ok
t/QuintetCurve.t ................ ok
t/PeanoDiagonals.t .............. ok
t/SacksSpiral.t ................. ok
t/SierpinskiArrowheadCentres.t .. ok
t/SierpinskiArrowhead.t ......... ok
t/QuintetCentres.t .............. ok
t/SierpinskiTriangle.t .......... ok
t/SquareSpiral.t ................ ok
t/Staircase.t ................... ok
t/SierpinskiCurveStair.t ........ ok
t/TerdragonCurve.t .............. ok
t/TerdragonMidpoint.t ........... ok
t/TheodorusSpiral.t ............. ok
t/SierpinskiCurve.t ............. ok
t/TrianguleSpiral.t ............. ok
t/UlamWarburton.t ............... ok
t/SquareReplicate.t ............. ok
t/TriangularHypot.t ............. ok
t/VogelFloret.t ................. ok
t/WythoffArray.t ................ ok
t/UlamWarburtonQuarter.t ........ ok
t/ZOrderCurve.t ................. ok
t/StaircaseAlternating.t ........ ok
All tests successful.
Files=110, Tests=38499, 34 wallclock secs ( 8.73 usr  0.73 sys + 52.30 cusr  2.37 csys = 64.13 CPU)
Result: PASS

------------------------------
PREREQUISITES
------------------------------

Prerequisite modules loaded:

requires:

    Module              Need  Have    
    ------------------- ----- --------
    constant            1.02  1.23    
    constant::defer     5     6       
    List::Util          0     1.54    
    Math::Libm          0     1.00    
    perl                5.004 5.016002

build_requires:

    Module              Need  Have    
    ------------------- ----- --------
    ExtUtils::MakeMaker 0     7.44    
    Test                0     1.25_02 

configure_requires:

    Module              Need  Have    
    ------------------- ----- --------
    ExtUtils::MakeMaker 0     7.44    


------------------------------
ENVIRONMENT AND OTHER CONTEXT
------------------------------

Environment variables:

    AUTOMATED_TESTING = 1
    HARNESS_OPTIONS = j4
    NONINTERACTIVE_TESTING = 1
    PATH = /home/smoker/perl5/perlbrew/bin:/home/smoker/perl5/perlbrew/perls/perl-5.16.2/bin:/usr/local/sbin:/usr/local/bin:/usr/sbin:/usr/bin:/sbin:/bin
    PERL5LIB = /tmp/build/constant-defer-6-0/blib/arch:/tmp/build/constant-defer-6-0/blib/lib:/tmp/build/Math-Libm-1.00-0/blib/arch:/tmp/build/Math-Libm-1.00-0/blib/lib
    PERL5OPT = 
    PERL5_CPANPLUS_IS_RUNNING = 4242
    PERL5_CPAN_IS_RUNNING = 4242
    PERLBREW_HOME = /home/smoker/.perlbrew
    PERLBREW_MANPATH = /home/smoker/perl5/perlbrew/perls/perl-5.16.2/man
    PERLBREW_PATH = /home/smoker/perl5/perlbrew/bin:/home/smoker/perl5/perlbrew/perls/perl-5.16.2/bin
    PERLBREW_PERL = perl-5.16.2
    PERLBREW_ROOT = /home/smoker/perl5/perlbrew
    PERLBREW_SHELLRC_VERSION = 0.88
    PERLBREW_VERSION = 0.88
    PERL_MM_USE_DEFAULT = 1
    PERL_USE_UNSAFE_INC = 1
    SHELL = /bin/bash
    TERM = xterm
    TMPDIR = /tmp/testwrapper.4231

Perl special variables (and OS-specific diagnostics, for MSWin32):

    $^X = /home/smoker/perl5/perlbrew/perls/perl-5.16.2/bin/perl5.16.2
    $UID/$EUID = 1000 / 1000
    $GID = 1000
    $EGID = 1000

Perl module toolchain versions installed:

    Module              Have    
    ------------------- --------
    CPAN                2.27    
    CPAN::Meta          2.143240
    Cwd                 3.75    
    ExtUtils::CBuilder  0.280206
    ExtUtils::Command   7.44    
    ExtUtils::Install   2.06    
    ExtUtils::MakeMaker 7.44    
    ExtUtils::Manifest  1.70    
    ExtUtils::ParseXS   3.16    
    File::Spec          3.75    
    JSON                4.02    
    JSON::PP            2.27203 
    Module::Build       0.39_01 
    Module::Signature   n/a     
    Parse::CPAN::Meta   1.4414  
    Test::Harness       3.42    
    Test::More          1.302171
    YAML                1.30    
    YAML::Syck          1.32    
    version             0.99    


--

Summary of my perl5 (revision 5 version 16 subversion 2) configuration:
   
  Platform:
    osname=linux, osvers=4.19.75-v7l+, archname=armv7l-linux
    uname='linux 5912da58b734 4.19.75-v7l+ #1270 smp tue sep 24 18:51:41 bst 2019 armv7l gnulinux '
    config_args='-de -Dprefix=/home/smoker/perl5/perlbrew/perls/perl-5.16.2 -Dusedevel -Accflags=-O2 -pipe -Wall -Wextra -mtune=native -march=native -Aeval:scriptdir=/home/smoker/perl5/perlbrew/perls/perl-5.16.2/bin'
    hint=recommended, useposix=true, d_sigaction=define
    useithreads=undef, usemultiplicity=undef
    useperlio=define, d_sfio=undef, uselargefiles=define, usesocks=undef
    use64bitint=undef, use64bitall=undef, uselongdouble=undef
    usemymalloc=n, bincompat5005=undef
  Compiler:
    cc='cc', ccflags ='-O2 -pipe -Wall -Wextra -mtune=native -march=native -fwrapv -fno-strict-aliasing -fstack-protector -I/usr/local/include -D_LARGEFILE_SOURCE -D_FILE_OFFSET_BITS=64',
    optimize='-O2',
    cppflags='-O2 -pipe -Wall -Wextra -mtune=native -march=native -fwrapv -fno-strict-aliasing -fstack-protector -I/usr/local/include'
    ccversion='', gccversion='8.3.0', gccosandvers=''
    intsize=4, longsize=4, ptrsize=4, doublesize=8, byteorder=1234
    d_longlong=define, longlongsize=8, d_longdbl=define, longdblsize=8
    ivtype='long', ivsize=4, nvtype='double', nvsize=8, Off_t='off_t', lseeksize=8
    alignbytes=8, prototype=define
  Linker and Libraries:
    ld='cc', ldflags =' -fstack-protector -L/usr/local/lib'
    libpth=/usr/local/lib /lib/arm-linux-gnueabihf /lib /usr/lib/arm-linux-gnueabihf /usr/lib
    libs=-lnsl -ldl -lm -lcrypt -lutil -lc
    perllibs=-lnsl -ldl -lm -lcrypt -lutil -lc
    libc=libc-2.28.so, so=so, useshrplib=false, libperl=libperl.a
    gnulibc_version='2.28'
  Dynamic Linking:
    dlsrc=dl_dlopen.xs, dlext=so, d_dlsymun=undef, ccdlflags='-Wl,-E'
    cccdlflags='-fPIC', lddlflags='-shared -O2 -L/usr/local/lib -fstack-protector'


Characteristics of this binary (from libperl): 
  Compile-time options: HAS_TIMES PERLIO_LAYERS PERL_DONT_CREATE_GVSV
                        PERL_MALLOC_WRAP PERL_PRESERVE_IVUV PERL_USE_DEVEL
                        USE_LARGE_FILES USE_LOCALE USE_LOCALE_COLLATE
                        USE_LOCALE_CTYPE USE_LOCALE_NUMERIC USE_PERLIO
                        USE_PERL_ATOF
  Locally applied patches:
	Devel::PatchPerl 1.84
  Built under linux
  Compiled at Feb  2 2020 20:30:33
  %ENV:
    PERL5LIB="/tmp/build/constant-defer-6-0/blib/arch:/tmp/build/constant-defer-6-0/blib/lib:/tmp/build/Math-Libm-1.00-0/blib/arch:/tmp/build/Math-Libm-1.00-0/blib/lib"
    PERL5OPT=""
    PERL5_CPANPLUS_IS_RUNNING="4242"
    PERL5_CPAN_IS_RUNNING="4242"
    PERLBREW_HOME="/home/smoker/.perlbrew"
    PERLBREW_MANPATH="/home/smoker/perl5/perlbrew/perls/perl-5.16.2/man"
    PERLBREW_PATH="/home/smoker/perl5/perlbrew/bin:/home/smoker/perl5/perlbrew/perls/perl-5.16.2/bin"
    PERLBREW_PERL="perl-5.16.2"
    PERLBREW_ROOT="/home/smoker/perl5/perlbrew"
    PERLBREW_SHELLRC_VERSION="0.88"
    PERLBREW_VERSION="0.88"
    PERL_MM_USE_DEFAULT="1"
    PERL_USE_UNSAFE_INC="1"
  @INC:
    /tmp/build/constant-defer-6-0/blib/arch
    /tmp/build/constant-defer-6-0/blib/lib
    /tmp/build/Math-Libm-1.00-0/blib/arch
    /tmp/build/Math-Libm-1.00-0/blib/lib
    /home/smoker/perl5/perlbrew/perls/perl-5.16.2/lib/site_perl/5.16.2/armv7l-linux
    /home/smoker/perl5/perlbrew/perls/perl-5.16.2/lib/site_perl/5.16.2
    /home/smoker/perl5/perlbrew/perls/perl-5.16.2/lib/5.16.2/armv7l-linux
    /home/smoker/perl5/perlbrew/perls/perl-5.16.2/lib/5.16.2
    .