Report for Gtk2-Ex-WidgetBits-48

Back
From: metabase:user:320bfe00-2aae-11df-837a-5e0a49663a4f
Subject: PASS Gtk2-Ex-WidgetBits-48 v5.21.3 GNU/Linux
Date: 2014-08-02T05:48:29Z

This distribution has been tested as part of the CPAN Testers
project, supporting the Perl programming language.  See
http://wiki.cpantesters.org/ for more information or email
questions to cpan-testers-discuss@perl.org


--
Dear Kevin Ryde,

This is a computer-generated report for Gtk2-Ex-WidgetBits-48
on perl 5.21.3, created by CPAN-Reporter-1.2011.

Thank you for uploading your work to CPAN.  Congratulations!
All tests were successful.

Sections of this report:

    * Tester comments
    * Program output
    * Prerequisites
    * Environment and other context

------------------------------
TESTER COMMENTS
------------------------------

Additional comments from tester:

this report is from an automated smoke testing program
and was not reviewed by a human for accuracy

------------------------------
PROGRAM OUTPUT
------------------------------

Output from '/usr/bin/make test':

PERL_DL_NONLAZY=1 /tmp/basesmoker-reloperl-ob9u/bin/perl "-MExtUtils::Command::MM" "-MTest::Harness" "-e" "undef *Test::Harness::Switches; test_harness(0, 'blib/lib', 'blib/arch')" t/*.t
# Perl-Gtk2    version 1.2492
# Perl-Glib    version 1.305
# Compiled against Glib version 2.40.0.
# Running on       Glib version 2.40.0.
# Compiled against Gtk version 2.24.24.
# Running on       Gtk version 2.24.24.
t/ActionTooltips-import.t .............. ok
Xlib:  extension "RANDR" missing on display ":121".
# Perl-Gtk2    version 1.2492
# Perl-Glib    version 1.305
# Compiled against Glib version 2.40.0.
# Running on       Glib version 2.40.0.
# Compiled against Gtk version 2.24.24.
# Running on       Gtk version 2.24.24.
t/ActionTooltips.t ..................... ok
# Perl-Gtk2    version 1.2492
# Perl-Glib    version 1.305
# Compiled against Glib version 2.40.0.
# Running on       Glib version 2.40.0.
# Compiled against Gtk version 2.24.24.
# Running on       Gtk version 2.24.24.
# notify page_size
# changed
# value_changed
# notify value
# notify lower
# notify upper
# changed
# value_changed
# notify value
# notify lower
# changed
# value_changed
# notify lower
# notify upper
# notify step_increment
# notify value
# notify page_increment
# notify page_size
# changed
t/AdjustmentBits.t ..................... ok
t/ContainerBits-import.t ............... ok
t/ContainerBits-subclass.t ............. ok
# Perl-Gtk2    version 1.2492
# Perl-Glib    version 1.305
# Compiled against Glib version 2.40.0.
# Running on       Glib version 2.40.0.
# Compiled against Gtk version 2.24.24.
# Running on       Gtk version 2.24.24.
t/ContainerBits.t ...................... ok
Xlib:  extension "RANDR" missing on display ":121".
# Perl-Gtk2    version 1.2492
# Perl-Glib    version 1.305
# Compiled against Glib version 2.40.0.
# Running on       Glib version 2.40.0.
# Compiled against Gtk version 2.24.24.
# Running on       Gtk version 2.24.24.
# [ sensitive parent-sensitive can-focus double-buffered ]
# [ sensitive parent-sensitive double-buffered ]
t/EntryBits.t .......................... ok
# Perl-Gtk2    version 1.2492
# Perl-Glib    version 1.305
# Compiled against Glib version 2.40.0.
# Running on       Glib version 2.40.0.
# Compiled against Gtk version 2.24.24.
# Running on       Gtk version 2.24.24.
t/FreezeChildNotify.t .................. ok
Xlib:  extension "RANDR" missing on display ":121".
t/GdkBits-import.t ..................... ok
Xlib:  extension "RANDR" missing on display ":121".
# Perl-Gtk2    version 1.2492
# Perl-Glib    version 1.305
# Compiled against Glib version 2.40.0.
# Running on       Glib version 2.40.0.
# Compiled against Gtk version 2.24.24.
# Running on       Gtk version 2.24.24.
t/GdkBits.t ............................ ok
Xlib:  extension "RANDR" missing on display ":121".
# Perl-Gtk2    version 1.2492
# Perl-Glib    version 1.305
# Compiled against Glib version 2.40.0.
# Running on       Glib version 2.40.0.
# Compiled against Gtk version 2.24.24.
# Running on       Gtk version 2.24.24.
t/KeySnooper.t ......................... ok
Xlib:  extension "RANDR" missing on display ":121".
t/LayoutBits.t ......................... ok
Xlib:  extension "RANDR" missing on display ":121".
t/MenuBits-import.t .................... ok
t/MenuBits-load.t ...................... ok
Xlib:  extension "RANDR" missing on display ":121".
t/MenuBits.t ........................... ok
Xlib:  extension "RANDR" missing on display ":121".
# Gtk2::Ex::MenuItem::Subclass Glib::Object::Subclass Gtk2::CheckMenuItem Glib::Object::_Unregistered::AtkImplementorIface Gtk2::Buildable Gtk2::Activatable
# subclass CODE(0x29db1e0)
# gobject  CODE(0x2a04308)
# testwidg CODE(0x29db1e0)
t/MenuItem-Subclass.t .................. ok
t/PixbufBits-load.t .................... ok
# Perl-Gtk2    version 1.2492
# Perl-Glib    version 1.305
# Compiled against Glib version 2.40.0.
# Running on       Glib version 2.40.0.
# Compiled against Gtk version 2.24.24.
# Running on       Gtk version 2.24.24.
t/PixbufBits.t ......................... ok
# re-create id 2 str Gtk2::Ex::Statusbar::DynamicContext.2
t/Statusbar-DynamicContext.t ........... ok
Xlib:  extension "RANDR" missing on display ":121".
# Perl-Gtk2    version 1.2492
# Perl-Glib    version 1.305
# Compiled against Glib version 2.40.0.
# Running on       Glib version 2.40.0.
# Compiled against Gtk version 2.24.24.
# Running on       Gtk version 2.24.24.
# main_iterations(): ran 6 events/iterations
t/Statusbar-Message.t .................. ok
Xlib:  extension "RANDR" missing on display ":121".
t/Statusbar-MessageUntilKey.t .......... ok
Xlib:  extension "RANDR" missing on display ":121".
# Perl-Gtk2    version 1.2492
# Perl-Glib    version 1.305
# Compiled against Glib version 2.40.0.
# Running on       Glib version 2.40.0.
# Compiled against Gtk version 2.24.24.
# Running on       Gtk version 2.24.24.
t/SyncCall.t ........................... ok
# Perl-Gtk2    version 1.2492
# Perl-Glib    version 1.305
# Compiled against Glib version 2.40.0.
# Running on       Glib version 2.40.0.
# Compiled against Gtk version 2.24.24.
# Running on       Gtk version 2.24.24.
t/TableBits.t .......................... ok
Xlib:  extension "RANDR" missing on display ":121".
t/Test-Weaken-Gtk2-ignore-display.t .... ok
Xlib:  extension "RANDR" missing on display ":121".
t/Test-Weaken-Gtk2-ignore-root.t ....... ok
Xlib:  extension "RANDR" missing on display ":121".
t/Test-Weaken-Gtk2-ignore-screen.t ..... ok
t/Test-Weaken-Gtk2-load.t .............. ok
# Perl-Gtk2    version 1.2492
# Perl-Glib    version 1.305
# Compiled against Glib version 2.40.0.
# Running on       Glib version 2.40.0.
# Compiled against Gtk version 2.24.24.
# Running on       Gtk version 2.24.24.
Xlib:  extension "RANDR" missing on display ":121".
t/Test-Weaken-Gtk2.t ................... ok
Test::Without::Gtk2Things -- without Gdk2::Gdk::Display and Gtk2::Gdk::Screen, per Gtk 2.0.x
Test::Without::Gtk2Things -- without Gtk2::Builder and Buildable interface, per Gtk before 2.12
Test::Without::Gtk2Things -- without Gtk2::Gdk::Display warp_pointer() method, per Gtk before 2.8
Test::Without::Gtk2Things -- without Gtk2::CellLayout get_cells() method, per Gtk before 2.12
Test::Without::Gtk2Things -- without Gtk2::CheckMenuItem/ToggleAction draw-as-radio property, per Gtk before 2.4
Test::Without::Gtk2Things -- without CursorType blank-cursor, per Gtk before 2.16
Test::Without::Gtk2Things -- without Gtk2::MenuItem label and use-underline properties, per Gtk before 2.16
Test::Without::Gtk2Things -- without ListStore,TreeStore insert_with_values(), per Gtk before 2.6
Test::Without::Gtk2Things -- without Gtk2::Widget tooltips, per Gtk before 2.12
Test::Without::Gtk2Things -- count without 9 things
t/Test-Without-Gtk2Things.t ............ ok
t/TextBufferBits.t ..................... ok
t/ToolbarBits-load.t ................... ok
# Perl-Gtk2    version 1.2492
# Perl-Glib    version 1.305
# Compiled against Glib version 2.40.0.
# Running on       Glib version 2.40.0.
# Compiled against Gtk version 2.24.24.
# Running on       Gtk version 2.24.24.
t/ToolItem-CheckButton-builder.t ....... ok
t/ToolItem-CheckButton-load.t .......... ok
Xlib:  extension "RANDR" missing on display ":121".
t/ToolItem-CheckButton-weaken.t ........ skipped: due to Test::Weaken 3 not available -- Can't locate Test/Weaken.pm in @INC (you may need to install the Test::Weaken module) (@INC contains: t /tmp/loop_over_bdir-5237-bAnqAn/Gtk2-Ex-WidgetBits-48-mnErmO/blib/lib /tmp/loop_over_bdir-5237-bAnqAn/Gtk2-Ex-WidgetBits-48-mnErmO/blib/arch /home/sand/src/perl/repoperls/installed-perls/perl/v5.21.2-87-g33e493d/165a/lib/site_perl/5.21.3/x86_64-linux /home/sand/src/perl/repoperls/installed-perls/perl/v5.21.2-87-g33e493d/165a/lib/site_perl/5.21.3 /home/sand/src/perl/repoperls/installed-perls/perl/v5.21.2-87-g33e493d/165a/lib/5.21.3/x86_64-linux /home/sand/src/perl/repoperls/installed-perls/perl/v5.21.2-87-g33e493d/165a/lib/5.21.3 .) at (eval 10) line 1.
Xlib:  extension "RANDR" missing on display ":121".
# Perl-Gtk2    version 1.2492
# Perl-Glib    version 1.305
# Compiled against Glib version 2.40.0.
# Running on       Glib version 2.40.0.
# Compiled against Gtk version 2.24.24.
# Running on       Gtk version 2.24.24.
t/ToolItem-CheckButton.t ............... ok
Xlib:  extension "RANDR" missing on display ":121".
t/ToolItem-OverflowToDialog-builder.t .. ok
Xlib:  extension "RANDR" missing on display ":121".
t/ToolItem-OverflowToDialog-weaken.t ... skipped: due to Test::Weaken 3 not available -- Can't locate Test/Weaken.pm in @INC (you may need to install the Test::Weaken module) (@INC contains: t /tmp/loop_over_bdir-5237-bAnqAn/Gtk2-Ex-WidgetBits-48-mnErmO/blib/lib /tmp/loop_over_bdir-5237-bAnqAn/Gtk2-Ex-WidgetBits-48-mnErmO/blib/arch /home/sand/src/perl/repoperls/installed-perls/perl/v5.21.2-87-g33e493d/165a/lib/site_perl/5.21.3/x86_64-linux /home/sand/src/perl/repoperls/installed-perls/perl/v5.21.2-87-g33e493d/165a/lib/site_perl/5.21.3 /home/sand/src/perl/repoperls/installed-perls/perl/v5.21.2-87-g33e493d/165a/lib/5.21.3/x86_64-linux /home/sand/src/perl/repoperls/installed-perls/perl/v5.21.2-87-g33e493d/165a/lib/5.21.3 .) at (eval 10) line 1.
Xlib:  extension "RANDR" missing on display ":121".
# main_iterations(): ran 2 events/iterations
# main_iterations(): ran 1 events/iterations
# main_iterations(): ran 1 events/iterations
# main_iterations(): ran 12 events/iterations
t/ToolItem-OverflowToDialog.t .......... ok
t/TreeModel-ImplBits-import.t .......... ok
t/TreeModel-ImplBits.t ................. ok
t/TreeModelBits-import.t ............... ok
# Perl-Gtk2    version 1.2492
# Perl-Glib    version 1.305
# Compiled against Glib version 2.40.0.
# Running on       Glib version 2.40.0.
# Compiled against Gtk version 2.24.24.
# Running on       Gtk version 2.24.24.
t/TreeModelBits.t ...................... ok
# MyOneRemovesAll remove() all
t/TreeModelFilter-Change.t ............. ok
t/TreeViewBits.t ....................... ok
Xlib:  extension "RANDR" missing on display ":121".
t/Units-import.t ....................... ok
Xlib:  extension "RANDR" missing on display ":121".
# Perl-Gtk2    version 1.2492
# Perl-Glib    version 1.305
# Compiled against Glib version 2.40.0.
# Running on       Glib version 2.40.0.
# Compiled against Gtk version 2.24.24.
# Running on       Gtk version 2.24.24.
# em=12, ex=8, char=7.0673828125, digit=9
t/Units.t .............................. ok
Xlib:  extension "RANDR" missing on display ":121".
# Perl-Gtk2    version 1.2492
# Perl-Glib    version 1.305
# Compiled against Glib version 2.40.0.
# Running on       Glib version 2.40.0.
# Compiled against Gtk version 2.24.24.
# Running on       Gtk version 2.24.24.
# wait_for_event(): 'map-event' ran 2 events/iterations
# toplevel at 0, 0
# wait_for_event(): 'size-allocate' ran 3 events/iterations
# layout win relative position 0,0
# toplevel at 0, 0
# layout   at 0, 0
# main_iterations(): ran 2 events/iterations
# toplevel at 0, 0
# label   at 20, 30
# wait_for_event(): 'map-event' ran 4 events/iterations
t/WidgetBits.t ......................... ok
# Perl-Gtk2    version 1.2492
# Perl-Glib    version 1.305
# Compiled against Glib version 2.40.0.
# Running on       Glib version 2.40.0.
# Compiled against Gtk version 2.24.24.
# Running on       Gtk version 2.24.24.
Xlib:  extension "RANDR" missing on display ":121".
t/WidgetEvents.t ....................... ok
All tests successful.
Files=48, Tests=783,  3 wallclock secs ( 0.16 usr  0.05 sys +  3.14 cusr  0.40 csys =  3.75 CPU)
Result: PASS

------------------------------
PREREQUISITES
------------------------------

Prerequisite modules loaded:

requires:

    Module                 Need  Have    
    ---------------------- ----- --------
    Glib                   0     1.305   
    Glib::Ex::FreezeNotify 1     16      
    Glib::Ex::SignalIds    1     16      
    Glib::Object::Subclass 0     1.305   
    Gtk2                   1.200 1.2492  
    Gtk2::Pango            0     0.01    
    perl                   5.008 5.021003
    Scope::Guard           0     0.20    

build_requires:

    Module                 Need  Have    
    ---------------------- ----- --------
    ExtUtils::MakeMaker    0     6.98    

configure_requires:

    Module                 Need  Have    
    ---------------------- ----- --------
    ExtUtils::MakeMaker    0     6.98    


------------------------------
ENVIRONMENT AND OTHER CONTEXT
------------------------------

Environment variables:

    AUTOMATED_TESTING = 1
    LANG = en_US.UTF-8
    LANGUAGE = en_US:en
    PATH = /usr/lib/ccache:/home/sand/bin:/usr/local/bin:/usr/bin:/bin:/usr/games:/usr/local/perl/bin:/usr/X11/bin:/sbin:/usr/sbin
    PERL5LIB = 
    PERL5OPT = 
    PERL5_CPANPLUS_IS_RUNNING = 5394
    PERL5_CPAN_IS_RUNNING = 5394
    PERL_MM_USE_DEFAULT = 1
    SHELL = /usr/bin/zsh
    TERM = screen

Perl special variables (and OS-specific diagnostics, for MSWin32):

    $^X = /tmp/basesmoker-reloperl-ob9u/bin/perl
    $UID/$EUID = 1005 / 1005
    $GID = 1005 1005
    $EGID = 1005 1005

Perl module toolchain versions installed:

    Module              Have    
    ------------------- --------
    CPAN                2.05    
    CPAN::Meta          2.142060
    Cwd                 3.49    
    ExtUtils::CBuilder  0.280216
    ExtUtils::Command   1.18    
    ExtUtils::Install   1.68    
    ExtUtils::MakeMaker 6.98    
    ExtUtils::Manifest  1.64    
    ExtUtils::ParseXS   3.25    
    File::Spec          3.49    
    JSON                2.90    
    JSON::PP            2.27203 
    Module::Build       0.4206  
    Module::Signature   0.73    
    Parse::CPAN::Meta   1.4414  
    Test::Harness       3.32    
    Test::More          1.001003
    YAML                0.98    
    YAML::Syck          1.27    
    version             0.9908  


--

Summary of my perl5 (revision 5 version 21 subversion 3) configuration:
  Commit id: 33e493d3ba71689dfaec10efd9847548790cc922
  Platform:
    osname=linux, osvers=3.14-2-amd64, archname=x86_64-linux
    uname='linux k83 3.14-2-amd64 #1 smp debian 3.14.13-2 (2014-07-24) x86_64 gnulinux '
    config_args='-Dprefix=/home/sand/src/perl/repoperls/installed-perls/perl/v5.21.2-87-g33e493d/165a -Dmyhostname=k83 -Dinstallusrbinperl=n -Uversiononly -Dusedevel -des -Ui_db -Uuseithreads -Uuselongdouble -DDEBUGGING=-g'
    hint=recommended, useposix=true, d_sigaction=define
    useithreads=undef, usemultiplicity=undef
    use64bitint=define, use64bitall=define, uselongdouble=undef
    usemymalloc=n, bincompat5005=undef
  Compiler:
    cc='cc', ccflags ='-fwrapv -fno-strict-aliasing -pipe -fstack-protector -I/usr/local/include -D_LARGEFILE_SOURCE -D_FILE_OFFSET_BITS=64 -D_FORTIFY_SOURCE=2',
    optimize='-O2 -g',
    cppflags='-fwrapv -fno-strict-aliasing -pipe -fstack-protector -I/usr/local/include'
    ccversion='', gccversion='4.9.1', gccosandvers=''
    intsize=4, longsize=8, ptrsize=8, doublesize=8, byteorder=12345678
    d_longlong=define, longlongsize=8, d_longdbl=define, longdblsize=16
    ivtype='long', ivsize=8, nvtype='double', nvsize=8, Off_t='off_t', lseeksize=8
    alignbytes=8, prototype=define
  Linker and Libraries:
    ld='cc', ldflags =' -fstack-protector -L/usr/local/lib'
    libpth=/usr/local/lib /usr/lib/gcc/x86_64-linux-gnu/4.9/include-fixed /usr/include/x86_64-linux-gnu /usr/lib /lib/x86_64-linux-gnu /lib/../lib /usr/lib/x86_64-linux-gnu /usr/lib/../lib /lib
    libs=-lnsl -lgdbm -ldb -ldl -lm -lcrypt -lutil -lc -lgdbm_compat
    perllibs=-lnsl -ldl -lm -lcrypt -lutil -lc
    libc=libc-2.19.so, so=so, useshrplib=false, libperl=libperl.a
    gnulibc_version='2.19'
  Dynamic Linking:
    dlsrc=dl_dlopen.xs, dlext=so, d_dlsymun=undef, ccdlflags='-Wl,-E'
    cccdlflags='-fPIC', lddlflags='-shared -O2 -g -L/usr/local/lib -fstack-protector'


Characteristics of this binary (from libperl): 
  Compile-time options: HAS_TIMES PERLIO_LAYERS PERL_DONT_CREATE_GVSV
                        PERL_HASH_FUNC_ONE_AT_A_TIME_HARD PERL_MALLOC_WRAP
                        PERL_NEW_COPY_ON_WRITE PERL_PRESERVE_IVUV
                        PERL_USE_DEVEL USE_64_BIT_ALL USE_64_BIT_INT
                        USE_LARGE_FILES USE_LOCALE USE_LOCALE_COLLATE
                        USE_LOCALE_CTYPE USE_LOCALE_NUMERIC USE_LOCALE_TIME
                        USE_PERLIO USE_PERL_ATOF
  Built under linux
  Compiled at Aug  1 2014 19:46:22
  %ENV:
    PERL5LIB=""
    PERL5OPT=""
    PERL5_CPANPLUS_IS_RUNNING="5394"
    PERL5_CPAN_IS_RUNNING="5394"
    PERL_MM_USE_DEFAULT="1"
  @INC:
    /home/sand/src/perl/repoperls/installed-perls/perl/v5.21.2-87-g33e493d/165a/lib/site_perl/5.21.3/x86_64-linux
    /home/sand/src/perl/repoperls/installed-perls/perl/v5.21.2-87-g33e493d/165a/lib/site_perl/5.21.3
    /home/sand/src/perl/repoperls/installed-perls/perl/v5.21.2-87-g33e493d/165a/lib/5.21.3/x86_64-linux
    /home/sand/src/perl/repoperls/installed-perls/perl/v5.21.2-87-g33e493d/165a/lib/5.21.3
    .