Patterns-ChainOfResponsibility v0.02 Perl 5 v5.38.2 x86_64-linux-ld

Status
Pass
From
Andreas J. König (ANDK)
Dist
Patterns-ChainOfResponsibility v0.02
Platform
Perl 5 v5.38.2 x86_64-linux-ld
Date
2023-12-23 20:34:11
ID
a118c2b0-a1d2-11ee-8cf4-233fae080ab9
This distribution has been tested as part of the CPAN Testers
project, supporting the Perl programming language.  See
http://wiki.cpantesters.org/ for more information or email
questions to cpan-testers-discuss@perl.org


--
Dear John Napiorkowski,

This is a computer-generated report for Patterns-ChainOfResponsibility-0.02
on perl 5.38.2, created by CPAN-Reporter-1.2019.

Thank you for uploading your work to CPAN.  Congratulations!
All tests were successful.

Sections of this report:

    * Tester comments
    * Program output
    * Prerequisites
    * Environment and other context

------------------------------
TESTER COMMENTS
------------------------------

Additional comments from tester:

this report is from an automated smoke testing program
and was not reviewed by a human for accuracy

------------------------------
PROGRAM OUTPUT
------------------------------

Output from '/usr/bin/make test':

PERL_DL_NONLAZY=1 "/tmp/basesmoker-reloperl-1xKn/bin/perl" "-MExtUtils::Command::MM" "-MTest::Harness" "-e" "undef *Test::Harness::Switches; test_harness(0, 'inc', 'blib/lib', 'blib/arch')" t/*.t
Class::MOP::load_class is deprecated at /home/sand/src/perl/repoperls/installed-perls/host/k93jammy/v5.38.2/5674/lib/site_perl/5.38.2/x86_64-linux-ld/Class/MOP.pm line 69.
	Class::MOP::load_class("Patterns::ChainOfResponsibility::Provider") called at /tmp/loop_over_bdir-3435738-CoXOQl/Patterns-ChainOfResponsibility-0.02-0/blib/lib/Patterns/ChainOfResponsibility/Role/Handler.pm line 22
	Patterns::ChainOfResponsibility::Role::Handler::__ANON__(Moose::Meta::Class::__ANON__::SERIAL::2=HASH(0x556217fca0d8), "operating_on", MooseX::Role::Parameterized::Meta::Role::Parameterized=HASH(0x55621811a1f0), "consumer", Moose::Meta::Class=HASH(0x5562172ad250)) called at /home/sand/src/perl/repoperls/installed-perls/host/k93jammy/v5.38.2/5674/lib/site_perl/5.38.2/MooseX/Role/Parameterized/Meta/Trait/Parameterizable.pm line 88
	MooseX::Role::Parameterized::Meta::Trait::Parameterizable::generate_role(Moose::Meta::Class::__ANON__::SERIAL::1=HASH(0x55621810cf30), "consumer", Moose::Meta::Class=HASH(0x5562172ad250), "parameters", HASH(0x5562180a4ab8), "orig_apply", CODE(0x556217d749e0)) called at /home/sand/src/perl/repoperls/installed-perls/host/k93jammy/v5.38.2/5674/lib/site_perl/5.38.2/MooseX/Role/Parameterized/Meta/Trait/Parameterizable.pm line 110
	Class::MOP::Class:::around(CODE(0x556217d749e0), Moose::Meta::Class::__ANON__::SERIAL::1=HASH(0x55621810cf30), Moose::Meta::Class=HASH(0x5562172ad250)) called at /home/sand/src/perl/repoperls/installed-perls/host/k93jammy/v5.38.2/5674/lib/site_perl/5.38.2/x86_64-linux-ld/Class/MOP/Method/Wrapped.pm line 166
	Moose::Meta::Class::__ANON__::SERIAL::1::_wrapped_apply(Moose::Meta::Class::__ANON__::SERIAL::1=HASH(0x55621810cf30), Moose::Meta::Class=HASH(0x5562172ad250)) called at /home/sand/src/perl/repoperls/installed-perls/host/k93jammy/v5.38.2/5674/lib/site_perl/5.38.2/x86_64-linux-ld/Class/MOP/Method/Wrapped.pm line 97
	Moose::Meta::Class::__ANON__::SERIAL::1::apply(Moose::Meta::Class::__ANON__::SERIAL::1=HASH(0x55621810cf30), Moose::Meta::Class=HASH(0x5562172ad250)) called at /home/sand/src/perl/repoperls/installed-perls/host/k93jammy/v5.38.2/5674/lib/site_perl/5.38.2/x86_64-linux-ld/Moose/Util.pm line 171
	Moose::Util::_apply_all_roles(Moose::Meta::Class=HASH(0x5562172ad250), undef, "Patterns::ChainOfResponsibility::Role::Handler") called at /home/sand/src/perl/repoperls/installed-perls/host/k93jammy/v5.38.2/5674/lib/site_perl/5.38.2/x86_64-linux-ld/Moose/Util.pm line 113
	Moose::Util::apply_all_roles(Moose::Meta::Class=HASH(0x5562172ad250), "Patterns::ChainOfResponsibility::Role::Handler") called at /home/sand/src/perl/repoperls/installed-perls/host/k93jammy/v5.38.2/5674/lib/site_perl/5.38.2/x86_64-linux-ld/Moose.pm line 57
	Moose::with(Moose::Meta::Class=HASH(0x5562172ad250), "Patterns::ChainOfResponsibility::Role::Handler") called at /home/sand/src/perl/repoperls/installed-perls/host/k93jammy/v5.38.2/5674/lib/site_perl/5.38.2/x86_64-linux-ld/Moose/Exporter.pm line 418
	Moose::with("Patterns::ChainOfResponsibility::Role::Handler") called at t/application.t line 9
t/application.t .. ok
t/basic.t ........ ok
Class::MOP::load_class is deprecated at /home/sand/src/perl/repoperls/installed-perls/host/k93jammy/v5.38.2/5674/lib/site_perl/5.38.2/x86_64-linux-ld/Class/MOP.pm line 69.
	Class::MOP::load_class("Patterns::ChainOfResponsibility::Broadcast") called at /tmp/loop_over_bdir-3435738-CoXOQl/Patterns-ChainOfResponsibility-0.02-0/blib/lib/Patterns/ChainOfResponsibility/Role/Handler.pm line 22
	Patterns::ChainOfResponsibility::Role::Handler::__ANON__(Moose::Meta::Class::__ANON__::SERIAL::4=HASH(0x55b7ccc83c00), "operating_on", MooseX::Role::Parameterized::Meta::Role::Parameterized=HASH(0x55b7cce963e8), "consumer", Moose::Meta::Class=HASH(0x55b7ccb10820)) called at /home/sand/src/perl/repoperls/installed-perls/host/k93jammy/v5.38.2/5674/lib/site_perl/5.38.2/MooseX/Role/Parameterized/Meta/Trait/Parameterizable.pm line 88
	MooseX::Role::Parameterized::Meta::Trait::Parameterizable::generate_role(Moose::Meta::Class::__ANON__::SERIAL::3=HASH(0x55b7cce88868), "consumer", Moose::Meta::Class=HASH(0x55b7ccb10820), "parameters", HASH(0x55b7ccdee660), "orig_apply", CODE(0x55b7cca2f0e0)) called at /home/sand/src/perl/repoperls/installed-perls/host/k93jammy/v5.38.2/5674/lib/site_perl/5.38.2/MooseX/Role/Parameterized/Meta/Trait/Parameterizable.pm line 110
	Class::MOP::Class:::around(CODE(0x55b7cca2f0e0), Moose::Meta::Class::__ANON__::SERIAL::3=HASH(0x55b7cce88868), Moose::Meta::Class=HASH(0x55b7ccb10820), "dispatcher", "::Broadcast") called at /home/sand/src/perl/repoperls/installed-perls/host/k93jammy/v5.38.2/5674/lib/site_perl/5.38.2/x86_64-linux-ld/Class/MOP/Method/Wrapped.pm line 166
	Moose::Meta::Class::__ANON__::SERIAL::3::_wrapped_apply(Moose::Meta::Class::__ANON__::SERIAL::3=HASH(0x55b7cce88868), Moose::Meta::Class=HASH(0x55b7ccb10820), "dispatcher", "::Broadcast") called at /home/sand/src/perl/repoperls/installed-perls/host/k93jammy/v5.38.2/5674/lib/site_perl/5.38.2/x86_64-linux-ld/Class/MOP/Method/Wrapped.pm line 97
	Moose::Meta::Class::__ANON__::SERIAL::3::apply(Moose::Meta::Class::__ANON__::SERIAL::3=HASH(0x55b7cce88868), Moose::Meta::Class=HASH(0x55b7ccb10820), "dispatcher", "::Broadcast") called at /home/sand/src/perl/repoperls/installed-perls/host/k93jammy/v5.38.2/5674/lib/site_perl/5.38.2/x86_64-linux-ld/Moose/Util.pm line 171
	Moose::Util::_apply_all_roles(Moose::Meta::Class=HASH(0x55b7ccb10820), undef, "Patterns::ChainOfResponsibility::Role::Handler", HASH(0x55b7cb914040)) called at /home/sand/src/perl/repoperls/installed-perls/host/k93jammy/v5.38.2/5674/lib/site_perl/5.38.2/x86_64-linux-ld/Moose/Util.pm line 113
	Moose::Util::apply_all_roles(Moose::Meta::Class=HASH(0x55b7ccb10820), "Patterns::ChainOfResponsibility::Role::Handler", HASH(0x55b7cb914040)) called at /home/sand/src/perl/repoperls/installed-perls/host/k93jammy/v5.38.2/5674/lib/site_perl/5.38.2/x86_64-linux-ld/Moose.pm line 57
	Moose::with(Moose::Meta::Class=HASH(0x55b7ccb10820), "Patterns::ChainOfResponsibility::Role::Handler", HASH(0x55b7cb914040)) called at /home/sand/src/perl/repoperls/installed-perls/host/k93jammy/v5.38.2/5674/lib/site_perl/5.38.2/x86_64-linux-ld/Moose/Exporter.pm line 418
	Moose::with("Patterns::ChainOfResponsibility::Role::Handler", HASH(0x55b7cb914040)) called at t/broadcast.t line 13
t/broadcast.t .... ok
Class::MOP::load_class is deprecated at /home/sand/src/perl/repoperls/installed-perls/host/k93jammy/v5.38.2/5674/lib/site_perl/5.38.2/x86_64-linux-ld/Class/MOP.pm line 69.
	Class::MOP::load_class("Patterns::ChainOfResponsibility::Filter") called at /tmp/loop_over_bdir-3435738-CoXOQl/Patterns-ChainOfResponsibility-0.02-0/blib/lib/Patterns/ChainOfResponsibility/Role/Handler.pm line 22
	Patterns::ChainOfResponsibility::Role::Handler::__ANON__(Moose::Meta::Class::__ANON__::SERIAL::2=HASH(0x564e1fa57310), "operating_on", MooseX::Role::Parameterized::Meta::Role::Parameterized=HASH(0x564e1fb94768), "consumer", Moose::Meta::Class=HASH(0x564e1ed223f0)) called at /home/sand/src/perl/repoperls/installed-perls/host/k93jammy/v5.38.2/5674/lib/site_perl/5.38.2/MooseX/Role/Parameterized/Meta/Trait/Parameterizable.pm line 88
	MooseX::Role::Parameterized::Meta::Trait::Parameterizable::generate_role(Moose::Meta::Class::__ANON__::SERIAL::1=HASH(0x564e1fb86fc8), "consumer", Moose::Meta::Class=HASH(0x564e1ed223f0), "parameters", HASH(0x564e1fb17880), "orig_apply", CODE(0x564e1f7e9b80)) called at /home/sand/src/perl/repoperls/installed-perls/host/k93jammy/v5.38.2/5674/lib/site_perl/5.38.2/MooseX/Role/Parameterized/Meta/Trait/Parameterizable.pm line 110
	Class::MOP::Class:::around(CODE(0x564e1f7e9b80), Moose::Meta::Class::__ANON__::SERIAL::1=HASH(0x564e1fb86fc8), Moose::Meta::Class=HASH(0x564e1ed223f0), "dispatcher", "::Filter") called at /home/sand/src/perl/repoperls/installed-perls/host/k93jammy/v5.38.2/5674/lib/site_perl/5.38.2/x86_64-linux-ld/Class/MOP/Method/Wrapped.pm line 166
	Moose::Meta::Class::__ANON__::SERIAL::1::_wrapped_apply(Moose::Meta::Class::__ANON__::SERIAL::1=HASH(0x564e1fb86fc8), Moose::Meta::Class=HASH(0x564e1ed223f0), "dispatcher", "::Filter") called at /home/sand/src/perl/repoperls/installed-perls/host/k93jammy/v5.38.2/5674/lib/site_perl/5.38.2/x86_64-linux-ld/Class/MOP/Method/Wrapped.pm line 97
	Moose::Meta::Class::__ANON__::SERIAL::1::apply(Moose::Meta::Class::__ANON__::SERIAL::1=HASH(0x564e1fb86fc8), Moose::Meta::Class=HASH(0x564e1ed223f0), "dispatcher", "::Filter") called at /home/sand/src/perl/repoperls/installed-perls/host/k93jammy/v5.38.2/5674/lib/site_perl/5.38.2/x86_64-linux-ld/Moose/Util.pm line 171
	Moose::Util::_apply_all_roles(Moose::Meta::Class=HASH(0x564e1ed223f0), undef, "Patterns::ChainOfResponsibility::Role::Handler", HASH(0x564e1e6d1270)) called at /home/sand/src/perl/repoperls/installed-perls/host/k93jammy/v5.38.2/5674/lib/site_perl/5.38.2/x86_64-linux-ld/Moose/Util.pm line 113
	Moose::Util::apply_all_roles(Moose::Meta::Class=HASH(0x564e1ed223f0), "Patterns::ChainOfResponsibility::Role::Handler", HASH(0x564e1e6d1270)) called at /home/sand/src/perl/repoperls/installed-perls/host/k93jammy/v5.38.2/5674/lib/site_perl/5.38.2/x86_64-linux-ld/Moose.pm line 57
	Moose::with(Moose::Meta::Class=HASH(0x564e1ed223f0), "Patterns::ChainOfResponsibility::Role::Handler", HASH(0x564e1e6d1270)) called at /home/sand/src/perl/repoperls/installed-perls/host/k93jammy/v5.38.2/5674/lib/site_perl/5.38.2/x86_64-linux-ld/Moose/Exporter.pm line 418
	Moose::with("Patterns::ChainOfResponsibility::Role::Handler", HASH(0x564e1e6d1270)) called at t/filter.t line 9
t/filter.t ....... ok
Class::MOP::load_class is deprecated at /home/sand/src/perl/repoperls/installed-perls/host/k93jammy/v5.38.2/5674/lib/site_perl/5.38.2/x86_64-linux-ld/Class/MOP.pm line 69.
	Class::MOP::load_class("Patterns::ChainOfResponsibility::Provider") called at /tmp/loop_over_bdir-3435738-CoXOQl/Patterns-ChainOfResponsibility-0.02-0/blib/lib/Patterns/ChainOfResponsibility/Role/Handler.pm line 22
	Patterns::ChainOfResponsibility::Role::Handler::__ANON__(Moose::Meta::Class::__ANON__::SERIAL::2=HASH(0x560fc9cb2428), "operating_on", MooseX::Role::Parameterized::Meta::Role::Parameterized=HASH(0x560fc9de6640), "consumer", Moose::Meta::Class=HASH(0x560fc8f75be0)) called at /home/sand/src/perl/repoperls/installed-perls/host/k93jammy/v5.38.2/5674/lib/site_perl/5.38.2/MooseX/Role/Parameterized/Meta/Trait/Parameterizable.pm line 88
	MooseX::Role::Parameterized::Meta::Trait::Parameterizable::generate_role(Moose::Meta::Class::__ANON__::SERIAL::1=HASH(0x560fc9ddb470), "consumer", Moose::Meta::Class=HASH(0x560fc8f75be0), "parameters", HASH(0x560fc9d6af50), "orig_apply", CODE(0x560fc9a3cec0)) called at /home/sand/src/perl/repoperls/installed-perls/host/k93jammy/v5.38.2/5674/lib/site_perl/5.38.2/MooseX/Role/Parameterized/Meta/Trait/Parameterizable.pm line 110
	Class::MOP::Class:::around(CODE(0x560fc9a3cec0), Moose::Meta::Class::__ANON__::SERIAL::1=HASH(0x560fc9ddb470), Moose::Meta::Class=HASH(0x560fc8f75be0)) called at /home/sand/src/perl/repoperls/installed-perls/host/k93jammy/v5.38.2/5674/lib/site_perl/5.38.2/x86_64-linux-ld/Class/MOP/Method/Wrapped.pm line 166
	Moose::Meta::Class::__ANON__::SERIAL::1::_wrapped_apply(Moose::Meta::Class::__ANON__::SERIAL::1=HASH(0x560fc9ddb470), Moose::Meta::Class=HASH(0x560fc8f75be0)) called at /home/sand/src/perl/repoperls/installed-perls/host/k93jammy/v5.38.2/5674/lib/site_perl/5.38.2/x86_64-linux-ld/Class/MOP/Method/Wrapped.pm line 97
	Moose::Meta::Class::__ANON__::SERIAL::1::apply(Moose::Meta::Class::__ANON__::SERIAL::1=HASH(0x560fc9ddb470), Moose::Meta::Class=HASH(0x560fc8f75be0)) called at /home/sand/src/perl/repoperls/installed-perls/host/k93jammy/v5.38.2/5674/lib/site_perl/5.38.2/x86_64-linux-ld/Moose/Util.pm line 171
	Moose::Util::_apply_all_roles(Moose::Meta::Class=HASH(0x560fc8f75be0), undef, "Patterns::ChainOfResponsibility::Role::Handler") called at /home/sand/src/perl/repoperls/installed-perls/host/k93jammy/v5.38.2/5674/lib/site_perl/5.38.2/x86_64-linux-ld/Moose/Util.pm line 113
	Moose::Util::apply_all_roles(Moose::Meta::Class=HASH(0x560fc8f75be0), "Patterns::ChainOfResponsibility::Role::Handler") called at /home/sand/src/perl/repoperls/installed-perls/host/k93jammy/v5.38.2/5674/lib/site_perl/5.38.2/x86_64-linux-ld/Moose.pm line 57
	Moose::with(Moose::Meta::Class=HASH(0x560fc8f75be0), "Patterns::ChainOfResponsibility::Role::Handler") called at /home/sand/src/perl/repoperls/installed-perls/host/k93jammy/v5.38.2/5674/lib/site_perl/5.38.2/x86_64-linux-ld/Moose/Exporter.pm line 418
	Moose::with("Patterns::ChainOfResponsibility::Role::Handler") called at t/provider.t line 9
t/provider.t ..... ok
All tests successful.
Files=5, Tests=20,  1 wallclock secs ( 0.03 usr  0.00 sys +  1.19 cusr  0.23 csys =  1.45 CPU)
Result: PASS

------------------------------
PREREQUISITES
------------------------------

Prerequisite modules loaded:

requires:

    Module                      Need     Have    
    --------------------------- -------- --------
    Moose                       1.21     2.2206  
    MooseX::Role::Parameterized 0.23     1.11    
    perl                        5.008005 5.038002
    Test::More                  0.96     1.302198

build_requires:

    Module                      Need     Have    
    --------------------------- -------- --------
    ExtUtils::MakeMaker         6.42     7.70    
    Test::More                  0.96     1.302198

configure_requires:

    Module                      Need     Have    
    --------------------------- -------- --------
    ExtUtils::MakeMaker         6.42     7.70    


------------------------------
ENVIRONMENT AND OTHER CONTEXT
------------------------------

Environment variables:

    AUTOMATED_TESTING = 1
    LANG = en_US.UTF-8
    LC_ADDRESS = de_DE.UTF-8
    LC_IDENTIFICATION = de_DE.UTF-8
    LC_MEASUREMENT = de_DE.UTF-8
    LC_MONETARY = de_DE.UTF-8
    LC_NAME = de_DE.UTF-8
    LC_NUMERIC = de_DE.UTF-8
    LC_PAPER = de_DE.UTF-8
    LC_TELEPHONE = de_DE.UTF-8
    LC_TIME = de_DE.UTF-8
    PATH = /home/sand/bin:/usr/local/bin:/usr/local/sbin:/usr/sbin:/usr/bin:/sbin:/bin:/usr/games:/usr/local/games:/snap/bin:/usr/local/perl/bin:/usr/X11/bin
    PERL = /tmp/basesmoker-reloperl-1xKn/bin/perl
    PERL5LIB = /tmp/loop_over_bdir-3435738-CoXOQl/triceps-2.1.0-0/blib/arch:/tmp/loop_over_bdir-3435738-CoXOQl/triceps-2.1.0-0/blib/lib:/tmp/loop_over_bdir-3435738-CoXOQl/App-rmcd-0.280-0/blib/arch:/tmp/loop_over_bdir-3435738-CoXOQl/App-rmcd-0.280-0/blib/lib:/tmp/loop_over_bdir-3435738-CoXOQl/MP3-PodcastFetch-1.05-0/blib/arch:/tmp/loop_over_bdir-3435738-CoXOQl/MP3-PodcastFetch-1.05-0/blib/lib:/tmp/loop_over_bdir-3435738-CoXOQl/ProjectBuilder-0.14.1-0/blib/arch:/tmp/loop_over_bdir-3435738-CoXOQl/ProjectBuilder-0.14.1-0/blib/lib:/tmp/loop_over_bdir-3435738-CoXOQl/Devel-Required-0.16-0/blib/arch:/tmp/loop_over_bdir-3435738-CoXOQl/Devel-Required-0.16-0/blib/lib:/tmp/loop_over_bdir-3435738-CoXOQl/Sysync-0.35-0/blib/arch:/tmp/loop_over_bdir-3435738-CoXOQl/Sysync-0.35-0/blib/lib:/tmp/loop_over_bdir-3435738-CoXOQl/Lingua-BioYaTeA-0.11-0/blib/arch:/tmp/loop_over_bdir-3435738-CoXOQl/Lingua-BioYaTeA-0.11-0/blib/lib:/tmp/loop_over_bdir-3435738-CoXOQl/Lingua-YaTeA-0.626-0/blib/arch:/tmp/loop_over_bdir-3435738-CoXOQl/Lingua-YaTeA-0.626-0/blib/lib:/tmp/loop_over_bdir-3435738-CoXOQl/Net-Async-WebService-lxd-0.03-0/blib/arch:/tmp/loop_over_bdir-3435738-CoXOQl/Net-Async-WebService-lxd-0.03-0/blib/lib:/tmp/loop_over_bdir-3435738-CoXOQl/Business-Shipping-DataFiles-1.02-0/blib/arch:/tmp/loop_over_bdir-3435738-CoXOQl/Business-Shipping-DataFiles-1.02-0/blib/lib:/tmp/loop_over_bdir-3435738-CoXOQl/Dpkg-1.22.2-0/blib/arch:/tmp/loop_over_bdir-3435738-CoXOQl/Dpkg-1.22.2-0/blib/lib
    PERL5OPT = 
    PERL5_CPANPLUS_IS_RUNNING = 3435746
    PERL5_CPAN_IS_RUNNING = 3435746
    PERL_CANARY_STABILITY_NOPROMPT = 1
    PERL_MM_USE_DEFAULT = 1
    PERL_USE_UNSAFE_INC = 1
    SHELL = /usr/bin/zsh
    TERM = screen

Perl special variables (and OS-specific diagnostics, for MSWin32):

    $^X = /tmp/basesmoker-reloperl-1xKn/bin/perl
    $UID/$EUID = 1005 / 1005
    $GID = 1005 1005
    $EGID = 1005 1005

Perl module toolchain versions installed:

    Module              Have    
    ------------------- --------
    CPAN                2.36    
    CPAN::Meta          2.150010
    Cwd                 3.89    
    ExtUtils::CBuilder  0.280238
    ExtUtils::Command   7.70    
    ExtUtils::Install   2.22    
    ExtUtils::MakeMaker 7.70    
    ExtUtils::Manifest  1.73    
    ExtUtils::ParseXS   3.51    
    File::Spec          3.88    
    JSON                4.10    
    JSON::PP            4.16    
    Module::Build       0.4234  
    Module::Signature   0.88    
    Parse::CPAN::Meta   2.150010
    Test2               1.302198
    Test::Harness       3.48    
    Test::More          1.302198
    YAML                1.30    
    YAML::Syck          1.34    
    version             0.9930  


--

Summary of my perl5 (revision 5 version 38 subversion 2) configuration:
  Commit id: 55dd2f792ffc8cefe614350a411f785374281b24
  Platform:
    osname=linux
    osvers=6.2.0-37-generic
    archname=x86_64-linux-ld
    uname='linux k93jammy 6.2.0-37-generic #38~22.04.1-ubuntu smp preempt_dynamic thu nov 2 18:01:13 utc 2 x86_64 x86_64 x86_64 gnulinux '
    config_args='-Dprefix=/home/sand/src/perl/repoperls/installed-perls/host/k93jammy/v5.38.2/5674 -Dmyhostname=k93jammy -Dinstallusrbinperl=n -Uversiononly -Dusedevel -des -Ui_db -Dlibswanted=cl pthread socket inet nsl gdbm dbm malloc dl ld sun m crypt sec util c cposix posix ucb BSD gdbm_compat -Uuseithreads -Duselongdouble -DEBUGGING=-g'
    hint=recommended
    useposix=true
    d_sigaction=define
    useithreads=undef
    usemultiplicity=undef
    use64bitint=define
    use64bitall=define
    uselongdouble=define
    usemymalloc=n
    default_inc_excludes_dot=define
  Compiler:
    cc='cc'
    ccflags ='-fwrapv -fno-strict-aliasing -pipe -fstack-protector-strong -I/usr/local/include -D_LARGEFILE_SOURCE -D_FILE_OFFSET_BITS=64'
    optimize='-O2 -g'
    cppflags='-fwrapv -fno-strict-aliasing -pipe -fstack-protector-strong -I/usr/local/include'
    ccversion=''
    gccversion='11.4.0'
    gccosandvers=''
    intsize=4
    longsize=8
    ptrsize=8
    doublesize=8
    byteorder=12345678
    doublekind=3
    d_longlong=define
    longlongsize=8
    d_longdbl=define
    longdblsize=16
    longdblkind=3
    ivtype='long'
    ivsize=8
    nvtype='long double'
    nvsize=16
    Off_t='off_t'
    lseeksize=8
    alignbytes=16
    prototype=define
  Linker and Libraries:
    ld='cc'
    ldflags =' -fstack-protector-strong -L/usr/local/lib'
    libpth=/usr/local/lib /usr/lib/x86_64-linux-gnu /usr/lib /usr/lib64
    libs=-lpthread -lnsl -ldl -lm -lcrypt -lutil -lc
    perllibs=-lpthread -lnsl -ldl -lm -lcrypt -lutil -lc
    libc=/lib/x86_64-linux-gnu/libc.so.6
    so=so
    useshrplib=false
    libperl=libperl.a
    gnulibc_version='2.35'
  Dynamic Linking:
    dlsrc=dl_dlopen.xs
    dlext=so
    d_dlsymun=undef
    ccdlflags='-Wl,-E'
    cccdlflags='-fPIC'
    lddlflags='-shared -O2 -g -L/usr/local/lib -fstack-protector-strong'


Characteristics of this binary (from libperl): 
  Compile-time options:
    HAS_LONG_DOUBLE
    HAS_STRTOLD
    HAS_TIMES
    PERLIO_LAYERS
    PERL_COPY_ON_WRITE
    PERL_DONT_CREATE_GVSV
    PERL_HASH_FUNC_SIPHASH13
    PERL_HASH_USE_SBOX32
    PERL_MALLOC_WRAP
    PERL_OP_PARENT
    PERL_PRESERVE_IVUV
    PERL_USE_DEVEL
    PERL_USE_SAFE_PUTENV
    USE_64_BIT_ALL
    USE_64_BIT_INT
    USE_LARGE_FILES
    USE_LOCALE
    USE_LOCALE_COLLATE
    USE_LOCALE_CTYPE
    USE_LOCALE_NUMERIC
    USE_LOCALE_TIME
    USE_LONG_DOUBLE
    USE_PERLIO
    USE_PERL_ATOF
  Built under linux
  Compiled at Dec 21 2023 18:45:56
  %ENV:
    PERL="/tmp/basesmoker-reloperl-1xKn/bin/perl"
    PERL5LIB="/tmp/loop_over_bdir-3435738-CoXOQl/triceps-2.1.0-0/blib/arch:/tmp/loop_over_bdir-3435738-CoXOQl/triceps-2.1.0-0/blib/lib:/tmp/loop_over_bdir-3435738-CoXOQl/App-rmcd-0.280-0/blib/arch:/tmp/loop_over_bdir-3435738-CoXOQl/App-rmcd-0.280-0/blib/lib:/tmp/loop_over_bdir-3435738-CoXOQl/MP3-PodcastFetch-1.05-0/blib/arch:/tmp/loop_over_bdir-3435738-CoXOQl/MP3-PodcastFetch-1.05-0/blib/lib:/tmp/loop_over_bdir-3435738-CoXOQl/ProjectBuilder-0.14.1-0/blib/arch:/tmp/loop_over_bdir-3435738-CoXOQl/ProjectBuilder-0.14.1-0/blib/lib:/tmp/loop_over_bdir-3435738-CoXOQl/Devel-Required-0.16-0/blib/arch:/tmp/loop_over_bdir-3435738-CoXOQl/Devel-Required-0.16-0/blib/lib:/tmp/loop_over_bdir-3435738-CoXOQl/Sysync-0.35-0/blib/arch:/tmp/loop_over_bdir-3435738-CoXOQl/Sysync-0.35-0/blib/lib:/tmp/loop_over_bdir-3435738-CoXOQl/Lingua-BioYaTeA-0.11-0/blib/arch:/tmp/loop_over_bdir-3435738-CoXOQl/Lingua-BioYaTeA-0.11-0/blib/lib:/tmp/loop_over_bdir-3435738-CoXOQl/Lingua-YaTeA-0.626-0/blib/arch:/tmp/loop_over_bdir-3435738-CoXOQl/Lingua-YaTeA-0.626-0/blib/lib:/tmp/loop_over_bdir-3435738-CoXOQl/Net-Async-WebService-lxd-0.03-0/blib/arch:/tmp/loop_over_bdir-3435738-CoXOQl/Net-Async-WebService-lxd-0.03-0/blib/lib:/tmp/loop_over_bdir-3435738-CoXOQl/Business-Shipping-DataFiles-1.02-0/blib/arch:/tmp/loop_over_bdir-3435738-CoXOQl/Business-Shipping-DataFiles-1.02-0/blib/lib:/tmp/loop_over_bdir-3435738-CoXOQl/Dpkg-1.22.2-0/blib/arch:/tmp/loop_over_bdir-3435738-CoXOQl/Dpkg-1.22.2-0/blib/lib"
    PERL5OPT=""
    PERL5_CPANPLUS_IS_RUNNING="3435746"
    PERL5_CPAN_IS_RUNNING="3435746"
    PERL_CANARY_STABILITY_NOPROMPT="1"
    PERL_MM_USE_DEFAULT="1"
    PERL_USE_UNSAFE_INC="1"
  @INC:
    /tmp/loop_over_bdir-3435738-CoXOQl/triceps-2.1.0-0/blib/arch
    /tmp/loop_over_bdir-3435738-CoXOQl/triceps-2.1.0-0/blib/lib
    /tmp/loop_over_bdir-3435738-CoXOQl/App-rmcd-0.280-0/blib/arch
    /tmp/loop_over_bdir-3435738-CoXOQl/App-rmcd-0.280-0/blib/lib
    /tmp/loop_over_bdir-3435738-CoXOQl/MP3-PodcastFetch-1.05-0/blib/arch
    /tmp/loop_over_bdir-3435738-CoXOQl/MP3-PodcastFetch-1.05-0/blib/lib
    /tmp/loop_over_bdir-3435738-CoXOQl/ProjectBuilder-0.14.1-0/blib/arch
    /tmp/loop_over_bdir-3435738-CoXOQl/ProjectBuilder-0.14.1-0/blib/lib
    /tmp/loop_over_bdir-3435738-CoXOQl/Devel-Required-0.16-0/blib/arch
    /tmp/loop_over_bdir-3435738-CoXOQl/Devel-Required-0.16-0/blib/lib
    /tmp/loop_over_bdir-3435738-CoXOQl/Sysync-0.35-0/blib/arch
    /tmp/loop_over_bdir-3435738-CoXOQl/Sysync-0.35-0/blib/lib
    /tmp/loop_over_bdir-3435738-CoXOQl/Lingua-BioYaTeA-0.11-0/blib/arch
    /tmp/loop_over_bdir-3435738-CoXOQl/Lingua-BioYaTeA-0.11-0/blib/lib
    /tmp/loop_over_bdir-3435738-CoXOQl/Lingua-YaTeA-0.626-0/blib/arch
    /tmp/loop_over_bdir-3435738-CoXOQl/Lingua-YaTeA-0.626-0/blib/lib
    /tmp/loop_over_bdir-3435738-CoXOQl/Net-Async-WebService-lxd-0.03-0/blib/arch
    /tmp/loop_over_bdir-3435738-CoXOQl/Net-Async-WebService-lxd-0.03-0/blib/lib
    /tmp/loop_over_bdir-3435738-CoXOQl/Business-Shipping-DataFiles-1.02-0/blib/arch
    /tmp/loop_over_bdir-3435738-CoXOQl/Business-Shipping-DataFiles-1.02-0/blib/lib
    /tmp/loop_over_bdir-3435738-CoXOQl/Dpkg-1.22.2-0/blib/arch
    /tmp/loop_over_bdir-3435738-CoXOQl/Dpkg-1.22.2-0/blib/lib
    /home/sand/src/perl/repoperls/installed-perls/host/k93jammy/v5.38.2/5674/lib/site_perl/5.38.2/x86_64-linux-ld
    /home/sand/src/perl/repoperls/installed-perls/host/k93jammy/v5.38.2/5674/lib/site_perl/5.38.2
    /home/sand/src/perl/repoperls/installed-perls/host/k93jammy/v5.38.2/5674/lib/5.38.2/x86_64-linux-ld
    /home/sand/src/perl/repoperls/installed-perls/host/k93jammy/v5.38.2/5674/lib/5.38.2
    .