Math-Matrix v0.94 Perl 5 v5.32.1 x86_64-linux
- Status
- Pass
- From
- Slaven Rezić
- Dist
-
Math-Matrix v0.94
- Platform
- Perl 5 v5.32.1 x86_64-linux
- Date
- 2021-05-12 18:41:14
- ID
- a12561a4-b351-11eb-8723-606f1f24ea8f
This distribution has been tested as part of the CPAN Testers
project, supporting the Perl programming language. See
http://wiki.cpantesters.org/ for more information or email
questions to cpan-testers-discuss@perl.org
--
Dear Peter John Acklam,
This is a computer-generated report for Math-Matrix-0.94
on perl 5.32.1, created by CPAN-Reporter-1.2018.
Thank you for uploading your work to CPAN. Congratulations!
All tests were successful.
Sections of this report:
* Tester comments
* Program output
* Prerequisites
* Environment and other context
------------------------------
TESTER COMMENTS
------------------------------
Additional comments from tester:
none provided
------------------------------
PROGRAM OUTPUT
------------------------------
Output from '/usr/bin/make test':
PERL_DL_NONLAZY=1 "/opt/perl-5.32.1/bin/perl" "-MExtUtils::Command::MM" "-MTest::Harness" "-e" "undef *Test::Harness::Switches; test_harness(0, 'blib/lib', 'blib/arch')" t/*.t
t/00-signature.t ................... skipped: Set the environment variable TEST_SIGNATURE to enable this test.
t/01-load.t ........................ ok
t/abs-sign.t ....................... ok
t/absolute.t ....................... ok
t/add.t ............................ ok
t/adjugate.t ....................... ok
t/all.t ............................ ok
t/any.t ............................ ok
t/as_array.t ....................... ok
t/as_string.t ...................... ok
t/bandwidth.t ...................... ok
t/basic.t .......................... ok
t/blkdiag.t ........................ ok
t/catcol-math-complex.t ............ ok
t/catcol-math-real.t ............... ok
t/catcol.t ......................... ok
t/catrow-math-complex.t ............ ok
t/catrow-math-real.t ............... ok
t/catrow.t ......................... ok
t/ceil.t ........................... ok
t/chol.t ........................... ok
t/clone-math-complex.t ............. ok
t/clone-math-real.t ................ ok
t/clone.t .......................... ok
t/cofactor.t ....................... ok
t/cofactormatrix.t ................. ok
t/concat-math-complex.t ............ ok
t/concat-math-real.t ............... ok
t/concat.t ......................... ok
t/constant-zeros-ones-inf-nan.t .... ok
t/cross_product.t .................. ok
t/cumall.t ......................... ok
t/cumany.t ......................... ok
t/cummean.t ........................ ok
t/cumprod.t ........................ ok
t/cumsum.t ......................... ok
t/delcol.t ......................... ok
t/delrow.t ......................... ok
t/det-determinant-detr.t ........... ok
t/diagonal.t ....................... ok
t/diff.t ........................... ok
t/dot_product.t .................... ok
t/exchg.t .......................... ok
t/extension.t ...................... ok
t/felim_xxx.t ...................... ok
t/find-is_finite-is_inf-is_nan.t ... ok
t/flip.t ........................... ok
t/fliplr.t ......................... ok
t/flipud.t ......................... ok
t/floor.t .......................... ok
t/getcol.t ......................... ok
t/getrow.t ......................... ok
t/hypot.t .......................... ok
t/id-eye-new_identity.t ............ ok
t/int.t ............................ ok
t/is_xxx.t ......................... ok
t/kron.t ........................... ok
t/madd.t ........................... ok
t/map.t ............................ ok
t/max.t ............................ ok
t/mean.t ........................... ok
t/median.t ......................... ok
t/meq-mne.t ........................ ok
t/min.t ............................ ok
t/minor.t .......................... ok
t/minormatrix.t .................... ok
t/minv-inv.t ....................... ok
t/mldiv.t .......................... ok
t/mmul.t ........................... ok
t/mmuladd.t ........................ ok
t/mpinv-pinv.t ..................... ok
t/mpow-pow.t ....................... ok
t/mrdiv.t .......................... ok
t/msub.t ........................... ok
t/mul.t ............................ ok
t/neg.t ............................ ok
t/new.t ............................ ok
t/new_from_cols.t .................. ok
t/new_from_rows.t .................. ok
t/new_from_sub.t ................... ok
t/normalize.t ...................... ok
t/outer_product.t .................. ok
t/prod.t ........................... ok
t/rand.t ........................... ok
t/randi.t .......................... ok
t/randn.t .......................... ok
t/repelm.t ......................... ok
t/repmat.t ......................... ok
t/reshape-math-complex.t ........... ok
t/reshape-math-real.t .............. ok
t/reshape.t ........................ ok
t/rot180.t ......................... ok
t/rot270.t ......................... ok
t/rot90.t .......................... ok
t/sadd.t ........................... ok
t/sapply-math-complex.t ............ ok
t/sapply-math-real.t ............... ok
t/sapply.t ......................... ok
t/scalar.t ......................... ok
t/sdiv-sldiv-srdiv.t ............... ok
t/seq-sne-sle-slt-sge-sgt-scmp.t ... ok
t/sinv.t ........................... ok
t/size-nrow-ncol-npag-ndim-nelm.t .. ok
t/slice-math-complex.t ............. ok
t/slice-math-real.t ................ ok
t/slice.t .......................... ok
t/smul.t ........................... ok
t/splicecol.t ...................... ok
t/splicerow.t ...................... ok
t/spow.t ........................... ok
t/ssub.t ........................... ok
t/sub.t ............................ ok
t/sum.t ............................ ok
t/swaprc.t ......................... ok
t/to_col.t ......................... ok
t/to_permmat.t ..................... ok
t/to_permvec.t ..................... ok
t/to_row.t ......................... ok
t/transpose-math-complex.t ......... ok
t/transpose-math-real.t ............ ok
t/transpose.t ...................... ok
t/tril.t ........................... ok
t/triu.t ........................... ok
t/vecnorm.t ........................ ok
t/version.t ........................ ok
All tests successful.
Files=125, Tests=3517, 11 wallclock secs ( 0.69 usr 0.18 sys + 8.88 cusr 1.30 csys = 11.05 CPU)
Result: PASS
------------------------------
PREREQUISITES
------------------------------
Prerequisite modules loaded:
requires:
Module Need Have
------------------- ---- --------
Carp 0 1.50
Math::Trig 1.06 1.23
Scalar::Util 1 1.56
build_requires:
Module Need Have
------------------- ---- --------
Test::More 0.82 1.302183
configure_requires:
Module Need Have
------------------- ---- --------
ExtUtils::MakeMaker 6.58 7.44
------------------------------
ENVIRONMENT AND OTHER CONTEXT
------------------------------
Environment variables:
LANG = en_US.UTF-8
PATH = /usr/local/bin:/usr/bin:/bin:/usr/local/sbin:/usr/sbin:/sbin:/home/cpansand/bin/linux-gnu:/home/cpansand/bin/sh:/home/cpansand/bin:/usr/games:/home/cpansand/devel:/home/eserte/src/srezic-misc/scripts
PERL5LIB =
PERL5OPT =
PERL5_CPANPLUS_IS_RUNNING = 32504
PERL5_CPAN_IS_RUNNING = 32504
PERL5_CPAN_IS_RUNNING_IN_RECURSION = 32353,32504
PERLDOC = -MPod::Perldoc::ToTextOverstrike
PERL_BATCH = yes
PERL_CANARY_STABILITY_NOPROMPT = 1
PERL_CPAN_REPORTER_CONFIG = /var/tmp/cpansmoker-1023/2021051219/cpanreporter_000_config.ini
PERL_EXTUTILS_AUTOINSTALL = --defaultdeps
PERL_USE_UNSAFE_INC = 1
SHELL = /usr/bin/zsh
TERM = screen
TMPDIR = /var/tmp/cpansmoker-1023/2021051219
Perl special variables (and OS-specific diagnostics, for MSWin32):
$^X = /opt/perl-5.32.1/bin/perl
$UID/$EUID = 1023 / 1023
$GID = 1023 1023
$EGID = 1023 1023
Perl module toolchain versions installed:
Module Have
------------------- --------
CPAN 2.27
CPAN::Meta 2.150010
Cwd 3.78
ExtUtils::CBuilder 0.280234
ExtUtils::Command 7.44
ExtUtils::Install 2.20
ExtUtils::MakeMaker 7.44
ExtUtils::Manifest 1.72
ExtUtils::ParseXS 3.40
File::Spec 3.78
JSON 4.03
JSON::PP 4.04
Module::Build 0.4231
Module::Signature 0.87
Parse::CPAN::Meta 2.150010
Test::Harness 3.42
Test::More 1.302183
YAML 1.30
YAML::Syck 1.34
version 0.9924
--
Summary of my perl5 (revision 5 version 32 subversion 1) configuration:
Platform:
osname=linux
osvers=3.10.0-1160.11.1.el7.x86_64
archname=x86_64-linux
uname='linux cloud3.bbbike.org 3.10.0-1160.11.1.el7.x86_64 #1 smp fri dec 18 16:34:56 utc 2020 x86_64 x86_64 x86_64 gnulinux '
config_args='-ds -e -Dprefix=/opt/perl-5.32.1 -Dcf_email=srezic@cpan.org'
hint=recommended
useposix=true
d_sigaction=define
useithreads=undef
usemultiplicity=undef
use64bitint=define
use64bitall=define
uselongdouble=undef
usemymalloc=n
default_inc_excludes_dot=define
bincompat5005=undef
Compiler:
cc='cc'
ccflags ='-fwrapv -fno-strict-aliasing -pipe -fstack-protector-strong -I/usr/local/include -D_LARGEFILE_SOURCE -D_FILE_OFFSET_BITS=64 -D_FORTIFY_SOURCE=2'
optimize='-O2'
cppflags='-fwrapv -fno-strict-aliasing -pipe -fstack-protector-strong -I/usr/local/include'
ccversion=''
gccversion='4.8.5 20150623 (Red Hat 4.8.5-44)'
gccosandvers=''
intsize=4
longsize=8
ptrsize=8
doublesize=8
byteorder=12345678
doublekind=3
d_longlong=define
longlongsize=8
d_longdbl=define
longdblsize=16
longdblkind=3
ivtype='long'
ivsize=8
nvtype='double'
nvsize=8
Off_t='off_t'
lseeksize=8
alignbytes=8
prototype=define
Linker and Libraries:
ld='cc'
ldflags =' -fstack-protector-strong -L/usr/local/lib'
libpth=/usr/local/lib /usr/lib /lib/../lib64 /usr/lib/../lib64 /lib /lib64 /usr/lib64 /usr/local/lib64
libs=-lpthread -lnsl -lgdbm -ldb -ldl -lm -lcrypt -lutil -lc -lgdbm_compat
perllibs=-lpthread -lnsl -ldl -lm -lcrypt -lutil -lc
libc=libc-2.17.so
so=so
useshrplib=false
libperl=libperl.a
gnulibc_version='2.17'
Dynamic Linking:
dlsrc=dl_dlopen.xs
dlext=so
d_dlsymun=undef
ccdlflags='-Wl,-E'
cccdlflags='-fPIC'
lddlflags='-shared -O2 -L/usr/local/lib -fstack-protector-strong'
Characteristics of this binary (from libperl):
Compile-time options:
HAS_TIMES
PERLIO_LAYERS
PERL_COPY_ON_WRITE
PERL_DONT_CREATE_GVSV
PERL_MALLOC_WRAP
PERL_OP_PARENT
PERL_PRESERVE_IVUV
USE_64_BIT_ALL
USE_64_BIT_INT
USE_LARGE_FILES
USE_LOCALE
USE_LOCALE_COLLATE
USE_LOCALE_CTYPE
USE_LOCALE_NUMERIC
USE_LOCALE_TIME
USE_PERLIO
USE_PERL_ATOF
Built under linux
Compiled at Jan 24 2021 21:40:39
%ENV:
PERL5LIB=""
PERL5OPT=""
PERL5_CPANPLUS_IS_RUNNING="32504"
PERL5_CPAN_IS_RUNNING="32504"
PERL5_CPAN_IS_RUNNING_IN_RECURSION="32353,32504"
PERLDOC="-MPod::Perldoc::ToTextOverstrike"
PERL_BATCH="yes"
PERL_CANARY_STABILITY_NOPROMPT="1"
PERL_CPAN_REPORTER_CONFIG="/var/tmp/cpansmoker-1023/2021051219/cpanreporter_000_config.ini"
PERL_EXTUTILS_AUTOINSTALL="--defaultdeps"
PERL_USE_UNSAFE_INC="1"
@INC:
/opt/perl-5.32.1/lib/site_perl/5.32.1/x86_64-linux
/opt/perl-5.32.1/lib/site_perl/5.32.1
/opt/perl-5.32.1/lib/5.32.1/x86_64-linux
/opt/perl-5.32.1/lib/5.32.1
.